{"text_format":"1","workbook":"xlsx","n_sheets":14,"sheets":["Legend","Transformation","Rating Bundle - SOJ","Driver","Data","DT","Rating Bundle - SOO","Rating Bundle - State","Rating Bundle - SOJ - NWQ","Rating Bundle - NWQ - State","Traditional Aggregate (TA)","Diarys and Future Claims","TA-Regional Office","Sheet1"],"not_rendered":{"charts":0,"images":1,"macros":0,"external_links":1,"defined_names":66,"comments":1,"pivot_tables":0},"unopened":[],"bounds":{"document_bytes":16777216,"sheet_cells":100000,"rows_first":2000,"rows_last":500,"rows_between":2000,"halvings":0,"cell_chars":16384,"cell_head_chars":4096},"cells_cut":0,"cells_raw":0,"read":"whole","date_system":"1900"}

{"sheet":"Legend","index":0,"n_rows":35,"n_cols":5,"rows_kept":35,"cut":false,"hidden":false,"merged":[[7,5,7,6],[30,1,31,1],[30,2,31,2],[32,1,33,1],[32,2,33,2],[34,1,35,1],[34,2,35,2],[1,4,12,4],[26,1,27,1],[26,2,27,2],[28,1,29,1],[28,2,29,2],[14,4,21,4]]}
[null,"METRIC","DEFINITION","Line","COMMENT"]
[null,"010 Series","Initial entitlement for service-connected disability (=>8 issues)","Comp","Rating Bundle: Claims for disability compensation, dependency and indemnity compensation, and Veterans’ pension benefits, including both original and supplemental claims. Rating Bundle claims normally require a rating decision during processing.  The Rating Bundle Group is made up of 7 series and 1 group of End Products, plus 4 Agent Orange End Products, which are used to define VA Priority goals for Accuracy and reduction of claims over 125 days old"]
[null,"110 Series","Initial entitlement for service-connected disability (<=7 issues)","Comp"]
[null,"020 Series","Increased evaluation and/or additional claimed conditions","Comp"]
[null,"140 Series","Initial claims from surviving spouses, children or parents","Comp"]
[null,"180 Series","Initial entitlement for Pension - Veteran ","Pension"]
[null,"120 Series","Increased entitlement and/or reconsideration for Pension","Pension"]
[null,"310 Group","Future examination for disabilities (excludes EP 314)","Comp"]
[null,"320 Series","Increased entitlement due to hospitalization or surgery","Comp"]
[null,"EP 405","Reopened or new Agent Orange claims between 9/01/10 and 10/24/2011","Comp"]
[null,"EP 409","Agent Orange claims where an interim decision was provided; No longer used as of 10/24/2011","Comp"]
[null,"EP 681","Used to control claims under the Nehmer Agent Orange stipulation","Comp"]
[null,"EP 687","Previously used for Nehmer Agent Orange presumptive issues","Comp"]
[null,"EP 040","Decision Review Request - AMA Supplemental Claims","Comp"]
[null,"EP 335","Blue Water Navy Agent Orange (effective 1/1/2010)","Comp","Not-Rating: Claims for disability compensation, dependency and indemnity compensation, and Veterans’ pension benefits, which can but normally do not require a rating decision (i.e. claim to add dependent to award)."]
[]
[]
[null,"ADP","Average Days Pending, or total number of days pending divided by total number of claims pending"]
[null,"ADC","Average Days to Complete or total number of days to complete divided by total number of claims completed"]
[]
[null,"MTD","Month to Date. Captures claim activity from the first day of the reporting month through the report date"]
[null,"FYTD","Fiscal Year to Date. Captures claim activity from the first day of the current fiscal year through the report date"]
[]
[null,"SOJ","Station of Jurisdiction, or the Regional Office assigned to work the claim"]
[null,"SOO","Station of Origin, or the Regional Office with geographic oversight of the claim"]
[]
[null,"Pending Development","Claims that are awaiting development initiation, which may involve gathering supporting evidence, medical exams, and military documentation."]
[]
[null,"Pending Evidence","Claims that are in the process of gathering supporting evidence and possibly medical exams."]
[]
[null,"Pending Decision","Claims that are awaiting an evidence review and decision by a rating specialist"]
[]
[null,"Pending Award","Claims that are awaiting a first-level review of the evidence gathered and the decision."]
[]
[null,"Pending Authorization","Claims that are awaiting a final review of all aspects of the claim, which results in a notification to the claimant on the outcome of their claim."]

{"sheet":"Transformation","index":1,"n_rows":38,"n_cols":10,"rows_kept":38,"cut":false,"hidden":false,"merged":[[37,1,37,9],[2,9,3,9],[31,1,31,5],[26,1,26,5],[27,1,27,5],[28,1,28,5],[29,1,29,5],[30,1,30,5],[24,1,24,5],[2,8,3,8],[2,7,3,7],[5,1,5,5],[4,1,4,5],[2,1,2,5],[10,1,10,5],[11,1,11,5],[12,1,12,5],[1,1,1,5],[6,1,6,5],[7,1,7,5],[8,1,8,5],[9,1,9,5],[13,1,13,5],[14,1,14,5],[36,1,36,9],[15,1,15,5],[16,1,16,5],[18,1,18,5],[20,1,20,5],[25,1,25,5],[32,1,32,5],[33,1,33,5],[34,1,34,5],[19,1,19,5],[21,1,21,5],[22,1,22,5],[17,1,17,5]]}
[null," "]
[null,"Compensation and Pension Rating Bundle Metrics"]
[null,"National View",null,null,null,null,null,"# Pending","# Pending > 125","% Pending > 125 days"]
[null,{"$f":"\"Reporting through \"&TEXT(D_DT[],\"MMMM DD, YYYY\")","v":"Reporting through January 08, 2022"}]
[null,"Compensation and Pension Rating Bundle",null,null,null,null,"Total",{"$f":"SUM(H6,H11,H22)","v":627100},{"$f":"SUM(I6,I11,I22)","v":260739},{"$f":"IF(H5=0, 0,I5/H5)","v":0.41578536118641363}]
[null,"Original Entitlement",null,null,null,null,"Total",{"$f":"SUM(H7:H10)","v":156832},{"$f":"SUM(I7:I10)","v":64289},{"$f":"IF(H6=0, 0,I6/H6)","v":0.4099227198530912}]
["010","Initial entitlement for service-connected disability (>=8 issues)",null,null,null,null,"EP 010",{"$f":"IFERROR(SUMIFS(D_D[INV],D_D[MT],3,D_D[EP],$A7),0)","v":49012},{"$f":"IFERROR(SUMIFS(D_D[BL],D_D[MT],3,D_D[EP],$A7),0)","v":21787},0.44452379009222232]
["110","Initial entitlement for service-connected disability (<=7 issues)",null,null,null,null,"EP 110",{"$f":"IFERROR(SUMIFS(D_D[INV],D_D[MT],3,D_D[EP],$A8),0)","v":91879},{"$f":"IFERROR(SUMIFS(D_D[BL],D_D[MT],3,D_D[EP],$A8),0)","v":38497},0.41899672395215448]
["180","Initial entitlement - Veteran's Pension",null,null,null,null,"EP 180",{"$f":"IFERROR(SUMIFS(D_D[INV],D_D[MT],3,D_D[EP],$A9),0)","v":4450},{"$f":"IFERROR(SUMIFS(D_D[BL],D_D[MT],3,D_D[EP],$A9),0)","v":507},0.11393258426966292]
["140","Initial claims from surviving spouses, children or parents",null,null,null,null,"EP 140",{"$f":"IFERROR(SUMIFS(D_D[INV],D_D[MT],3,D_D[EP],$A10),0)","v":11491},{"$f":"IFERROR(SUMIFS(D_D[BL],D_D[MT],3,D_D[EP],$A10),0)","v":3498},0.30441214863806459]
[null,"Supplemental Entitlement",null,null,null,null,"Total",{"$f":"SUM(H12:H21)","v":450138},{"$f":"SUM(I12:I21)","v":178002},0.39543873212214919]
["120","Increased entitlement and/or reconsideration for Pension",null,null,null,null,"EP 120",{"$f":"IFERROR(SUMIFS(D_D[INV],D_D[MT],3,D_D[EP],$A12),0)","v":2192},{"$f":"IFERROR(SUMIFS(D_D[BL],D_D[MT],3,D_D[EP],$A12),0)","v":252},0.11496350364963503]
["020","Increased evaluation and/or additional claimed conditions",null,null,null,null,"EP 020",{"$f":"IFERROR(SUMIFS(D_D[INV],D_D[MT],3,D_D[EP],$A13),0)","v":251448},{"$f":"IFERROR(SUMIFS(D_D[BL],D_D[MT],3,D_D[EP],$A13),0)","v":73114},0.29077184944799722]
["310G","Future examination for disabilities",null,null,null,null,"EP 310",{"$f":"IFERROR(SUMIFS(D_D[INV],D_D[MT],3,D_D[EP],$A14),0)","v":15182},{"$f":"IFERROR(SUMIFS(D_D[BL],D_D[MT],3,D_D[EP],$A14),0)","v":4578},0.30154129890659992]
["320","Increased entitlement due to hospitalization or surgery",null,null,null,null,"EP 320",{"$f":"IFERROR(SUMIFS(D_D[INV],D_D[MT],3,D_D[EP],$A15),0)","v":1390},{"$f":"IFERROR(SUMIFS(D_D[BL],D_D[MT],3,D_D[EP],$A15),0)","v":54},3.884892086330935E-2]
["681","Used to control claims under the Nehmer Agent Orange stipulation",null,null,null,null,"EP 681",{"$f":"IFERROR(SUMIFS(D_D[INV],D_D[MT],3,D_D[EP],$A16),0)","v":1022},{"$f":"IFERROR(SUMIFS(D_D[BL],D_D[MT],3,D_D[EP],$A16),0)","v":754},0.73776908023483367]
["687","Blue Water Navy Agent Orange Nehmer Reviews",null,null,null,null,"EP 687",{"$f":"IFERROR(SUMIFS(D_D[INV],D_D[MT],3,D_D[EP],$A17),0)","v":9526},{"$f":"IFERROR(SUMIFS(D_D[BL],D_D[MT],3,D_D[EP],$A17),0)","v":9522},{"$f":"IF(H17=0, 0,I17/H17)","v":0.99958009657778712}]
["688","NDAA Agent Orange Nehmer Reviews (3 new authorized disabilities)",null,null,null,null,"EP 688",{"$f":"IFERROR(SUMIFS(D_D[INV],D_D[MT],3,D_D[EP],$A18),0)","v":62107},{"$f":"IFERROR(SUMIFS(D_D[BL],D_D[MT],3,D_D[EP],$A18),0)","v":60992},{"$f":"IF(H18=0, 0,I18/H18)","v":0.98204711224177632}]
["405","Reopened or new Agent Orange claims between 9/01/10 and 10/24/2011",null,null,null,null,"EP 405",{"$f":"IFERROR(SUMIFS(D_D[INV],D_D[MT],3,D_D[EP],$A19),0)","v":0},{"$f":"IFERROR(SUMIFS(D_D[BL],D_D[MT],3,D_D[EP],$A19),0)","v":0},{"$f":"IF(H19=0, 0,I19/H19)","v":0}]
["040","Decision Review Request - AMA Supplemental Claims",null,null,null,null,"EP 040",{"$f":"IFERROR(SUMIFS(D_D[INV],D_D[MT],3.1,D_D[EP],$A20),0)","v":107270},{"$f":"IFERROR(SUMIFS(D_D[BL],D_D[MT],3.1,D_D[EP],$A20),0)","v":28736},{"$f":"IF(H20=0, 0,I20/H20)","v":0.26788477673161182}]
["409","Agent Orange claims where an interim decision was provided; No longer used as of 10/24/2011",null,null,null,null,"EP 409",{"$f":"IFERROR(SUMIFS(D_D[INV],D_D[MT],3,D_D[EP],$A21),0)","v":1},{"$f":"IFERROR(SUMIFS(D_D[BL],D_D[MT],3,D_D[EP],$A21),0)","v":0},{"$f":"IF(H21=0, 0,I21/H21)","v":0}]
[null,"Compensation Other – Diary – Becomes Part of Rating Bundle on 1/1/2020",null,null,null,null,"Total",{"$f":"SUM(H23)","v":20130},{"$f":"SUM(I23)","v":18448},{"$f":"IF(H22=0, 0,I22/H22)","v":0.91644311972180825}]
["335","Blue Water Navy - Agent Orange",null,null,null,null,"EP 335",{"$f":"IFERROR(SUMIFS(D_D[INV],D_D[MT],3,D_D[EP],$A23),0)","v":20130},{"$f":"IFERROR(SUMIFS(D_D[BL],D_D[MT],3,D_D[EP],$A23),0)","v":18448},0.91644311972180825]
[]
[null,"Education Metrics ",null,null,null,null,{"$f":"\"Pending on \" &TEXT(D_DT[]-1,\"MM/DD/YY\")","v":"Pending on 01/07/22"},{"$f":"\"Pending on \" &TEXT(D_DT[]-8,\"MM/DD/YY\")","v":"Pending on 12/31/21"},"# Change","% Change"]
[1,"Total Chapter 33 Original Claims *",null,null,null,null,{"$f":"IFERROR(SUMIFS(D_D[INV],D_D[MT],9,D_D[CAT],1,D_D[LOC],$A26),0)","v":3338},3442,{"$f":"H26-G26","v":104},{"$f":"IFERROR(I26/H26,0)","v":3.0214991284137131E-2}]
[307,"Buffalo",null,null,null,null,{"$f":"IFERROR(SUMIFS(D_D[INV],D_D[MT],9,D_D[CAT],1,D_D[LOC],$A27),0)","v":2018},1930,{"$f":"H27-G27","v":-88},{"$f":"IFERROR(I27/H27,0)","v":-4.5595854922279792E-2}]
[316,"Atlanta",null,null,null,null,{"$f":"IFERROR(SUMIFS(D_D[INV],D_D[MT],9,D_D[CAT],1,D_D[LOC],$A28),0)","v":0},{"$f":"IFERROR(SUMIFS([1]!D_D[INV],[1]!D_D[MT],9,[1]!D_D[CAT],1,[1]!D_D[LOC],$A28),0)","v":0},0,{"$f":"IF(H28=0, 0,I28/H28)","v":0}]
[331,"St Louis",null,null,null,null,{"$f":"IFERROR(SUMIFS(D_D[INV],D_D[MT],9,D_D[CAT],1,D_D[LOC],$A29),0)","v":0},{"$f":"IFERROR(SUMIFS([1]!D_D[INV],[1]!D_D[MT],9,[1]!D_D[CAT],1,[1]!D_D[LOC],$A29),0)","v":0},0,{"$f":"IFERROR(I29/H29,0)","v":0}]
[351,"Muskogee",null,null,null,null,{"$f":"IFERROR(SUMIFS(D_D[INV],D_D[MT],9,D_D[CAT],1,D_D[LOC],$A30),0)","v":1320},1512,192,{"$f":"IFERROR(I30/H30,0)","v":0.12698412698412698}]
[1,"Total Education Claims - All Education Programs **",null,null,null,null,{"$f":"IFERROR(SUMIFS(D_D[INV],D_D[MT],9,D_D[CAT],2,D_D[LOC],$A31),0)","v":47599},40649,{"$f":"H31-G31","v":-6950},{"$f":"IFERROR(I31/H31,0)","v":-0.17097591576668553}]
[307,"Buffalo",null,null,null,null,{"$f":"IFERROR(SUMIFS(D_D[INV],D_D[MT],9,D_D[CAT],2,D_D[LOC],$A32),0)","v":22388},18549,{"$f":"H32-G32","v":-3839},{"$f":"IFERROR(I32/H32,0)","v":-0.20696533505849371}]
[316,"Atlanta",null,null,null,null,{"$f":"IFERROR(SUMIFS(D_D[INV],D_D[MT],9,D_D[CAT],2,D_D[LOC],$A33),0)","v":0},{"$f":"IFERROR(SUMIFS([1]!D_D[INV],[1]!D_D[MT],9,[1]!D_D[CAT],2,[1]!D_D[LOC],$A33),0)","v":0},0,{"$f":"IF(H33=0, 0,I33/H33)","v":0}]
[331,"St Louis",null,null,null,null,{"$f":"IFERROR(SUMIFS(D_D[INV],D_D[MT],9,D_D[CAT],2,D_D[LOC],$A34),0)","v":0},{"$f":"IFERROR(SUMIFS([1]!D_D[INV],[1]!D_D[MT],9,[1]!D_D[CAT],2,[1]!D_D[LOC],$A34),0)","v":0},0,{"$f":"IFERROR(I34/H34,0)","v":0}]
[351,"Muskogee",null,null,null,null,{"$f":"IFERROR(SUMIFS(D_D[INV],D_D[MT],9,D_D[CAT],2,D_D[LOC],$A35),0)","v":25211},22190,-3021,{"$f":"IFERROR(I35/H35,0)","v":-0.13614240648940965}]
[]
[null,"*Chapter 33 is the Post-9/11GI Bill. "]
[null,"**Represents all Education Benefit Programs, including  Chapter 33 claims."]

{"sheet":"Rating Bundle - SOJ","index":2,"n_rows":35,"n_cols":17,"rows_kept":35,"cut":false,"hidden":false,"merged":[[8,8,10,8],[8,9,10,9],[8,10,10,10],[8,11,10,11],[1,3,1,10],[1,11,1,16],[2,3,2,10],[2,11,2,16],[8,3,10,3],[8,4,10,4],[8,5,10,5],[8,6,10,6],[8,7,10,7],[9,16,10,16],[7,3,7,10],[7,11,7,16],[8,12,10,12],[8,13,8,14],[9,14,10,14],[8,15,8,16],[6,11,6,16]]}
[]
[null,null,"DISTRICT SELECTOR","Compensation and Pension Rating Bundle Metrics",null,null,null,null,null,null,null,"Report through"]
[null,null,null,"Station of Jurisdiction View",null,null,null,null,null,null,null,{"$f":"D_DT[]","v":"2022-01-08"}]
[null,null,null,"The Station of Jurisdiction (SOJ)  is the regional office assigned to work the claim",null,null,null,null,null,null,null,"ADP = Average Days Pending",null,null,"MTD = Month to Date"]
[null,null,null,"Each Special Mission has distinct claim counts",null,null,null,null,null,null,null,"ADC = Average Days to Complete",null,null,"FYTD = Fiscal Year to Date"]
[null,null,null,"When Special Mission is set to Pension, BDD, or Quickstart, the District Selector has no impact"]
[null,null,null,null,null,null,null,null,null,null,null,"Accuracy is available in Compensation and Pension Special Missions"]
[null,null,null,"CLAIM METRICS",null,null,null,null,null,null,null,"ACCURACY METRICS"]
[null,null,"SPECIAL MISSION SELECTOR","#\nPending","#\nPending\n> 125 Days","%\nPending\n> 125 Days","ADP","#\nCompleted\nMTD","ADC\nMTD","#\nCompleted\nFYTD","ADC\nFYTD","Rating\n3 Month Issue","Rating\n3 Month\nClaim","Rating 12 Month",null,"Authorization 12 Month"]
[null,null,null,null,null,null,null,null,null,null,null,null,null,"%","Margin of Error +/-","%","Margin of Error +/-"]
[null,null,null,null,null,null,null,null,null,null,null,null,null,"Correct",null,"Correct"]
[100,null,{"$f":"Driver!$C$20& \" Total\"","v":"USA - All Missions Total"},{"$f":"IF(ISNA($A12),\"\",IFERROR(SUMIFS(D_D[INV],D_D[MT],5,D_D[CAT],SMS, D_D[EP],-1,D_D[LOC],$A12),0))","v":627100},{"$f":"IF(ISNA($A12),\"\",IFERROR(SUMIFS(D_D[BL],D_D[MT],5,D_D[CAT],SMS, D_D[EP],-1,D_D[LOC],$A12),0))","v":260739},{"$f":"IF(ISNA($A12),\"\",IFERROR(E12/D12,0))","v":0.41578536118641363},{"$f":"IF(ISNA($A12),\"\",IFERROR(SUMIFS(D_D[ADP],D_D[MT],5,D_D[CAT],SMS, D_D[EP],-1,D_D[LOC],$A12),0))","v":156.55000000000001},{"$f":"IF(ISNA($A12),\"\",IFERROR(SUMIFS(D_D[PROD_MTD],D_D[MT],5,D_D[CAT],SMS, D_D[EP],-1,D_D[LOC],$A12),0))","v":31262},{"$f":"IF(ISNA($A12),\"\",IFERROR(SUMIFS(D_D[ADCM],D_D[MT],5,D_D[CAT],SMS, D_D[EP],-1,D_D[LOC],$A12),0))","v":134.46},{"$f":"IF(ISNA($A12),\"\",IFERROR(SUMIFS(D_D[PROD_FYTD],D_D[MT],5,D_D[CAT],SMS, D_D[EP],-1,D_D[LOC],$A12),0))","v":414352},{"$f":"IF(ISNA($A12),\"\",IFERROR(SUMIFS(D_D[ADCF],D_D[MT],5,D_D[CAT],SMS, D_D[EP],-1,D_D[LOC],$A12),0))","v":124.66},{"$f":"IF(ISNA($A12-99),\"\",IFERROR(SUMIFS(D_D[INV],D_D[MT],8,D_D[CAT],SMS,D_D[LOC],$A12-99),0))","v":0},{"$f":"IF(ISNA($A12-99),\"\",IFERROR(SUMIFS(D_D[BL],D_D[MT],8,D_D[CAT],SMS,D_D[LOC],$A12-99),0))","v":0},{"$f":"IF(ISNA($A12-99),\"\",IFERROR(SUMIFS(D_D[ADP],D_D[MT],8,D_D[CAT],SMS,D_D[LOC],$A12-99),0))","v":0},{"$f":"IF(ISNA($A12-99),\"\",IFERROR(SUMIFS(D_D[PROD_MTD],D_D[MT],8,D_D[CAT],SMS,D_D[LOC],$A12-99),0))","v":0},{"$f":"IF(ISNA($A12-99),\"\",IFERROR(SUMIFS(D_D[PROD_FYTD],D_D[MT],8,D_D[CAT],SMS,D_D[LOC],$A12-99),0))","v":0},{"$f":"IF(ISNA($A12-99),\"\",IFERROR(SUMIFS(D_D[ADCM],D_D[MT],8,D_D[CAT],SMS,D_D[LOC],$A12-99),0))","v":0}]
[{"$f":"INDEX(RO,(MATCH($C13,RO_D,0)))","v":"395"},1,{"$f":"IFERROR(INDEX(INDIRECT(DS_RO_N),B13),\"\")","v":"Pacific District"},{"$f":"IF(ISNA($A13),\"\",IFERROR(SUMIFS(D_D[INV],D_D[MT],5,D_D[CAT],SMS, D_D[EP],-1,D_D[LOC],$A13),0))","v":14351},{"$f":"IF(ISNA($A13),\"\",IFERROR(SUMIFS(D_D[BL],D_D[MT],5,D_D[CAT],SMS, D_D[EP],-1,D_D[LOC],$A13),0))","v":4705},{"$f":"IF(ISNA($A13),\"\",IFERROR(E13/D13,0))","v":0.32785171765033794},{"$f":"IF(ISNA($A13),\"\",IFERROR(SUMIFS(D_D[ADP],D_D[MT],5,D_D[CAT],SMS, D_D[EP],-1,D_D[LOC],$A13),0))","v":123.34},{"$f":"IF(ISNA($A13),\"\",IFERROR(SUMIFS(D_D[PROD_MTD],D_D[MT],5,D_D[CAT],SMS, D_D[EP],-1,D_D[LOC],$A13),0))","v":6328},{"$f":"IF(ISNA($A13),\"\",IFERROR(SUMIFS(D_D[ADCM],D_D[MT],5,D_D[CAT],SMS, D_D[EP],-1,D_D[LOC],$A13),0))","v":132.21},{"$f":"IF(ISNA($A13),\"\",IFERROR(SUMIFS(D_D[PROD_FYTD],D_D[MT],5,D_D[CAT],SMS, D_D[EP],-1,D_D[LOC],$A13),0))","v":87688},{"$f":"IF(ISNA($A13),\"\",IFERROR(SUMIFS(D_D[ADCF],D_D[MT],5,D_D[CAT],SMS, D_D[EP],-1,D_D[LOC],$A13),0))","v":123.73},{"$f":"IF(ISNA($A13),\"\",IFERROR(SUMIFS(D_D[INV],D_D[MT],8,D_D[CAT],SMS,D_D[LOC],$A13),0))","v":0},{"$f":"IF(ISNA($A13),\"\",IFERROR(SUMIFS(D_D[BL],D_D[MT],8,D_D[CAT],SMS,D_D[LOC],$A13),0))","v":0},{"$f":"IF(ISNA($A13),\"\",IFERROR(SUMIFS(D_D[ADP],D_D[MT],8,D_D[CAT],SMS,D_D[LOC],$A13),0))","v":0},{"$f":"IF(ISNA($A13),\"\",IFERROR(SUMIFS(D_D[PROD_MTD],D_D[MT],8,D_D[CAT],SMS,D_D[LOC],$A13),0))","v":0},{"$f":"IF(ISNA($A13),\"\",IFERROR(SUMIFS(D_D[PROD_FYTD],D_D[MT],8,D_D[CAT],SMS,D_D[LOC],$A13),0))","v":0},{"$f":"IF(ISNA($A13),\"\",IFERROR(SUMIFS(D_D[ADCM],D_D[MT],8,D_D[CAT],SMS,D_D[LOC],$A13),0))","v":0}]
["340",2,{"$f":"IFERROR(INDEX(INDIRECT(DS_RO_N),B14),\"\")","v":"Albuquerque"},{"$f":"IF(ISNA($A14),\"\",IFERROR(SUMIFS(D_D[INV],D_D[MT],5,D_D[CAT],SMS, D_D[EP],-1,D_D[LOC],$A14),0))","v":415},{"$f":"IF(ISNA($A14),\"\",IFERROR(SUMIFS(D_D[BL],D_D[MT],5,D_D[CAT],SMS, D_D[EP],-1,D_D[LOC],$A14),0))","v":129},{"$f":"IF(ISNA($A14),\"\",IFERROR(E14/D14,0))","v":0.31084337349397589},{"$f":"IF(ISNA($A14),\"\",IFERROR(SUMIFS(D_D[ADP],D_D[MT],5,D_D[CAT],SMS, D_D[EP],-1,D_D[LOC],$A14),0))","v":119.78},{"$f":"IF(ISNA($A14),\"\",IFERROR(SUMIFS(D_D[PROD_MTD],D_D[MT],5,D_D[CAT],SMS, D_D[EP],-1,D_D[LOC],$A14),0))","v":242},{"$f":"IF(ISNA($A14),\"\",IFERROR(SUMIFS(D_D[ADCM],D_D[MT],5,D_D[CAT],SMS, D_D[EP],-1,D_D[LOC],$A14),0))","v":170.98},{"$f":"IF(ISNA($A14),\"\",IFERROR(SUMIFS(D_D[PROD_FYTD],D_D[MT],5,D_D[CAT],SMS, D_D[EP],-1,D_D[LOC],$A14),0))","v":2584},{"$f":"IF(ISNA($A14),\"\",IFERROR(SUMIFS(D_D[ADCF],D_D[MT],5,D_D[CAT],SMS, D_D[EP],-1,D_D[LOC],$A14),0))","v":159.25},{"$f":"IF(ISNA($A14),\"\",IFERROR(SUMIFS(D_D[INV],D_D[MT],8,D_D[CAT],SMS,D_D[LOC],$A14),0))","v":0},{"$f":"IF(ISNA($A14),\"\",IFERROR(SUMIFS(D_D[BL],D_D[MT],8,D_D[CAT],SMS,D_D[LOC],$A14),0))","v":0},{"$f":"IF(ISNA($A14),\"\",IFERROR(SUMIFS(D_D[ADP],D_D[MT],8,D_D[CAT],SMS,D_D[LOC],$A14),0))","v":0},{"$f":"IF(ISNA($A14),\"\",IFERROR(SUMIFS(D_D[PROD_MTD],D_D[MT],8,D_D[CAT],SMS,D_D[LOC],$A14),0))","v":0},{"$f":"IF(ISNA($A14),\"\",IFERROR(SUMIFS(D_D[PROD_FYTD],D_D[MT],8,D_D[CAT],SMS,D_D[LOC],$A14),0))","v":0},{"$f":"IF(ISNA($A14),\"\",IFERROR(SUMIFS(D_D[ADCM],D_D[MT],8,D_D[CAT],SMS,D_D[LOC],$A14),0))","v":0}]
["463",3,"Anchorage",{"$f":"IF(ISNA($A15),\"\",IFERROR(SUMIFS(D_D[INV],D_D[MT],5,D_D[CAT],SMS, D_D[EP],-1,D_D[LOC],$A15),0))","v":135},{"$f":"IF(ISNA($A15),\"\",IFERROR(SUMIFS(D_D[BL],D_D[MT],5,D_D[CAT],SMS, D_D[EP],-1,D_D[LOC],$A15),0))","v":53},0.3925925925925926,{"$f":"IF(ISNA($A15),\"\",IFERROR(SUMIFS(D_D[ADP],D_D[MT],5,D_D[CAT],SMS, D_D[EP],-1,D_D[LOC],$A15),0))","v":159.76},{"$f":"IF(ISNA($A15),\"\",IFERROR(SUMIFS(D_D[PROD_MTD],D_D[MT],5,D_D[CAT],SMS, D_D[EP],-1,D_D[LOC],$A15),0))","v":47},{"$f":"IF(ISNA($A15),\"\",IFERROR(SUMIFS(D_D[ADCM],D_D[MT],5,D_D[CAT],SMS, D_D[EP],-1,D_D[LOC],$A15),0))","v":151.66},{"$f":"IF(ISNA($A15),\"\",IFERROR(SUMIFS(D_D[PROD_FYTD],D_D[MT],5,D_D[CAT],SMS, D_D[EP],-1,D_D[LOC],$A15),0))","v":688},{"$f":"IF(ISNA($A15),\"\",IFERROR(SUMIFS(D_D[ADCF],D_D[MT],5,D_D[CAT],SMS, D_D[EP],-1,D_D[LOC],$A15),0))","v":153.49},{"$f":"IF(ISNA($A15),\"\",IFERROR(SUMIFS(D_D[INV],D_D[MT],8,D_D[CAT],SMS,D_D[LOC],$A15),0))","v":0},{"$f":"IF(ISNA($A15),\"\",IFERROR(SUMIFS(D_D[BL],D_D[MT],8,D_D[CAT],SMS,D_D[LOC],$A15),0))","v":0},{"$f":"IF(ISNA($A15),\"\",IFERROR(SUMIFS(D_D[ADP],D_D[MT],8,D_D[CAT],SMS,D_D[LOC],$A15),0))","v":0},{"$f":"IF(ISNA($A15),\"\",IFERROR(SUMIFS(D_D[PROD_MTD],D_D[MT],8,D_D[CAT],SMS,D_D[LOC],$A15),0))","v":0},{"$f":"IF(ISNA($A15),\"\",IFERROR(SUMIFS(D_D[PROD_FYTD],D_D[MT],8,D_D[CAT],SMS,D_D[LOC],$A15),0))","v":0},{"$f":"IF(ISNA($A15),\"\",IFERROR(SUMIFS(D_D[ADCM],D_D[MT],8,D_D[CAT],SMS,D_D[LOC],$A15),0))","v":0}]
["347",4,"Boise",{"$f":"IF(ISNA($A16),\"\",IFERROR(SUMIFS(D_D[INV],D_D[MT],5,D_D[CAT],SMS, D_D[EP],-1,D_D[LOC],$A16),0))","v":409},{"$f":"IF(ISNA($A16),\"\",IFERROR(SUMIFS(D_D[BL],D_D[MT],5,D_D[CAT],SMS, D_D[EP],-1,D_D[LOC],$A16),0))","v":115},0.28117359413202936,{"$f":"IF(ISNA($A16),\"\",IFERROR(SUMIFS(D_D[ADP],D_D[MT],5,D_D[CAT],SMS, D_D[EP],-1,D_D[LOC],$A16),0))","v":120.67},{"$f":"IF(ISNA($A16),\"\",IFERROR(SUMIFS(D_D[PROD_MTD],D_D[MT],5,D_D[CAT],SMS, D_D[EP],-1,D_D[LOC],$A16),0))","v":282},{"$f":"IF(ISNA($A16),\"\",IFERROR(SUMIFS(D_D[ADCM],D_D[MT],5,D_D[CAT],SMS, D_D[EP],-1,D_D[LOC],$A16),0))","v":138.59},{"$f":"IF(ISNA($A16),\"\",IFERROR(SUMIFS(D_D[PROD_FYTD],D_D[MT],5,D_D[CAT],SMS, D_D[EP],-1,D_D[LOC],$A16),0))","v":3644},{"$f":"IF(ISNA($A16),\"\",IFERROR(SUMIFS(D_D[ADCF],D_D[MT],5,D_D[CAT],SMS, D_D[EP],-1,D_D[LOC],$A16),0))","v":131.51},{"$f":"IF(ISNA($A16),\"\",IFERROR(SUMIFS(D_D[INV],D_D[MT],8,D_D[CAT],SMS,D_D[LOC],$A16),0))","v":0},{"$f":"IF(ISNA($A16),\"\",IFERROR(SUMIFS(D_D[BL],D_D[MT],8,D_D[CAT],SMS,D_D[LOC],$A16),0))","v":0},{"$f":"IF(ISNA($A16),\"\",IFERROR(SUMIFS(D_D[ADP],D_D[MT],8,D_D[CAT],SMS,D_D[LOC],$A16),0))","v":0},{"$f":"IF(ISNA($A16),\"\",IFERROR(SUMIFS(D_D[PROD_MTD],D_D[MT],8,D_D[CAT],SMS,D_D[LOC],$A16),0))","v":0},{"$f":"IF(ISNA($A16),\"\",IFERROR(SUMIFS(D_D[PROD_FYTD],D_D[MT],8,D_D[CAT],SMS,D_D[LOC],$A16),0))","v":0},{"$f":"IF(ISNA($A16),\"\",IFERROR(SUMIFS(D_D[ADCM],D_D[MT],8,D_D[CAT],SMS,D_D[LOC],$A16),0))","v":0}]
["459",5,"Honolulu",{"$f":"IF(ISNA($A17),\"\",IFERROR(SUMIFS(D_D[INV],D_D[MT],5,D_D[CAT],SMS, D_D[EP],-1,D_D[LOC],$A17),0))","v":205},{"$f":"IF(ISNA($A17),\"\",IFERROR(SUMIFS(D_D[BL],D_D[MT],5,D_D[CAT],SMS, D_D[EP],-1,D_D[LOC],$A17),0))","v":62},0.30243902439024389,{"$f":"IF(ISNA($A17),\"\",IFERROR(SUMIFS(D_D[ADP],D_D[MT],5,D_D[CAT],SMS, D_D[EP],-1,D_D[LOC],$A17),0))","v":116.84},{"$f":"IF(ISNA($A17),\"\",IFERROR(SUMIFS(D_D[PROD_MTD],D_D[MT],5,D_D[CAT],SMS, D_D[EP],-1,D_D[LOC],$A17),0))","v":166},{"$f":"IF(ISNA($A17),\"\",IFERROR(SUMIFS(D_D[ADCM],D_D[MT],5,D_D[CAT],SMS, D_D[EP],-1,D_D[LOC],$A17),0))","v":138.81},{"$f":"IF(ISNA($A17),\"\",IFERROR(SUMIFS(D_D[PROD_FYTD],D_D[MT],5,D_D[CAT],SMS, D_D[EP],-1,D_D[LOC],$A17),0))","v":2515},{"$f":"IF(ISNA($A17),\"\",IFERROR(SUMIFS(D_D[ADCF],D_D[MT],5,D_D[CAT],SMS, D_D[EP],-1,D_D[LOC],$A17),0))","v":140.51},{"$f":"IF(ISNA($A17),\"\",IFERROR(SUMIFS(D_D[INV],D_D[MT],8,D_D[CAT],SMS,D_D[LOC],$A17),0))","v":0},{"$f":"IF(ISNA($A17),\"\",IFERROR(SUMIFS(D_D[BL],D_D[MT],8,D_D[CAT],SMS,D_D[LOC],$A17),0))","v":0},{"$f":"IF(ISNA($A17),\"\",IFERROR(SUMIFS(D_D[ADP],D_D[MT],8,D_D[CAT],SMS,D_D[LOC],$A17),0))","v":0},{"$f":"IF(ISNA($A17),\"\",IFERROR(SUMIFS(D_D[PROD_MTD],D_D[MT],8,D_D[CAT],SMS,D_D[LOC],$A17),0))","v":0},{"$f":"IF(ISNA($A17),\"\",IFERROR(SUMIFS(D_D[PROD_FYTD],D_D[MT],8,D_D[CAT],SMS,D_D[LOC],$A17),0))","v":0},{"$f":"IF(ISNA($A17),\"\",IFERROR(SUMIFS(D_D[ADCM],D_D[MT],8,D_D[CAT],SMS,D_D[LOC],$A17),0))","v":0}]
["344",6,"Los Angeles",{"$f":"IF(ISNA($A18),\"\",IFERROR(SUMIFS(D_D[INV],D_D[MT],5,D_D[CAT],SMS, D_D[EP],-1,D_D[LOC],$A18),0))","v":1343},{"$f":"IF(ISNA($A18),\"\",IFERROR(SUMIFS(D_D[BL],D_D[MT],5,D_D[CAT],SMS, D_D[EP],-1,D_D[LOC],$A18),0))","v":406},0.30230826507818315,{"$f":"IF(ISNA($A18),\"\",IFERROR(SUMIFS(D_D[ADP],D_D[MT],5,D_D[CAT],SMS, D_D[EP],-1,D_D[LOC],$A18),0))","v":120.99},{"$f":"IF(ISNA($A18),\"\",IFERROR(SUMIFS(D_D[PROD_MTD],D_D[MT],5,D_D[CAT],SMS, D_D[EP],-1,D_D[LOC],$A18),0))","v":542},{"$f":"IF(ISNA($A18),\"\",IFERROR(SUMIFS(D_D[ADCM],D_D[MT],5,D_D[CAT],SMS, D_D[EP],-1,D_D[LOC],$A18),0))","v":139.44},{"$f":"IF(ISNA($A18),\"\",IFERROR(SUMIFS(D_D[PROD_FYTD],D_D[MT],5,D_D[CAT],SMS, D_D[EP],-1,D_D[LOC],$A18),0))","v":7277},{"$f":"IF(ISNA($A18),\"\",IFERROR(SUMIFS(D_D[ADCF],D_D[MT],5,D_D[CAT],SMS, D_D[EP],-1,D_D[LOC],$A18),0))","v":130.22},{"$f":"IF(ISNA($A18),\"\",IFERROR(SUMIFS(D_D[INV],D_D[MT],8,D_D[CAT],SMS,D_D[LOC],$A18),0))","v":0},{"$f":"IF(ISNA($A18),\"\",IFERROR(SUMIFS(D_D[BL],D_D[MT],8,D_D[CAT],SMS,D_D[LOC],$A18),0))","v":0},{"$f":"IF(ISNA($A18),\"\",IFERROR(SUMIFS(D_D[ADP],D_D[MT],8,D_D[CAT],SMS,D_D[LOC],$A18),0))","v":0},{"$f":"IF(ISNA($A18),\"\",IFERROR(SUMIFS(D_D[PROD_MTD],D_D[MT],8,D_D[CAT],SMS,D_D[LOC],$A18),0))","v":0},{"$f":"IF(ISNA($A18),\"\",IFERROR(SUMIFS(D_D[PROD_FYTD],D_D[MT],8,D_D[CAT],SMS,D_D[LOC],$A18),0))","v":0},{"$f":"IF(ISNA($A18),\"\",IFERROR(SUMIFS(D_D[ADCM],D_D[MT],8,D_D[CAT],SMS,D_D[LOC],$A18),0))","v":0}]
["358",7,"Manila",{"$f":"IF(ISNA($A19),\"\",IFERROR(SUMIFS(D_D[INV],D_D[MT],5,D_D[CAT],SMS, D_D[EP],-1,D_D[LOC],$A19),0))","v":226},{"$f":"IF(ISNA($A19),\"\",IFERROR(SUMIFS(D_D[BL],D_D[MT],5,D_D[CAT],SMS, D_D[EP],-1,D_D[LOC],$A19),0))","v":82},0.36283185840707965,{"$f":"IF(ISNA($A19),\"\",IFERROR(SUMIFS(D_D[ADP],D_D[MT],5,D_D[CAT],SMS, D_D[EP],-1,D_D[LOC],$A19),0))","v":149.04},{"$f":"IF(ISNA($A19),\"\",IFERROR(SUMIFS(D_D[PROD_MTD],D_D[MT],5,D_D[CAT],SMS, D_D[EP],-1,D_D[LOC],$A19),0))","v":195},{"$f":"IF(ISNA($A19),\"\",IFERROR(SUMIFS(D_D[ADCM],D_D[MT],5,D_D[CAT],SMS, D_D[EP],-1,D_D[LOC],$A19),0))","v":129.65},{"$f":"IF(ISNA($A19),\"\",IFERROR(SUMIFS(D_D[PROD_FYTD],D_D[MT],5,D_D[CAT],SMS, D_D[EP],-1,D_D[LOC],$A19),0))","v":2442},{"$f":"IF(ISNA($A19),\"\",IFERROR(SUMIFS(D_D[ADCF],D_D[MT],5,D_D[CAT],SMS, D_D[EP],-1,D_D[LOC],$A19),0))","v":143.34},{"$f":"IF(ISNA($A19),\"\",IFERROR(SUMIFS(D_D[INV],D_D[MT],8,D_D[CAT],SMS,D_D[LOC],$A19),0))","v":0},{"$f":"IF(ISNA($A19),\"\",IFERROR(SUMIFS(D_D[BL],D_D[MT],8,D_D[CAT],SMS,D_D[LOC],$A19),0))","v":0},{"$f":"IF(ISNA($A19),\"\",IFERROR(SUMIFS(D_D[ADP],D_D[MT],8,D_D[CAT],SMS,D_D[LOC],$A19),0))","v":0},{"$f":"IF(ISNA($A19),\"\",IFERROR(SUMIFS(D_D[PROD_MTD],D_D[MT],8,D_D[CAT],SMS,D_D[LOC],$A19),0))","v":0},{"$f":"IF(ISNA($A19),\"\",IFERROR(SUMIFS(D_D[PROD_FYTD],D_D[MT],8,D_D[CAT],SMS,D_D[LOC],$A19),0))","v":0},{"$f":"IF(ISNA($A19),\"\",IFERROR(SUMIFS(D_D[ADCM],D_D[MT],8,D_D[CAT],SMS,D_D[LOC],$A19),0))","v":0}]
["343",8,"Oakland",{"$f":"IF(ISNA($A20),\"\",IFERROR(SUMIFS(D_D[INV],D_D[MT],5,D_D[CAT],SMS, D_D[EP],-1,D_D[LOC],$A20),0))","v":1065},{"$f":"IF(ISNA($A20),\"\",IFERROR(SUMIFS(D_D[BL],D_D[MT],5,D_D[CAT],SMS, D_D[EP],-1,D_D[LOC],$A20),0))","v":540},0.50704225352112675,{"$f":"IF(ISNA($A20),\"\",IFERROR(SUMIFS(D_D[ADP],D_D[MT],5,D_D[CAT],SMS, D_D[EP],-1,D_D[LOC],$A20),0))","v":142.80000000000001},{"$f":"IF(ISNA($A20),\"\",IFERROR(SUMIFS(D_D[PROD_MTD],D_D[MT],5,D_D[CAT],SMS, D_D[EP],-1,D_D[LOC],$A20),0))","v":223},{"$f":"IF(ISNA($A20),\"\",IFERROR(SUMIFS(D_D[ADCM],D_D[MT],5,D_D[CAT],SMS, D_D[EP],-1,D_D[LOC],$A20),0))","v":186.27},{"$f":"IF(ISNA($A20),\"\",IFERROR(SUMIFS(D_D[PROD_FYTD],D_D[MT],5,D_D[CAT],SMS, D_D[EP],-1,D_D[LOC],$A20),0))","v":2999},{"$f":"IF(ISNA($A20),\"\",IFERROR(SUMIFS(D_D[ADCF],D_D[MT],5,D_D[CAT],SMS, D_D[EP],-1,D_D[LOC],$A20),0))","v":166.79},{"$f":"IF(ISNA($A20),\"\",IFERROR(SUMIFS(D_D[INV],D_D[MT],8,D_D[CAT],SMS,D_D[LOC],$A20),0))","v":0},{"$f":"IF(ISNA($A20),\"\",IFERROR(SUMIFS(D_D[BL],D_D[MT],8,D_D[CAT],SMS,D_D[LOC],$A20),0))","v":0},{"$f":"IF(ISNA($A20),\"\",IFERROR(SUMIFS(D_D[ADP],D_D[MT],8,D_D[CAT],SMS,D_D[LOC],$A20),0))","v":0},{"$f":"IF(ISNA($A20),\"\",IFERROR(SUMIFS(D_D[PROD_MTD],D_D[MT],8,D_D[CAT],SMS,D_D[LOC],$A20),0))","v":0},{"$f":"IF(ISNA($A20),\"\",IFERROR(SUMIFS(D_D[PROD_FYTD],D_D[MT],8,D_D[CAT],SMS,D_D[LOC],$A20),0))","v":0},{"$f":"IF(ISNA($A20),\"\",IFERROR(SUMIFS(D_D[ADCM],D_D[MT],8,D_D[CAT],SMS,D_D[LOC],$A20),0))","v":0}]
["345",9,"Phoenix",{"$f":"IF(ISNA($A21),\"\",IFERROR(SUMIFS(D_D[INV],D_D[MT],5,D_D[CAT],SMS, D_D[EP],-1,D_D[LOC],$A21),0))","v":1860},{"$f":"IF(ISNA($A21),\"\",IFERROR(SUMIFS(D_D[BL],D_D[MT],5,D_D[CAT],SMS, D_D[EP],-1,D_D[LOC],$A21),0))","v":797},0.42849462365591395,{"$f":"IF(ISNA($A21),\"\",IFERROR(SUMIFS(D_D[ADP],D_D[MT],5,D_D[CAT],SMS, D_D[EP],-1,D_D[LOC],$A21),0))","v":145.69},{"$f":"IF(ISNA($A21),\"\",IFERROR(SUMIFS(D_D[PROD_MTD],D_D[MT],5,D_D[CAT],SMS, D_D[EP],-1,D_D[LOC],$A21),0))","v":548},{"$f":"IF(ISNA($A21),\"\",IFERROR(SUMIFS(D_D[ADCM],D_D[MT],5,D_D[CAT],SMS, D_D[EP],-1,D_D[LOC],$A21),0))","v":135.32},{"$f":"IF(ISNA($A21),\"\",IFERROR(SUMIFS(D_D[PROD_FYTD],D_D[MT],5,D_D[CAT],SMS, D_D[EP],-1,D_D[LOC],$A21),0))","v":6531},{"$f":"IF(ISNA($A21),\"\",IFERROR(SUMIFS(D_D[ADCF],D_D[MT],5,D_D[CAT],SMS, D_D[EP],-1,D_D[LOC],$A21),0))","v":170.25},{"$f":"IF(ISNA($A21),\"\",IFERROR(SUMIFS(D_D[INV],D_D[MT],8,D_D[CAT],SMS,D_D[LOC],$A21),0))","v":0},{"$f":"IF(ISNA($A21),\"\",IFERROR(SUMIFS(D_D[BL],D_D[MT],8,D_D[CAT],SMS,D_D[LOC],$A21),0))","v":0},{"$f":"IF(ISNA($A21),\"\",IFERROR(SUMIFS(D_D[ADP],D_D[MT],8,D_D[CAT],SMS,D_D[LOC],$A21),0))","v":0},{"$f":"IF(ISNA($A21),\"\",IFERROR(SUMIFS(D_D[PROD_MTD],D_D[MT],8,D_D[CAT],SMS,D_D[LOC],$A21),0))","v":0},{"$f":"IF(ISNA($A21),\"\",IFERROR(SUMIFS(D_D[PROD_FYTD],D_D[MT],8,D_D[CAT],SMS,D_D[LOC],$A21),0))","v":0},{"$f":"IF(ISNA($A21),\"\",IFERROR(SUMIFS(D_D[ADCM],D_D[MT],8,D_D[CAT],SMS,D_D[LOC],$A21),0))","v":0}]
["348",10,"Portland",{"$f":"IF(ISNA($A22),\"\",IFERROR(SUMIFS(D_D[INV],D_D[MT],5,D_D[CAT],SMS, D_D[EP],-1,D_D[LOC],$A22),0))","v":1540},{"$f":"IF(ISNA($A22),\"\",IFERROR(SUMIFS(D_D[BL],D_D[MT],5,D_D[CAT],SMS, D_D[EP],-1,D_D[LOC],$A22),0))","v":538},0.34935064935064936,{"$f":"IF(ISNA($A22),\"\",IFERROR(SUMIFS(D_D[ADP],D_D[MT],5,D_D[CAT],SMS, D_D[EP],-1,D_D[LOC],$A22),0))","v":142.01},{"$f":"IF(ISNA($A22),\"\",IFERROR(SUMIFS(D_D[PROD_MTD],D_D[MT],5,D_D[CAT],SMS, D_D[EP],-1,D_D[LOC],$A22),0))","v":394},{"$f":"IF(ISNA($A22),\"\",IFERROR(SUMIFS(D_D[ADCM],D_D[MT],5,D_D[CAT],SMS, D_D[EP],-1,D_D[LOC],$A22),0))","v":162.88999999999999},{"$f":"IF(ISNA($A22),\"\",IFERROR(SUMIFS(D_D[PROD_FYTD],D_D[MT],5,D_D[CAT],SMS, D_D[EP],-1,D_D[LOC],$A22),0))","v":5468},{"$f":"IF(ISNA($A22),\"\",IFERROR(SUMIFS(D_D[ADCF],D_D[MT],5,D_D[CAT],SMS, D_D[EP],-1,D_D[LOC],$A22),0))","v":161.66999999999999},{"$f":"IF(ISNA($A22),\"\",IFERROR(SUMIFS(D_D[INV],D_D[MT],8,D_D[CAT],SMS,D_D[LOC],$A22),0))","v":0},{"$f":"IF(ISNA($A22),\"\",IFERROR(SUMIFS(D_D[BL],D_D[MT],8,D_D[CAT],SMS,D_D[LOC],$A22),0))","v":0},{"$f":"IF(ISNA($A22),\"\",IFERROR(SUMIFS(D_D[ADP],D_D[MT],8,D_D[CAT],SMS,D_D[LOC],$A22),0))","v":0},{"$f":"IF(ISNA($A22),\"\",IFERROR(SUMIFS(D_D[PROD_MTD],D_D[MT],8,D_D[CAT],SMS,D_D[LOC],$A22),0))","v":0},{"$f":"IF(ISNA($A22),\"\",IFERROR(SUMIFS(D_D[PROD_FYTD],D_D[MT],8,D_D[CAT],SMS,D_D[LOC],$A22),0))","v":0},{"$f":"IF(ISNA($A22),\"\",IFERROR(SUMIFS(D_D[ADCM],D_D[MT],8,D_D[CAT],SMS,D_D[LOC],$A22),0))","v":0}]
["354",11,"Reno",{"$f":"IF(ISNA($A23),\"\",IFERROR(SUMIFS(D_D[INV],D_D[MT],5,D_D[CAT],SMS, D_D[EP],-1,D_D[LOC],$A23),0))","v":443},{"$f":"IF(ISNA($A23),\"\",IFERROR(SUMIFS(D_D[BL],D_D[MT],5,D_D[CAT],SMS, D_D[EP],-1,D_D[LOC],$A23),0))","v":172},0.38826185101580135,{"$f":"IF(ISNA($A23),\"\",IFERROR(SUMIFS(D_D[ADP],D_D[MT],5,D_D[CAT],SMS, D_D[EP],-1,D_D[LOC],$A23),0))","v":127.53},{"$f":"IF(ISNA($A23),\"\",IFERROR(SUMIFS(D_D[PROD_MTD],D_D[MT],5,D_D[CAT],SMS, D_D[EP],-1,D_D[LOC],$A23),0))","v":157},{"$f":"IF(ISNA($A23),\"\",IFERROR(SUMIFS(D_D[ADCM],D_D[MT],5,D_D[CAT],SMS, D_D[EP],-1,D_D[LOC],$A23),0))","v":187.71},{"$f":"IF(ISNA($A23),\"\",IFERROR(SUMIFS(D_D[PROD_FYTD],D_D[MT],5,D_D[CAT],SMS, D_D[EP],-1,D_D[LOC],$A23),0))","v":2161},{"$f":"IF(ISNA($A23),\"\",IFERROR(SUMIFS(D_D[ADCF],D_D[MT],5,D_D[CAT],SMS, D_D[EP],-1,D_D[LOC],$A23),0))","v":173.09},{"$f":"IF(ISNA($A23),\"\",IFERROR(SUMIFS(D_D[INV],D_D[MT],8,D_D[CAT],SMS,D_D[LOC],$A23),0))","v":0},{"$f":"IF(ISNA($A23),\"\",IFERROR(SUMIFS(D_D[BL],D_D[MT],8,D_D[CAT],SMS,D_D[LOC],$A23),0))","v":0},{"$f":"IF(ISNA($A23),\"\",IFERROR(SUMIFS(D_D[ADP],D_D[MT],8,D_D[CAT],SMS,D_D[LOC],$A23),0))","v":0},{"$f":"IF(ISNA($A23),\"\",IFERROR(SUMIFS(D_D[PROD_MTD],D_D[MT],8,D_D[CAT],SMS,D_D[LOC],$A23),0))","v":0},{"$f":"IF(ISNA($A23),\"\",IFERROR(SUMIFS(D_D[PROD_FYTD],D_D[MT],8,D_D[CAT],SMS,D_D[LOC],$A23),0))","v":0},{"$f":"IF(ISNA($A23),\"\",IFERROR(SUMIFS(D_D[ADCM],D_D[MT],8,D_D[CAT],SMS,D_D[LOC],$A23),0))","v":0}]
["341",12,"Salt Lake City",{"$f":"IF(ISNA($A24),\"\",IFERROR(SUMIFS(D_D[INV],D_D[MT],5,D_D[CAT],SMS, D_D[EP],-1,D_D[LOC],$A24),0))","v":1251},{"$f":"IF(ISNA($A24),\"\",IFERROR(SUMIFS(D_D[BL],D_D[MT],5,D_D[CAT],SMS, D_D[EP],-1,D_D[LOC],$A24),0))","v":567},0.45323741007194246,{"$f":"IF(ISNA($A24),\"\",IFERROR(SUMIFS(D_D[ADP],D_D[MT],5,D_D[CAT],SMS, D_D[EP],-1,D_D[LOC],$A24),0))","v":148.08000000000001},{"$f":"IF(ISNA($A24),\"\",IFERROR(SUMIFS(D_D[PROD_MTD],D_D[MT],5,D_D[CAT],SMS, D_D[EP],-1,D_D[LOC],$A24),0))","v":337},{"$f":"IF(ISNA($A24),\"\",IFERROR(SUMIFS(D_D[ADCM],D_D[MT],5,D_D[CAT],SMS, D_D[EP],-1,D_D[LOC],$A24),0))","v":233.33},{"$f":"IF(ISNA($A24),\"\",IFERROR(SUMIFS(D_D[PROD_FYTD],D_D[MT],5,D_D[CAT],SMS, D_D[EP],-1,D_D[LOC],$A24),0))","v":4234},{"$f":"IF(ISNA($A24),\"\",IFERROR(SUMIFS(D_D[ADCF],D_D[MT],5,D_D[CAT],SMS, D_D[EP],-1,D_D[LOC],$A24),0))","v":226.69},{"$f":"IF(ISNA($A24),\"\",IFERROR(SUMIFS(D_D[INV],D_D[MT],8,D_D[CAT],SMS,D_D[LOC],$A24),0))","v":0},{"$f":"IF(ISNA($A24),\"\",IFERROR(SUMIFS(D_D[BL],D_D[MT],8,D_D[CAT],SMS,D_D[LOC],$A24),0))","v":0},{"$f":"IF(ISNA($A24),\"\",IFERROR(SUMIFS(D_D[ADP],D_D[MT],8,D_D[CAT],SMS,D_D[LOC],$A24),0))","v":0},{"$f":"IF(ISNA($A24),\"\",IFERROR(SUMIFS(D_D[PROD_MTD],D_D[MT],8,D_D[CAT],SMS,D_D[LOC],$A24),0))","v":0},{"$f":"IF(ISNA($A24),\"\",IFERROR(SUMIFS(D_D[PROD_FYTD],D_D[MT],8,D_D[CAT],SMS,D_D[LOC],$A24),0))","v":0},{"$f":"IF(ISNA($A24),\"\",IFERROR(SUMIFS(D_D[ADCM],D_D[MT],8,D_D[CAT],SMS,D_D[LOC],$A24),0))","v":0}]
["377",13,"San Diego",{"$f":"IF(ISNA($A25),\"\",IFERROR(SUMIFS(D_D[INV],D_D[MT],5,D_D[CAT],SMS, D_D[EP],-1,D_D[LOC],$A25),0))","v":2363},{"$f":"IF(ISNA($A25),\"\",IFERROR(SUMIFS(D_D[BL],D_D[MT],5,D_D[CAT],SMS, D_D[EP],-1,D_D[LOC],$A25),0))","v":628},0.2657638595006348,{"$f":"IF(ISNA($A25),\"\",IFERROR(SUMIFS(D_D[ADP],D_D[MT],5,D_D[CAT],SMS, D_D[EP],-1,D_D[LOC],$A25),0))","v":111.95},{"$f":"IF(ISNA($A25),\"\",IFERROR(SUMIFS(D_D[PROD_MTD],D_D[MT],5,D_D[CAT],SMS, D_D[EP],-1,D_D[LOC],$A25),0))","v":1241},{"$f":"IF(ISNA($A25),\"\",IFERROR(SUMIFS(D_D[ADCM],D_D[MT],5,D_D[CAT],SMS, D_D[EP],-1,D_D[LOC],$A25),0))","v":120.53},{"$f":"IF(ISNA($A25),\"\",IFERROR(SUMIFS(D_D[PROD_FYTD],D_D[MT],5,D_D[CAT],SMS, D_D[EP],-1,D_D[LOC],$A25),0))","v":21049},{"$f":"IF(ISNA($A25),\"\",IFERROR(SUMIFS(D_D[ADCF],D_D[MT],5,D_D[CAT],SMS, D_D[EP],-1,D_D[LOC],$A25),0))","v":101.15},{"$f":"IF(ISNA($A25),\"\",IFERROR(SUMIFS(D_D[INV],D_D[MT],8,D_D[CAT],SMS,D_D[LOC],$A25),0))","v":0},{"$f":"IF(ISNA($A25),\"\",IFERROR(SUMIFS(D_D[BL],D_D[MT],8,D_D[CAT],SMS,D_D[LOC],$A25),0))","v":0},{"$f":"IF(ISNA($A25),\"\",IFERROR(SUMIFS(D_D[ADP],D_D[MT],8,D_D[CAT],SMS,D_D[LOC],$A25),0))","v":0},{"$f":"IF(ISNA($A25),\"\",IFERROR(SUMIFS(D_D[PROD_MTD],D_D[MT],8,D_D[CAT],SMS,D_D[LOC],$A25),0))","v":0},{"$f":"IF(ISNA($A25),\"\",IFERROR(SUMIFS(D_D[PROD_FYTD],D_D[MT],8,D_D[CAT],SMS,D_D[LOC],$A25),0))","v":0},{"$f":"IF(ISNA($A25),\"\",IFERROR(SUMIFS(D_D[ADCM],D_D[MT],8,D_D[CAT],SMS,D_D[LOC],$A25),0))","v":0}]
["346",14,"Seattle",{"$f":"IF(ISNA($A26),\"\",IFERROR(SUMIFS(D_D[INV],D_D[MT],5,D_D[CAT],SMS, D_D[EP],-1,D_D[LOC],$A26),0))","v":3096},{"$f":"IF(ISNA($A26),\"\",IFERROR(SUMIFS(D_D[BL],D_D[MT],5,D_D[CAT],SMS, D_D[EP],-1,D_D[LOC],$A26),0))","v":616},0.19896640826873385,{"$f":"IF(ISNA($A26),\"\",IFERROR(SUMIFS(D_D[ADP],D_D[MT],5,D_D[CAT],SMS, D_D[EP],-1,D_D[LOC],$A26),0))","v":90.83},{"$f":"IF(ISNA($A26),\"\",IFERROR(SUMIFS(D_D[PROD_MTD],D_D[MT],5,D_D[CAT],SMS, D_D[EP],-1,D_D[LOC],$A26),0))","v":1954},{"$f":"IF(ISNA($A26),\"\",IFERROR(SUMIFS(D_D[ADCM],D_D[MT],5,D_D[CAT],SMS, D_D[EP],-1,D_D[LOC],$A26),0))","v":96},{"$f":"IF(ISNA($A26),\"\",IFERROR(SUMIFS(D_D[PROD_FYTD],D_D[MT],5,D_D[CAT],SMS, D_D[EP],-1,D_D[LOC],$A26),0))","v":26096},{"$f":"IF(ISNA($A26),\"\",IFERROR(SUMIFS(D_D[ADCF],D_D[MT],5,D_D[CAT],SMS, D_D[EP],-1,D_D[LOC],$A26),0))","v":85.97},{"$f":"IF(ISNA($A26),\"\",IFERROR(SUMIFS(D_D[INV],D_D[MT],8,D_D[CAT],SMS,D_D[LOC],$A26),0))","v":0},{"$f":"IF(ISNA($A26),\"\",IFERROR(SUMIFS(D_D[BL],D_D[MT],8,D_D[CAT],SMS,D_D[LOC],$A26),0))","v":0},{"$f":"IF(ISNA($A26),\"\",IFERROR(SUMIFS(D_D[ADP],D_D[MT],8,D_D[CAT],SMS,D_D[LOC],$A26),0))","v":0},{"$f":"IF(ISNA($A26),\"\",IFERROR(SUMIFS(D_D[PROD_MTD],D_D[MT],8,D_D[CAT],SMS,D_D[LOC],$A26),0))","v":0},{"$f":"IF(ISNA($A26),\"\",IFERROR(SUMIFS(D_D[PROD_FYTD],D_D[MT],8,D_D[CAT],SMS,D_D[LOC],$A26),0))","v":0},{"$f":"IF(ISNA($A26),\"\",IFERROR(SUMIFS(D_D[ADCM],D_D[MT],8,D_D[CAT],SMS,D_D[LOC],$A26),0))","v":0}]
[{"$error":"#N/A"},15,"",{"$f":"IF(ISNA($A27),\"\",IFERROR(SUMIFS(D_D[INV],D_D[MT],5,D_D[CAT],SMS, D_D[EP],-1,D_D[LOC],$A27),0))","v":""},{"$f":"IF(ISNA($A27),\"\",IFERROR(SUMIFS(D_D[BL],D_D[MT],5,D_D[CAT],SMS, D_D[EP],-1,D_D[LOC],$A27),0))","v":""},"",{"$f":"IF(ISNA($A27),\"\",IFERROR(SUMIFS(D_D[ADP],D_D[MT],5,D_D[CAT],SMS, D_D[EP],-1,D_D[LOC],$A27),0))","v":""},{"$f":"IF(ISNA($A27),\"\",IFERROR(SUMIFS(D_D[PROD_MTD],D_D[MT],5,D_D[CAT],SMS, D_D[EP],-1,D_D[LOC],$A27),0))","v":""},{"$f":"IF(ISNA($A27),\"\",IFERROR(SUMIFS(D_D[ADCM],D_D[MT],5,D_D[CAT],SMS, D_D[EP],-1,D_D[LOC],$A27),0))","v":""},{"$f":"IF(ISNA($A27),\"\",IFERROR(SUMIFS(D_D[PROD_FYTD],D_D[MT],5,D_D[CAT],SMS, D_D[EP],-1,D_D[LOC],$A27),0))","v":""},{"$f":"IF(ISNA($A27),\"\",IFERROR(SUMIFS(D_D[ADCF],D_D[MT],5,D_D[CAT],SMS, D_D[EP],-1,D_D[LOC],$A27),0))","v":""},{"$f":"IF(ISNA($A27),\"\",IFERROR(SUMIFS(D_D[INV],D_D[MT],8,D_D[CAT],SMS,D_D[LOC],$A27),0))","v":""},{"$f":"IF(ISNA($A27),\"\",IFERROR(SUMIFS(D_D[BL],D_D[MT],8,D_D[CAT],SMS,D_D[LOC],$A27),0))","v":""},{"$f":"IF(ISNA($A27),\"\",IFERROR(SUMIFS(D_D[ADP],D_D[MT],8,D_D[CAT],SMS,D_D[LOC],$A27),0))","v":""},{"$f":"IF(ISNA($A27),\"\",IFERROR(SUMIFS(D_D[PROD_MTD],D_D[MT],8,D_D[CAT],SMS,D_D[LOC],$A27),0))","v":""},{"$f":"IF(ISNA($A27),\"\",IFERROR(SUMIFS(D_D[PROD_FYTD],D_D[MT],8,D_D[CAT],SMS,D_D[LOC],$A27),0))","v":""},{"$f":"IF(ISNA($A27),\"\",IFERROR(SUMIFS(D_D[ADCM],D_D[MT],8,D_D[CAT],SMS,D_D[LOC],$A27),0))","v":""}]
[{"$error":"#N/A"},16,"",{"$f":"IF(ISNA($A28),\"\",IFERROR(SUMIFS(D_D[INV],D_D[MT],5,D_D[CAT],SMS, D_D[EP],-1,D_D[LOC],$A28),0))","v":""},{"$f":"IF(ISNA($A28),\"\",IFERROR(SUMIFS(D_D[BL],D_D[MT],5,D_D[CAT],SMS, D_D[EP],-1,D_D[LOC],$A28),0))","v":""},"",{"$f":"IF(ISNA($A28),\"\",IFERROR(SUMIFS(D_D[ADP],D_D[MT],5,D_D[CAT],SMS, D_D[EP],-1,D_D[LOC],$A28),0))","v":""},{"$f":"IF(ISNA($A28),\"\",IFERROR(SUMIFS(D_D[PROD_MTD],D_D[MT],5,D_D[CAT],SMS, D_D[EP],-1,D_D[LOC],$A28),0))","v":""},{"$f":"IF(ISNA($A28),\"\",IFERROR(SUMIFS(D_D[ADCM],D_D[MT],5,D_D[CAT],SMS, D_D[EP],-1,D_D[LOC],$A28),0))","v":""},{"$f":"IF(ISNA($A28),\"\",IFERROR(SUMIFS(D_D[PROD_FYTD],D_D[MT],5,D_D[CAT],SMS, D_D[EP],-1,D_D[LOC],$A28),0))","v":""},{"$f":"IF(ISNA($A28),\"\",IFERROR(SUMIFS(D_D[ADCF],D_D[MT],5,D_D[CAT],SMS, D_D[EP],-1,D_D[LOC],$A28),0))","v":""},{"$f":"IF(ISNA($A28),\"\",IFERROR(SUMIFS(D_D[INV],D_D[MT],8,D_D[CAT],SMS,D_D[LOC],$A28),0))","v":""},{"$f":"IF(ISNA($A28),\"\",IFERROR(SUMIFS(D_D[BL],D_D[MT],8,D_D[CAT],SMS,D_D[LOC],$A28),0))","v":""},{"$f":"IF(ISNA($A28),\"\",IFERROR(SUMIFS(D_D[ADP],D_D[MT],8,D_D[CAT],SMS,D_D[LOC],$A28),0))","v":""},{"$f":"IF(ISNA($A28),\"\",IFERROR(SUMIFS(D_D[PROD_MTD],D_D[MT],8,D_D[CAT],SMS,D_D[LOC],$A28),0))","v":""},{"$f":"IF(ISNA($A28),\"\",IFERROR(SUMIFS(D_D[PROD_FYTD],D_D[MT],8,D_D[CAT],SMS,D_D[LOC],$A28),0))","v":""},{"$f":"IF(ISNA($A28),\"\",IFERROR(SUMIFS(D_D[ADCM],D_D[MT],8,D_D[CAT],SMS,D_D[LOC],$A28),0))","v":""}]
[{"$error":"#N/A"},17,"",{"$f":"IF(ISNA($A29),\"\",IFERROR(SUMIFS(D_D[INV],D_D[MT],5,D_D[CAT],SMS, D_D[EP],-1,D_D[LOC],$A29),0))","v":""},{"$f":"IF(ISNA($A29),\"\",IFERROR(SUMIFS(D_D[BL],D_D[MT],5,D_D[CAT],SMS, D_D[EP],-1,D_D[LOC],$A29),0))","v":""},"",{"$f":"IF(ISNA($A29),\"\",IFERROR(SUMIFS(D_D[ADP],D_D[MT],5,D_D[CAT],SMS, D_D[EP],-1,D_D[LOC],$A29),0))","v":""},{"$f":"IF(ISNA($A29),\"\",IFERROR(SUMIFS(D_D[PROD_MTD],D_D[MT],5,D_D[CAT],SMS, D_D[EP],-1,D_D[LOC],$A29),0))","v":""},{"$f":"IF(ISNA($A29),\"\",IFERROR(SUMIFS(D_D[ADCM],D_D[MT],5,D_D[CAT],SMS, D_D[EP],-1,D_D[LOC],$A29),0))","v":""},{"$f":"IF(ISNA($A29),\"\",IFERROR(SUMIFS(D_D[PROD_FYTD],D_D[MT],5,D_D[CAT],SMS, D_D[EP],-1,D_D[LOC],$A29),0))","v":""},{"$f":"IF(ISNA($A29),\"\",IFERROR(SUMIFS(D_D[ADCF],D_D[MT],5,D_D[CAT],SMS, D_D[EP],-1,D_D[LOC],$A29),0))","v":""},{"$f":"IF(ISNA($A29),\"\",IFERROR(SUMIFS(D_D[INV],D_D[MT],8,D_D[CAT],SMS,D_D[LOC],$A29),0))","v":""},{"$f":"IF(ISNA($A29),\"\",IFERROR(SUMIFS(D_D[BL],D_D[MT],8,D_D[CAT],SMS,D_D[LOC],$A29),0))","v":""},{"$f":"IF(ISNA($A29),\"\",IFERROR(SUMIFS(D_D[ADP],D_D[MT],8,D_D[CAT],SMS,D_D[LOC],$A29),0))","v":""},{"$f":"IF(ISNA($A29),\"\",IFERROR(SUMIFS(D_D[PROD_MTD],D_D[MT],8,D_D[CAT],SMS,D_D[LOC],$A29),0))","v":""},{"$f":"IF(ISNA($A29),\"\",IFERROR(SUMIFS(D_D[PROD_FYTD],D_D[MT],8,D_D[CAT],SMS,D_D[LOC],$A29),0))","v":""},{"$f":"IF(ISNA($A29),\"\",IFERROR(SUMIFS(D_D[ADCM],D_D[MT],8,D_D[CAT],SMS,D_D[LOC],$A29),0))","v":""}]
[{"$error":"#N/A"},18,"",{"$f":"IF(ISNA($A30),\"\",IFERROR(SUMIFS(D_D[INV],D_D[MT],5,D_D[CAT],SMS, D_D[EP],-1,D_D[LOC],$A30),0))","v":""},{"$f":"IF(ISNA($A30),\"\",IFERROR(SUMIFS(D_D[BL],D_D[MT],5,D_D[CAT],SMS, D_D[EP],-1,D_D[LOC],$A30),0))","v":""},"",{"$f":"IF(ISNA($A30),\"\",IFERROR(SUMIFS(D_D[ADP],D_D[MT],5,D_D[CAT],SMS, D_D[EP],-1,D_D[LOC],$A30),0))","v":""},{"$f":"IF(ISNA($A30),\"\",IFERROR(SUMIFS(D_D[PROD_MTD],D_D[MT],5,D_D[CAT],SMS, D_D[EP],-1,D_D[LOC],$A30),0))","v":""},{"$f":"IF(ISNA($A30),\"\",IFERROR(SUMIFS(D_D[ADCM],D_D[MT],5,D_D[CAT],SMS, D_D[EP],-1,D_D[LOC],$A30),0))","v":""},{"$f":"IF(ISNA($A30),\"\",IFERROR(SUMIFS(D_D[PROD_FYTD],D_D[MT],5,D_D[CAT],SMS, D_D[EP],-1,D_D[LOC],$A30),0))","v":""},{"$f":"IF(ISNA($A30),\"\",IFERROR(SUMIFS(D_D[ADCF],D_D[MT],5,D_D[CAT],SMS, D_D[EP],-1,D_D[LOC],$A30),0))","v":""},{"$f":"IF(ISNA($A30),\"\",IFERROR(SUMIFS(D_D[INV],D_D[MT],8,D_D[CAT],SMS,D_D[LOC],$A30),0))","v":""},{"$f":"IF(ISNA($A30),\"\",IFERROR(SUMIFS(D_D[BL],D_D[MT],8,D_D[CAT],SMS,D_D[LOC],$A30),0))","v":""},{"$f":"IF(ISNA($A30),\"\",IFERROR(SUMIFS(D_D[ADP],D_D[MT],8,D_D[CAT],SMS,D_D[LOC],$A30),0))","v":""},{"$f":"IF(ISNA($A30),\"\",IFERROR(SUMIFS(D_D[PROD_MTD],D_D[MT],8,D_D[CAT],SMS,D_D[LOC],$A30),0))","v":""},{"$f":"IF(ISNA($A30),\"\",IFERROR(SUMIFS(D_D[PROD_FYTD],D_D[MT],8,D_D[CAT],SMS,D_D[LOC],$A30),0))","v":""},{"$f":"IF(ISNA($A30),\"\",IFERROR(SUMIFS(D_D[ADCM],D_D[MT],8,D_D[CAT],SMS,D_D[LOC],$A30),0))","v":""}]
[{"$error":"#N/A"},19,"",{"$f":"IF(ISNA($A31),\"\",IFERROR(SUMIFS(D_D[INV],D_D[MT],5,D_D[CAT],SMS, D_D[EP],-1,D_D[LOC],$A31),0))","v":""},{"$f":"IF(ISNA($A31),\"\",IFERROR(SUMIFS(D_D[BL],D_D[MT],5,D_D[CAT],SMS, D_D[EP],-1,D_D[LOC],$A31),0))","v":""},"",{"$f":"IF(ISNA($A31),\"\",IFERROR(SUMIFS(D_D[ADP],D_D[MT],5,D_D[CAT],SMS, D_D[EP],-1,D_D[LOC],$A31),0))","v":""},{"$f":"IF(ISNA($A31),\"\",IFERROR(SUMIFS(D_D[PROD_MTD],D_D[MT],5,D_D[CAT],SMS, D_D[EP],-1,D_D[LOC],$A31),0))","v":""},{"$f":"IF(ISNA($A31),\"\",IFERROR(SUMIFS(D_D[ADCM],D_D[MT],5,D_D[CAT],SMS, D_D[EP],-1,D_D[LOC],$A31),0))","v":""},{"$f":"IF(ISNA($A31),\"\",IFERROR(SUMIFS(D_D[PROD_FYTD],D_D[MT],5,D_D[CAT],SMS, D_D[EP],-1,D_D[LOC],$A31),0))","v":""},{"$f":"IF(ISNA($A31),\"\",IFERROR(SUMIFS(D_D[ADCF],D_D[MT],5,D_D[CAT],SMS, D_D[EP],-1,D_D[LOC],$A31),0))","v":""},{"$f":"IF(ISNA($A31),\"\",IFERROR(SUMIFS(D_D[INV],D_D[MT],8,D_D[CAT],SMS,D_D[LOC],$A31),0))","v":""},{"$f":"IF(ISNA($A31),\"\",IFERROR(SUMIFS(D_D[BL],D_D[MT],8,D_D[CAT],SMS,D_D[LOC],$A31),0))","v":""},{"$f":"IF(ISNA($A31),\"\",IFERROR(SUMIFS(D_D[ADP],D_D[MT],8,D_D[CAT],SMS,D_D[LOC],$A31),0))","v":""},{"$f":"IF(ISNA($A31),\"\",IFERROR(SUMIFS(D_D[PROD_MTD],D_D[MT],8,D_D[CAT],SMS,D_D[LOC],$A31),0))","v":""},{"$f":"IF(ISNA($A31),\"\",IFERROR(SUMIFS(D_D[PROD_FYTD],D_D[MT],8,D_D[CAT],SMS,D_D[LOC],$A31),0))","v":""},{"$f":"IF(ISNA($A31),\"\",IFERROR(SUMIFS(D_D[ADCM],D_D[MT],8,D_D[CAT],SMS,D_D[LOC],$A31),0))","v":""}]
[{"$error":"#N/A"},20,"",{"$f":"IF(ISNA($A32),\"\",IFERROR(SUMIFS(D_D[INV],D_D[MT],5,D_D[CAT],SMS, D_D[EP],-1,D_D[LOC],$A32),0))","v":""},{"$f":"IF(ISNA($A32),\"\",IFERROR(SUMIFS(D_D[BL],D_D[MT],5,D_D[CAT],SMS, D_D[EP],-1,D_D[LOC],$A32),0))","v":""},"",{"$f":"IF(ISNA($A32),\"\",IFERROR(SUMIFS(D_D[ADP],D_D[MT],5,D_D[CAT],SMS, D_D[EP],-1,D_D[LOC],$A32),0))","v":""},{"$f":"IF(ISNA($A32),\"\",IFERROR(SUMIFS(D_D[PROD_MTD],D_D[MT],5,D_D[CAT],SMS, D_D[EP],-1,D_D[LOC],$A32),0))","v":""},{"$f":"IF(ISNA($A32),\"\",IFERROR(SUMIFS(D_D[ADCM],D_D[MT],5,D_D[CAT],SMS, D_D[EP],-1,D_D[LOC],$A32),0))","v":""},{"$f":"IF(ISNA($A32),\"\",IFERROR(SUMIFS(D_D[PROD_FYTD],D_D[MT],5,D_D[CAT],SMS, D_D[EP],-1,D_D[LOC],$A32),0))","v":""},{"$f":"IF(ISNA($A32),\"\",IFERROR(SUMIFS(D_D[ADCF],D_D[MT],5,D_D[CAT],SMS, D_D[EP],-1,D_D[LOC],$A32),0))","v":""},{"$f":"IF(ISNA($A32),\"\",IFERROR(SUMIFS(D_D[INV],D_D[MT],8,D_D[CAT],SMS,D_D[LOC],$A32),0))","v":""},{"$f":"IF(ISNA($A32),\"\",IFERROR(SUMIFS(D_D[BL],D_D[MT],8,D_D[CAT],SMS,D_D[LOC],$A32),0))","v":""},{"$f":"IF(ISNA($A32),\"\",IFERROR(SUMIFS(D_D[ADP],D_D[MT],8,D_D[CAT],SMS,D_D[LOC],$A32),0))","v":""},{"$f":"IF(ISNA($A32),\"\",IFERROR(SUMIFS(D_D[PROD_MTD],D_D[MT],8,D_D[CAT],SMS,D_D[LOC],$A32),0))","v":""},{"$f":"IF(ISNA($A32),\"\",IFERROR(SUMIFS(D_D[PROD_FYTD],D_D[MT],8,D_D[CAT],SMS,D_D[LOC],$A32),0))","v":""},{"$f":"IF(ISNA($A32),\"\",IFERROR(SUMIFS(D_D[ADCM],D_D[MT],8,D_D[CAT],SMS,D_D[LOC],$A32),0))","v":""}]
[{"$error":"#N/A"},21,"",{"$f":"IF(ISNA($A33),\"\",IFERROR(SUMIFS(D_D[INV],D_D[MT],5,D_D[CAT],SMS, D_D[EP],-1,D_D[LOC],$A33),0))","v":""},{"$f":"IF(ISNA($A33),\"\",IFERROR(SUMIFS(D_D[BL],D_D[MT],5,D_D[CAT],SMS, D_D[EP],-1,D_D[LOC],$A33),0))","v":""},"",{"$f":"IF(ISNA($A33),\"\",IFERROR(SUMIFS(D_D[ADP],D_D[MT],5,D_D[CAT],SMS, D_D[EP],-1,D_D[LOC],$A33),0))","v":""},{"$f":"IF(ISNA($A33),\"\",IFERROR(SUMIFS(D_D[PROD_MTD],D_D[MT],5,D_D[CAT],SMS, D_D[EP],-1,D_D[LOC],$A33),0))","v":""},{"$f":"IF(ISNA($A33),\"\",IFERROR(SUMIFS(D_D[ADCM],D_D[MT],5,D_D[CAT],SMS, D_D[EP],-1,D_D[LOC],$A33),0))","v":""},{"$f":"IF(ISNA($A33),\"\",IFERROR(SUMIFS(D_D[PROD_FYTD],D_D[MT],5,D_D[CAT],SMS, D_D[EP],-1,D_D[LOC],$A33),0))","v":""},{"$f":"IF(ISNA($A33),\"\",IFERROR(SUMIFS(D_D[ADCF],D_D[MT],5,D_D[CAT],SMS, D_D[EP],-1,D_D[LOC],$A33),0))","v":""},{"$f":"IF(ISNA($A33),\"\",IFERROR(SUMIFS(D_D[INV],D_D[MT],8,D_D[CAT],SMS,D_D[LOC],$A33),0))","v":""},{"$f":"IF(ISNA($A33),\"\",IFERROR(SUMIFS(D_D[BL],D_D[MT],8,D_D[CAT],SMS,D_D[LOC],$A33),0))","v":""},{"$f":"IF(ISNA($A33),\"\",IFERROR(SUMIFS(D_D[ADP],D_D[MT],8,D_D[CAT],SMS,D_D[LOC],$A33),0))","v":""},{"$f":"IF(ISNA($A33),\"\",IFERROR(SUMIFS(D_D[PROD_MTD],D_D[MT],8,D_D[CAT],SMS,D_D[LOC],$A33),0))","v":""},{"$f":"IF(ISNA($A33),\"\",IFERROR(SUMIFS(D_D[PROD_FYTD],D_D[MT],8,D_D[CAT],SMS,D_D[LOC],$A33),0))","v":""},{"$f":"IF(ISNA($A33),\"\",IFERROR(SUMIFS(D_D[ADCM],D_D[MT],8,D_D[CAT],SMS,D_D[LOC],$A33),0))","v":""}]
[{"$error":"#N/A"},22,"",{"$f":"IF(ISNA($A34),\"\",IFERROR(SUMIFS(D_D[INV],D_D[MT],5,D_D[CAT],SMS, D_D[EP],-1,D_D[LOC],$A34),0))","v":""},{"$f":"IF(ISNA($A34),\"\",IFERROR(SUMIFS(D_D[BL],D_D[MT],5,D_D[CAT],SMS, D_D[EP],-1,D_D[LOC],$A34),0))","v":""},"",{"$f":"IF(ISNA($A34),\"\",IFERROR(SUMIFS(D_D[ADP],D_D[MT],5,D_D[CAT],SMS, D_D[EP],-1,D_D[LOC],$A34),0))","v":""},{"$f":"IF(ISNA($A34),\"\",IFERROR(SUMIFS(D_D[PROD_MTD],D_D[MT],5,D_D[CAT],SMS, D_D[EP],-1,D_D[LOC],$A34),0))","v":""},{"$f":"IF(ISNA($A34),\"\",IFERROR(SUMIFS(D_D[ADCM],D_D[MT],5,D_D[CAT],SMS, D_D[EP],-1,D_D[LOC],$A34),0))","v":""},{"$f":"IF(ISNA($A34),\"\",IFERROR(SUMIFS(D_D[PROD_FYTD],D_D[MT],5,D_D[CAT],SMS, D_D[EP],-1,D_D[LOC],$A34),0))","v":""},{"$f":"IF(ISNA($A34),\"\",IFERROR(SUMIFS(D_D[ADCF],D_D[MT],5,D_D[CAT],SMS, D_D[EP],-1,D_D[LOC],$A34),0))","v":""},{"$f":"IF(ISNA($A34),\"\",IFERROR(SUMIFS(D_D[INV],D_D[MT],8,D_D[CAT],SMS,D_D[LOC],$A34),0))","v":""},{"$f":"IF(ISNA($A34),\"\",IFERROR(SUMIFS(D_D[BL],D_D[MT],8,D_D[CAT],SMS,D_D[LOC],$A34),0))","v":""},{"$f":"IF(ISNA($A34),\"\",IFERROR(SUMIFS(D_D[ADP],D_D[MT],8,D_D[CAT],SMS,D_D[LOC],$A34),0))","v":""},{"$f":"IF(ISNA($A34),\"\",IFERROR(SUMIFS(D_D[PROD_MTD],D_D[MT],8,D_D[CAT],SMS,D_D[LOC],$A34),0))","v":""},{"$f":"IF(ISNA($A34),\"\",IFERROR(SUMIFS(D_D[PROD_FYTD],D_D[MT],8,D_D[CAT],SMS,D_D[LOC],$A34),0))","v":""},{"$f":"IF(ISNA($A34),\"\",IFERROR(SUMIFS(D_D[ADCM],D_D[MT],8,D_D[CAT],SMS,D_D[LOC],$A34),0))","v":""}]
[{"$error":"#N/A"},23,"",{"$f":"IF(ISNA($A35),\"\",IFERROR(SUMIFS(D_D[INV],D_D[MT],5,D_D[CAT],SMS, D_D[EP],-1,D_D[LOC],$A35),0))","v":""},{"$f":"IF(ISNA($A35),\"\",IFERROR(SUMIFS(D_D[BL],D_D[MT],5,D_D[CAT],SMS, D_D[EP],-1,D_D[LOC],$A35),0))","v":""},"",{"$f":"IF(ISNA($A35),\"\",IFERROR(SUMIFS(D_D[ADP],D_D[MT],5,D_D[CAT],SMS, D_D[EP],-1,D_D[LOC],$A35),0))","v":""},{"$f":"IF(ISNA($A35),\"\",IFERROR(SUMIFS(D_D[PROD_MTD],D_D[MT],5,D_D[CAT],SMS, D_D[EP],-1,D_D[LOC],$A35),0))","v":""},{"$f":"IF(ISNA($A35),\"\",IFERROR(SUMIFS(D_D[ADCM],D_D[MT],5,D_D[CAT],SMS, D_D[EP],-1,D_D[LOC],$A35),0))","v":""},{"$f":"IF(ISNA($A35),\"\",IFERROR(SUMIFS(D_D[PROD_FYTD],D_D[MT],5,D_D[CAT],SMS, D_D[EP],-1,D_D[LOC],$A35),0))","v":""},{"$f":"IF(ISNA($A35),\"\",IFERROR(SUMIFS(D_D[ADCF],D_D[MT],5,D_D[CAT],SMS, D_D[EP],-1,D_D[LOC],$A35),0))","v":""},{"$f":"IF(ISNA($A35),\"\",IFERROR(SUMIFS(D_D[INV],D_D[MT],8,D_D[CAT],SMS,D_D[LOC],$A35),0))","v":""},{"$f":"IF(ISNA($A35),\"\",IFERROR(SUMIFS(D_D[BL],D_D[MT],8,D_D[CAT],SMS,D_D[LOC],$A35),0))","v":""},{"$f":"IF(ISNA($A35),\"\",IFERROR(SUMIFS(D_D[ADP],D_D[MT],8,D_D[CAT],SMS,D_D[LOC],$A35),0))","v":""},{"$f":"IF(ISNA($A35),\"\",IFERROR(SUMIFS(D_D[PROD_MTD],D_D[MT],8,D_D[CAT],SMS,D_D[LOC],$A35),0))","v":""},{"$f":"IF(ISNA($A35),\"\",IFERROR(SUMIFS(D_D[PROD_FYTD],D_D[MT],8,D_D[CAT],SMS,D_D[LOC],$A35),0))","v":""},{"$f":"IF(ISNA($A35),\"\",IFERROR(SUMIFS(D_D[ADCM],D_D[MT],8,D_D[CAT],SMS,D_D[LOC],$A35),0))","v":""}]

{"sheet":"Driver","index":3,"n_rows":226,"n_cols":27,"rows_kept":226,"cut":false,"hidden":true,"merged":[]}
["DIST_ID","DIST_DEF",null,null,null,"ROO","RO","ROI","ROD","RODS",null,"STO","ST","STI","STD","STDS",null,"ROO","RO","ROI","ROD"]
[1,"DIST_NE",null,null,null,1,0,100,"USA","1",null,1,0,100,"USA",100,null,1,0,100,"USA",null,null,null,null,null,"-Total"]
[2,"DIST_SE",null,null,null,2,1,394,"Northeast District","394",null,2,1,"394","Northeast District","394",null,2,1,"310","Philadelphia",null,null,"Northeast District",null," "]
[3,"DIST_CN",null,null,null,3,1,"313","Baltimore","394",null,3,1,"CT","Connecticut","394",null,3,1,"330","Milwaukee",null,null,"Connecticut","CT100",{"$f":"X4&$AA$2","v":"Connecticut-Total"},"-Other RO"]
[4,"DIST_PC",null,null,null,4,1,"301","Boston","394",null,4,1,"DE","Delaware","394",null,4,1,"335","St. Paul",null,null,null,"CT308","Hartford RO","-NWQ"]
[5,"DIST_OT",null,null,null,5,1,"307","Buffalo","394",null,5,1,"DC","District of Columbia","394",null,5,1,"-1","Other",null,null," ","CT-1",{"$f":"X4&$AA$4","v":"Connecticut-Other RO"}]
[null,null,null,null,null,6,1,"328","Chicago","394",null,6,1,"IL","Illinois","394",null,6,2,"318","Winston-Salem",null,null," ","CT499",{"$f":"X4&$AA$5","v":"Connecticut-NWQ"}]
[null,null,null,null,null,7,1,"325","Cleveland","394",null,7,1,"IN","Indiana","394",null,7,2,"341","Salt Lake City",null,null,"Delaware","DE100",{"$f":"X8&$AA$2","v":"Delaware-Total"}]
[null,"CONTROLLER for SOJ District Selection",null,null,null,8,1,"329","Detroit","394",null,8,1,"ME","Maine","394",null,8,2,"-1","Other",null,null,null,"DE460","Wilmington RO"]
[null,"ACTIVE SELECTION",null,4,null,9,1,"308","Hartford","394",null,9,1,"MD","Maryland","394",null,9,3,"318","Winston-Salem",null,null," ","DE-1",{"$f":"X8&$AA$4","v":"Delaware-Other RO"}]
[null,"MODIFIED SELECTION",{"$f":"IF(D20=12,\"DIST_P\",IF(D20=14,\"DIST_Q\",DS_RO_STG))","v":"DIST_PC"},null,null,10,1,"326","Indianapolis","394",null,10,1,"MA","Massachusetts","394",null,10,3,"377","San Diego",null,null," ","DE499",{"$f":"X8&$AA$5","v":"Delaware-NWQ"}]
[null,null,null,null,null,11,1,"373","Manchester","394",null,11,1,"MI","Michigan","394",null,11,3,"-1","Other",null,null,"DC","DC100",{"$f":"X12&$AA$2","v":"DC-Total"}]
[null,"DISTRICT-RO",{"$f":"INDEX(DIST_DEF,(MATCH($D$10,DIST_ID,0)))","v":"DIST_PC"},null,null,12,1,"330","Milwaukee","394",null,12,1,"MO","Missouri","394",null,null,null,null,null,null,null," ","DC372","Washington DC RO"]
[null,"DISTRICT-STATE",{"$f":"INDEX(DIST_DEF,(MATCH($D$10,DIST_ID,0)))&\"_ST\"","v":"DIST_PC_ST"},null,null,13,1,"306","New York","394",null,13,1,"NH","New Hampshire","394",null,null,null,null,null,null,null," ","DC-1",{"$f":"X12&$AA$4","v":"DC-Other RO"}]
[null,"DISTRICT-NWQ",{"$f":"INDEX(DIST_DEF,(MATCH($D$10,DIST_ID,0)))&\"_NWQ\"","v":"DIST_PC_NWQ"},{"$f":"INDEX(DIST_DEF,(MATCH($D$10,DIST_ID,0)))&\"_NWQD\"","v":"DIST_PC_NWQD"},null,14,1,"309","Newark","394",null,14,1,"NJ","New Jersey","394",null,null,null,"ROI","ROD",null,null," ","DC499",{"$f":"X12&$AA$5","v":"DC-NWQ"}]
[null,null,{"$f":"INDEX(DIST_DEF,(MATCH($D$10,DIST_ID,0)))&\"_NWQI\"","v":"DIST_PC_NWQI"},null,null,15,1,"310","Philadelphia","394",null,15,1,"NY","New York","394",null,null,null,100,"USA",null,null,"Illinois","IL100",{"$f":"X16&$AA$2","v":"Illinois-Total"}]
[null,null,null,null,null,16,1,"311","Pittsburgh","394",null,16,1,"OH","Ohio","394",null,null,null,"310","Philadelphia",null,null,null,"IL328","Chicago RO"]
[null,"CONTROLLER for Mission Selection",null,null,null,17,1,"304","Providence","394",null,17,1,"PA","Pennsylvania","394",null,null,null,"330","Milwaukee",null,null," ","IL-1",{"$f":"X16&$AA$4","v":"Illinois-Other RO"}]
[null,"ACTIVE SELECTION",null,1,null,18,1,"376","St. Louis RMC","394",null,18,1,"RI","Rhode Island","394",null,null,null,"335","St. Paul",null,null," ","IL499",{"$f":"X16&$AA$5","v":"Illinois-NWQ"}]
[null,"MODIFIED SELECTION",{"$f":"INDEX(SMD,(MATCH($D$19,DIST_ID,0)))","v":"USA - All Missions"},{"$f":"IF(SMSA=1,0,SMSA+9)","v":0},null,19,1,"331","St. Louis","394",null,19,1,"VT","Vermont","394",null,null,null,499,"NWQ",null,null,"Indiana","IN100",{"$f":"X20&$AA$2","v":"Indiana-Total"}]
[null,"USA - All Missions",null,1,null,20,1,"402","Togus","394",null,20,1,"WI","Wisconsin","394",null,null,null,"-1","Other",null,null,null,"IN326","Indianapolis RO"]
[null,"Compensation",null,11,null,21,1,"372","Washington","394",null,21,2,"393","Southeast District","393",null,null,null,"318","Winston-Salem",null,null," ","IN-1",{"$f":"X20&$AA$4","v":"Indiana-Other RO"}]
[null,"Pension",null,12,null,22,1,"405","White River Junction","394",null,22,2,"AL","Alabama","393",null,null,null,"341","Salt Lake City",null,null," ","IN499",{"$f":"X20&$AA$5","v":"Indiana-NWQ"}]
[null,"BDD",null,13,null,23,1,"460","Wilmington","394",null,23,2,"AR","Arkansas","393",null,null,null,499,"NWQ",null,null,"Maine","ME100",{"$f":"X24&$AA$2","v":"Maine-Total"}]
[null,"Quickstart",null,14,null,24,2,"393","Southeast District","393",null,24,2,"FL","Florida","393",null,null,null,"-1","Other",null,null,null,"ME402","Togus RO"]
[null,null,null,null,null,25,2,"316","Atlanta","393",null,25,2,"GA","Georgia","393",null,null,null,"318","Winston-Salem",null,null,null,"ME-1",{"$f":"X24&$AA$4","v":"Maine-Other RO"}]
[null,"TRADITIONAL AGGREGATE CODES",null,null,null,26,2,"319","Columbia","393",null,26,2,"KY","Kentucky","393",null,null,null,"377","San Diego",null,null,null,"ME499",{"$f":"X24&$AA$5","v":"Maine-NWQ"}]
[null,"ALL",1000,null,null,27,2,315,"Huntington","393",null,27,2,"LA","Louisiana","393",null,null,null,499,"NWQ",null,null,"Maryland","MD100",{"$f":"X28&$AA$2","v":"Maryland-Total"}]
[null,"Non-Rating/Appeals Compensation",2000,null,null,28,2,"323","Jackson","393",null,28,2,"MS","Mississippi","393",null,null,null,"-1","Other",null,null,null,"MD313","Baltimore RO"]
[null,"Non-Rating/Appeals Pension",3000,null,null,29,2,"350","Little Rock","393",null,29,2,"NC","North Carolina","393",null,null,null,null,null,null,null,null,"MD-1",{"$f":"X28&$AA$4","v":"Maryland-Other RO"}]
[null,"Compensation Entitlement",2100,null,null,30,2,"327","Louisville","393",null,30,2,"PR","Puerto Rico","393",null,null,null,null,null,null,null,null,"MD499",{"$f":"X28&$AA$5","v":"Maryland-NWQ"}]
[null,"Compensation Award Adjustment",2200,null,null,31,2,"322","Montgomery","393",null,31,2,"SC","South Carolina","393",null,null,null,null,null,null,null,"Massachusetts","MA100",{"$f":"X32&$AA$2","v":"Massachusetts-Total"}]
[null,"Compensation Program Review",2300,null,null,32,2,"320","Nashville","393",null,32,2,"TN","Tennessee","393",null,null,null,null,null,null,null,null,"MA301","Boston RO"]
[null,"Compensation Other",2400,null,null,33,2,"321","New Orleans","393",null,33,2,"VA","Virginia","393",null,null,null,null,null,null,null,null,"MA-1",{"$f":"X32&$AA$4","v":"Massachusetts-Other RO"}]
[null,"Compensation Burial",2500,null,null,34,2,"314","Roanoke","393",null,34,2,"WV","West Virginia","393",null,null,null,null,null,null,null,null,"MA499",{"$f":"X32&$AA$5","v":"Massachusetts-NWQ"}]
[null,"Compensation Accrued",2600,null,null,35,2,"355","San Juan","393",null,35,3,"384","Continental District","384",null,null,null,null,null,null,null,"Michigan","MI100",{"$f":"X36&$AA$2","v":"Michigan-Total"}]
[null,"Pension Entitlement",3100,null,null,36,2,"317","St. Petersburg","393",null,36,3,"CO","Colorado","384",null,null,null,null,null,null,null,null,"MI329","Detroit RO"]
[null,"Pension Award Adjustment",3200,null,null,37,2,"318","Winston-Salem","393",null,37,3,"IA","Iowa","384",null,null,null,null,null,null,null,null,"MI-1",{"$f":"X36&$AA$4","v":"Michigan-Other RO"}]
[null,"Pension Program Review",3300,null,null,38,3,"384","Continental District","384",null,38,3,"KS","Kansas","384",null,null,null,null,null,null,null,null,"MI499",{"$f":"X36&$AA$5","v":"Michigan-NWQ"}]
[null,"Pension Other",3400,null,null,39,3,"442","Cheyenne ","384",null,39,3,"MN","Minnesota","384",null,null,null,null,null,null,null,"Missouri","MO100",{"$f":"X40&$AA$2","v":"Missouri-Total"}]
[null,"Pension Burial",3500,null,null,40,3,"339","Denver","384",null,40,3,"MT","Montana","384",null,null,null,null,null,null,null,null,"MO331","St. Louis RO"]
[null,"Pension Accrued",3600,null,null,41,3,"333","Des Moines","384",null,41,3,"NE","Nebraska","384",null,null,null,null,null,null,null,null,"MO-1",{"$f":"X40&$AA$4","v":"Missouri-Other RO"}]
[null,null,null,null,null,42,3,"437","Fargo","384",null,42,3,"ND","North Dakota","384",null,null,null,null,null,null,null,null,"MO499",{"$f":"X40&$AA$5","v":"Missouri-NWQ"}]
[null,"CONTROLLER for SOJ District Selection",null,null,null,43,3,"436","Fort Harrison ","384",null,43,3,"OK","Oklahoma","384",null,null,null,null,null,null,null,"New Hampshire","NH100",{"$f":"X44&$AA$2","v":"New Hampshire-Total"}]
[null,"ACTIVE SELECTION",null,6,null,44,3,"362","Houston","384",null,44,3,"SD","South Dakota","384",null,null,null,null,null,null,null,null,"NH373","Manchester RO"]
[null,"MODIFIED SELECTION",{"$f":"IF(D10=6,DS_RO&\"_N\",IF(D20=13,DS_RO,IF(D20>11,DS_RO&\"_N\",DS_RO)))","v":"DIST_PC"},null,null,45,3,"334","Lincoln","384",null,45,3,"TX","Texas","384",null,null,null,null,null,null,null,null,"NH-1",{"$f":"X44&$AA$4","v":"New Hampshire-Other RO"}]
[null,null,null,null,null,46,3,"351","Muskogee","384",null,46,3,"WY","Wyoming","384",null,null,null,null,null,null,null,null,"NH499",{"$f":"X44&$AA$5","v":"New Hampshire-NWQ"}]
[null,null,null,null,null,47,3,"438","Sioux Falls","384",null,47,4,"395","Pacific District","395",null,null,null,null,null,null,null,"New Jersey","NJ100",{"$f":"X48&$AA$2","v":"New Jersey-Total"}]
[null,null,null,null,null,48,3,"335","St. Paul","384",null,48,4,"AK","Alaska","395",null,null,null,null,null,null,null,null,"NJ309","Newark RO"]
[null,null,null,null,null,49,3,"349","Waco","384",null,49,4,"AZ","Arizona","395",null,null,null,null,null,null,null,null,"NJ-1",{"$f":"X48&$AA$4","v":"New Jersey-Other RO"}]
[null,null,null,null,null,50,3,"452","Wichita","384",null,50,4,"CA","California","395",null,null,null,null,null,null,null,null,"NJ499",{"$f":"X48&$AA$5","v":"New Jersey-NWQ"}]
[null,null,null,null,null,51,4,"395","Pacific District","395",null,51,4,"HI","Hawaii","395",null,null,null,null,null,null,null,"New York","NY100",{"$f":"X52&$AA$2","v":"New York-Total"}]
[null,null,null,null,null,52,4,"340","Albuquerque","395",null,52,4,"ID","Idaho","395",null,null,null,null,null,null,null,null,"NY307","Buffalo RO"]
[null,null,null,null,null,53,4,"463","Anchorage","395",null,53,4,"NV","Nevada","395",null,null,null,null,null,null,null,null,"NY306","New York RO"]
[null,null,null,null,null,54,4,"347","Boise","395",null,54,4,"NM","New Mexico","395",null,null,null,null,null,null,null,null,"NY-1",{"$f":"X52&$AA$4","v":"New York-Other RO"}]
[null,null,null,null,null,55,4,"459","Honolulu","395",null,55,4,"OR","Oregon","395",null,null,null,null,null,null,null,null,"NY499",{"$f":"X52&$AA$5","v":"New York-NWQ"}]
[null,null,null,null,null,56,4,"344","Los Angeles","395",null,56,4,"PI","Philippines","395",null,null,null,null,null,null,null,"Ohio","OH100",{"$f":"X57&$AA$2","v":"Ohio-Total"}]
[null,null,null,null,null,57,4,"358","Manila","395",null,57,4,"UT","Utah","395",null,null,null,null,null,null,null,null,"OH325","Cleveland RO"]
[null,null,null,null,null,58,4,"343","Oakland","395",null,58,4,"WA","Washington","395",null,null,null,null,null,null,null,null,"OH-1",{"$f":"X57&$AA$4","v":"Ohio-Other RO"}]
[null,null,null,null,null,59,4,"345","Phoenix","395",null,59,5,"35","Other District","35",null,null,null,null,null,null,null,null,"OH499",{"$f":"X57&$AA$5","v":"Ohio-NWQ"}]
[null,null,null,null,null,60,4,"348","Portland","395",null,60,5,"35","Outside US","35",null,null,null,null,null,null,null,"Pennsylvania","PA100",{"$f":"X61&$AA$2","v":"Pennsylvania-Total"}]
[null,null,null,null,null,61,4,"354","Reno","395",null,null,null,null,null,null,null,null,null,null,null,null,null,null,"PA310","Philadelphia RO"]
[null,null,null,null,null,62,4,"341","Salt Lake City","395",null,null,null,null,null,null,null,null,null,null,null,null,null,null,"PA311","Pittsburgh RO"]
[null,null,null,null,null,63,4,"377","San Diego","395",null,null,null,null,null,null,null,null,null,null,null,null,null,null,"PA-1",{"$f":"X61&$AA$4","v":"Pennsylvania-Other RO"}]
[null,null,null,null,null,64,4,"346","Seattle","395",null,null,null,null,null,null,null,null,null,null,null,null,null,null,"PA499",{"$f":"X61&$AA$5","v":"Pennsylvania-NWQ"}]
[null,null,null,null,null,65,5,"35","Other District","35",null,null,null,null,null,null,null,null,null,null,null,null,null,"Rhode Island","RI100",{"$f":"X66&$AA$2","v":"Rhode Island-Total"}]
[null,null,null,null,null,66,5,"499","NWQ","35",null,null,null,null,null,null,null,null,null,null,null,null,null,null,"RI304","Providence RO"]
[null,null,null,null,null,67,5,"-1","Other","35",null,null,null,null,null,null,null,null,null,null,null,null,null,null,"RI-1",{"$f":"X66&$AA$4","v":"Rhode Island-Other RO"}]
[null,null,null,null,null,null,null,null,null,null,null,null,null,null,null,null,null,null,null,null,null,null,null,null,"RI499",{"$f":"X66&$AA$5","v":"Rhode Island-NWQ"}]
[null,null,null,null,null,null,null,null,null,null,null,null,null,null,null,null,null,null,null,null,null,null,null,"Vermont","VT100",{"$f":"X70&$AA$2","v":"Vermont-Total"}]
[null,null,null,null,null,null,null,null,null,null,null,null,null,null,null,null,null,null,null,null,null,null,null,null,"VT405","White River RO"]
[null,null,null,null,null,null,null,null,null,null,null,null,null,null,null,null,null,null,null,null,null,null,null,null,"VT-1",{"$f":"X70&$AA$4","v":"Vermont-Other RO"}]
[null,null,null,null,null,null,null,null,null,null,null,null,null,null,null,null,null,null,null,null,null,null,null,null,"VT499",{"$f":"X70&$AA$5","v":"Vermont-NWQ"}]
[null,null,null,null,null,null,null,null,null,null,null,null,null,null,null,null,null,null,null,null,null,null,null,"Wisconsin","WI100",{"$f":"X74&$AA$2","v":"Wisconsin-Total"}]
[null,null,null,null,null,null,null,null,null,null,null,null,null,null,null,null,null,null,null,null,null,null,null,null,"WI330","Milwaukee RO"]
[null,null,null,null,null,null,null,null,null,null,null,null,null,null,null,null,null,null,null,null,null,null,null,null,"WI-1",{"$f":"X74&$AA$4","v":"Wisconsin-Other RO"}]
[null,null,null,null,null,null,null,null,null,null,null,null,null,null,null,null,null,null,null,null,null,null,null,null,"WI499",{"$f":"X74&$AA$5","v":"Wisconsin-NWQ"}]
[null,null,null,null,null,null,null,null,null,null,null,null,null,null,null,null,null,null,null,null,null,null,null,"Southeast District",null," "]
[null,null,null,null,null,null,null,null,null,null,null,null,null,null,null,null,null,null,null,null,null,null,null,"Alabama","AL100",{"$f":"X79&$AA$2","v":"Alabama-Total"}]
[null,null,null,null,null,null,null,null,null,null,null,null,null,null,null,null,null,null,null,null,null,null,null,null,"AL322","Montgomery RO"]
[null,null,null,null,null,null,null,null,null,null,null,null,null,null,null,null,null,null,null,null,null,null,null," ","AL-1",{"$f":"X79&$AA$4","v":"Alabama-Other RO"}]
[null,null,null,null,null,null,null,null,null,null,null,null,null,null,null,null,null,null,null,null,null,null,null," ","AL499",{"$f":"X79&$AA$5","v":"Alabama-NWQ"}]
[null,null,null,null,null,null,null,null,null,null,null,null,null,null,null,null,null,null,null,null,null,null,null,"Arkansas","AR100",{"$f":"X83&$AA$2","v":"Arkansas-Total"}]
[null,null,null,null,null,null,null,null,null,null,null,null,null,null,null,null,null,null,null,null,null,null,null,null,"AR350","Little Rock RO"]
[null,null,null,null,null,null,null,null,null,null,null,null,null,null,null,null,null,null,null,null,null,null,null," ","AR-1",{"$f":"X83&$AA$4","v":"Arkansas-Other RO"}]
[null,null,null,null,null,null,null,null,null,null,null,null,null,null,null,null,null,null,null,null,null,null,null," ","AR499",{"$f":"X83&$AA$5","v":"Arkansas-NWQ"}]
[null,null,null,null,null,null,null,null,null,null,null,null,null,null,null,null,null,null,null,null,null,null,null,"Florida","FL100",{"$f":"X87&$AA$2","v":"Florida-Total"}]
[null,null,null,null,null,null,null,null,null,null,null,null,null,null,null,null,null,null,null,null,null,null,null,null,"FL317","St. Petersburg RO"]
[null,null,null,null,null,null,null,null,null,null,null,null,null,null,null,null,null,null,null,null,null,null,null," ","FL-1",{"$f":"X87&$AA$4","v":"Florida-Other RO"}]
[null,null,null,null,null,null,null,null,null,null,null,null,null,null,null,null,null,null,null,null,null,null,null," ","FL499",{"$f":"X87&$AA$5","v":"Florida-NWQ"}]
[null,null,null,null,null,null,null,null,null,null,null,null,null,null,null,null,null,null,null,null,null,null,null,"Georgia","GA100",{"$f":"X91&$AA$2","v":"Georgia-Total"}]
[null,null,null,null,null,null,null,null,null,null,null,null,null,null,null,null,null,null,null,null,null,null,null," ","GA316","Atlanta RO"]
[null,null,null,null,null,null,null,null,null,null,null,null,null,null,null,null,null,null,null,null,null,null,null," ","GA-1",{"$f":"X91&$AA$4","v":"Georgia-Other RO"}]
[null,null,null,null,null,null,null,null,null,null,null,null,null,null,null,null,null,null,null,null,null,null,null," ","GA499",{"$f":"X91&$AA$5","v":"Georgia-NWQ"}]
[null,null,null,null,null,null,null,null,null,null,null,null,null,null,null,null,null,null,null,null,null,null,null,"Kentucky","KY100",{"$f":"X95&$AA$2","v":"Kentucky-Total"}]
[null,null,null,null,null,null,null,null,null,null,null,null,null,null,null,null,null,null,null,null,null,null,null,null,"KY327","Louisville RO"]
[null,null,null,null,null,null,null,null,null,null,null,null,null,null,null,null,null,null,null,null,null,null,null,null,"KY-1",{"$f":"X95&$AA$4","v":"Kentucky-Other RO"}]
[null,null,null,null,null,null,null,null,null,null,null,null,null,null,null,null,null,null,null,null,null,null,null,null,"KY499",{"$f":"X95&$AA$5","v":"Kentucky-NWQ"}]
[null,null,null,null,null,null,null,null,null,null,null,null,null,null,null,null,null,null,null,null,null,null,null,"Louisiana","LA100",{"$f":"X99&$AA$2","v":"Louisiana-Total"}]
[null,null,null,null,null,null,null,null,null,null,null,null,null,null,null,null,null,null,null,null,null,null,null," ","LA321","New Orleans RO"]
[null,null,null,null,null,null,null,null,null,null,null,null,null,null,null,null,null,null,null,null,null,null,null," ","LA-1",{"$f":"X99&$AA$4","v":"Louisiana-Other RO"}]
[null,null,null,null,null,null,null,null,null,null,null,null,null,null,null,null,null,null,null,null,null,null,null," ","LA499",{"$f":"X99&$AA$5","v":"Louisiana-NWQ"}]
[null,null,null,null,null,null,null,null,null,null,null,null,null,null,null,null,null,null,null,null,null,null,null,"Mississippi","MS100",{"$f":"X103&$AA$2","v":"Mississippi-Total"}]
[null,null,null,null,null,null,null,null,null,null,null,null,null,null,null,null,null,null,null,null,null,null,null,null,"MS323","Jackson RO"]
[null,null,null,null,null,null,null,null,null,null,null,null,null,null,null,null,null,null,null,null,null,null,null,null,"MS-1",{"$f":"X103&$AA$4","v":"Mississippi-Other RO"}]
[null,null,null,null,null,null,null,null,null,null,null,null,null,null,null,null,null,null,null,null,null,null,null,null,"MS499",{"$f":"X103&$AA$5","v":"Mississippi-NWQ"}]
[null,null,null,null,null,null,null,null,null,null,null,null,null,null,null,null,null,null,null,null,null,null,null,"North Carolina","NC100",{"$f":"X107&$AA$2","v":"North Carolina-Total"}]
[null,null,null,null,null,null,null,null,null,null,null,null,null,null,null,null,null,null,null,null,null,null,null,null,"NC318","Winston-Salem RO"]
[null,null,null,null,null,null,null,null,null,null,null,null,null,null,null,null,null,null,null,null,null,null,null,null,"NC-1",{"$f":"X107&$AA$4","v":"North Carolina-Other RO"}]
[null,null,null,null,null,null,null,null,null,null,null,null,null,null,null,null,null,null,null,null,null,null,null,null,"NC499",{"$f":"X107&$AA$5","v":"North Carolina-NWQ"}]
[null,null,null,null,null,null,null,null,null,null,null,null,null,null,null,null,null,null,null,null,null,null,null,"Puerto Rico","PR100",{"$f":"X111&$AA$2","v":"Puerto Rico-Total"}]
[null,null,null,null,null,null,null,null,null,null,null,null,null,null,null,null,null,null,null,null,null,null,null,null,"PR355","San Juan RO"]
[null,null,null,null,null,null,null,null,null,null,null,null,null,null,null,null,null,null,null,null,null,null,null,null,"PR-1",{"$f":"X111&$AA$4","v":"Puerto Rico-Other RO"}]
[null,null,null,null,null,null,null,null,null,null,null,null,null,null,null,null,null,null,null,null,null,null,null,null,"PR499",{"$f":"X111&$AA$5","v":"Puerto Rico-NWQ"}]
[null,null,null,null,null,null,null,null,null,null,null,null,null,null,null,null,null,null,null,null,null,null,null,"South Carolina","SC100",{"$f":"X115&$AA$2","v":"South Carolina-Total"}]
[null,null,null,null,null,null,null,null,null,null,null,null,null,null,null,null,null,null,null,null,null,null,null,null,"SC319","Columbia RO"]
[null,null,null,null,null,null,null,null,null,null,null,null,null,null,null,null,null,null,null,null,null,null,null,null,"SC-1",{"$f":"X115&$AA$4","v":"South Carolina-Other RO"}]
[null,null,null,null,null,null,null,null,null,null,null,null,null,null,null,null,null,null,null,null,null,null,null,null,"SC499",{"$f":"X115&$AA$5","v":"South Carolina-NWQ"}]
[null,null,null,null,null,null,null,null,null,null,null,null,null,null,null,null,null,null,null,null,null,null,null,"Tennessee","TN100",{"$f":"X119&$AA$2","v":"Tennessee-Total"}]
[null,null,null,null,null,null,null,null,null,null,null,null,null,null,null,null,null,null,null,null,null,null,null,null,"TN320","Nashville RO"]
[null,null,null,null,null,null,null,null,null,null,null,null,null,null,null,null,null,null,null,null,null,null,null,null,"TN-1",{"$f":"X119&$AA$4","v":"Tennessee-Other RO"}]
[null,null,null,null,null,null,null,null,null,null,null,null,null,null,null,null,null,null,null,null,null,null,null,null,"TN499",{"$f":"X119&$AA$5","v":"Tennessee-NWQ"}]
[null,null,null,null,null,null,null,null,null,null,null,null,null,null,null,null,null,null,null,null,null,null,null,"Virginia","VA100",{"$f":"X123&$AA$2","v":"Virginia-Total"}]
[null,null,null,null,null,null,null,null,null,null,null,null,null,null,null,null,null,null,null,null,null,null,null,null,"VA314","Roanoke RO"]
[null,null,null,null,null,null,null,null,null,null,null,null,null,null,null,null,null,null,null,null,null,null,null,null,"VA-1",{"$f":"X123&$AA$4","v":"Virginia-Other RO"}]
[null,null,null,null,null,null,null,null,null,null,null,null,null,null,null,null,null,null,null,null,null,null,null,null,"VA499",{"$f":"X123&$AA$5","v":"Virginia-NWQ"}]
[null,null,null,null,null,null,null,null,null,null,null,null,null,null,null,null,null,null,null,null,null,null,null,"West Virginia","WV100",{"$f":"X127&$AA$2","v":"West Virginia-Total"}]
[null,null,null,null,null,null,null,null,null,null,null,null,null,null,null,null,null,null,null,null,null,null,null,null,"WV315","Huntington RO"]
[null,null,null,null,null,null,null,null,null,null,null,null,null,null,null,null,null,null,null,null,null,null,null,null,"WV-1",{"$f":"X127&$AA$4","v":"West Virginia-Other RO"}]
[null,null,null,null,null,null,null,null,null,null,null,null,null,null,null,null,null,null,null,null,null,null,null,null,"WV499",{"$f":"X127&$AA$5","v":"West Virginia-NWQ"}]
[null,null,null,null,null,null,null,null,null,null,null,null,null,null,null,null,null,null,null,null,null,null,null,"Continental District",null," "]
[null,null,null,null,null,null,null,null,null,null,null,null,null,null,null,null,null,null,null,null,null,null,null,"Colorado","CO100",{"$f":"X132&$AA$2","v":"Colorado-Total"}]
[null,null,null,null,null,null,null,null,null,null,null,null,null,null,null,null,null,null,null,null,null,null,null,null,"CO339","Denver RO"]
[null,null,null,null,null,null,null,null,null,null,null,null,null,null,null,null,null,null,null,null,null,null,null," ","CO-1",{"$f":"X132&$AA$4","v":"Colorado-Other RO"}]
[null,null,null,null,null,null,null,null,null,null,null,null,null,null,null,null,null,null,null,null,null,null,null," ","CO499",{"$f":"X132&$AA$5","v":"Colorado-NWQ"}]
[null,null,null,null,null,null,null,null,null,null,null,null,null,null,null,null,null,null,null,null,null,null,null,"Iowa","IA100",{"$f":"X136&$AA$2","v":"Iowa-Total"}]
[null,null,null,null,null,null,null,null,null,null,null,null,null,null,null,null,null,null,null,null,null,null,null," ","IA333","Des Moines RO"]
[null,null,null,null,null,null,null,null,null,null,null,null,null,null,null,null,null,null,null,null,null,null,null," ","IA-1",{"$f":"X136&$AA$4","v":"Iowa-Other RO"}]
[null,null,null,null,null,null,null,null,null,null,null,null,null,null,null,null,null,null,null,null,null,null,null," ","IA499",{"$f":"X136&$AA$5","v":"Iowa-NWQ"}]
[null,null,null,null,null,null,null,null,null,null,null,null,null,null,null,null,null,null,null,null,null,null,null,"Kansas","KS100",{"$f":"X140&$AA$2","v":"Kansas-Total"}]
[null,null,null,null,null,null,null,null,null,null,null,null,null,null,null,null,null,null,null,null,null,null,null,null,"KS452","Wichita RO"]
[null,null,null,null,null,null,null,null,null,null,null,null,null,null,null,null,null,null,null,null,null,null,null,null,"KS-1",{"$f":"X140&$AA$4","v":"Kansas-Other RO"}]
[null,null,null,null,null,null,null,null,null,null,null,null,null,null,null,null,null,null,null,null,null,null,null,null,"KS499",{"$f":"X140&$AA$5","v":"Kansas-NWQ"}]
[null,null,null,null,null,null,null,null,null,null,null,null,null,null,null,null,null,null,null,null,null,null,null,"Minnesota","MN100",{"$f":"X144&$AA$2","v":"Minnesota-Total"}]
[null,null,null,null,null,null,null,null,null,null,null,null,null,null,null,null,null,null,null,null,null,null,null,null,"MN335","St. Paul RO"]
[null,null,null,null,null,null,null,null,null,null,null,null,null,null,null,null,null,null,null,null,null,null,null,null,"MN-1",{"$f":"X144&$AA$4","v":"Minnesota-Other RO"}]
[null,null,null,null,null,null,null,null,null,null,null,null,null,null,null,null,null,null,null,null,null,null,null,null,"MN499",{"$f":"X144&$AA$5","v":"Minnesota-NWQ"}]
[null,null,null,null,null,null,null,null,null,null,null,null,null,null,null,null,null,null,null,null,null,null,null,"Montana","MT100",{"$f":"X148&$AA$2","v":"Montana-Total"}]
[null,null,null,null,null,null,null,null,null,null,null,null,null,null,null,null,null,null,null,null,null,null,null,null,"MT436","Fort Harrison RO"]
[null,null,null,null,null,null,null,null,null,null,null,null,null,null,null,null,null,null,null,null,null,null,null,null,"MT-1",{"$f":"X148&$AA$4","v":"Montana-Other RO"}]
[null,null,null,null,null,null,null,null,null,null,null,null,null,null,null,null,null,null,null,null,null,null,null,null,"MT499",{"$f":"X148&$AA$5","v":"Montana-NWQ"}]
[null,null,null,null,null,null,null,null,null,null,null,null,null,null,null,null,null,null,null,null,null,null,null,"Nebraska","NE100",{"$f":"X152&$AA$2","v":"Nebraska-Total"}]
[null,null,null,null,null,null,null,null,null,null,null,null,null,null,null,null,null,null,null,null,null,null,null,null,"NE334","Lincoln RO"]
[null,null,null,null,null,null,null,null,null,null,null,null,null,null,null,null,null,null,null,null,null,null,null,null,"NE-1",{"$f":"X152&$AA$4","v":"Nebraska-Other RO"}]
[null,null,null,null,null,null,null,null,null,null,null,null,null,null,null,null,null,null,null,null,null,null,null,null,"NE499",{"$f":"X152&$AA$5","v":"Nebraska-NWQ"}]
[null,null,null,null,null,null,null,null,null,null,null,null,null,null,null,null,null,null,null,null,null,null,null,"North Dakota","ND100",{"$f":"X156&$AA$2","v":"North Dakota-Total"}]
[null,null,null,null,null,null,null,null,null,null,null,null,null,null,null,null,null,null,null,null,null,null,null,null,"ND437","Fargo RO"]
[null,null,null,null,null,null,null,null,null,null,null,null,null,null,null,null,null,null,null,null,null,null,null,null,"ND-1",{"$f":"X156&$AA$4","v":"North Dakota-Other RO"}]
[null,null,null,null,null,null,null,null,null,null,null,null,null,null,null,null,null,null,null,null,null,null,null,null,"ND499",{"$f":"X156&$AA$5","v":"North Dakota-NWQ"}]
[null,null,null,null,null,null,null,null,null,null,null,null,null,null,null,null,null,null,null,null,null,null,null,"Oklahoma","OK100",{"$f":"X160&$AA$2","v":"Oklahoma-Total"}]
[null,null,null,null,null,null,null,null,null,null,null,null,null,null,null,null,null,null,null,null,null,null,null,null,"OK351","Muskogee RO"]
[null,null,null,null,null,null,null,null,null,null,null,null,null,null,null,null,null,null,null,null,null,null,null,null,"OK-1",{"$f":"X160&$AA$4","v":"Oklahoma-Other RO"}]
[null,null,null,null,null,null,null,null,null,null,null,null,null,null,null,null,null,null,null,null,null,null,null,null,"OK499",{"$f":"X160&$AA$5","v":"Oklahoma-NWQ"}]
[null,null,null,null,null,null,null,null,null,null,null,null,null,null,null,null,null,null,null,null,null,null,null,"South Dakota","SD100",{"$f":"X164&$AA$2","v":"South Dakota-Total"}]
[null,null,null,null,null,null,null,null,null,null,null,null,null,null,null,null,null,null,null,null,null,null,null,null,"SD438","Sioux Falls RO"]
[null,null,null,null,null,null,null,null,null,null,null,null,null,null,null,null,null,null,null,null,null,null,null,null,"SD-1",{"$f":"X164&$AA$4","v":"South Dakota-Other RO"}]
[null,null,null,null,null,null,null,null,null,null,null,null,null,null,null,null,null,null,null,null,null,null,null,null,"SD499",{"$f":"X164&$AA$5","v":"South Dakota-NWQ"}]
[null,null,null,null,null,null,null,null,null,null,null,null,null,null,null,null,null,null,null,null,null,null,null,"Texas","TX100",{"$f":"X168&$AA$2","v":"Texas-Total"}]
[null,null,null,null,null,null,null,null,null,null,null,null,null,null,null,null,null,null,null,null,null,null,null,null,"TX362","Houston RO"]
[null,null,null,null,null,null,null,null,null,null,null,null,null,null,null,null,null,null,null,null,null,null,null,null,"TX349","Waco RO"]
[null,null,null,null,null,null,null,null,null,null,null,null,null,null,null,null,null,null,null,null,null,null,null,null,"TX-1",{"$f":"X168&$AA$4","v":"Texas-Other RO"}]
[null,null,null,null,null,null,null,null,null,null,null,null,null,null,null,null,null,null,null,null,null,null,null,null,"TX499",{"$f":"X168&$AA$5","v":"Texas-NWQ"}]
[null,null,null,null,null,null,null,null,null,null,null,null,null,null,null,null,null,null,null,null,null,null,null,"Wyoming","WY100",{"$f":"X173&$AA$2","v":"Wyoming-Total"}]
[null,null,null,null,null,null,null,null,null,null,null,null,null,null,null,null,null,null,null,null,null,null,null,null,"WY442","Cheyenne RO"]
[null,null,null,null,null,null,null,null,null,null,null,null,null,null,null,null,null,null,null,null,null,null,null,null,"WY-1",{"$f":"X173&$AA$4","v":"Wyoming-Other RO"}]
[null,null,null,null,null,null,null,null,null,null,null,null,null,null,null,null,null,null,null,null,null,null,null,null,"WY499",{"$f":"X173&$AA$5","v":"Wyoming-NWQ"}]
[null,null,null,null,null,null,null,null,null,null,null,null,null,null,null,null,null,null,null,null,null,null,null,"Pacific District",null," "]
[null,null,null,null,null,null,null,null,null,null,null,null,null,null,null,null,null,null,null,null,null,null,null,"Alaska","AK100",{"$f":"X178&$AA$2","v":"Alaska-Total"}]
[null,null,null,null,null,null,null,null,null,null,null,null,null,null,null,null,null,null,null,null,null,null,null,null,"AK463","Anchorage RO"]
[null,null,null,null,null,null,null,null,null,null,null,null,null,null,null,null,null,null,null,null,null,null,null," ","AK-1",{"$f":"X178&$AA$4","v":"Alaska-Other RO"}]
[null,null,null,null,null,null,null,null,null,null,null,null,null,null,null,null,null,null,null,null,null,null,null," ","AK499",{"$f":"X178&$AA$5","v":"Alaska-NWQ"}]
[null,null,null,null,null,null,null,null,null,null,null,null,null,null,null,null,null,null,null,null,null,null,null,"Arizona","AZ100",{"$f":"X182&$AA$2","v":"Arizona-Total"}]
[null,null,null,null,null,null,null,null,null,null,null,null,null,null,null,null,null,null,null,null,null,null,null,null,"AZ345","Phoenix RO"]
[null,null,null,null,null,null,null,null,null,null,null,null,null,null,null,null,null,null,null,null,null,null,null," ","AZ-1",{"$f":"X182&$AA$4","v":"Arizona-Other RO"}]
[null,null,null,null,null,null,null,null,null,null,null,null,null,null,null,null,null,null,null,null,null,null,null," ","AZ499",{"$f":"X182&$AA$5","v":"Arizona-NWQ"}]
[null,null,null,null,null,null,null,null,null,null,null,null,null,null,null,null,null,null,null,null,null,null,null,"California","CA100",{"$f":"X186&$AA$2","v":"California-Total"}]
[null,null,null,null,null,null,null,null,null,null,null,null,null,null,null,null,null,null,null,null,null,null,null,null,"CA344","Los Angeles RO"]
[null,null,null,null,null,null,null,null,null,null,null,null,null,null,null,null,null,null,null,null,null,null,null,null,"CA343","Oakland RO"]
[null,null,null,null,null,null,null,null,null,null,null,null,null,null,null,null,null,null,null,null,null,null,null," ","CA377","San Diego RO"]
[null,null,null,null,null,null,null,null,null,null,null,null,null,null,null,null,null,null,null,null,null,null,null," ","CA-1",{"$f":"X186&$AA$4","v":"California-Other RO"}]
[null,null,null,null,null,null,null,null,null,null,null,null,null,null,null,null,null,null,null,null,null,null,null," ","CA499",{"$f":"X186&$AA$5","v":"California-NWQ"}]
[null,null,null,null,null,null,null,null,null,null,null,null,null,null,null,null,null,null,null,null,null,null,null,"Hawaii","HI100",{"$f":"X192&$AA$2","v":"Hawaii-Total"}]
[null,null,null,null,null,null,null,null,null,null,null,null,null,null,null,null,null,null,null,null,null,null,null,null,"HI459","Honolulu RO"]
[null,null,null,null,null,null,null,null,null,null,null,null,null,null,null,null,null,null,null,null,null,null,null,null,"HI-1",{"$f":"X192&$AA$4","v":"Hawaii-Other RO"}]
[null,null,null,null,null,null,null,null,null,null,null,null,null,null,null,null,null,null,null,null,null,null,null,null,"HI499",{"$f":"X192&$AA$5","v":"Hawaii-NWQ"}]
[null,null,null,null,null,null,null,null,null,null,null,null,null,null,null,null,null,null,null,null,null,null,null,"Idaho","ID100",{"$f":"X196&$AA$2","v":"Idaho-Total"}]
[null,null,null,null,null,null,null,null,null,null,null,null,null,null,null,null,null,null,null,null,null,null,null,null,"ID347","Boise RO"]
[null,null,null,null,null,null,null,null,null,null,null,null,null,null,null,null,null,null,null,null,null,null,null,null,"ID-1",{"$f":"X196&$AA$4","v":"Idaho-Other RO"}]
[null,null,null,null,null,null,null,null,null,null,null,null,null,null,null,null,null,null,null,null,null,null,null,null,"ID499",{"$f":"X196&$AA$5","v":"Idaho-NWQ"}]
[null,null,null,null,null,null,null,null,null,null,null,null,null,null,null,null,null,null,null,null,null,null,null,"Nevada","NV100",{"$f":"X200&$AA$2","v":"Nevada-Total"}]
[null,null,null,null,null,null,null,null,null,null,null,null,null,null,null,null,null,null,null,null,null,null,null,null,"NV354","Reno RO"]
[null,null,null,null,null,null,null,null,null,null,null,null,null,null,null,null,null,null,null,null,null,null,null,null,"NV-1",{"$f":"X200&$AA$4","v":"Nevada-Other RO"}]
[null,null,null,null,null,null,null,null,null,null,null,null,null,null,null,null,null,null,null,null,null,null,null,null,"NV499",{"$f":"X200&$AA$5","v":"Nevada-NWQ"}]
[null,null,null,null,null,null,null,null,null,null,null,null,null,null,null,null,null,null,null,null,null,null,null,"New Mexico","NM100",{"$f":"X204&$AA$2","v":"New Mexico-Total"}]
[null,null,null,null,null,null,null,null,null,null,null,null,null,null,null,null,null,null,null,null,null,null,null,null,"NM340","Albuquerque RO"]
[null,null,null,null,null,null,null,null,null,null,null,null,null,null,null,null,null,null,null,null,null,null,null,null,"NM-1",{"$f":"X204&$AA$4","v":"New Mexico-Other RO"}]
[null,null,null,null,null,null,null,null,null,null,null,null,null,null,null,null,null,null,null,null,null,null,null,null,"NM499",{"$f":"X204&$AA$5","v":"New Mexico-NWQ"}]
[null,null,null,null,null,null,null,null,null,null,null,null,null,null,null,null,null,null,null,null,null,null,null,"Oregon","OR100",{"$f":"X208&$AA$2","v":"Oregon-Total"}]
[null,null,null,null,null,null,null,null,null,null,null,null,null,null,null,null,null,null,null,null,null,null,null,null,"OR348","Portland RO"]
[null,null,null,null,null,null,null,null,null,null,null,null,null,null,null,null,null,null,null,null,null,null,null,null,"OR-1",{"$f":"X208&$AA$4","v":"Oregon-Other RO"}]
[null,null,null,null,null,null,null,null,null,null,null,null,null,null,null,null,null,null,null,null,null,null,null,null,"OR499",{"$f":"X208&$AA$5","v":"Oregon-NWQ"}]
[null,null,null,null,null,null,null,null,null,null,null,null,null,null,null,null,null,null,null,null,null,null,null,"Philippines","PI100",{"$f":"X212&$AA$2","v":"Philippines-Total"}]
[null,null,null,null,null,null,null,null,null,null,null,null,null,null,null,null,null,null,null,null,null,null,null,null,"PI358","Manila RO"]
[null,null,null,null,null,null,null,null,null,null,null,null,null,null,null,null,null,null,null,null,null,null,null,null,"PI-1",{"$f":"X212&$AA$4","v":"Philippines-Other RO"}]
[null,null,null,null,null,null,null,null,null,null,null,null,null,null,null,null,null,null,null,null,null,null,null,null,"PI499",{"$f":"X212&$AA$5","v":"Philippines-NWQ"}]
[null,null,null,null,null,null,null,null,null,null,null,null,null,null,null,null,null,null,null,null,null,null,null,"Utah","UT100",{"$f":"X216&$AA$2","v":"Utah-Total"}]
[null,null,null,null,null,null,null,null,null,null,null,null,null,null,null,null,null,null,null,null,null,null,null,null,"UT341","Salt Lake City RO"]
[null,null,null,null,null,null,null,null,null,null,null,null,null,null,null,null,null,null,null,null,null,null,null,null,"UT-1",{"$f":"X216&$AA$4","v":"Utah-Other RO"}]
[null,null,null,null,null,null,null,null,null,null,null,null,null,null,null,null,null,null,null,null,null,null,null,null,"UT499",{"$f":"X216&$AA$5","v":"Utah-NWQ"}]
[null,null,null,null,null,null,null,null,null,null,null,null,null,null,null,null,null,null,null,null,null,null,null,"Washington","WA100",{"$f":"X220&$AA$2","v":"Washington-Total"}]
[null,null,null,null,null,null,null,null,null,null,null,null,null,null,null,null,null,null,null,null,null,null,null,null,"WA346","Seattle RO"]
[null,null,null,null,null,null,null,null,null,null,null,null,null,null,null,null,null,null,null,null,null,null,null,null,"WA-1",{"$f":"X220&$AA$4","v":"Washington-Other RO"}]
[null,null,null,null,null,null,null,null,null,null,null,null,null,null,null,null,null,null,null,null,null,null,null,null,"WA499",{"$f":"X220&$AA$5","v":"Washington-NWQ"}]
[null,null,null,null,null,null,null,null,null,null,null,null,null,null,null,null,null,null,null,null,null,null,null,"Other District",null," "]
[null,null,null,null,null,null,null,null,null,null,null,null,null,null,null,null,null,null,null,null,null,null,null,"Outside US","OT-1",{"$f":"X225&$AA$4","v":"Outside US-Other RO"}]
[null,null,null,null,null,null,null,null,null,null,null,null,null,null,null,null,null,null,null,null,null,null,null," ","OT499",{"$f":"X225&$AA$5","v":"Outside US-NWQ"}]

{"sheet":"Data","index":4,"n_rows":2214,"n_cols":16,"rows_kept":2214,"cut":false,"hidden":true,"merged":[]}
["MT","CAT","LOC","EP","INV","BL","ADP","PROD_MTD","PROD_FYTD","ADCM","ADCF","DEV","EVD","DEC","AWD","AUT"]
[6,12,"NC",-1,754,140,81.88,58,717,77.709999999999994,39.08]
[6,12,"ND",-1,35,5,78.91,1,28,8,17.11]
[6,12,"NE",-1,85,18,95.09,9,94,112.78,52.65]
[6,12,"NH",-1,52,12,86.23,7,72,55,57.53]
[6,12,"NJ",-1,226,47,84.61,31,289,80.319999999999993,44.38]
[6,12,"NM",-1,139,47,121.73,14,136,68.790000000000006,53.7]
[6,12,"NV",-1,249,64,104.7,20,188,57.7,40.96]
[6,12,"NY",-1,479,94,82.07,60,524,57.43,44.26]
[6,12,"OH",-1,583,128,91.11,46,627,88.43,51.6]
[6,12,"OK",-1,351,80,103.28,29,380,83.52,42.45]
[6,12,"OR",-1,241,62,103.74,25,253,50.64,41.27]
[6,12,"OT",-1,161,53,149.78,9,102,114.22,49.57]
[6,12,"PA",-1,535,123,88.08,50,555,57.48,42.5]
[6,12,"PR",-1,215,55,91.01,12,151,73,59.13]
[6,12,"RI",-1,50,11,96.84,2,47,68,48.96]
[6,12,"SC",-1,425,85,85.24,38,481,58.76,37.89]
[6,12,"SD",-1,38,6,68.260000000000005,6,57,35.17,30.89]
[6,12,"TN",-1,507,96,88.75,44,505,74.48,49.77]
[6,12,"TX",-1,1600,328,92.68,152,1644,76.92,51.63]
[6,12,"UT",-1,110,23,96.46,17,131,44.47,32.869999999999997]
[6,12,"VA",-1,427,93,87.37,35,460,71.430000000000007,46.75]
[6,12,"VT",-1,15,4,87.73,4,24,47.5,69.83]
[6,12,"WA",-1,330,75,101.56,29,344,55.31,42.29]
[6,12,"WI",-1,214,43,90.34,21,268,80.86,47.18]
[6,12,"WV",-1,131,24,71.849999999999994,18,138,52.28,40.93]
[6,12,"WY",-1,24,6,66.83,1,28,49,38.04]
[6,13,100,-1,6226,1760,104.31,963,12692,64.040000000000006,73.98]
[6,13,"AK",-1,53,19,100.55,8,88,65.38,86.15]
[6,13,"AL",-1,126,46,120.25,24,272,56.33,70.78]
[6,13,"AR",-1,50,16,128.04,6,78,69.17,80.22]
[6,13,"AZ",-1,110,36,113.82,17,267,100.41,67.36]
[6,13,"CA",-1,566,136,92.88,89,1110,40.98,66.989999999999995]
[6,13,"CO",-1,152,34,95.05,30,351,39.229999999999997,60.43]
[6,13,"CT",-1,39,19,147.82,3,42,160.33000000000001,86.31]
[6,13,"DC",-1,10,null,41.1,2,31,21.5,50.35]
[6,13,"DE",-1,21,7,100.38,3,33,119.67,105.48]
[6,13,"FL",-1,595,161,98.3,122,1332,70.11,75.28]
[6,13,"GA",-1,242,74,128.63999999999999,36,507,57.19,76.239999999999995]
[6,13,"HI",-1,85,17,75.55,14,183,93.29,57.85]
[6,13,"IA",-1,35,15,120.4,3,51,4.67,54.33]
[6,13,"ID",-1,37,11,122.59,4,108,90.25,71.3]
[6,13,"IL",-1,104,35,103.16,10,212,63.5,79.849999999999994]
[6,13,"IN",-1,58,22,108.9,7,126,45.29,91.56]
[6,13,"KS",-1,65,20,113.62,13,124,52.31,59.84]
[6,13,"KY",-1,69,19,103.9,9,119,39.56,62]
[6,13,"LA",-1,86,18,79.16,12,145,98.5,92.12]
[6,13,"MA",-1,46,21,140.47999999999999,6,79,103.33,91.25]
[6,13,"MD",-1,236,59,96.79,29,467,85.66,80.37]
[6,13,"ME",-1,21,13,205.1,null,27,null,153.11000000000001]
[6,13,"MI",-1,76,26,112.79,6,118,96.33,84.48]
[6,13,"MN",-1,28,10,123.71,7,73,118.57,84.45]
[6,13,"MO",-1,100,38,122.56,19,193,54.16,71.06]
[6,13,"MS",-1,53,18,111.45,6,88,202.17,126.65]
[6,13,"MT",-1,26,12,132.22999999999999,2,44,67.5,121.09]
[6,13,"NC",-1,305,61,77.959999999999994,53,778,68.92,63.23]
[6,13,"ND",-1,11,4,193.82,1,25,34,61.44]
[6,13,"NE",-1,38,9,81.66,3,76,137,93]
[6,13,"NH",-1,23,10,170.61,1,37,431,101.54]
[6,13,"NJ",-1,54,27,169.06,7,106,80.86,91.12]
[6,13,"NM",-1,52,17,131.15,9,87,31.78,77.63]
[6,13,"NV",-1,66,12,85.62,17,159,34.76,65.38]
[6,13,"NY",-1,119,35,109.13,13,189,103.77,92.35]
[6,13,"OH",-1,110,35,109.48,14,221,75.930000000000007,83.2]
[6,13,"OK",-1,72,15,76.989999999999995,18,181,87.17,52.4]
[6,13,"OR",-1,41,17,149.83000000000001,5,60,54.8,70.77]
[6,13,"OT",-1,227,79,140.29,12,189,152.75,117.65]
[6,13,"PA",-1,93,41,163.08000000000001,10,158,62.5,86.39]
[6,13,"PR",-1,24,6,103.33,2,22,89.5,126.55]
[6,13,"RI",-1,11,3,154.44999999999999,1,14,5,41.43]
[6,13,"SC",-1,140,39,108.96,26,334,90.27,72.5]
[6,13,"SD",-1,16,4,86.88,3,42,250,112.17]
[6,13,"TN",-1,142,38,98.42,22,301,37.770000000000003,69.400000000000006]
[6,13,"TX",-1,730,185,95.13,131,1559,44.51,69.88]
[6,13,"UT",-1,39,10,139.13,5,100,49.4,73.95]
[6,13,"VA",-1,537,134,94.17,82,1182,53.51,68.53]
[6,13,"VT",-1,6,2,181,null,8,null,206.63]
[6,13,"WA",-1,199,45,75.989999999999995,30,444,53.83,66.12]
[6,13,"WI",-1,51,22,139.38999999999999,7,92,40.86,119.91]
[6,13,"WV",-1,13,4,88.77,4,34,112.5,113.35]
[6,13,"WY",-1,18,4,72.44,null,26,null,62.5]
[6,14,100,-1,2,2,210.5,null,2,null,152]
[6,14,"GA",-1,null,null,null,null,1,null,287]
[6,14,"IL",-1,null,null,null,null,1,null,17]
[6,14,"NC",-1]
[6,14,"SC",-1,1,1,185]
[6,14,"TX",-1,1,1,236]
[6,0,"AK",-1,1959,842,160.16,73,1232,142.88999999999999,127.55]
[6,0,"AL",-1,15598,6227,152.02000000000001,780,10530,141.66,129.01]
[6,0,"AR",-1,7152,3197,167.65,319,4580,142.85,130.51]
[6,0,"AZ",-1,14358,6225,159.80000000000001,708,9702,133.18,121.98]
[6,0,"CA",-1,50525,20180,156.93,2517,33083,129.12,118.46]
[6,0,"CO",-1,11902,4509,143.91,723,8762,120.91,113.64]
[6,0,"CT",-1,3574,1689,178.61,181,2320,142.05000000000001,130.71]
[6,0,"DC",-1,730,292,148.72999999999999,40,523,150.25,127.82]
[6,0,"DE",-1,1775,736,153.93,88,1197,146.55000000000001,124.19]
[6,0,"FL",-1,57140,23745,151.86000000000001,2800,36316,140.91999999999999,123.52]
[6,0,"GA",-1,29789,10850,142.62,1561,21390,126.93,120.28]
[6,0,"HI",-1,3806,1617,161.77000000000001,189,2451,118.15,122.07]
[6,0,"IA",-1,5473,2595,173.66,230,3141,134.33000000000001,136.84]
[6,0,"ID",-1,3893,1716,163.33000000000001,171,2501,125.99,123.33]
[6,0,"IL",-1,14980,6582,161.16,684,9054,148.44,133.59]
[6,0,"IN",-1,11156,5038,164.62,520,7024,147.77000000000001,133.05000000000001]
[6,0,"KS",-1,5062,2281,167.65,284,3302,143.01,130.81]
[6,0,"KY",-1,8657,4005,162.24,416,5592,124.54,126.47]
[6,0,"LA",-1,10864,4461,158.83000000000001,545,7003,135.79,130.80000000000001]
[6,0,"MA",-1,6450,2904,170.09,315,4107,151.81,132.30000000000001]
[6,0,"MD",-1,11748,3950,134.15,631,8285,132.02000000000001,110.06]
[6,0,"ME",-1,2609,1305,182.68,110,1579,158.54,153.37]
[6,0,"MI",-1,13404,6012,165.59,651,8656,143.41999999999999,132.91]
[6,0,"MN",-1,8056,3736,178.04,402,5495,135.94,131]
[6,0,"MO",-1,12387,5591,168.33,625,7976,142.96,133.97999999999999]
[6,0,"MS",-1,7794,3275,155.41999999999999,375,5046,137.94999999999999,132.84]
[6,0,"MT",-1,2785,1332,174.96,114,1568,160.88,144.65]
[6,0,"NC",-1,28015,10287,140.86000000000001,1433,20260,121.64,110.98]
[6,0,"ND",-1,1352,634,171.55,73,962,137.22999999999999,122.02]
[6,0,"NE",-1,3845,1605,152.83000000000001,183,2683,116.7,125.1]
[6,0,"NH",-1,2007,929,183.24,91,1270,165.67,133.28]
[6,0,"NJ",-1,7913,3471,173.3,396,4706,125.31,135.57]
[6,0,"NM",-1,4470,2042,161.65,245,2811,141.47,126.73]
[6,0,"NV",-1,8423,3441,154.33000000000001,418,4959,136.12,120.06]
[6,0,"NY",-1,15898,7279,170.88,812,9808,145.24,144.33000000000001]
[6,0,"OH",-1,18751,8611,166.35,901,11836,137.71,130.18]
[6,0,"OK",-1,11231,4634,154.99,648,7766,137.22,118.48]
[6,0,"OR",-1,8072,4111,188.49,358,4596,163.46,140.84]
[6,0,"OT",-1,8748,5604,200.67,287,4273,138.54,165.75]
[6,0,"PA",-1,17479,8147,175.5,774,10019,142.55000000000001,135.93]
[6,0,"PR",-1,4329,1926,176.76,205,3537,134.83000000000001,137.13]
[6,0,"RI",-1,1665,691,167.36,77,1010,166.14,137.88]
[6,0,"SC",-1,16591,6623,151.38999999999999,873,11404,137.26,125.7]
[6,0,"SD",-1,2384,1040,166.39,110,1411,145.69999999999999,138.62]
[6,0,"TN",-1,16639,7000,159,854,11300,127.5,123.94]
[6,0,"TX",-1,68163,23980,139.22999999999999,3679,48694,125.13,115.87]
[6,0,"UT",-1,3602,1508,151.44,165,2422,125.55,116.99]
[6,0,"VA",-1,24166,8734,138.13,1201,17332,125.38,114.78]
[6,0,"VT",-1,743,403,202.89,40,481,179.65,165.84]
[6,0,"WA",-1,14078,6188,160.02000000000001,690,8918,131.69999999999999,116.83]
[6,0,"WI",-1,9019,4136,170.58,421,5744,142.91,140.88]
[6,0,"WV",-1,4402,2142,174.15,217,2763,147.66,143.47]
[6,0,"WY",-1,1489,681,174.3,59,972,148.05000000000001,148.12]
[6,0,35,-1,8748,5604,200.67,287,4273,138.54,165.75]
[6,0,384,-1,121742,47027,149.01,6505,84756,128.72,119.86]
[6,0,393,-1,231136,92472,150.61000000000001,11579,157053,132.97,122.64]
[6,0,394,-1,152288,67766,166.37,7357,95595,142.91999999999999,133.19999999999999]
[6,0,395,-1,113186,47870,160.19,5534,72675,132.86000000000001,120.97]
[6,11,35,-1,8360,5472,203.29,266,3982,138.72,171.01]
[6,11,384,-1,117484,46087,150.97999999999999,6019,79017,133.86000000000001,124.46]
[6,11,393,-1,222673,90579,152.83000000000001,10663,145513,138.79,127.85]
[6,11,394,-1,146546,66316,169.01,6799,88621,149.03,139.08000000000001]
[6,11,395,-1,108918,46854,162.57,5061,67026,139.78,126.39]
[6,12,35,-1,161,53,149.78,9,102,114.22,49.57]
[6,12,384,-1,3066,627,93.38,275,3187,73.52,46.46]
[6,12,393,-1,6080,1258,88.93,512,6347,63.8,44.07]
[6,12,394,-1,4564,1035,93.17,420,4820,65.010000000000005,46.08]
[6,12,395,-1,3020,696,100.4,275,3043,62.86,47.3]
[6,13,35,-1,227,79,140.29,12,189,152.75,117.65]
[6,13,384,-1,1191,312,97.28,211,2552,54.18,69.069999999999993]
[6,13,393,-1,2382,634,100.03,404,5192,66.78,72.849999999999994]
[6,13,394,-1,1178,415,121.32,138,2153,78.78,86.33]
[6,13,395,-1,1248,320,96.59,198,2606,53.32,67.67]
[6,14,384,-1,1,1,236]
[6,14,393,-1,1,1,185,null,1,null,287]
[6,14,394,-1,null,null,null,null,1,null,17]
[5,0,"AK-1",499,192,75,156.43,null,null,null,null,11,121,46,12,2]
[5,11,"AK-1",499,177,72,162.85,null,null,null,null,11,116,38,10,2]
[5,12,"AK-1",499,1,1,687,null,null,null,null,null,1]
[5,13,"AK-1",499,14,2,37.36,null,null,null,null,null,4,8,2]
[5,0,"AK463",499,22,5,111.86,null,null,null,null,13,5,4]
[5,11,"AK463",499,22,5,111.86,null,null,null,null,13,5,4]
[5,0,"AK499",499,1745,762,161.18,null,null,null,null,1,1368,375,1]
[5,11,"AK499",499,1683,737,162.69999999999999,null,null,null,null,1,1311,370,1]
[5,12,"AK499",499,23,8,114.26,null,null,null,null,null,19,4]
[5,13,"AK499",499,39,17,123.23,null,null,null,null,null,38,1]
[5,0,"AL-1",499,1792,774,169.02,null,null,null,null,181,1014,461,112,24]
[5,11,"AL-1",499,1724,760,172.43,null,null,null,null,168,988,446,102,20]
[5,12,"AL-1",499,45,9,94.53,null,null,null,null,13,21,1,6,4]
[5,13,"AL-1",499,23,5,59.26,null,null,null,null,null,5,14,4]
[5,0,"AL322",499,211,32,76.08,null,null,null,null,76,86,38,7,4]
[5,11,"AL322",499,199,31,79.44,null,null,null,null,71,83,34,7,4]
[5,12,"AL322",499,5,null,3.4,null,null,null,null,5]
[5,13,"AL322",499,7,1,32.29,null,null,null,null,null,3,4]
[5,0,"AL499",499,13595,5421,150.94999999999999,null,null,null,null,80,8738,4775,2]
[5,11,"AL499",499,13058,5288,152.63999999999999,null,null,null,null,9,8335,4713,1]
[5,12,"AL499",499,441,93,103.04,null,null,null,null,71,313,56,1]
[5,13,"AL499",499,96,40,141.28,null,null,null,null,null,90,6]
[5,0,"AR-1",499,854,433,237.45,null,null,null,null,80,525,197,36,16]
[5,11,"AR-1",499,822,428,244.5,null,null,null,null,68,520,185,34,15]
[5,12,"AR-1",499,22,3,55.27,null,null,null,null,12,4,3,2,1]
[5,13,"AR-1",499,10,2,58.3,null,null,null,null,null,1,9]
[5,0,"AR350",499,108,17,77.36,null,null,null,null,36,48,21,3]
[5,11,"AR350",499,102,15,76.2,null,null,null,null,33,47,19,3]
[5,12,"AR350",499,3,null,3.67,null,null,null,null,3]
[5,13,"AR350",499,3,2,190.67,null,null,null,null,null,1,2]
[5,0,"AR499",499,6190,2747,159.59,null,null,null,null,31,3943,2215,1]
[5,11,"AR499",499,5933,2686,162.19,null,null,null,null,2,3754,2177]
[5,12,"AR499",499,220,49,92.61,null,null,null,null,29,157,33,1]
[5,13,"AR499",499,37,12,141.81,null,null,null,null,null,32,5]
[5,0,"AZ-1",499,1621,767,200.88,null,null,null,null,161,959,406,76,19]
[5,11,"AZ-1",499,1542,749,206.55,null,null,null,null,146,927,388,64,17]
[5,12,"AZ-1",499,52,14,105.63,null,null,null,null,15,26,1,8,2]
[5,13,"AZ-1",499,27,4,60.63,null,null,null,null,null,6,17,4]
[5,0,"AZ345",499,267,47,74.989999999999995,null,null,null,null,81,151,20,14,1]
[5,11,"AZ345",499,249,45,76.95,null,null,null,null,71,147,16,14,1]
[5,12,"AZ345",499,10,null,3.9,null,null,null,null,10]
[5,13,"AZ345",499,8,2,102.88,null,null,null,null,null,4,4]
[5,0,"AZ499",499,12470,5411,156.28,null,null,null,null,72,7776,4620,2]
[5,11,"AZ499",499,12008,5311,158.63999999999999,null,null,null,null,10,7423,4573,2]
[5,12,"AZ499",499,387,70,87.32,null,null,null,null,62,280,45]
[5,13,"AZ499",499,75,30,134.13,null,null,null,null,null,73,2]
[5,0,"CA-1",499,5332,2517,208.84,null,null,null,null,490,3416,1088,269,69]
[5,11,"CA-1",499,5091,2474,214.46,null,null,null,null,446,3316,1030,240,59]
[5,12,"CA-1",499,141,26,105.96,null,null,null,null,44,67,5,15,10]
[5,13,"CA-1",499,100,17,67.680000000000007,null,null,null,null,null,33,53,14]
[5,0,"CA343",499,341,79,86.1,null,null,null,null,124,116,95,3,3]
[5,11,"CA343",499,330,79,88.73,null,null,null,null,115,114,95,3,3]
[5,12,"CA343",499,9,null,3.56,null,null,null,null,9]
[5,13,"CA343",499,2,null,23,null,null,null,null,null,2]
[5,0,"CA344",499,429,86,83.95,null,null,null,null,98,205,103,21,2]
[5,11,"CA344",499,420,86,85.27,null,null,null,null,92,204,101,21,2]
[5,12,"CA344",499,6,null,3.33,null,null,null,null,6]
[5,13,"CA344",499,3,null,60,null,null,null,null,null,1,2]
[5,0,"CA377",499,545,104,86.54,null,null,null,null,107,241,152,18,27]
[5,11,"CA377",499,483,97,91.95,null,null,null,null,101,226,115,17,24]
[5,12,"CA377",499,6,null,4,null,null,null,null,6]
[5,13,"CA377",499,56,7,48.68,null,null,null,null,null,15,37,1,3]
[5,0,"CA499",499,43878,17394,152.76,null,null,null,null,206,28786,14878,8]
[5,11,"CA499",499,42356,17018,154.47999999999999,null,null,null,null,38,27553,14761,4]
[5,12,"CA499",499,1117,264,104.63,null,null,null,null,168,845,101,3]
[5,13,"CA499",499,405,112,105.8,null,null,null,null,null,388,16,1]
[5,0,"CO-1",499,1270,518,174.86,null,null,null,null,115,709,361,71,14]
[5,11,"CO-1",499,1195,510,182.21,null,null,null,null,101,691,324,67,12]
[5,12,"CO-1",499,23,3,51.13,null,null,null,null,12,7,1,2,1]
[5,13,"CO-1",499,52,5,60.88,null,null,null,null,2,11,36,2,1]
[5,0,"CO339",499,181,33,64.45,null,null,null,null,63,68,35,12,3]
[5,11,"CO339",499,170,32,67.16,null,null,null,null,55,67,35,10,3]
[5,12,"CO339",499,7,null,3.71,null,null,null,null,7]
[5,13,"CO339",499,4,1,55.5,null,null,null,null,1,1,null,2]
[5,0,"CO499",499,10451,3958,141.52000000000001,null,null,null,null,28,6305,4115,3]
[5,11,"CO499",499,10157,3895,142.83000000000001,null,null,null,null,5,6069,4081,2]
[5,12,"CO499",499,198,35,87.59,null,null,null,null,23,145,29,1]
[5,13,"CO499",499,96,28,115.2,null,null,null,null,null,91,5]
[5,0,"CT-1",499,441,213,216.66,null,null,null,null,43,284,95,13,6]
[5,11,"CT-1",499,424,212,222.72,null,null,null,null,40,274,93,11,6]
[5,12,"CT-1",499,12,1,86.83,null,null,null,null,3,7,null,2]
[5,13,"CT-1",499,5,null,14.2,null,null,null,null,null,3,2]
[5,0,"CT308",499,23,9,135.47999999999999,null,null,null,null,6,13,1,2,1]
[5,11,"CT308",499,20,8,141.15,null,null,null,null,6,13,null,null,1]
[5,13,"CT308",499,3,1,97.67,null,null,null,null,null,null,1,2]
[5,0,"CT499",499,3110,1467,173.53,null,null,null,null,16,2181,912,1]
[5,11,"CT499",499,2967,1423,176.51,null,null,null,null,null,2063,904]
[5,12,"CT499",499,112,26,94.32,null,null,null,null,16,89,6,1]
[5,13,"CT499",499,31,18,174.23,null,null,null,null,null,29,2]
[5,0,"DC-1",499,103,35,149.81,null,null,null,null,15,57,24,5,2]
[5,11,"DC-1",499,101,35,152.61000000000001,null,null,null,null,15,57,23,4,2]
[5,13,"DC-1",499,2,null,8,null,null,null,null,null,null,1,1]
[5,0,"DC499",499,627,257,148.56,null,null,null,null,null,395,232]
[5,11,"DC499",499,611,256,150.78,null,null,null,null,null,381,230]
[5,12,"DC499",499,8,1,77.88,null,null,null,null,null,7,1]
[5,13,"DC499",499,8,null,49.38,null,null,null,null,null,7,1]
[5,0,"DE-1",499,199,80,161.11000000000001,null,null,null,null,21,113,52,11,2]
[5,11,"DE-1",499,197,79,161.41999999999999,null,null,null,null,21,112,51,11,2]
[5,13,"DE-1",499,2,1,130,null,null,null,null,null,1,1]
[5,0,"DE460",499,17,5,91.06,null,null,null,null,9,4,4]
[5,11,"DE460",499,15,5,102.6,null,null,null,null,7,4,4]
[5,12,"DE460",499,2,null,4.5,null,null,null,null,2]
[5,0,"DE499",499,1559,651,153.69999999999999,null,null,null,null,10,1015,533,1]
[5,11,"DE499",499,1495,630,155.88,null,null,null,null,null,969,525,1]
[5,12,"DE499",499,45,15,105.38,null,null,null,null,10,28,7]
[5,13,"DE499",499,19,6,97.26,null,null,null,null,null,18,1]
[5,0,"FL-1",499,5827,2548,175.52,null,null,null,null,587,3383,1422,342,93]
[5,11,"FL-1",499,5503,2494,181.76,null,null,null,null,542,3276,1308,304,73]
[5,12,"FL-1",499,146,23,80.790000000000006,null,null,null,null,45,58,6,21,16]
[5,13,"FL-1",499,178,31,60.25,null,null,null,null,null,49,108,17,4]
[5,0,"FL317",499,1114,327,116.74,null,null,null,null,271,538,258,28,19]
[5,11,"FL317",499,1065,325,121.09,null,null,null,null,241,524,255,26,19]
[5,12,"FL317",499,30,null,3.2,null,null,null,null,30]
[5,13,"FL317",499,19,2,52.21,null,null,null,null,null,14,3,2]
[5,0,"FL499",499,50199,20870,149.88999999999999,null,null,null,null,187,30396,19596,20]
[5,11,"FL499",499,48590,20462,151.41999999999999,null,null,null,null,32,29098,19443,17]
[5,12,"FL499",499,1211,280,99.4,null,null,null,null,155,918,135,3]
[5,13,"FL499",499,398,128,117.52,null,null,null,null,null,380,18]
[5,0,"GA-1",499,3008,1257,169.21,null,null,null,null,311,1656,790,209,42]
[5,11,"GA-1",499,2914,1237,171.62,null,null,null,null,296,1622,759,198,39]
[5,12,"GA-1",499,47,10,122.89,null,null,null,null,15,21,2,6,3]
[5,13,"GA-1",499,47,10,65.64,null,null,null,null,null,13,29,5]
[5,0,"GA316",499,880,198,90.08,null,null,null,null,186,393,220,48,33]
[5,11,"GA316",499,832,193,93.01,null,null,null,null,175,382,200,44,31]
[5,12,"GA316",499,14,null,3.86,null,null,null,null,11,null,1,1,1]
[5,13,"GA316",499,34,5,53.94,null,null,null,null,null,11,19,3,1]
[5,0,"GA499",499,25901,9395,141.32,null,null,null,null,99,16690,9099,13]
[5,11,"GA499",499,25144,9180,141.91,null,null,null,null,15,16102,9016,11]
[5,12,"GA499",499,596,156,110.69,null,null,null,null,84,435,75,2]
[5,13,"GA499",499,161,59,162.81,null,null,null,null,null,153,8]
[5,0,"HI-1",499,428,179,175.55,null,null,null,null,27,276,102,16,7]
[5,11,"HI-1",499,398,175,183.94,null,null,null,null,26,268,85,12,7]
[5,12,"HI-1",499,4,2,243.75,null,null,null,null,1,2,null,1]
[5,13,"HI-1",499,26,2,36.54,null,null,null,null,null,6,17,3]
[5,0,"HI459",499,41,12,131.38999999999999,null,null,null,null,17,18,6]
[5,11,"HI459",499,38,12,139.34,null,null,null,null,17,17,4]
[5,13,"HI459",499,3,null,30.67,null,null,null,null,null,1,2]
[5,0,"HI499",499,3337,1426,160.37,null,null,null,null,7,2448,882]
[5,11,"HI499",499,3227,1399,161.88,null,null,null,null,2,2351,874]
[5,12,"HI499",499,54,12,136.93,null,null,null,null,5,45,4]
[5,13,"HI499",499,56,15,96.07,null,null,null,null,null,52,4]
[5,0,"IA-1",499,684,339,204.07,null,null,null,null,59,427,162,29,7]
[5,11,"IA-1",499,639,327,211.94,null,null,null,null,51,401,158,24,5]
[5,12,"IA-1",499,31,6,82.42,null,null,null,null,8,16,null,5,2]
[5,13,"IA-1",499,14,6,114.5,null,null,null,null,null,10,4]
[5,0,"IA333",499,72,12,70.040000000000006,null,null,null,null,29,24,13,4,2]
[5,11,"IA333",499,67,12,75.03,null,null,null,null,24,24,13,4,2]
[5,12,"IA333",499,5,null,3.2,null,null,null,null,5]
[5,0,"IA499",499,4717,2244,170.83,null,null,null,null,35,2923,1756,3]
[5,11,"IA499",499,4529,2208,173.73,null,null,null,null,null,2791,1736,2]
[5,12,"IA499",499,167,27,98.17,null,null,null,null,35,114,17,1]
[5,13,"IA499",499,21,9,124.33,null,null,null,null,null,18,3]
[5,0,"ID-1",499,440,213,204.33,null,null,null,null,30,287,102,18,3]
[5,11,"ID-1",499,426,212,209.06,null,null,null,null,26,285,97,15,3]
[5,12,"ID-1",499,7,1,56.29,null,null,null,null,4,1,1,1]
[5,13,"ID-1",499,7,null,64.86,null,null,null,null,null,1,4,2]
[5,0,"ID347",499,39,8,64.13,null,null,null,null,17,12,6,3,1]
[5,11,"ID347",499,31,6,62.39,null,null,null,null,14,9,5,2,1]
[5,12,"ID347",499,3,null,3.33,null,null,null,null,3]
[5,13,"ID347",499,5,2,111.4,null,null,null,null,null,3,1,1]
[5,0,"ID499",499,3414,1495,159.18,null,null,null,null,15,2193,1206]
[5,11,"ID499",499,3308,1479,161.49,null,null,null,null,4,2113,1191]
[5,12,"ID499",499,81,7,70.3,null,null,null,null,11,57,13]
[5,13,"ID499",499,25,9,141,null,null,null,null,null,23,2]
[5,0,"IL-1",499,1574,754,185.71,null,null,null,null,156,931,397,72,18]
[5,11,"IL-1",499,1511,745,190.15,null,null,null,null,146,903,381,65,16]
[5,12,"IL-1",499,38,5,88.45,null,null,null,null,10,21,1,4,2]
[5,13,"IL-1",499,25,4,65.48,null,null,null,null,null,7,15,3]
[5,0,"IL328",499,193,30,77.150000000000006,null,null,null,null,62,84,32,11,4]
[5,11,"IL328",499,181,30,81.22,null,null,null,null,52,83,31,11,4]
[5,12,"IL328",499,10,null,3.3,null,null,null,null,10]
[5,13,"IL328",499,2,null,78,null,null,null,null,null,1,1]
[5,0,"IL499",499,13213,5798,159.46,null,null,null,null,54,8587,4570,2]
[5,11,"IL499",499,12700,5663,161.72,null,null,null,null,7,8196,4495,2]
[5,12,"IL499",499,436,104,101.39,null,null,null,null,47,319,70]
[5,13,"IL499",499,77,31,116.05,null,null,null,null,null,72,5]
[5,0,"IN-1",499,1224,578,191.46,null,null,null,null,123,726,298,57,20]
[5,11,"IN-1",499,1179,571,196.35,null,null,null,null,108,714,291,49,17]
[5,12,"IN-1",499,33,4,62.73,null,null,null,null,15,8,1,6,3]
[5,13,"IN-1",499,12,3,65.17,null,null,null,null,null,4,6,2]
[5,0,"IN326",499,142,23,72.540000000000006,null,null,null,null,57,73,8,3,1]
[5,11,"IN326",499,134,23,76.66,null,null,null,null,51,72,7,3,1]
[5,12,"IN326",499,7,null,2.86,null,null,null,null,6,1]
[5,13,"IN326",499,1,null,8,null,null,null,null,null,null,1]
[5,0,"IN499",499,9790,4437,162.6,null,null,null,null,40,6420,3330]
[5,11,"IN499",499,9487,4356,164.66,null,null,null,null,6,6189,3292]
[5,12,"IN499",499,258,62,93.86,null,null,null,null,34,189,35]
[5,13,"IN499",499,45,19,122.8,null,null,null,null,null,42,3]
[5,0,"KS-1",499,583,286,202.69,null,null,null,null,59,335,141,41,7]
[5,11,"KS-1",499,557,278,207.84,null,null,null,null,56,322,135,37,7]
[5,12,"KS-1",499,15,5,117.07,null,null,null,null,3,9,1,2]
[5,13,"KS-1",499,11,3,58.73,null,null,null,null,null,4,5,2]
[5,0,"KS452",499,54,11,60.06,null,null,null,null,29,19,2,3,1]
[5,11,"KS452",499,49,11,65.69,null,null,null,null,25,18,2,3,1]
[5,12,"KS452",499,4,null,4.25,null,null,null,null,4]
[5,13,"KS452",499,1,null,7,null,null,null,null,null,1]
[5,0,"KS499",499,4425,1984,164.35,null,null,null,null,21,2833,1570,1]
[5,11,"KS499",499,4216,1930,166.94,null,null,null,null,1,2659,1555,1]
[5,12,"KS499",499,156,37,107.01,null,null,null,null,20,121,15]
[5,13,"KS499",499,53,17,127.02,null,null,null,null,null,53]
[5,0,"KY-1",499,928,454,178.66,null,null,null,null,77,544,243,57,7]
[5,11,"KY-1",499,896,450,182.8,null,null,null,null,75,530,233,52,6]
[5,12,"KY-1",499,13,1,72.459999999999994,null,null,null,null,2,8,1,1,1]
[5,13,"KY-1",499,19,3,56.26,null,null,null,null,null,6,9,4]
[5,0,"KY327",499,85,20,117.53,null,null,null,null,35,31,14,5]
[5,11,"KY327",499,81,20,121.95,null,null,null,null,33,29,14,5]
[5,12,"KY327",499,2,null,2.5,null,null,null,null,2]
[5,13,"KY327",499,2,null,53.5,null,null,null,null,null,2]
[5,0,"KY499",499,7644,3531,160.74,null,null,null,null,25,4913,2703,3]
[5,11,"KY499",499,7370,3470,163.03,null,null,null,null,1,4700,2668,1]
[5,12,"KY499",499,226,45,93.72,null,null,null,null,24,169,31,2]
[5,13,"KY499",499,48,16,124.85,null,null,null,null,null,44,4]
[5,0,"LA-1",499,1256,569,192.82,null,null,null,null,116,739,322,65,14]
[5,11,"LA-1",499,1212,561,197.51,null,null,null,null,111,723,307,59,12]
[5,12,"LA-1",499,21,4,93.24,null,null,null,null,5,9,1,4,2]
[5,13,"LA-1",499,23,4,36.909999999999997,null,null,null,null,null,7,14,2]
[5,0,"LA321",499,132,13,60.73,null,null,null,null,64,41,20,5,2]
[5,11,"LA321",499,120,13,64.88,null,null,null,null,57,38,18,5,2]
[5,12,"LA321",499,7,null,9,null,null,null,null,7]
[5,13,"LA321",499,5,null,33.799999999999997,null,null,null,null,null,3,2]
[5,0,"LA499",499,9476,3879,155.68,null,null,null,null,43,6213,3219,1]
[5,11,"LA499",499,9146,3808,157.69999999999999,null,null,null,null,5,5958,3183]
[5,12,"LA499",499,272,57,99.69,null,null,null,null,38,198,35,1]
[5,13,"LA499",499,58,14,99.83,null,null,null,null,null,57,1]
[5,0,"MA-1",499,703,328,192.62,null,null,null,null,51,464,145,35,8]
[5,11,"MA-1",499,673,320,197.52,null,null,null,null,46,449,141,30,7]
[5,12,"MA-1",499,21,5,86.67,null,null,null,null,5,11,1,3,1]
[5,13,"MA-1",499,9,3,73.78,null,null,null,null,null,4,3,2]
[5,0,"MA301",499,77,19,105.83,null,null,null,null,16,45,11,2,3]
[5,11,"MA301",499,75,19,108.6,null,null,null,null,14,45,11,2,3]
[5,12,"MA301",499,2,null,2,null,null,null,null,2]
[5,0,"MA499",499,5670,2557,168.17,null,null,null,null,25,3869,1775,1]
[5,11,"MA499",499,5490,2501,169.8,null,null,null,null,3,3728,1758,1]
[5,12,"MA499",499,143,38,108.81,null,null,null,null,22,107,14]
[5,13,"MA499",499,37,18,156.69999999999999,null,null,null,null,null,34,3]
[5,0,"MD-1",499,1311,486,147.97999999999999,null,null,null,null,112,719,383,85,12]
[5,11,"MD-1",499,1237,471,152.22,null,null,null,null,109,699,341,76,12]
[5,12,"MD-1",499,14,5,185.57,null,null,null,null,3,7,1,3]
[5,13,"MD-1",499,60,10,51.62,null,null,null,null,null,13,41,6]
[5,0,"MD313",499,155,20,63.44,null,null,null,null,54,63,34,2,2]
[5,11,"MD313",499,140,18,65.239999999999995,null,null,null,null,49,61,26,2,2]
[5,12,"MD313",499,5,null,3.8,null,null,null,null,5]
[5,13,"MD313",499,10,2,68.099999999999994,null,null,null,null,null,2,8]
[5,0,"MD499",499,10282,3444,133.46,null,null,null,null,46,6376,3859,1]
[5,11,"MD499",499,9911,3343,134.22,null,null,null,null,11,6073,3827]
[5,12,"MD499",499,205,54,111.76,null,null,null,null,35,145,24,1]
[5,13,"MD499",499,166,47,114.85,null,null,null,null,null,158,8]
[5,0,"ME-1",499,311,174,209.97,null,null,null,null,22,198,71,15,5]
[5,11,"ME-1",499,298,170,213.86,null,null,null,null,20,192,69,13,4]
[5,12,"ME-1",499,9,2,133.66999999999999,null,null,null,null,2,4,null,2,1]
[5,13,"ME-1",499,4,2,91.75,null,null,null,null,null,2,2]
[5,0,"ME402",499,26,6,94.81,null,null,null,null,11,15]
[5,11,"ME402",499,22,6,111.45,null,null,null,null,7,15]
[5,12,"ME402",499,4,null,3.25,null,null,null,null,4]
[5,0,"ME499",499,2272,1125,179.95,null,null,null,null,8,1539,725]
[5,11,"ME499",499,2204,1099,181.27,null,null,null,null,2,1486,716]
[5,12,"ME499",499,51,15,105.57,null,null,null,null,6,36,9]
[5,13,"ME499",499,17,11,231.76,null,null,null,null,null,17]
[5,0,"MI-1",499,1556,719,199.79,null,null,null,null,150,919,384,82,21]
[5,11,"MI-1",499,1504,707,203.47,null,null,null,null,138,901,371,75,19]
[5,12,"MI-1",499,35,9,113.37,null,null,null,null,12,13,3,5,2]
[5,13,"MI-1",499,17,3,52.24,null,null,null,null,null,5,10,2]
[5,0,"MI329",499,149,28,89.98,null,null,null,null,61,65,16,7]
[5,11,"MI329",499,138,27,95.73,null,null,null,null,55,60,16,7]
[5,12,"MI329",499,10,null,3.5,null,null,null,null,6,4]
[5,13,"MI329",499,1,1,161,null,null,null,null,null,1]
[5,0,"MI499",499,11699,5265,162.01,null,null,null,null,71,7312,4313,3]
[5,11,"MI499",499,11176,5130,164.22,null,null,null,null,6,6912,4256,2]
[5,12,"MI499",499,465,113,113,null,null,null,null,65,345,54,1]
[5,13,"MI499",499,58,22,129.71,null,null,null,null,null,55,3]
[5,0,"MN-1",499,933,489,248.54,null,null,null,null,78,633,172,36,14]
[5,11,"MN-1",499,917,485,251.48,null,null,null,null,75,625,170,34,13]
[5,12,"MN-1",499,11,3,91.09,null,null,null,null,3,5,null,2,1]
[5,13,"MN-1",499,5,1,57.2,null,null,null,null,null,3,2]
[5,0,"MN335",499,126,26,77.22,null,null,null,null,44,54,22,6]
[5,11,"MN335",499,109,25,84.74,null,null,null,null,32,51,22,4]
[5,12,"MN335",499,16,1,28.88,null,null,null,null,12,2,null,2]
[5,13,"MN335",499,1,null,31,null,null,null,null,null,1]
[5,0,"MN499",499,6997,3221,170.46,null,null,null,null,33,4348,2616]
[5,11,"MN499",499,6768,3163,172.53,null,null,null,null,7,4175,2586]
[5,12,"MN499",499,207,49,105.58,null,null,null,null,26,151,30]
[5,13,"MN499",499,22,9,143.05000000000001,null,null,null,null,null,22]
[5,0,"MO-1",499,1381,695,218.69,null,null,null,null,121,829,325,90,16]
[5,11,"MO-1",499,1326,682,224.25,null,null,null,null,116,812,307,77,14]
[5,12,"MO-1",499,32,8,92.28,null,null,null,null,5,13,2,11,1]
[5,13,"MO-1",499,23,5,73.91,null,null,null,null,null,4,16,2,1]
[5,0,"MO331",499,187,43,98.34,null,null,null,null,80,62,35,10]
[5,11,"MO331",499,166,43,109.27,null,null,null,null,64,60,33,9]
[5,12,"MO331",499,16,null,3.25,null,null,null,null,16]
[5,13,"MO331",499,5,null,39.799999999999997,null,null,null,null,null,2,2,1]
[5,0,"MO499",499,10819,4853,163.11000000000001,null,null,null,null,66,6976,3774,3]
[5,11,"MO499",499,10391,4729,165.25,null,null,null,null,4,6647,3738,2]
[5,12,"MO499",499,356,91,104.45,null,null,null,null,62,259,34,1]
[5,13,"MO499",499,72,33,143.85,null,null,null,null,null,70,2]
[5,0,"MS-1",499,847,410,198.38,null,null,null,null,67,490,226,49,15]
[5,11,"MS-1",499,813,399,200.73,null,null,null,null,60,478,217,45,13]
[5,12,"MS-1",499,20,4,139.75,null,null,null,null,7,7,1,3,2]
[5,13,"MS-1",499,14,7,145.13999999999999,null,null,null,null,null,5,8,1]
[5,0,"MS323",499,137,24,82.53,null,null,null,null,50,49,30,4,4]
[5,11,"MS323",499,134,23,82.11,null,null,null,null,48,48,30,4,4]
[5,12,"MS323",499,2,1,118.5,null,null,null,null,2]
[5,13,"MS323",499,1,null,67,null,null,null,null,null,1]
[5,0,"MS499",499,6810,2841,151.55000000000001,null,null,null,null,40,4493,2277]
[5,11,"MS499",499,6555,2784,153.35,null,null,null,null,2,4304,2249]
[5,12,"MS499",499,217,46,106.02,null,null,null,null,38,152,27]
[5,13,"MS499",499,38,11,100.21,null,null,null,null,null,37,1]
[5,0,"MT-1",499,341,179,229.86,null,null,null,null,22,221,83,12,3]
[5,11,"MT-1",499,335,177,231.46,null,null,null,null,22,218,81,11,3]
[5,12,"MT-1",499,2,1,280.5,null,null,null,null,null,1,1]
[5,13,"MT-1",499,4,1,70.25,null,null,null,null,null,2,1,1]
[5,0,"MT436",499,26,3,43.5,null,null,null,null,13,10,1,2]
[5,11,"MT436",499,24,3,46.58,null,null,null,null,13,9,1,1]
[5,12,"MT436",499,1,null,5,null,null,null,null,null,null,null,1]
[5,13,"MT436",499,1,null,8,null,null,null,null,null,1]
[5,0,"MT499",499,2418,1150,168.63,null,null,null,null,10,1669,739]
[5,11,"MT499",499,2337,1128,170.57,null,null,null,null,null,1610,727]
[5,12,"MT499",499,60,11,99.57,null,null,null,null,10,39,11]
[5,13,"MT499",499,21,11,149.94999999999999,null,null,null,null,null,20,1]
[5,0,"NC-1",499,3030,1223,171.52,null,null,null,null,300,1789,758,146,37]
[5,11,"NC-1",499,2919,1197,173.95,null,null,null,null,284,1742,725,138,30]
[5,12,"NC-1",499,72,22,135.57,null,null,null,null,16,38,6,6,6]
[5,13,"NC-1",499,39,4,55.74,null,null,null,null,null,9,27,2,1]
[5,0,"NC318",499,615,92,69.63,null,null,null,null,159,256,154,36,10]
[5,11,"NC318",499,555,91,75.239999999999995,null,null,null,null,147,241,123,34,10]
[5,12,"NC318",499,12,null,3.58,null,null,null,null,12]
[5,13,"NC318",499,48,1,21.31,null,null,null,null,null,15,31,2]
[5,0,"NC499",499,24370,8972,138.84,null,null,null,null,98,15692,8573,7]
[5,11,"NC499",499,23494,8781,140.47999999999999,null,null,null,null,25,15037,8428,4]
[5,12,"NC499",499,658,135,95.14,null,null,null,null,73,458,124,3]
[5,13,"NC499",499,218,56,94.41,null,null,null,null,null,197,21]
[5,0,"ND-1",499,157,85,246.9,null,null,null,null,17,102,27,9,2]
[5,11,"ND-1",499,152,84,251.95,null,null,null,null,17,101,24,9,1]
[5,13,"ND-1",499,5,1,93.4,null,null,null,null,null,1,3,null,1]
[5,0,"ND437",499,18,2,72.22,null,null,null,null,10,3,2,3]
[5,11,"ND437",499,17,2,76.290000000000006,null,null,null,null,9,3,2,3]
[5,12,"ND437",499,1,null,3,null,null,null,null,1]
[5,0,"ND499",499,1177,547,163.02000000000001,null,null,null,null,4,734,439]
[5,11,"ND499",499,1140,539,164.56,null,null,null,null,1,702,437]
[5,12,"ND499",499,31,5,84.26,null,null,null,null,3,26,2]
[5,13,"ND499",499,6,3,277.5,null,null,null,null,null,6]
[5,0,"NE-1",499,447,195,188.17,null,null,null,null,53,257,114,22,1]
[5,11,"NE-1",499,431,190,190.36,null,null,null,null,53,250,107,20,1]
[5,12,"NE-1",499,6,3,213.33,null,null,null,null,null,5,null,1]
[5,13,"NE-1",499,10,2,78.5,null,null,null,null,null,2,7,1]
[5,0,"NE334",499,87,18,78.77,null,null,null,null,30,37,12,8]
[5,11,"NE334",499,82,18,82.56,null,null,null,null,26,36,12,8]
[5,12,"NE334",499,4,null,3.5,null,null,null,null,4]
[5,13,"NE334",499,1,null,69,null,null,null,null,null,1]
[5,0,"NE499",499,3311,1392,150,null,null,null,null,16,2095,1199,1]
[5,11,"NE499",499,3210,1369,151.61000000000001,null,null,null,null,2,2021,1186,1]
[5,12,"NE499",499,74,16,104.38,null,null,null,null,14,47,13]
[5,13,"NE499",499,27,7,83.3,null,null,null,null,null,27]
[5,0,"NH-1",499,243,135,241.92,null,null,null,null,13,156,60,12,2]
[5,11,"NH-1",499,236,134,246.6,null,null,null,null,12,153,58,11,2]
[5,12,"NH-1",499,3,null,35.67,null,null,null,null,1,1,null,1]
[5,13,"NH-1",499,4,1,120.5,null,null,null,null,null,2,2]
[5,0,"NH373",499,20,4,81.349999999999994,null,null,null,null,8,9,3]
[5,11,"NH373",499,18,4,89.94,null,null,null,null,6,9,3]
[5,12,"NH373",499,2,null,4,null,null,null,null,2]
[5,0,"NH499",499,1744,790,176.23,null,null,null,null,9,1184,551]
[5,11,"NH499",499,1675,771,178.45,null,null,null,null,null,1127,548]
[5,12,"NH499",499,50,10,100.02,null,null,null,null,9,38,3]
[5,13,"NH499",499,19,9,181.16,null,null,null,null,null,19]
[5,0,"NJ-1",499,901,405,188.37,null,null,null,null,88,559,205,36,13]
[5,11,"NJ-1",499,864,399,192.98,null,null,null,null,80,549,195,30,10]
[5,12,"NJ-1",499,23,1,56.91,null,null,null,null,8,4,3,5,3]
[5,13,"NJ-1",499,14,5,119.86,null,null,null,null,null,6,7,1]
[5,0,"NJ309",499,45,2,40.729999999999997,null,null,null,null,24,16,2,3]
[5,11,"NJ309",499,43,2,42.51,null,null,null,null,22,16,2,3]
[5,12,"NJ309",499,2,null,2.5,null,null,null,null,2]
[5,0,"NJ499",499,6967,3064,172.21,null,null,null,null,30,4800,2136,1]
[5,11,"NJ499",499,6706,2988,174.45,null,null,null,null,2,4586,2117,1]
[5,12,"NJ499",499,221,54,101.75,null,null,null,null,28,174,19]
[5,13,"NJ499",499,40,22,186.28,null,null,null,null,null,40]
[5,0,"NM-1",499,578,292,198.45,null,null,null,null,49,314,183,22,10]
[5,11,"NM-1",499,560,290,203,null,null,null,null,44,311,174,22,9]
[5,12,"NM-1",499,8,2,102,null,null,null,null,5,2,null,null,1]
[5,13,"NM-1",499,10,null,20.8,null,null,null,null,null,1,9]
[5,0,"NM340",499,42,6,72.81,null,null,null,null,17,15,7,3]
[5,11,"NM340",499,40,6,76.3,null,null,null,null,15,15,7,3]
[5,12,"NM340",499,2,null,3,null,null,null,null,2]
[5,0,"NM499",499,3850,1744,157.09,null,null,null,null,14,2402,1434]
[5,11,"NM499",499,3687,1685,158.1,null,null,null,null,1,2263,1423]
[5,12,"NM499",499,121,42,126.34,null,null,null,null,13,98,10]
[5,13,"NM499",499,42,17,157.43,null,null,null,null,null,41,1]
[5,0,"NV-1",499,993,436,175.45,null,null,null,null,109,571,248,44,21]
[5,11,"NV-1",499,951,432,180.56,null,null,null,null,104,555,233,40,19]
[5,12,"NV-1",499,14,3,120.64,null,null,null,null,5,6,null,2,1]
[5,13,"NV-1",499,28,1,28.96,null,null,null,null,null,10,15,2,1]
[5,0,"NV354",499,175,22,50.24,null,null,null,null,122,35,14,3,1]
[5,11,"NV354",499,165,22,53.05,null,null,null,null,113,34,14,3,1]
[5,12,"NV354",499,9,null,3.33,null,null,null,null,9]
[5,13,"NV354",499,1,null,8,null,null,null,null,null,1]
[5,0,"NV499",499,7255,2983,153.94999999999999,null,null,null,null,25,4758,2471,1]
[5,11,"NV499",499,7013,2916,155.34,null,null,null,null,4,4562,2446,1]
[5,12,"NV499",499,205,56,110.74,null,null,null,null,21,159,25]
[5,13,"NV499",499,37,11,130.59,null,null,null,null,null,37]
[5,0,"NY-1",499,1796,850,198.05,null,null,null,null,157,1113,423,80,23]
[5,11,"NY-1",499,1713,830,202.03,null,null,null,null,143,1077,405,71,17]
[5,12,"NY-1",499,56,14,131.02000000000001,null,null,null,null,14,25,3,8,6]
[5,13,"NY-1",499,27,6,84.48,null,null,null,null,null,11,15,1]
[5,0,"NY306",499,101,28,118.46,null,null,null,null,37,40,13,5,6]
[5,11,"NY306",499,97,27,121.59,null,null,null,null,34,40,13,4,6]
[5,12,"NY306",499,2,null,3,null,null,null,null,2]
[5,13,"NY306",499,2,1,82,null,null,null,null,1,null,null,1]
[5,0,"NY307",499,84,23,109.94,null,null,null,null,34,30,18,2]
[5,11,"NY307",499,80,23,113.99,null,null,null,null,32,30,16,2]
[5,12,"NY307",499,2,null,4,null,null,null,null,2]
[5,13,"NY307",499,2,null,54,null,null,null,null,null,null,2]
[5,0,"NY499",499,13917,6378,168.12,null,null,null,null,86,9207,4618,6]
[5,11,"NY499",499,13405,6263,170.83,null,null,null,null,13,8837,4551,4]
[5,12,"NY499",499,424,87,92.67,null,null,null,null,73,289,60,2]
[5,13,"NY499",499,88,28,118.57,null,null,null,null,null,81,7]
[5,0,"OH-1",499,2133,1006,192.46,null,null,null,null,194,1286,517,115,21]
[5,11,"OH-1",499,2028,993,199.16,null,null,null,null,169,1252,496,95,16]
[5,12,"OH-1",499,76,10,74.069999999999993,null,null,null,null,25,27,5,14,5]
[5,13,"OH-1",499,29,3,34.79,null,null,null,null,null,7,16,6]
[5,0,"OH325",499,303,65,91.89,null,null,null,null,136,103,40,15,9]
[5,11,"OH325",499,287,64,95.96,null,null,null,null,125,99,39,15,9]
[5,12,"OH325",499,12,null,3.5,null,null,null,null,11,1]
[5,13,"OH325",499,4,1,65,null,null,null,null,null,3,1]
[5,0,"OH499",499,16315,7540,164.31,null,null,null,null,76,10188,6046,5]
[5,11,"OH499",499,15756,7398,166.62,null,null,null,null,12,9739,6000,5]
[5,12,"OH499",499,482,111,92.79,null,null,null,null,64,376,42]
[5,13,"OH499",499,77,31,139.91999999999999,null,null,null,null,null,73,4]
[5,0,"OK-1",499,1338,603,195.45,null,null,null,null,141,812,288,75,22]
[5,11,"OK-1",499,1288,595,200,null,null,null,null,131,797,274,67,19]
[5,12,"OK-1",499,28,6,104.14,null,null,null,null,10,8,1,7,2]
[5,13,"OK-1",499,22,2,45.45,null,null,null,null,null,7,13,1,1]
[5,0,"OK351",499,196,39,86.52,null,null,null,null,46,79,57,8,6]
[5,11,"OK351",499,181,39,92.91,null,null,null,null,38,77,54,6,6]
[5,12,"OK351",499,9,null,3.44,null,null,null,null,8,null,null,1]
[5,13,"OK351",499,6,null,18.170000000000002,null,null,null,null,null,2,3,1]
[5,0,"OK499",499,9697,3992,150.79,null,null,null,null,43,5671,3982,1]
[5,11,"OK499",499,9347,3906,152.52000000000001,null,null,null,null,10,5410,3926,1]
[5,12,"OK499",499,306,73,105.27,null,null,null,null,33,219,54]
[5,13,"OK499",499,44,13,100.77,null,null,null,null,null,42,2]
[5,0,"OR-1",499,838,507,254.39,null,null,null,null,57,563,186,27,5]
[5,11,"OR-1",499,809,496,259.39,null,null,null,null,52,551,177,25,4]
[5,12,"OR-1",499,17,8,147.82,null,null,null,null,5,9,1,1,1]
[5,13,"OR-1",499,12,3,67.83,null,null,null,null,null,3,8,1]
[5,0,"OR348",499,111,17,64.5,null,null,null,null,50,45,14,1,1]
[5,11,"OR348",499,106,17,67.03,null,null,null,null,46,44,14,1,1]
[5,12,"OR348",499,4,null,3.75,null,null,null,null,4]
[5,13,"OR348",499,1,null,39,null,null,null,null,null,1]
[5,0,"OR499",499,7123,3587,182.67,null,null,null,null,24,4460,2637,2]
[5,11,"OR499",499,6887,3526,185.22,null,null,null,null,5,4279,2602,1]
[5,12,"OR499",499,208,47,97.19,null,null,null,null,19,154,34,1]
[5,13,"OR499",499,28,14,188.93,null,null,null,null,null,27,1]
[5,0,"OT-1",499,1190,698,199.72,null,null,null,null,113,808,223,38,8]
[5,11,"OT-1",499,1137,681,202.51,null,null,null,null,111,775,206,38,7]
[5,12,"OT-1",499,7,2,217.14,null,null,null,null,2,4,1]
[5,13,"OT-1",499,46,15,128.19999999999999,null,null,null,null,null,29,16,null,1]
[5,0,"OT499",499,7558,4906,200.82,null,null,null,null,38,5110,2410]
[5,11,"OT499",499,7219,4786,203.45,null,null,null,null,31,4805,2383]
[5,12,"OT499",499,158,56,146.79,null,null,null,null,7,130,21]
[5,13,"OT499",499,181,64,143.36000000000001,null,null,null,null,null,175,6]
[5,0,"PA-1",499,1837,924,221.05,null,null,null,null,155,1193,367,98,24]
[5,11,"PA-1",499,1769,910,226,null,null,null,null,145,1161,356,91,16]
[5,12,"PA-1",499,51,10,91.1,null,null,null,null,10,25,1,7,8]
[5,13,"PA-1",499,17,4,96.41,null,null,null,null,null,7,10]
[5,0,"PA310",499,251,74,111.47,null,null,null,null,58,135,45,10,3]
[5,11,"PA310",499,247,74,112.75,null,null,null,null,56,133,45,10,3]
[5,12,"PA310",499,2,null,3,null,null,null,null,2]
[5,13,"PA310",499,2,null,62.5,null,null,null,null,null,2]
[5,0,"PA311",499,73,10,77.81,null,null,null,null,26,22,15,10]
[5,11,"PA311",499,68,10,82.75,null,null,null,null,23,21,14,10]
[5,12,"PA311",499,4,null,3.5,null,null,null,null,3,1]
[5,13,"PA311",499,1,null,39,null,null,null,null,null,null,1]
[5,0,"PA499",499,15318,7139,171.55,null,null,null,null,89,9956,5271,2]
[5,11,"PA499",499,14645,6950,174.06,null,null,null,null,4,9429,5211,1]
[5,12,"PA499",499,600,152,108.89,null,null,null,null,85,457,57,1]
[5,13,"PA499",499,73,37,183.05,null,null,null,null,null,70,3]
[5,0,"PR-1",499,199,96,175.99,null,null,null,null,31,85,69,10,4]
[5,11,"PR-1",499,185,93,184.68,null,null,null,null,27,76,69,9,4]
[5,12,"PR-1",499,13,3,57.77,null,null,null,null,4,8,null,1]
[5,13,"PR-1",499,1,null,105,null,null,null,null,null,1]
[5,0,"PR355",499,297,92,153.72999999999999,null,null,null,null,24,193,67,13]
[5,11,"PR355",499,289,90,155.91,null,null,null,null,24,190,62,13]
[5,13,"PR355",499,8,2,74.88,null,null,null,null,null,3,5]
[5,0,"PR499",499,3833,1738,178.58,null,null,null,null,36,3052,743,2]
[5,11,"PR499",499,3616,1679,183.07,null,null,null,null,1,2894,720,1]
[5,12,"PR499",499,202,55,102.76,null,null,null,null,35,144,22,1]
[5,13,"PR499",499,15,4,118.4,null,null,null,null,null,14,1]
[5,0,"RI-1",499,192,81,172.67,null,null,null,null,18,124,40,7,3]
[5,11,"RI-1",499,187,80,175.92,null,null,null,null,18,121,39,6,3]
[5,12,"RI-1",499,4,1,61.75,null,null,null,null,null,3,null,1]
[5,13,"RI-1",499,1,null,8,null,null,null,null,null,null,1]
[5,0,"RI304",499,11,4,131.82,null,null,null,null,2,7,2]
[5,11,"RI304",499,11,4,131.82,null,null,null,null,2,7,2]
[5,0,"RI499",499,1462,606,166.93,null,null,null,null,9,1027,426]
[5,11,"RI499",499,1410,594,168.85,null,null,null,null,2,987,421]
[5,12,"RI499",499,42,9,101.95,null,null,null,null,7,30,5]
[5,13,"RI499",499,10,3,169.1,null,null,null,null,null,10]
[5,0,"SC-1",499,1843,825,180.23,null,null,null,null,221,1077,414,103,28]
[5,11,"SC-1",499,1776,811,183.11,null,null,null,null,212,1050,398,91,25]
[5,12,"SC-1",499,38,7,119.68,null,null,null,null,9,20,null,8,1]
[5,13,"SC-1",499,29,7,83.21,null,null,null,null,null,7,16,4,2]
[5,0,"SC319",499,305,63,77.11,null,null,null,null,108,112,78,6,1]
[5,11,"SC319",499,273,62,84.64,null,null,null,null,97,108,62,5,1]
[5,12,"SC319",499,12,null,4.08,null,null,null,null,10,1,null,1]
[5,13,"SC319",499,20,1,18.100000000000001,null,null,null,null,1,3,16]
[5,0,"SC499",499,14443,5735,149.28,null,null,null,null,47,9220,5173,3]
[5,11,"SC499",499,13973,5615,150.63,null,null,null,null,6,8850,5116,1]
[5,12,"SC499",499,378,88,102.43,null,null,null,null,41,281,54,2]
[5,13,"SC499",499,91,31,137.13,null,null,null,null,null,89,2]
[5,14,"SC499",499,1,1,185,null,null,null,null,null,null,1]
[5,0,"SD-1",499,270,128,198.11,null,null,null,null,25,173,60,11,1]
[5,11,"SD-1",499,266,128,200.44,null,null,null,null,24,173,58,10,1]
[5,12,"SD-1",499,2,null,41.5,null,null,null,null,1,null,null,1]
[5,13,"SD-1",499,2,null,46,null,null,null,null,null,null,2]
[5,0,"SD438",499,20,2,83.75,null,null,null,null,8,8,2,2]
[5,11,"SD438",499,14,2,112.29,null,null,null,null,4,7,1,2]
[5,12,"SD438",499,5,null,6.8,null,null,null,null,4,1]
[5,13,"SD438",499,1,null,69,null,null,null,null,null,null,1]
[5,0,"SD499",499,2094,910,163.09,null,null,null,null,6,1403,685]
[5,11,"SD499",499,2053,901,164.61,null,null,null,null,null,1375,678]
[5,12,"SD499",499,28,5,83.36,null,null,null,null,6,15,7]
[5,13,"SD499",499,13,4,94.54,null,null,null,null,null,13]
[5,0,"TN-1",499,1958,871,191.5,null,null,null,null,186,1170,475,107,20]
[5,11,"TN-1",499,1883,854,195.83,null,null,null,null,174,1137,454,101,17]
[5,12,"TN-1",499,45,11,87.13,null,null,null,null,12,22,3,5,3]
[5,13,"TN-1",499,30,6,76.3,null,null,null,null,null,11,18,1]
[5,0,"TN320",499,188,23,51.44,null,null,null,null,86,58,41,2,1]
[5,11,"TN320",499,152,23,61.22,null,null,null,null,71,49,30,1,1]
[5,12,"TN320",499,17,null,3.35,null,null,null,null,15,1,null,1]
[5,13,"TN320",499,19,null,16.16,null,null,null,null,null,8,11]
[5,0,"TN499",499,14493,6106,156,null,null,null,null,59,9198,5233,3]
[5,11,"TN499",499,13960,5986,158.16,null,null,null,null,9,8795,5155,1]
[5,12,"TN499",499,440,88,94.78,null,null,null,null,50,316,72,2]
[5,13,"TN499",499,93,32,122.37,null,null,null,null,null,87,6]
[5,0,"TX-1",499,6816,2658,167.91,null,null,null,null,706,3793,1836,392,89]
[5,11,"TX-1",499,6517,2604,172.33,null,null,null,null,655,3685,1731,362,84]
[5,12,"TX-1",499,141,28,89.6,null,null,null,null,51,61,6,18,5]
[5,13,"TX-1",499,158,26,55.43,null,null,null,null,null,47,99,12]
[5,0,"TX349",499,891,242,98.53,null,null,null,null,225,456,148,58,4]
[5,11,"TX349",499,832,235,102.17,null,null,null,null,207,437,132,54,2]
[5,12,"TX349",499,19,null,3.58,null,null,null,null,18,1]
[5,13,"TX349",499,40,7,67.83,null,null,null,null,null,18,16,4,2]
[5,0,"TX362",499,844,143,72.8,null,null,null,null,203,337,239,59,6]
[5,11,"TX362",499,777,135,74.55,null,null,null,null,193,324,199,55,6]
[5,12,"TX362",499,12,null,5.42,null,null,null,null,10,1,1]
[5,13,"TX362",499,55,8,62.82,null,null,null,null,null,12,39,4]
[5,0,"TX499",499,59612,20937,137.5,null,null,null,null,222,36855,22516,19]
[5,11,"TX499",499,57762,20510,138.66999999999999,null,null,null,null,31,35400,22318,13]
[5,12,"TX499",499,1372,282,96.45,null,null,null,null,191,1000,175,6]
[5,13,"TX499",499,477,144,114.3,null,null,null,null,null,455,22]
[5,14,"TX499",499,1,1,236,null,null,null,null,null,null,1]
[5,0,"UT-1",499,436,209,183.18,null,null,null,null,37,267,95,29,8]
[5,11,"UT-1",499,407,202,188.75,null,null,null,null,31,255,90,24,7]
[5,12,"UT-1",499,20,6,109.05,null,null,null,null,6,9,null,4,1]
[5,13,"UT-1",499,9,1,95.89,null,null,null,null,null,3,5,1]
[5,0,"UT341",499,51,9,70.47,null,null,null,null,20,18,9,4]
[5,11,"UT341",499,49,9,71.2,null,null,null,null,19,17,9,4]
[5,12,"UT341",499,1,null,5,null,null,null,null,1]
[5,13,"UT341",499,1,null,100,null,null,null,null,null,1]
[5,0,"UT499",499,3115,1290,148.32,null,null,null,null,14,1880,1221]
[5,11,"UT499",499,2998,1265,149.86000000000001,null,null,null,null,1,1792,1205]
[5,12,"UT499",499,88,16,94.23,null,null,null,null,13,61,14]
[5,13,"UT499",499,29,9,153.9,null,null,null,null,null,27,2]
[5,0,"VA-1",499,2622,1028,160.44,null,null,null,null,226,1479,736,145,36]
[5,11,"VA-1",499,2420,1001,168.81,null,null,null,null,217,1414,627,129,33]
[5,12,"VA-1",499,44,12,112.93,null,null,null,null,9,27,1,5,2]
[5,13,"VA-1",499,158,15,45.44,null,null,null,null,null,38,108,11,1]
[5,0,"VA314",499,321,44,58.54,null,null,null,null,132,140,35,12,2]
[5,11,"VA314",499,287,38,59.54,null,null,null,null,124,127,27,7,2]
[5,12,"VA314",499,8,null,3,null,null,null,null,8]
[5,13,"VA314",499,26,6,64.62,null,null,null,null,null,13,8,5]
[5,0,"VA499",499,21223,7662,136.57,null,null,null,null,81,12492,8640,10]
[5,11,"VA499",499,20499,7470,137.72,null,null,null,null,13,11899,8579,8]
[5,12,"VA499",499,371,79,90.89,null,null,null,null,68,255,46,2]
[5,13,"VA499",499,353,113,118.16,null,null,null,null,null,338,15]
[5,0,"VT-1",499,88,43,215.42,null,null,null,null,7,59,14,5,3]
[5,11,"VT-1",499,82,41,219,null,null,null,null,6,55,13,5,3]
[5,12,"VT-1",499,3,1,120,null,null,null,null,1,2]
[5,13,"VT-1",499,3,1,213,null,null,null,null,null,2,1]
[5,0,"VT405",499,4,1,100.75,null,null,null,null,3,1]
[5,11,"VT405",499,4,1,100.75,null,null,null,null,3,1]
[5,0,"VT499",499,651,359,201.82,null,null,null,null,4,455,192]
[5,11,"VT499",499,636,355,203.56,null,null,null,null,2,444,190]
[5,12,"VT499",499,12,3,122.83,null,null,null,null,2,8,2]
[5,13,"VT499",499,3,1,149,null,null,null,null,null,3]
[5,0,"WA-1",499,1642,831,199.07,null,null,null,null,126,1022,392,88,14]
[5,11,"WA-1",499,1554,821,207.65,null,null,null,null,111,990,360,82,11]
[5,12,"WA-1",499,35,6,77.37,null,null,null,null,15,15,1,2,2]
[5,13,"WA-1",499,53,4,27.85,null,null,null,null,null,17,31,4,1]
[5,0,"WA346",499,256,31,56.71,null,null,null,null,70,107,61,13,5]
[5,11,"WA346",499,242,30,57.85,null,null,null,null,62,103,59,13,5]
[5,12,"WA346",499,8,null,3.38,null,null,null,null,8]
[5,13,"WA346",499,6,1,82,null,null,null,null,null,4,2]
[5,0,"WA499",499,12180,5326,156.93,null,null,null,null,26,7696,4456,null,2]
[5,11,"WA499",499,11758,5215,158.72,null,null,null,null,3,7337,4417,null,1]
[5,12,"WA499",499,282,71,113.5,null,null,null,null,23,224,34,null,1]
[5,13,"WA499",499,140,40,93.96,null,null,null,null,null,135,5]
[5,0,"WI-1",499,1010,498,204.08,null,null,null,null,110,616,226,51,7]
[5,11,"WI-1",499,981,490,207.82,null,null,null,null,106,602,219,47,7]
[5,12,"WI-1",499,16,3,66.56,null,null,null,null,4,7,1,4]
[5,13,"WI-1",499,13,5,90.77,null,null,null,null,null,7,6]
[5,0,"WI330",499,131,15,49.84,null,null,null,null,59,41,19,9,3]
[5,11,"WI330",499,114,14,54.09,null,null,null,null,50,40,16,6,2]
[5,12,"WI330",499,15,1,23.4,null,null,null,null,9,1,1,3,1]
[5,13,"WI330",499,2,null,6,null,null,null,null,null,null,2]
[5,0,"WI499",499,7878,3623,168.3,null,null,null,null,24,4853,2998,3]
[5,11,"WI499",499,7668,3568,169.88,null,null,null,null,7,4693,2967,1]
[5,12,"WI499",499,174,38,99.41,null,null,null,null,17,128,27,2]
[5,13,"WI499",499,36,17,164.36,null,null,null,null,null,32,4]
[5,0,"WV-1",499,525,273,209.09,null,null,null,null,39,328,122,30,6]
[5,11,"WV-1",499,513,271,212.28,null,null,null,null,37,325,119,28,4]
[5,12,"WV-1",499,10,2,85.9,null,null,null,null,2,2,2,2,2]
[5,13,"WV-1",499,2,null,7,null,null,null,null,null,1,1]
[5,0,"WV315",499,30,6,67.63,null,null,null,null,12,8,9,1]
[5,11,"WV315",499,28,6,72.319999999999993,null,null,null,null,10,8,9,1]
[5,12,"WV315",499,2,null,2,null,null,null,null,2]
[5,0,"WV499",499,3847,1863,170.21,null,null,null,null,16,2465,1366]
[5,11,"WV499",499,3729,1838,173,null,null,null,null,1,2383,1345]
[5,12,"WV499",499,107,21,79.69,null,null,null,null,15,71,21]
[5,13,"WV499",499,11,4,103.64,null,null,null,null,null,11]
[5,0,"WY-1",499,163,82,206.69,null,null,null,null,5,120,30,8]
[5,11,"WY-1",499,159,80,209.29,null,null,null,null,4,117,30,8]
[5,12,"WY-1",499,3,2,129.66999999999999,null,null,null,null,1,2]
[5,13,"WY-1",499,1,null,24,null,null,null,null,null,1]
[5,0,"WY442",499,16,5,124.44,null,null,null,null,11,5]
[5,11,"WY442",499,15,5,132.47,null,null,null,null,10,5]
[5,12,"WY442",499,1,null,4,null,null,null,null,1]
[5,0,"WY499",499,1310,594,170.88,null,null,null,null,3,875,432]
[5,11,"WY499",499,1272,584,173.5,null,null,null,null,null,845,427]
[5,12,"WY499",499,21,6,89.52,null,null,null,null,3,14,4]
[5,13,"WY499",499,17,4,75.290000000000006,null,null,null,null,null,16,1]
[5,11,"AK100",499,1882,814,162.12,null,null,null,null,25,1432,412,11,2]
[5,12,"AK100",499,24,9,138.13,null,null,null,null,null,20,4]
[5,13,"AK100",499,53,19,100.55,null,null,null,null,null,42,9,2]
[5,0,"AK100",499,1959,842,160.16,null,null,null,null,25,1494,425,13,2]
[5,11,"AL100",499,14981,6079,153.94999999999999,null,null,null,null,248,9406,5193,110,24]
[5,12,"AL100",499,491,102,101.24,null,null,null,null,89,334,57,7,4]
[5,13,"AL100",499,126,46,120.25,null,null,null,null,null,98,24,4]
[5,0,"AL100",499,15598,6227,152.02000000000001,null,null,null,null,337,9838,5274,121,28]
[5,11,"AR100",499,6857,3129,170.78,null,null,null,null,103,4321,2381,37,15]
[5,12,"AR100",499,245,52,88.17,null,null,null,null,44,161,36,3,1]
[5,13,"AR100",499,50,16,128.04,null,null,null,null,null,34,16]
[5,0,"AR100",499,7152,3197,167.65,null,null,null,null,147,4516,2433,40,16]
[5,11,"AZ100",499,13799,6105,162.52000000000001,null,null,null,null,227,8497,4977,80,18]
[5,12,"AZ100",499,449,84,87.58,null,null,null,null,87,306,46,8,2]
[5,13,"AZ100",499,110,36,113.82,null,null,null,null,null,83,23,4]
[5,0,"AZ100",499,14358,6225,159.80000000000001,null,null,null,null,314,8886,5046,92,20]
[5,11,"CA100",499,48680,19754,159.09,null,null,null,null,792,31413,16102,285,88]
[5,12,"CA100",499,1279,290,103.12,null,null,null,null,233,912,106,18,10]
[5,13,"CA100",499,566,136,92.88,null,null,null,null,null,439,108,16,3]
[5,0,"CA100",499,50525,20180,156.93,null,null,null,null,1025,32764,16316,319,101]
[5,11,"CO100",499,11522,4437,145.79,null,null,null,null,161,6827,4440,79,15]
[5,12,"CO100",499,228,38,81.34,null,null,null,null,42,152,30,3,1]
[5,13,"CO100",499,152,34,95.05,null,null,null,null,3,103,41,4,1]
[5,0,"CO100",499,11902,4509,143.91,null,null,null,null,206,7082,4511,86,17]
[5,11,"CT100",499,3411,1643,182.05,null,null,null,null,46,2350,997,11,7]
[5,12,"CT100",499,124,27,93.6,null,null,null,null,19,96,6,3]
[5,13,"CT100",499,39,19,147.82,null,null,null,null,null,32,5,2]
[5,0,"CT100",499,3574,1689,178.61,null,null,null,null,65,2478,1008,16,7]
[5,11,"DC100",499,712,291,151.04,null,null,null,null,15,438,253,4,2]
[5,12,"DC100",499,8,1,77.88,null,null,null,null,null,7,1]
[5,13,"DC100",499,10,null,41.1,null,null,null,null,null,7,2,1]
[5,0,"DC100",499,730,292,148.72999999999999,null,null,null,null,15,452,256,5,2]
[5,11,"DE100",499,1707,714,156.05000000000001,null,null,null,null,28,1085,580,12,2]
[5,12,"DE100",499,47,15,101.09,null,null,null,null,12,28,7]
[5,13,"DE100",499,21,7,100.38,null,null,null,null,null,19,2]
[5,0,"DE100",499,1775,736,153.93,null,null,null,null,40,1132,589,12,2]
[5,11,"FL100",499,55158,23281,153.86000000000001,null,null,null,null,815,32898,21006,347,92]
[5,12,"FL100",499,1387,303,95.36,null,null,null,null,230,976,141,24,16]
[5,13,"FL100",499,595,161,98.3,null,null,null,null,null,443,129,19,4]
[5,0,"FL100",499,57140,23745,151.86000000000001,null,null,null,null,1045,34317,21276,390,112]
[5,11,"GA100",499,28890,10610,143.5,null,null,null,null,486,18106,9975,253,70]
[5,12,"GA100",499,657,166,109.29,null,null,null,null,110,456,78,9,4]
[5,13,"GA100",499,242,74,128.63999999999999,null,null,null,null,null,177,56,8,1]
[5,0,"GA100",499,29789,10850,142.62,null,null,null,null,596,18739,10109,270,75]
[5,11,"HI100",499,3663,1586,164.05,null,null,null,null,45,2636,963,12,7]
[5,12,"HI100",499,58,14,144.29,null,null,null,null,6,47,4,1]
[5,13,"HI100",499,85,17,75.55,null,null,null,null,null,59,23,3]
[5,0,"HI100",499,3806,1617,161.77000000000001,null,null,null,null,51,2742,990,16,7]
[5,11,"IA100",499,5235,2547,177.13,null,null,null,null,75,3216,1907,30,7]
[5,12,"IA100",499,203,33,93.43,null,null,null,null,48,130,17,6,2]
[5,13,"IA100",499,35,15,120.4,null,null,null,null,null,28,7]
[5,0,"IA100",499,5473,2595,173.66,null,null,null,null,123,3374,1931,36,9]
[5,11,"ID100",499,3765,1697,166.06,null,null,null,null,44,2407,1293,17,4]
[5,12,"ID100",499,91,8,67.010000000000005,null,null,null,null,18,58,14,1]
[5,13,"ID100",499,37,11,122.59,null,null,null,null,null,27,7,3]
[5,0,"ID100",499,3893,1716,163.33000000000001,null,null,null,null,62,2492,1314,21,4]
[5,11,"IL100",499,14392,6438,163.69,null,null,null,null,205,9182,4907,78,20]
[5,12,"IL100",499,484,109,98.35,null,null,null,null,67,340,71,4,2]
[5,13,"IL100",499,104,35,103.16,null,null,null,null,null,80,21,3]
[5,0,"IL100",499,14980,6582,161.16,null,null,null,null,272,9602,4999,85,22]
[5,11,"IN100",499,10800,4950,167.03,null,null,null,null,165,6975,3590,52,18]
[5,12,"IN100",499,298,66,88.28,null,null,null,null,55,198,36,6,3]
[5,13,"IN100",499,58,22,108.9,null,null,null,null,null,46,10,2]
[5,0,"IN100",499,11156,5038,164.62,null,null,null,null,220,7219,3636,60,21]
[5,11,"KS100",499,4822,2219,170.63,null,null,null,null,82,2999,1692,41,8]
[5,12,"KS100",499,175,42,105.53,null,null,null,null,27,130,16,2]
[5,13,"KS100",499,65,20,113.62,null,null,null,null,null,58,5,2]
[5,0,"KS100",499,5062,2281,167.65,null,null,null,null,109,3187,1713,45,8]
[5,11,"KY100",499,8347,3940,164.75,null,null,null,null,109,5259,2915,58,6]
[5,12,"KY100",499,241,46,91.82,null,null,null,null,28,177,32,3,1]
[5,13,"KY100",499,69,19,103.9,null,null,null,null,null,52,13,4]
[5,0,"KY100",499,8657,4005,162.24,null,null,null,null,137,5488,2960,65,7]
[5,11,"LA100",499,10478,4382,161.25,null,null,null,null,173,6719,3508,64,14]
[5,12,"LA100",499,300,61,97.12,null,null,null,null,50,207,36,5,2]
[5,13,"LA100",499,86,18,79.16,null,null,null,null,null,67,17,2]
[5,0,"LA100",499,10864,4461,158.83000000000001,null,null,null,null,223,6993,3561,71,16]
[5,11,"MA100",499,6238,2840,172.05,null,null,null,null,63,4222,1910,33,10]
[5,12,"MA100",499,166,43,104.72,null,null,null,null,29,118,15,3,1]
[5,13,"MA100",499,46,21,140.47999999999999,null,null,null,null,null,38,6,2]
[5,0,"MA100",499,6450,2904,170.09,null,null,null,null,92,4378,1931,38,11]
[5,11,"MD100",499,11288,3832,135.33000000000001,null,null,null,null,169,6833,4194,78,14]
[5,12,"MD100",499,224,59,113.96,null,null,null,null,43,152,25,4]
[5,13,"MD100",499,236,59,96.79,null,null,null,null,null,173,57,6]
[5,0,"MD100",499,11748,3950,134.15,null,null,null,null,212,7158,4276,88,14]
[5,11,"ME100",499,2524,1275,184.51,null,null,null,null,29,1693,785,13,4]
[5,12,"ME100",499,64,17,103.13,null,null,null,null,12,40,9,2,1]
[5,13,"ME100",499,21,13,205.1,null,null,null,null,null,19,2]
[5,0,"ME100",499,2609,1305,182.68,null,null,null,null,41,1752,796,15,5]
[5,11,"MI100",499,12818,5864,168.08,null,null,null,null,199,7873,4643,84,19]
[5,12,"MI100",499,510,122,110.88,null,null,null,null,83,362,57,6,2]
[5,13,"MI100",499,76,26,112.79,null,null,null,null,null,61,13,2]
[5,0,"MI100",499,13404,6012,165.59,null,null,null,null,282,8296,4713,92,21]
[5,11,"MN100",499,7794,3673,180.59,null,null,null,null,114,4851,2778,38,13]
[5,12,"MN100",499,234,53,99.65,null,null,null,null,41,158,30,4,1]
[5,13,"MN100",499,28,10,123.71,null,null,null,null,null,26,2]
[5,0,"MN100",499,8056,3736,178.04,null,null,null,null,155,5035,2810,42,14]
[5,11,"MO100",499,11883,5454,171.05,null,null,null,null,184,7519,4078,88,14]
[5,12,"MO100",499,404,99,99.48,null,null,null,null,83,272,36,12,1]
[5,13,"MO100",499,100,38,122.56,null,null,null,null,null,76,20,3,1]
[5,0,"MO100",499,12387,5591,168.33,null,null,null,null,267,7867,4134,103,16]
[5,11,"MS100",499,7502,3206,157.21,null,null,null,null,110,4830,2496,49,17]
[5,12,"MS100",499,239,51,108.95,null,null,null,null,47,159,28,3,2]
[5,13,"MS100",499,53,18,111.45,null,null,null,null,null,43,9,1]
[5,0,"MS100",499,7794,3275,155.41999999999999,null,null,null,null,157,5032,2533,53,19]
[5,11,"MT100",499,2696,1308,177.03,null,null,null,null,35,1837,809,12,3]
[5,12,"MT100",499,63,12,103.81,null,null,null,null,10,40,12,1]
[5,13,"MT100",499,26,12,132.22999999999999,null,null,null,null,null,23,2,1]
[5,0,"MT100",499,2785,1332,174.96,null,null,null,null,45,1900,823,14,3]
[5,11,"NC100",499,26968,10069,142.76,null,null,null,null,456,17020,9276,176,40]
[5,12,"NC100",499,742,157,97.58,null,null,null,null,101,496,130,9,6]
[5,13,"NC100",499,305,61,77.959999999999994,null,null,null,null,null,221,79,4,1]
[5,0,"NC100",499,28015,10287,140.86000000000001,null,null,null,null,557,17737,9485,189,47]
[5,11,"ND100",499,1309,625,173.56,null,null,null,null,27,806,463,12,1]
[5,12,"ND100",499,32,5,81.72,null,null,null,null,4,26,2]
[5,13,"ND100",499,11,4,193.82,null,null,null,null,null,7,3,null,1]
[5,0,"ND100",499,1352,634,171.55,null,null,null,null,31,839,468,12,2]
[5,11,"NE100",499,3723,1577,154.58000000000001,null,null,null,null,81,2307,1305,29,1]
[5,12,"NE100",499,84,19,107.36,null,null,null,null,18,52,13,1]
[5,13,"NE100",499,38,9,81.66,null,null,null,null,null,30,7,1]
[5,0,"NE100",499,3845,1605,152.83000000000001,null,null,null,null,99,2389,1325,31,1]
[5,11,"NH100",499,1929,909,185.96,null,null,null,null,18,1289,609,11,2]
[5,12,"NH100",499,55,10,93.02,null,null,null,null,12,39,3,1]
[5,13,"NH100",499,23,10,170.61,null,null,null,null,null,21,2]
[5,0,"NH100",499,2007,929,183.24,null,null,null,null,30,1349,614,12,2]
[5,11,"NJ100",499,7613,3389,175.8,null,null,null,null,104,5151,2314,34,10]
[5,12,"NJ100",499,246,55,96.75,null,null,null,null,38,178,22,5,3]
[5,13,"NJ100",499,54,27,169.06,null,null,null,null,null,46,7,1]
[5,0,"NJ100",499,7913,3471,173.3,null,null,null,null,142,5375,2343,40,13]
[5,11,"NM100",499,4287,1981,163.19999999999999,null,null,null,null,60,2589,1604,25,9]
[5,12,"NM100",499,131,44,122.97,null,null,null,null,20,100,10,null,1]
[5,13,"NM100",499,52,17,131.15,null,null,null,null,null,42,10]
[5,0,"NM100",499,4470,2042,161.65,null,null,null,null,80,2731,1624,25,10]
[5,11,"NV100",499,8129,3370,156.22,null,null,null,null,221,5151,2693,44,20]
[5,12,"NV100",499,228,59,107.11,null,null,null,null,35,165,25,2,1]
[5,13,"NV100",499,66,12,85.62,null,null,null,null,null,48,15,2,1]
[5,0,"NV100",499,8423,3441,154.33000000000001,null,null,null,null,256,5364,2733,48,22]
[5,11,"NY100",499,15295,7143,173.72,null,null,null,null,222,9984,4985,81,23]
[5,12,"NY100",499,484,101,96.37,null,null,null,null,91,314,63,10,6]
[5,13,"NY100",499,119,35,109.13,null,null,null,null,1,92,24,2]
[5,0,"NY100",499,15898,7279,170.88,null,null,null,null,314,10390,5072,93,29]
[5,11,"OH100",499,18071,8455,169.15,null,null,null,null,306,11090,6535,115,25]
[5,12,"OH100",499,570,121,88.41,null,null,null,null,100,404,47,14,5]
[5,13,"OH100",499,110,35,109.48,null,null,null,null,null,83,21,6]
[5,0,"OH100",499,18751,8611,166.35,null,null,null,null,406,11577,6603,135,30]
[5,11,"OK100",499,10816,4540,157.16999999999999,null,null,null,null,179,6284,4254,74,25]
[5,12,"OK100",499,343,79,102.5,null,null,null,null,51,227,55,8,2]
[5,13,"OK100",499,72,15,76.989999999999995,null,null,null,null,null,51,18,2,1]
[5,0,"OK100",499,11231,4634,154.99,null,null,null,null,230,6562,4327,84,28]
[5,11,"OR100",499,7802,4039,191.31,null,null,null,null,103,4874,2793,27,5]
[5,12,"OR100",499,229,55,99.32,null,null,null,null,28,163,35,2,1]
[5,13,"OR100",499,41,17,149.83000000000001,null,null,null,null,null,31,9,1]
[5,0,"OR100",499,8072,4111,188.49,null,null,null,null,131,5068,2837,30,6]
[5,11,"OT100",499,8356,5467,203.32,null,null,null,null,142,5580,2589,38,7]
[5,12,"OT100",499,165,58,149.78,null,null,null,null,9,134,22]
[5,13,"OT100",499,227,79,140.29,null,null,null,null,null,204,22,null,1]
[5,0,"OT100",499,8748,5604,200.67,null,null,null,null,151,5918,2633,38,8]
[5,11,"PA100",499,16729,7944,178.27,null,null,null,null,228,10744,5626,112,19]
[5,12,"PA100",499,657,162,106.54,null,null,null,null,100,483,58,8,8]
[5,13,"PA100",499,93,41,163.08000000000001,null,null,null,null,null,79,14]
[5,0,"PA100",499,17479,8147,175.5,null,null,null,null,328,11306,5698,120,27]
[5,11,"PR100",499,4090,1862,181.22,null,null,null,null,52,3160,851,23,4]
[5,12,"PR100",499,215,58,100.04,null,null,null,null,39,152,22,2]
[5,13,"PR100",499,24,6,103.33,null,null,null,null,null,18,6]
[5,0,"PR100",499,4329,1926,176.76,null,null,null,null,91,3330,879,25,4]
[5,11,"RI100",499,1608,678,169.42,null,null,null,null,22,1115,462,6,3]
[5,12,"RI100",499,46,10,98.46,null,null,null,null,7,33,5,1]
[5,13,"RI100",499,11,3,154.44999999999999,null,null,null,null,null,10,1]
[5,0,"RI100",499,1665,691,167.36,null,null,null,null,29,1158,468,7,3]
[5,11,"SC100",499,16022,6488,153.1,null,null,null,null,315,10008,5576,97,26]
[5,12,"SC100",499,428,95,101.21,null,null,null,null,60,302,54,11,1]
[5,13,"SC100",499,140,39,108.96,null,null,null,null,1,99,34,4,2]
[5,14,"SC100",499,1,1,185,null,null,null,null,null,null,1]
[5,0,"SC100",499,16591,6623,151.38999999999999,null,null,null,null,376,10409,5665,112,29]
[5,11,"SD100",499,2333,1031,168.38,null,null,null,null,28,1555,737,12,1]
[5,12,"SD100",499,35,5,70.03,null,null,null,null,11,16,7,1]
[5,13,"SD100",499,16,4,86.88,null,null,null,null,null,13,3]
[5,0,"SD100",499,2384,1040,166.39,null,null,null,null,39,1584,747,13,1]
[5,11,"TN100",499,15995,6863,161.66999999999999,null,null,null,null,254,9981,5639,103,18]
[5,12,"TN100",499,502,99,91,null,null,null,null,77,339,75,8,3]
[5,13,"TN100",499,142,38,98.42,null,null,null,null,null,106,35,1]
[5,0,"TN100",499,16639,7000,159,null,null,null,null,331,10426,5749,112,21]
[5,11,"TX100",499,65888,23484,140.78,null,null,null,null,1086,39846,24380,484,92]
[5,12,"TX100",499,1544,310,93.97,null,null,null,null,270,1063,182,24,5]
[5,13,"TX100",499,730,185,95.13,null,null,null,null,null,532,176,20,2]
[5,14,"TX100",499,1,1,236,null,null,null,null,null,null,1]
[5,0,"TX100",499,68163,23980,139.22999999999999,null,null,null,null,1356,41441,24739,528,99]
[5,11,"UT100",499,3454,1476,153.33000000000001,null,null,null,null,51,2064,1304,28,7]
[5,12,"UT100",499,109,22,96.13,null,null,null,null,20,70,14,4,1]
[5,13,"UT100",499,39,10,139.13,null,null,null,null,null,31,7,1]
[5,0,"UT100",499,3602,1508,151.44,null,null,null,null,71,2165,1325,33,8]
[5,11,"VA100",499,23206,8509,139.99,null,null,null,null,354,13440,9233,144,35]
[5,12,"VA100",499,423,91,91.52,null,null,null,null,85,282,47,7,2]
[5,13,"VA100",499,537,134,94.17,null,null,null,null,null,389,131,16,1]
[5,0,"VA100",499,24166,8734,138.13,null,null,null,null,439,14111,9411,167,38]
[5,11,"VT100",499,722,397,204.74,null,null,null,null,11,500,203,5,3]
[5,12,"VT100",499,15,4,122.27,null,null,null,null,3,10,2]
[5,13,"VT100",499,6,2,181,null,null,null,null,null,5,1]
[5,0,"VT100",499,743,403,202.89,null,null,null,null,14,515,206,5,3]
[5,11,"WA100",499,13554,6066,162.53,null,null,null,null,176,8430,4836,95,17]
[5,12,"WA100",499,325,77,106.9,null,null,null,null,46,239,35,2,3]
[5,13,"WA100",499,199,45,75.989999999999995,null,null,null,null,null,156,38,4,1]
[5,0,"WA100",499,14078,6188,160.02000000000001,null,null,null,null,222,8825,4909,101,21]
[5,11,"WI100",499,8763,4072,172.62,null,null,null,null,163,5335,3202,54,9]
[5,12,"WI100",499,205,42,91.29,null,null,null,null,30,136,29,9,1]
[5,13,"WI100",499,51,22,139.38999999999999,null,null,null,null,null,39,12]
[5,0,"WI100",499,9019,4136,170.58,null,null,null,null,193,5510,3243,63,10]
[5,11,"WV100",499,4270,2115,177.06,null,null,null,null,48,2716,1473,29,4]
[5,12,"WV100",499,119,23,78.91,null,null,null,null,19,73,23,2,2]
[5,13,"WV100",499,13,4,88.77,null,null,null,null,null,12,1]
[5,0,"WV100",499,4402,2142,174.15,null,null,null,null,67,2801,1497,31,6]
[5,11,"WY100",499,1446,669,177.01,null,null,null,null,14,967,457,8]
[5,12,"WY100",499,25,8,90.92,null,null,null,null,5,16,4]
[5,13,"WY100",499,18,4,72.44,null,null,null,null,null,17,1]
[5,0,"WY100",499,1489,681,174.3,null,null,null,null,19,1000,462,8]
[5,0,35,499,8748,5604,200.67,287,4273,138.54,165.75,151,5918,2633,38,8]
[5,0,384,499,121742,47027,149.01,6505,84756,128.72,119.86,2412,74393,43856,899,182]
[5,0,393,499,231136,92472,150.61000000000001,11579,157053,132.97,122.64,4503,143737,80832,1646,418]
[5,0,394,499,152288,67766,166.37,7357,95595,142.91999999999999,133.19999999999999,2962,97514,50585,989,238]
[5,0,395,499,113186,47870,160.19,5534,72675,132.86000000000001,120.97,2237,72531,37519,698,201]
[5,11,35,499,8356,5467,203.32,272,4023,138.22,169.87,142,5580,2589,38,7]
[5,11,384,499,117584,46110,150.88999999999999,6114,79901,133.69,123.76,1882,71495,43222,819,166]
[5,11,393,499,222764,90533,152.58000000000001,10792,147121,138.24,126.98,3523,137864,79522,1490,365]
[5,11,394,499,146503,66288,168.83,6876,89425,148.77000000000001,138.43,2177,93378,49873,871,204]
[5,11,395,499,109015,46888,162.47999999999999,5133,67767,139.13999999999999,125.76,1744,69493,36977,624,177]
[5,12,35,499,165,58,149.78,3,61,110.67,42.79,9,134,22]
[5,12,384,499,2966,604,95.23,180,2303,47.14,40.840000000000003,527,2010,368,50,11]
[5,12,393,499,5989,1304,97.46,383,4739,54.09,42.47,979,4114,759,93,44]
[5,12,394,499,4607,1063,99.45,343,4016,51.5,41.87,784,3210,492,88,33]
[5,12,395,499,2923,662,101.78,203,2302,51.86,40.340000000000003,493,2080,293,38,19]
[5,13,35,499,227,79,140.29,12,189,152.75,117.65,null,204,22,null,1]
[5,13,384,499,1191,312,97.28,211,2552,54.18,69.069999999999993,3,888,265,30,5]
[5,13,393,499,2382,634,100.03,404,5192,66.78,72.849999999999994,1,1759,550,63,9]
[5,13,394,499,1178,415,121.32,138,2153,78.78,86.33,1,926,220,30,1]
[5,13,395,499,1248,320,96.59,198,2606,53.32,67.67,null,958,249,36,5]
[5,14,384,499,1,1,236,null,null,null,null,null,null,1]
[5,14,393,499,1,1,185,null,1,null,287,null,null,1]
[5,14,394,499,null,null,null,null,1,null,17]
[5,0,499,499,547451,227366,153.94,17,497,76.290000000000006,215.46,2368,348433,196512,136,2]
[5,0,499,499,null,null,null,null,16,null,41.19]
[5,11,499,499,528335,222534,155.66,16,480,74.06,215.16,359,333441,194440,94,1]
[5,12,499,499,14767,3370,101.09,1,17,112,223.88,2009,10854,1862,41,1]
[5,13,499,499,4347,1460,123.71,null,null,null,null,null,4138,208,1]
[5,13,499,499,null,null,null,null,16,null,41.19]
[5,14,499,499,2,2,210.5,null,null,null,null,null,null,2]
[7,1,100,8,19,null,987.79]
[7,1,100,3,27335,null,296.10000000000002]
[7,1,100,1,1242,null,1427.83]
[7,1,100,2,545,null,866.19]
[7,1,100,9,307,null,1652.04]
[7,1,100,10,7534,null,25.99]
[7,1,100,6,19,null,987.79]
[7,2,-1,2000,25968,null,289.5]
[7,2,306,2000,1,null,857]
[7,2,307,2000,2,null,395]
[7,2,309,2000,2,null,101.5]
[7,2,310,2000,9,null,388.67]
[7,2,311,2000,150,null,620.85]
[7,2,313,2000,3,null,1447.67]
[7,2,314,2000,2,null,2850.5]
[7,2,316,2000,2,null,1053.5]
[7,2,317,2000,16,null,582.5]
[7,2,319,2000,1,null,886]
[7,2,320,2000,1,null,1026]
[7,2,321,2000,1,null,12]
[7,2,322,2000,2,null,491.5]
[7,2,323,2000,148,null,537.42999999999995]
[7,2,325,2000,1,null,1580]
[7,2,327,2000,316,null,505.35]
[7,2,328,2000,2,null,1093.5]
[7,2,329,2000,2,null,2383.5]
[7,2,330,2000,1,null,1383]
[7,2,331,2000,1,null,360]
[7,2,335,2000,242,null,440.05]
[7,2,339,2000,14,null,1029.07]
[7,2,343,2000,4,null,373.25]
[7,2,344,2000,5,null,114]
[7,2,345,2000,1,null,29]
[7,2,346,2000,5,null,923.4]
[7,2,348,2000,1,null,1759]
[7,2,349,2000,1,null,10]
[7,2,351,2000,9,null,514.22]
[7,2,354,2000,2,null,157.5]
[7,2,355,2000,3,null,471.67]
[7,2,358,2000,83,null,596.82000000000005]
[7,2,362,2000,4,null,904.25]
[7,2,377,2000,1,null,67]
[7,2,397,2000,1739,null,1215.71]
[7,2,459,2000,1,null,60]
[7,2,463,2000,1,null,24]
[7,2,100,2000,28747,null,354.59]
[7,2,-1,3000,374,null,390.93]
[7,2,310,3000,1,null,11]
[7,2,100,3000,375,null,389.92]
[7,2,35,2000,27707,null,347.64]
[7,2,384,2000,270,null,478.34]
[7,2,393,2000,492,null,529.89]
[7,2,394,2000,174,null,649.98]
[7,2,395,2000,104,null,562.21]
[10,1,-1,-1,21916]
[8,11,309,"2022-01-03",0.97799999999999998,0.89283000000000001,0.89302000000000004,7.4679999999999996E-2,0.69359999999999999,0.18265999999999999]
[8,11,310,"2022-01-03",0.97353999999999996,0.8397,0.93766000000000005,6.3509999999999997E-2,0.89146999999999998,0.11151999999999999]
[8,11,311,"2022-01-03",0.92923999999999995,0.8,0.83655999999999997,0.10716000000000001,0.98426999999999998,2.3609999999999999E-2]
[8,11,314,"2022-01-03",0.94291000000000003,0.83711999999999998,0.96087,4.3209999999999998E-2,0.97289000000000003,4.1489999999999999E-2]
[8,11,327,"2022-01-03",0.98006000000000004,0.93095000000000006,0.90580000000000005,7.2929999999999995E-2,0.88644999999999996,0.11563]
[8,11,335,"2022-01-03",0.98440000000000005,0.95977000000000001,0.94549000000000005,4.7019999999999999E-2,0.96999000000000002,4.5960000000000001E-2]
[8,11,340,"2022-01-03",0.98104000000000002,0.94935999999999998,0.86716000000000004,8.609E-2,0.92706,5.688E-2]
[8,11,347,"2022-01-03",1,1,0.9123,7.9979999999999996E-2,0.92818999999999996,7.2989999999999999E-2]
[8,11,350,"2022-01-03",0.94728999999999997,0.82748999999999995,0.86816000000000004,7.2650000000000006E-2,0.91774,7.0480000000000001E-2]
[8,11,373,"2022-01-03",0.97965000000000002,0.88104000000000005,0.87712000000000001,8.097E-2,0.77993000000000001,0.11511]
[8,11,437,"2022-01-03",0.96596000000000004,0.86631999999999998,0.87305999999999995,9.0560000000000002E-2,0.91708999999999996,6.8529999999999994E-2]
[8,11,384,"2022-01-03",0.98131999999999997,0.92152000000000001,0.90817999999999999,2.8799999999999999E-2,0.92927000000000004,4.1439999999999998E-2]
[8,11,317,"2022-01-03",0.82750000000000001,0.78200000000000003,0.85463999999999996,0.10199999999999999,0.91359000000000001,7.3260000000000006E-2]
[8,11,318,"2022-01-03",0.97467999999999999,0.89253000000000005,0.88119000000000003,7.6619999999999994E-2,0.92064000000000001,6.7570000000000005E-2]
[8,11,321,"2022-01-03",0.97030000000000005,0.84611999999999998,0.88714000000000004,7.1080000000000004E-2,0.84162000000000003,8.5099999999999995E-2]
[8,11,328,"2022-01-03",1,1,0.93393999999999999,7.2499999999999995E-2,0.87448000000000004,0.10385999999999999]
[8,11,330,"2022-01-03",1,1,0.91695000000000004,7.6619999999999994E-2,0.96767999999999998,4.9509999999999998E-2]
[8,11,341,"2022-01-03",0.96716000000000002,0.97177999999999998,0.89627999999999997,9.579E-2,0.94437000000000004,5.8000000000000003E-2]
[8,11,346,"2022-01-03",0.98960999999999999,0.88746000000000003,0.87348000000000003,0.13063,0.94582999999999995,6.6820000000000004E-2]
[8,11,349,"2022-01-03",0.96291000000000004,0.94308000000000003,0.86345000000000005,9.2429999999999998E-2,0.90576999999999996,6.5519999999999995E-2]
[8,11,362,"2022-01-03",0.98163999999999996,0.88688,0.85923000000000005,8.9149999999999993E-2,0.88204000000000005,8.5760000000000003E-2]
[8,11,372,"2022-01-03",null,null,null,null,0.83926999999999996,4.9059999999999999E-2]
[8,11,320,"2022-01-03",0.98,1,0.90227999999999997,8.9599999999999999E-2,0.88712000000000002,9.9460000000000007E-2]
[8,11,333,"2022-01-03",1,1,0.94550000000000001,5.9299999999999999E-2,0.91178999999999999,7.85E-2]
[8,11,436,"2022-01-03",0.94006000000000001,0.82931999999999995,0.86748000000000003,0.10271,0.88505,0.11681]
[8,11,316,"2022-01-03",0.97833000000000003,0.86016000000000004,0.84738000000000002,9.4420000000000004E-2,0.76988000000000001,0.10979]
[8,11,322,"2022-01-03",0.98363999999999996,0.95279000000000003,0.88571999999999995,6.4769999999999994E-2,0.91257999999999995,8.8819999999999996E-2]
[8,11,325,"2022-01-03",0.98348999999999998,0.90647,0.89083999999999997,9.2249999999999999E-2,0.92910999999999999,7.0900000000000005E-2]
[8,11,329,"2022-01-03",0.96023000000000003,0.89437999999999995,0.83906000000000003,9.0060000000000001E-2,0.91866000000000003,7.8490000000000004E-2]
[8,11,331,"2022-01-03",1,1,0.93057000000000001,7.0150000000000004E-2,0.85080999999999996,0.11079]
[8,11,402,"2022-01-03",0.97438000000000002,0.94491000000000003,0.95243999999999995,5.4210000000000001E-2,0.95135999999999998,6.191E-2]
[8,11,405,"2022-01-03",0.97228000000000003,0.86904999999999999,0.84287999999999996,8.8099999999999998E-2,0.88319000000000003,8.8109999999999994E-2]
[8,11,442,"2022-01-03",0.97272999999999998,0.93833,0.88504000000000005,7.3679999999999995E-2,0.82477999999999996,9.8080000000000001E-2]
[8,11,393,"2022-01-03",0.95387999999999995,0.87829999999999997,0.87936999999999999,2.818E-2,0.89881999999999995,3.6659999999999998E-2]
[8,11,304,"2022-01-03",0.98694000000000004,0.92927000000000004,0.92227999999999999,7.9369999999999996E-2,0.98129999999999995,2.8139999999999998E-2]
[8,11,306,"2022-01-03",0.94906999999999997,0.92142999999999997,0.87665000000000004,9.5159999999999995E-2,0.82318000000000002,0.10398]
[8,11,315,"2022-01-03",0.97304000000000002,0.89288000000000001,0.93106,5.7889999999999997E-2,0.95096999999999998,6.019E-2]
[8,11,319,"2022-01-03",0.97374000000000005,0.83555000000000001,0.89219999999999999,6.8580000000000002E-2,0.85275000000000001,0.13794000000000001]
[8,11,452,"2022-01-03",1,1,0.91724000000000006,9.1539999999999996E-2,0.87039,8.9120000000000005E-2]
[8,11,null,"2022-01-03",0.97606999999999999,0.91622000000000003,0.89927999999999997,2.0490000000000001E-2,0.91700000000000004,3.0339999999999999E-2]
[8,11,326,"2022-01-03",0.98780000000000001,0.94323000000000001,0.86806000000000005,8.0100000000000005E-2,0.86173999999999995,8.0579999999999999E-2]
[8,11,334,"2022-01-03",1,1,0.97963,3.0669999999999999E-2,0.94181999999999999,7.1569999999999995E-2]
[8,11,344,"2022-01-03",0.98963999999999996,0.92183000000000004,0.88788,0.10338,0.89600999999999997,7.7189999999999995E-2]
[8,11,345,"2022-01-03",1,1,1,0,0.91705999999999999,7.8280000000000002E-2]
[8,11,348,"2022-01-03",0.97719999999999996,0.93832000000000004,0.91910000000000003,6.9459999999999994E-2,0.85785999999999996,0.1305]
[8,11,351,"2022-01-03",0.99121999999999999,0.91510999999999998,0.95257999999999998,5.8069999999999997E-2,0.91734000000000004,9.0700000000000003E-2]
[8,11,438,"2022-01-03",0.94384999999999997,0.87514000000000003,0.87709000000000004,9.9610000000000004E-2,0.93381000000000003,5.8169999999999999E-2]
[8,11,1,"2022-01-03",0.96924999999999994,0.89746000000000004,0.89609000000000005,1.528E-2,0.91435,1.916E-2]
[8,11,323,"2022-01-03",0.92896000000000001,0.88702000000000003,0.80701000000000001,9.6409999999999996E-2,0.89187000000000005,6.8000000000000005E-2]
[8,11,339,"2022-01-03",0.96921999999999997,0.91322000000000003,0.95191000000000003,5.8939999999999999E-2,0.78969,0.12987000000000001]
[8,11,343,"2022-01-03",0.82169999999999999,0.84519999999999995,0.91595000000000004,8.8419999999999999E-2,0.89975000000000005,7.8009999999999996E-2]
[8,11,377,"2022-01-03",0.92200000000000004,0.78361999999999998,0.90173999999999999,7.5770000000000004E-2,0.91624000000000005,7.2040000000000007E-2]
[8,11,459,"2022-01-03",0.97218000000000004,1,0.94098999999999999,6.2789999999999999E-2,0.89271,8.8950000000000001E-2]
[8,11,395,"2022-01-03",0.97319,0.88575000000000004,0.90676999999999996,4.0050000000000002E-2,0.91962999999999995,4.3720000000000002E-2]
[8,11,301,"2022-01-03",0.97321999999999997,0.91188999999999998,0.89812000000000003,9.3659999999999993E-2,0.89681999999999995,8.0390000000000003E-2]
[8,11,307,"2022-01-03",0.95606999999999998,0.84953000000000001,0.89336000000000004,7.0709999999999995E-2,0.95147000000000004,5.2359999999999997E-2]
[8,11,308,"2022-01-03",0.97563,0.90315000000000001,0.87975000000000003,6.9290000000000004E-2,0.85172999999999999,0.10649]
[8,11,313,"2022-01-03",1,1,0.89839999999999998,7.5539999999999996E-2,0.83940999999999999,9.0829999999999994E-2]
[8,11,354,"2022-01-03",0.97750000000000004,0.91005999999999998,0.92747000000000002,8.0949999999999994E-2,0.93078000000000005,5.9859999999999997E-2]
[8,11,355,"2022-01-03",0.89714000000000005,0.76963000000000004,0.87763999999999998,8.3379999999999996E-2,0.74419000000000002,9.8070000000000004E-2]
[8,11,358,"2022-01-03",1,1,0.92883000000000004,5.4850000000000003E-2,0.97670000000000001,3.508E-2]
[8,11,460,"2022-01-03",1,1,0.91283999999999998,7.1309999999999998E-2,0.95745000000000002,5.1659999999999998E-2]
[8,11,463,"2022-01-03",0.98450000000000004,1,0.92123999999999995,6.7390000000000005E-2,0.89154,7.5600000000000001E-2]
[8,12,330,"2022-01-03",null,1,0.97499999999999998,3.7719999999999997E-2,0.99092999999999998,1.353E-2]
[8,12,310,"2022-01-03",null,0.96106999999999998,0.96596000000000004,2.707E-2,0.93601000000000001,4.8930000000000001E-2]
[8,12,1,"2022-01-03",null,0.98802999999999996,0.97104000000000001,2.9489999999999999E-2,0.96340000000000003,1.992E-2]
[8,12,335,"2022-01-03",null,1,0.97106999999999999,4.419E-2,0.96348,2.8150000000000001E-2]
[9,1,1,"2022-01-07",3338]
[9,1,307,"2022-01-07",2018]
[9,1,351,"2022-01-07",1320]
[9,2,1,"2022-01-07",47599]
[9,2,307,"2022-01-07",22388]
[9,2,351,"2022-01-07",25211]
[1,2000,-1,-1,16901,4599,91.1]
[1,2000,100,-1,56067,10245,90.44]
[1,2000,301,-1,93,7,54.23]
[1,2000,304,-1,337,39,60.55]
[1,2000,306,-1,236,28,75.14]
[1,2000,307,-1,125,13,129.25]
[1,2000,308,-1,67,8,68.930000000000007]
[1,2000,309,-1,132,18,52.86]
[1,2000,310,-1,650,133,85.49]
[1,2000,311,-1,272,25,82.34]
[1,2000,313,-1,298,36,60.02]
[1,2000,314,-1,796,106,66.52]
[1,2000,315,-1,96,16,155.4]
[1,2000,316,-1,716,123,103.05]
[1,2000,317,-1,1235,180,82.35]
[1,2000,318,-1,1717,224,71.92]
[1,2000,319,-1,2568,551,100.35]
[1,2000,320,-1,1208,166,72.5]
[1,2000,321,-1,191,18,65.89]
[1,2000,322,-1,374,40,66.290000000000006]
[1,2000,323,-1,249,41,80.84]
[1,2000,325,-1,724,134,96.67]
[1,2000,326,-1,3923,772,75.06]
[1,2000,327,-1,2458,306,64.41]
[1,2000,328,-1,344,45,64.8]
[1,2000,329,-1,1532,159,67.27]
[1,2000,330,-1,3001,325,60.07]
[1,2000,331,-1,472,103,93.85]
[1,2000,333,-1,143,19,66.739999999999995]
[1,2000,334,-1,1309,90,49.09]
[1,2000,335,-1,1456,259,90.89]
[1,2000,339,-1,279,30,63.11]
[1,2000,340,-1,93,17,76.31]
[1,2000,341,-1,2423,112,43.24]
[1,2000,343,-1,359,52,82.39]
[1,2000,344,-1,412,46,60.62]
[1,2000,345,-1,461,60,60.36]
[1,2000,346,-1,1022,173,77.69]
[1,2000,347,-1,112,15,69.010000000000005]
[1,2000,348,-1,194,29,68.900000000000006]
[1,2000,349,-1,1585,199,69.819999999999993]
[1,2000,350,-1,532,91,76.23]
[1,2000,351,-1,941,171,89.48]
[1,2000,354,-1,209,11,42.28]
[1,2000,355,-1,113,8,57.35]
[1,2000,358,-1,271,140,133.11000000000001]
[1,2000,362,-1,992,162,75.739999999999995]
[1,2000,372,-1,222,16,3043.83]
[1,2000,373,-1,119,22,94.73]
[1,2000,376,-1,2,2,249]
[1,2000,377,-1,1416,192,69.36]
[1,2000,402,-1,97,20,109.82]
[1,2000,405,-1,25,5,92.16]
[1,2000,436,-1,92,27,102.29]
[1,2000,437,-1,64,3,45.16]
[1,2000,438,-1,67,15,106.06]
[1,2000,442,-1,27,2,81.78]
[1,2000,452,-1,94,17,74.55]
[1,2000,459,-1,116,15,69.86]
[1,2000,460,-1,54,6,62.37]
[1,2000,463,-1,51,4,56.29]
[1,3000,-1,-1,1407,101,48.55]
[1,3000,100,-1,2088,196,55.4]
[1,3000,310,-1,113,13,63.27]
[1,3000,330,-1,278,45,72.849999999999994]
[1,3000,335,-1,290,37,68.849999999999994]
[1,2000,35,-1,16901,4599,91.1]
[1,2000,384,-1,7049,994,74.11]
[1,2000,393,-1,12253,1870,79.569999999999993]
[1,2000,394,-1,12725,1916,124.56]
[1,2000,395,-1,7139,866,62.87]
[2,2100,-1,-1,149682,44588]
[2,2100,100,-1,512572,165714]
[2,2100,301,-1,2772,927]
[2,2100,304,-1,2165,611]
[2,2100,306,-1,5168,1751]
[2,2100,307,-1,3426,1148]
[2,2100,308,-1,1959,745]
[2,2100,309,-1,3254,1138]
[2,2100,310,-1,8454,3181]
[2,2100,311,-1,6157,2227]
[2,2100,313,-1,6812,1949]
[2,2100,314,-1,15799,4894]
[2,2100,315,-1,2164,748]
[2,2100,316,-1,17759,5765]
[2,2100,317,-1,29578,10495]
[2,2100,318,-1,17473,5155]
[2,2100,319,-1,9034,2791]
[2,2100,320,-1,9040,2888]
[2,2100,321,-1,5869,1814]
[2,2100,322,-1,7754,2472]
[2,2100,323,-1,4412,1588]
[2,2100,325,-1,9719,3629]
[2,2100,326,-1,5695,1963]
[2,2100,327,-1,4586,1589]
[2,2100,328,-1,7894,2602]
[2,2100,329,-1,6337,2229]
[2,2100,330,-1,6794,2753]
[2,2100,331,-1,6479,2280]
[2,2100,333,-1,2467,808]
[2,2100,334,-1,2365,759]
[2,2100,335,-1,6860,2637]
[2,2100,339,-1,7143,2007]
[2,2100,340,-1,2369,873]
[2,2100,341,-1,2714,896]
[2,2100,343,-1,9974,3425]
[2,2100,344,-1,9617,2859]
[2,2100,345,-1,6679,2098]
[2,2100,346,-1,12415,4876]
[2,2100,347,-1,2146,750]
[2,2100,348,-1,4030,1512]
[2,2100,349,-1,21163,6639]
[2,2100,350,-1,4087,1434]
[2,2100,351,-1,6267,1924]
[2,2100,354,-1,4616,1459]
[2,2100,355,-1,1940,657]
[2,2100,358,-1,422,149]
[2,2100,362,-1,20016,6028]
[2,2100,372,-1,235,70]
[2,2100,373,-1,1023,341]
[2,2100,376,-1,468,464]
[2,2100,377,-1,12248,3883]
[2,2100,402,-1,1450,520]
[2,2100,405,-1,386,143]
[2,2100,436,-1,1603,605]
[2,2100,437,-1,1021,351]
[2,2100,438,-1,1479,522]
[2,2100,442,-1,925,357]
[2,2100,452,-1,3002,1009]
[2,2100,459,-1,3063,1021]
[2,2100,460,-1,855,252]
[2,2100,463,-1,1289,466]
[2,2200,-1,-1,17716,5192]
[2,2200,100,-1,167823,29847]
[2,2200,301,-1,619,133]
[2,2200,304,-1,871,191]
[2,2200,306,-1,1169,258]
[2,2200,307,-1,756,193]
[2,2200,308,-1,487,133]
[2,2200,309,-1,605,126]
[2,2200,310,-1,10441,953]
[2,2200,311,-1,1011,202]
[2,2200,313,-1,908,168]
[2,2200,314,-1,2122,457]
[2,2200,315,-1,421,123]
[2,2200,316,-1,2557,576]
[2,2200,317,-1,3797,821]
[2,2200,318,-1,9403,1643]
[2,2200,319,-1,3898,919]
[2,2200,320,-1,7023,1160]
[2,2200,321,-1,866,173]
[2,2200,322,-1,1216,233]
[2,2200,323,-1,808,188]
[2,2200,325,-1,1951,444]
[2,2200,326,-1,4870,1034]
[2,2200,327,-1,3371,557]
[2,2200,328,-1,1466,293]
[2,2200,329,-1,6290,1143]
[2,2200,330,-1,17121,1629]
[2,2200,331,-1,1247,290]
[2,2200,333,-1,614,150]
[2,2200,334,-1,1778,209]
[2,2200,335,-1,16774,1808]
[2,2200,339,-1,1453,288]
[2,2200,340,-1,383,70]
[2,2200,341,-1,2916,264]
[2,2200,343,-1,1511,306]
[2,2200,344,-1,1506,271]
[2,2200,345,-1,1289,254]
[2,2200,346,-1,3071,730]
[2,2200,347,-1,514,107]
[2,2200,348,-1,985,161]
[2,2200,349,-1,3608,783]
[2,2200,350,-1,2891,480]
[2,2200,351,-1,6682,1201]
[2,2200,354,-1,650,129]
[2,2200,355,-1,543,92]
[2,2200,358,-1,571,212]
[2,2200,362,-1,2895,570]
[2,2200,372,-1,286,28]
[2,2200,373,-1,333,76]
[2,2200,376,-1,2,2]
[2,2200,377,-1,10254,1603]
[2,2200,402,-1,409,155]
[2,2200,405,-1,131,33]
[2,2200,436,-1,320,91]
[2,2200,437,-1,302,38]
[2,2200,438,-1,521,124]
[2,2200,442,-1,155,35]
[2,2200,452,-1,504,139]
[2,2200,459,-1,572,122]
[2,2200,460,-1,157,35]
[2,2200,463,-1,233,49]
[2,2300,-1,-1,60,23]
[2,2300,100,-1,1727,283]
[2,2300,301,-1,9,1]
[2,2300,304,-1,10]
[2,2300,306,-1,31,2]
[2,2300,307,-1,12]
[2,2300,308,-1,10]
[2,2300,309,-1,18]
[2,2300,310,-1,50,2]
[2,2300,311,-1,23,2]
[2,2300,313,-1,25,1]
[2,2300,314,-1,29]
[2,2300,315,-1,11,1]
[2,2300,316,-1,36,1]
[2,2300,317,-1,81,7]
[2,2300,318,-1,67,4]
[2,2300,319,-1,32]
[2,2300,320,-1,47,9]
[2,2300,321,-1,14]
[2,2300,322,-1,22,1]
[2,2300,323,-1,30,1]
[2,2300,325,-1,31,3]
[2,2300,326,-1,24,2]
[2,2300,327,-1,281,181]
[2,2300,328,-1,32]
[2,2300,329,-1,44,6]
[2,2300,330,-1,49,3]
[2,2300,331,-1,26]
[2,2300,333,-1,10]
[2,2300,334,-1,8]
[2,2300,335,-1,75,6]
[2,2300,339,-1,20,2]
[2,2300,340,-1,12]
[2,2300,341,-1,11,1]
[2,2300,343,-1,33,2]
[2,2300,344,-1,36]
[2,2300,345,-1,15]
[2,2300,346,-1,47,3]
[2,2300,347,-1,10]
[2,2300,348,-1,15,1]
[2,2300,349,-1,67,3]
[2,2300,350,-1,16]
[2,2300,351,-1,23,1]
[2,2300,354,-1,11]
[2,2300,355,-1,7,1]
[2,2300,358,-1,5]
[2,2300,362,-1,35]
[2,2300,372,-1,2]
[2,2300,373,-1,6]
[2,2300,377,-1,107,11]
[2,2300,402,-1,4]
[2,2300,436,-1,8,1]
[2,2300,437,-1,5]
[2,2300,438,-1,4]
[2,2300,442,-1,5]
[2,2300,452,-1,12,1]
[2,2300,459,-1,6]
[2,2300,460,-1,5]
[2,2300,463,-1,3]
[2,2400,-1,-1,94518,73344]
[2,2400,100,-1,156781,107621]
[2,2400,301,-1,176,125]
[2,2400,304,-1,242,157]
[2,2400,306,-1,323,169]
[2,2400,307,-1,253,190]
[2,2400,308,-1,245,131]
[2,2400,309,-1,184,121]
[2,2400,310,-1,1420,1166]
[2,2400,311,-1,434,208]
[2,2400,313,-1,552,170]
[2,2400,314,-1,1869,1317]
[2,2400,315,-1,786,705]
[2,2400,316,-1,841,548]
[2,2400,317,-1,6545,3975]
[2,2400,318,-1,1118,671]
[2,2400,319,-1,645,407]
[2,2400,320,-1,847,492]
[2,2400,321,-1,339,158]
[2,2400,322,-1,813,273]
[2,2400,323,-1,594,250]
[2,2400,325,-1,2058,1623]
[2,2400,326,-1,455,305]
[2,2400,327,-1,443,323]
[2,2400,328,-1,574,356]
[2,2400,329,-1,853,453]
[2,2400,330,-1,1330,927]
[2,2400,331,-1,1263,1016]
[2,2400,333,-1,305,194]
[2,2400,334,-1,1227,871]
[2,2400,335,-1,2810,2116]
[2,2400,339,-1,389,279]
[2,2400,340,-1,219,180]
[2,2400,341,-1,1604,1485]
[2,2400,343,-1,1215,811]
[2,2400,344,-1,807,473]
[2,2400,345,-1,1348,1146]
[2,2400,346,-1,3737,1273]
[2,2400,347,-1,259,210]
[2,2400,348,-1,543,440]
[2,2400,349,-1,2959,2301]
[2,2400,350,-1,630,319]
[2,2400,351,-1,745,459]
[2,2400,354,-1,481,356]
[2,2400,355,-1,202,111]
[2,2400,358,-1,95,58]
[2,2400,362,-1,1660,881]
[2,2400,372,-1,13,5]
[2,2400,373,-1,122,72]
[2,2400,376,-1,12759,1878]
[2,2400,377,-1,1085,688]
[2,2400,402,-1,650,597]
[2,2400,405,-1,28,21]
[2,2400,436,-1,223,159]
[2,2400,437,-1,160,110]
[2,2400,438,-1,171,110]
[2,2400,442,-1,86,63]
[2,2400,452,-1,220,157]
[2,2400,459,-1,170,117]
[2,2400,460,-1,39,28]
[2,2400,463,-1,100,73]
[2,2500,-1,-1,2017,522]
[2,2500,100,-1,6661,2400]
[2,2500,301,-1,18,6]
[2,2500,304,-1,10,5]
[2,2500,306,-1,48,11]
[2,2500,307,-1,28,1]
[2,2500,308,-1,11,1]
[2,2500,309,-1,20,1]
[2,2500,310,-1,730,385]
[2,2500,311,-1,39,11]
[2,2500,313,-1,26,3]
[2,2500,314,-1,71,13]
[2,2500,315,-1,51,32]
[2,2500,316,-1,100,24]
[2,2500,317,-1,207,61]
[2,2500,318,-1,111,28]
[2,2500,319,-1,65,11]
[2,2500,320,-1,60,14]
[2,2500,321,-1,21,2]
[2,2500,322,-1,75,17]
[2,2500,323,-1,25,1]
[2,2500,325,-1,80,16]
[2,2500,326,-1,41,11]
[2,2500,327,-1,36,5]
[2,2500,328,-1,71,14]
[2,2500,329,-1,65,10]
[2,2500,330,-1,663,254]
[2,2500,331,-1,51,7]
[2,2500,333,-1,22,3]
[2,2500,334,-1,16,3]
[2,2500,335,-1,605,291]
[2,2500,339,-1,35,8]
[2,2500,340,-1,19,5]
[2,2500,341,-1,124,114]
[2,2500,343,-1,68,16]
[2,2500,344,-1,50,14]
[2,2500,345,-1,68,42]
[2,2500,346,-1,58,15]
[2,2500,347,-1,21,2]
[2,2500,348,-1,41,7]
[2,2500,349,-1,216,133]
[2,2500,350,-1,38,8]
[2,2500,351,-1,71,12]
[2,2500,354,-1,23,5]
[2,2500,355,-1,9,3]
[2,2500,358,-1,15,4]
[2,2500,362,-1,92,14]
[2,2500,373,-1,10,1]
[2,2500,376,-1,5,5]
[2,2500,377,-1,28,6]
[2,2500,402,-1,211,200]
[2,2500,405,-1,4,2]
[2,2500,436,-1,13,2]
[2,2500,437,-1,8,1]
[2,2500,438,-1,8,4]
[2,2500,442,-1,7,1]
[2,2500,452,-1,18,7]
[2,2500,459,-1,11,3]
[2,2500,460,-1,5,3]
[2,2500,463,-1,2]
[2,2600,-1,-1,709,407]
[2,2600,100,-1,14588,14057]
[2,2600,301,-1,1,1]
[2,2600,304,-1,3,3]
[2,2600,306,-1,2]
[2,2600,307,-1,1,1]
[2,2600,308,-1,1]
[2,2600,309,-1,3,2]
[2,2600,313,-1,4,2]
[2,2600,314,-1,7,3]
[2,2600,315,-1,419,416]
[2,2600,316,-1,2,1]
[2,2600,317,-1,76,50]
[2,2600,318,-1,18,12]
[2,2600,319,-1,5,5]
[2,2600,320,-1,6,4]
[2,2600,321,-1,2,2]
[2,2600,322,-1,4,4]
[2,2600,323,-1,3,2]
[2,2600,325,-1,10,5]
[2,2600,326,-1,9,6]
[2,2600,327,-1,10,5]
[2,2600,328,-1,4,3]
[2,2600,329,-1,5,2]
[2,2600,331,-1,3,3]
[2,2600,333,-1,6,3]
[2,2600,334,-1,6,3]
[2,2600,339,-1,1,1]
[2,2600,340,-1,2,2]
[2,2600,341,-1,8680,8658]
[2,2600,343,-1,2,1]
[2,2600,344,-1,3,3]
[2,2600,345,-1,1941,1880]
[2,2600,346,-1,18,11]
[2,2600,347,-1,7,7]
[2,2600,348,-1,2,1]
[2,2600,349,-1,1966,1929]
[2,2600,350,-1,1]
[2,2600,351,-1,22,13]
[2,2600,354,-1,2,1]
[2,2600,355,-1,1,1]
[2,2600,358,-1,5,4]
[2,2600,362,-1,3,1]
[2,2600,377,-1,3,3]
[2,2600,402,-1,593,585]
[2,2600,405,-1,3,2]
[2,2600,436,-1,2,2]
[2,2600,437,-1,3,2]
[2,2600,438,-1,1,1]
[2,2600,442,-1,3,2]
[2,2600,452,-1,3,1]
[2,2600,459,-1,1,1]
[2,2600,463,-1,1]
[2,3100,-1,-1,8467,841]
[2,3100,100,-1,10709,1202]
[2,3100,310,-1,655,116]
[2,3100,330,-1,791,139]
[2,3100,335,-1,796,106]
[2,3200,-1,-1,1410,104]
[2,3200,100,-1,2124,203]
[2,3200,310,-1,121,14]
[2,3200,330,-1,288,46]
[2,3200,335,-1,305,39]
[2,3300,-1,-1,13]
[2,3300,100,-1,2897,3]
[2,3300,310,-1,1036]
[2,3300,330,-1,930,1]
[2,3300,335,-1,918,2]
[2,3400,-1,-1,107,19]
[2,3400,100,-1,107,19]
[2,3500,100,-1,1]
[2,3500,330,-1,1]
[2,3600,100,-1,2758,1697]
[2,3600,310,-1,1270,857]
[2,3600,330,-1,580,287]
[2,3600,335,-1,908,553]
[2,2100,35,-1,149682,44588]
[2,2100,384,-1,74311,23646]
[2,2100,393,-1,129495,42290]
[2,2100,394,-1,87502,30923]
[2,2100,395,-1,71582,24267]
[2,2200,35,-1,17716,5192]
[2,2200,384,-1,35606,5436]
[2,2200,393,-1,38916,7422]
[2,2200,394,-1,51130,7519]
[2,2200,395,-1,24455,4278]
[2,2300,35,-1,60,23]
[2,2300,384,-1,272,14]
[2,2300,393,-1,673,206]
[2,2300,394,-1,411,22]
[2,2300,395,-1,311,18]
[2,2400,35,-1,94518,73344]
[2,2400,384,-1,10955,7700]
[2,2400,393,-1,15672,9549]
[2,2400,394,-1,23973,9718]
[2,2400,395,-1,11663,7310]
[2,2500,35,-1,2017,522]
[2,2500,384,-1,1111,479]
[2,2500,393,-1,869,219]
[2,2500,394,-1,2136,947]
[2,2500,395,-1,528,233]
[2,2600,35,-1,709,407]
[2,2600,384,-1,2016,1958]
[2,2600,393,-1,554,505]
[2,2600,394,-1,642,615]
[2,2600,395,-1,10667,10572]
[3,2100,100,10,49012,21787]
[3,2100,100,20,251448,73114]
[3,2100,100,40,87698,28736]
[3,2100,100,95,5,2]
[3,2100,100,110,91879,38497]
[3,2100,100,140,11491,3498]
[3,2100,100,320,1390,54]
[3,2100,100,410,63,19]
[3,2100,100,420,14,7]
[3,2200,100,"130G",18957,2655]
[3,2200,100,133,13,1]
[3,2200,100,135,84,4]
[3,2200,100,"290G",37110,7590]
[3,2200,100,"310G",15182,4578]
[3,2200,100,450,7,7]
[3,2200,100,"600G",96470,15012]
[3,2300,100,330,1020,41]
[3,2300,100,"680G",23,21]
[3,2300,100,682,1,1]
[3,2300,100,684,2,1]
[3,2300,100,685,263,184]
[3,2300,100,690,2,1]
[3,2300,100,"690G",416,34]
[3,2400,100,293,3,1]
[3,2400,100,335,20130,18448]
[3,2400,100,"400G",14019,3119]
[3,2400,100,409,1]
[3,2400,100,"500G",260,38]
[3,2400,100,510,38487,6570]
[3,2400,100,681,1022,754]
[3,2400,100,687,9526,9522]
[3,2400,100,688,62107,60992]
[3,2400,100,"930G",10497,7978]
[3,2400,100,"960G",729,199]
[3,2500,100,"160G",6661,2400]
[3,2600,100,165,14588,14057]
[3,3100,100,120,2192,252]
[3,3100,100,180,4450,507]
[3,3100,100,190,4067,443]
[3,3200,100,135,32,3]
[3,3200,100,137,7,1]
[3,3200,100,"150G",2080,194]
[3,3200,100,297,1,1]
[3,3200,100,607,4,4]
[3,3300,100,696,2897,3]
[3,3400,100,407,105,18]
[3,3400,100,937,2,1]
[3,3500,100,167,1]
[3,3600,100,165,2758,1697]
[3.1,2100,100,40,107270,28736]
[12,9000,100,1,7040,207,23.461505681818181]
[12,9000,100,1.1000000000000001,6504,43,18.014298892988929]
[12,9000,100,1.2,536,164,89.559701492537314]
[12,9000,100,2,16333,3548,110.40286536459928]
[12,9000,100,2.1,16084,3490,110.16308132305397]
[12,9000,100,2.2000000000000002,249,58,125.89156626506023]
[12,9000,100,3,3239,1205,161.95307193578265]
[12,9000,100,3.1,3159,1184,162.99715099715101]
[12,9000,100,3.2,80,21,120.72499999999999]
[12,9000,100,4,494,91,77.323886639676118]
[12,9000,100,4.0999999999999996,462,78,75.376623376623371]
[12,9000,100,4.2,32,13,105.4375]
[11,2100,100,10,9636,1029]
[11,2100,100,20,454,77]
[11,2100,100,110,1786,183]
[11,2200,100,"130G",35]
[11,2200,100,"290G",8]
[11,2300,100,330,656,3]
[11,2400,100,"400G",32,1]
[11,2400,100,"930G",2]
[4,0,-1,-1,218070,111062,147.94999999999999,10736,130442,145,132.16999999999999,4431,108185,103205,1766,483]
[4,0,100,-1,627100,260739,156.55000000000001,31262,414352,134.46,124.66,12265,394093,215425,4270,1047]
[4,0,301,-1,3059,1057,141.53,154,2143,120.21,107.73,47,2285,705,19,3]
[4,0,304,-1,2386,736,143.91999999999999,446,5618,52.77,41.51,40,1613,645,70,18]
[4,0,306,-1,5592,1944,150.88999999999999,259,3459,127.32,128.16,105,4220,1233,24,10]
[4,0,307,-1,3928,1396,149.43,204,2662,123.69,141.19,83,2857,959,25,4]
[4,0,308,-1,2189,870,163.07,110,1473,131.83000000000001,124.02,34,1638,502,10,5]
[4,0,309,-1,3542,1276,157.66999999999999,189,2343,118.13,123.86,67,2615,844,12,4]
[4,0,310,-1,10178,4269,176.66,466,6524,145.43,121.64,222,7542,2330,65,19]
[4,0,311,-1,6615,2447,151.44999999999999,301,4297,135.37,127.5,126,5134,1310,37,8]
[4,0,313,-1,7223,2125,132.33000000000001,357,5082,126.27,111.53,136,4981,2055,46,5]
[4,0,314,-1,17848,6263,149.94999999999999,798,11956,136.75,125.34,291,11491,5931,110,25]
[4,0,315,-1,2909,1391,179.53,137,1589,140.88,134.38999999999999,36,1914,946,11,2]
[4,0,316,-1,18959,6358,147.08000000000001,885,13261,134.94,126.23,340,13260,5195,133,31]
[4,0,317,-1,33577,13255,176.95,1463,20814,144.79,137.01,552,22626,10161,194,44]
[4,0,318,-1,18887,5796,137.01,947,14152,124.91,114.21,351,13241,5162,110,23]
[4,0,319,-1,9739,3146,142.62,539,7015,130.06,116.11,217,6843,2608,59,12]
[4,0,320,-1,9845,3305,150.13999999999999,487,6836,120.35,117.75,211,7143,2431,50,10]
[4,0,321,-1,6298,1980,130.81,297,4055,122.08,115.61,144,4512,1598,36,8]
[4,0,322,-1,8335,2723,146.80000000000001,382,5617,142.02000000000001,127.15,187,5925,2163,50,10]
[4,0,323,-1,4756,1791,164.14,250,3139,138.47999999999999,141.97,96,3475,1155,24,6]
[4,0,325,-1,11815,5135,202.06,510,7466,145.41999999999999,147.28,243,8153,3336,70,13]
[4,0,326,-1,6251,2255,157.63999999999999,301,4296,122.56,120.92,128,4707,1389,20,7]
[4,0,327,-1,4998,1797,151.07,266,3283,119.31,117.48,91,3643,1226,32,6]
[4,0,328,-1,8648,2933,138.41,434,5494,125.93,120.43,136,6301,2163,36,12]
[4,0,329,-1,7161,2608,160.84,365,5019,141.09,125.32,154,5150,1813,39,5]
[4,0,330,-1,8135,3517,205.63,441,5958,154.63,135.41,207,5987,1845,71,25]
[4,0,331,-1,7811,3185,166.53,401,4976,149.15,132.78,171,5441,2134,54,11]
[4,0,333,-1,2787,976,149.24,140,1747,114.29,121.45,70,2000,694,18,5]
[4,0,334,-1,3530,1572,171.31,136,2101,128.52000000000001,140.71,63,2087,1357,21,2]
[4,0,335,-1,9297,4275,213.8,470,6558,139.71,129.15,265,6573,2367,74,18]
[4,0,339,-1,7679,2287,130.58000000000001,436,5473,119.68,108.83,137,5086,2389,59,8]
[4,0,340,-1,2645,1039,178.22,134,1749,119.12,145.62,49,1878,702,12,4]
[4,0,341,-1,4375,2354,218.29,144,2257,136.36000000000001,142.61000000000001,60,2501,1795,15,4]
[4,0,343,-1,11313,4213,154.04,514,7329,125.52,118.79,237,8119,2894,47,16]
[4,0,344,-1,10436,3213,128.38999999999999,506,6831,120.32,104.01,198,7437,2732,63,6]
[4,0,345,-1,8184,3210,161.41,396,5402,122.37,118.84,171,5578,2390,38,7]
[4,0,346,-1,13601,5628,208.18,1154,15299,89.38,88.68,214,8881,4326,156,24]
[4,0,347,-1,2439,940,160.52000000000001,115,1633,128.6,119.45,45,1775,601,15,3]
[4,0,348,-1,4626,1877,183.42,217,2822,171.19,143.87,89,3418,1100,16,3]
[4,0,349,-1,24376,8884,160.34,1176,16291,136.4,124.6,430,16462,7328,131,25]
[4,0,350,-1,4489,1655,159.80000000000001,221,3006,140.71,129.15,89,3228,1140,23,9]
[4,0,351,-1,6880,2287,163.19999999999999,411,5083,128.03,122.84,131,4667,2021,39,22]
[4,0,354,-1,5202,1839,149.66,239,3061,130.15,119.2,178,3656,1330,28,10]
[4,0,355,-1,2102,736,174.78,93,1766,114.87,130.66999999999999,48,1818,222,13,1]
[4,0,358,-1,477,193,185.53,22,311,120.73,111.69,10,389,73,4,1]
[4,0,362,-1,21313,6708,152.11000000000001,1035,14792,127.1,121.02,383,14497,6280,135,18]
[4,0,372,-1,274,84,136.94999999999999,10,229,90.2,122.58,4,179,90,1]
[4,0,373,-1,1148,401,148.22999999999999,58,745,127.24,123.09,23,853,266,5,1]
[4,0,376,-1,516,512,250.19,19,425,248.11,191.59,1,326,187,2]
[4,0,377,-1,13555,4599,161.34,663,9722,132.81,117.44,222,9247,3961,90,35]
[4,0,402,-1,2101,1091,173.46,92,1090,145.68,142.22,35,1386,670,7,3]
[4,0,405,-1,425,166,154.76,34,291,162.74,141.37,10,335,78,1,1]
[4,0,436,-1,1798,733,164.28,58,997,172.72,144.16999999999999,28,1359,400,10,1]
[4,0,437,-1,1184,452,164.39,64,874,108.97,111.49,24,851,300,7,2]
[4,0,438,-1,1637,624,169.86,81,1007,120.25,134.43,18,1229,382,8]
[4,0,442,-1,1019,421,187.82,35,631,119.37,129.03,16,755,243,5]
[4,0,452,-1,3310,1182,151.16,189,2178,139.16999999999999,124.03,65,2340,876,26,3]
[4,0,459,-1,3293,1141,139.86000000000001,187,2206,117.89,119.36,68,2518,685,17,5]
[4,0,460,-1,922,284,118.61,43,659,123.37,107.45,17,673,225,7]
[4,0,463,-1,1413,543,175.93,45,818,149.53,136.09,21,1110,277,4,1]
[4,11,-1,-1,212627,109740,149.41,10180,123641,148.96,136.4,3732,104309,102500,1644,442]
[4,11,301,-1,2961,1035,143.19,150,2035,122.19,110.86,32,2215,695,16,3]
[4,11,304,-1,2317,726,146.13,444,5551,52.92,41.33,29,1564,638,68,18]
[4,11,306,-1,5372,1898,153.66,240,3235,133.32,133.71,72,4068,1204,20,8]
[4,11,307,-1,3776,1380,152.9,182,2466,133.63,149.41999999999999,53,2773,929,20,1]
[4,11,308,-1,2086,845,167.11,99,1358,136.25,130,20,1566,489,6,5]
[4,11,309,-1,3424,1253,160.28,176,2168,122.22,130.63,50,2533,827,11,3]
[4,11,310,-1,9722,4165,180.45,408,5885,155.43,128.41999999999999,126,7230,2302,50,14]
[4,11,311,-1,6007,2257,156.15,249,3594,142.25,135.83000000000001,84,4653,1233,32,5]
[4,11,313,-1,6915,2054,134.08000000000001,326,4612,131.62,115.55,111,4759,2002,38,5]
[4,11,314,-1,17266,6145,152.13,719,11018,146.86000000000001,131.05000000000001,230,11092,5830,93,21]
[4,11,315,-1,2815,1373,182.75,122,1474,151.21,141.09,23,1855,927,9,1]
[4,11,316,-1,18378,6226,148.63,818,12310,141.66999999999999,131.32,259,12874,5100,119,26]
[4,11,317,-1,32492,13049,180.21,1333,19384,153.85,143.32,395,21894,10001,169,33]
[4,11,318,-1,18123,5658,139.52000000000001,865,12925,131.16999999999999,120.21,269,12744,4990,101,19]
[4,11,319,-1,9340,3079,145.29,485,6387,137.88,122.4,159,6590,2533,48,10]
[4,11,320,-1,9453,3234,153.25,445,6323,127.19,123.42,148,6890,2359,47,9]
[4,11,321,-1,6001,1922,133.44,266,3697,126.94,120.78,102,4315,1548,30,6]
[4,11,322,-1,7965,2662,149.9,348,5171,151.41,133.31,123,5687,2108,39,8]
[4,11,323,-1,4560,1757,167.67,236,2936,140.41999999999999,146.38,58,3347,1129,22,4]
[4,11,325,-1,11460,5065,205.85,481,7041,151.46,153.44,183,7914,3294,59,10]
[4,11,326,-1,6027,2207,160.62,273,3999,130.37,125.75,81,4566,1358,17,5]
[4,11,327,-1,4766,1753,154.6,238,2963,125.95,125.99,67,3482,1186,26,5]
[4,11,328,-1,8301,2868,141.06,400,5145,132.01,125.34,92,6074,2094,31,10]
[4,11,329,-1,6827,2544,164.92,340,4656,149.16999999999999,131.51,101,4928,1763,32,3]
[4,11,330,-1,6730,2976,213.67,351,4515,168.32,154.28,113,4855,1700,48,14]
[4,11,331,-1,7481,3120,170.39,360,4498,157.76,140.87,109,5229,2091,43,9]
[4,11,333,-1,2659,957,153.09,128,1609,119.9,128.30000000000001,40,1922,679,14,4]
[4,11,334,-1,3410,1554,175.08,121,1933,133.74,146.84,44,2014,1333,17,2]
[4,11,335,-1,7862,3738,219.39,351,5322,144.81,138.35,98,5504,2202,48,10]
[4,11,339,-1,7396,2234,132.58000000000001,390,4962,129.19,115.14,107,4898,2331,54,6]
[4,11,340,-1,2549,1014,181.87,121,1600,128.4,152.68,30,1809,694,12,4]
[4,11,341,-1,4281,2336,221.03,127,2095,150.05000000000001,149.1,47,2441,1775,14,4]
[4,11,343,-1,10874,4115,156.5,466,6730,131.77000000000001,122.93,175,7804,2838,43,14]
[4,11,344,-1,10018,3117,130.15,473,6315,124.29,108.44,132,7150,2680,52,4]
[4,11,345,-1,7873,3150,164.77,369,5041,125.92,124.38,114,5374,2349,30,6]
[4,11,346,-1,13274,5552,211.22,1105,14799,91.06,89.68,184,8637,4279,152,22]
[4,11,347,-1,2345,928,163.65,105,1463,133.91,128.19,29,1719,582,12,3]
[4,11,348,-1,4450,1845,187.71,199,2616,180.33,151.75,69,3291,1074,14,2]
[4,11,349,-1,23528,8707,163.09,1069,15043,144.28,130.56,309,15889,7195,116,19]
[4,11,350,-1,4292,1614,163.38999999999999,200,2741,151.33000000000001,137.5,59,3102,1102,21,8]
[4,11,351,-1,6558,2220,167.41,367,4560,136.61000000000001,130.38999999999999,95,4461,1953,29,20]
[4,11,354,-1,4994,1799,152.9,213,2813,140.54,125.28,148,3515,1299,24,8]
[4,11,355,-1,1978,710,181.29,86,1652,118.87,136.54,26,1738,205,8,1]
[4,11,358,-1,446,188,191.85,18,279,126.11,117.5,10,362,69,4,1]
[4,11,362,-1,20644,6588,154.44999999999999,956,13849,134.22,125.72,302,14060,6141,123,18]
[4,11,372,-1,261,79,130.59,8,201,108,117.6,4,170,86,1]
[4,11,373,-1,1108,390,150.5,51,684,137.96,129.21,13,825,264,5,1]
[4,11,376,-1,492,488,249.77,18,408,248.33,193.12,1,307,182,2]
[4,11,377,-1,12977,4486,164.82,592,8675,142.79,124.38,183,8843,3843,75,33]
[4,11,402,-1,2040,1073,174.75,87,999,151.77000000000001,150.38,26,1345,660,6,3]
[4,11,405,-1,410,162,156.78,31,268,176.71,149.75,7,327,74,1,1]
[4,11,436,-1,1742,723,166.83,52,922,189.19,152.97999999999999,22,1318,392,9,1]
[4,11,437,-1,1136,440,167.4,61,819,111.8,116.23,19,815,294,7,1]
[4,11,438,-1,1599,617,172.28,74,932,125.81,140.55000000000001,11,1208,372,8]
[4,11,442,-1,992,413,189.68,34,595,121.44,134.04,12,737,239,4]
[4,11,452,-1,3180,1159,154.06,167,1982,151.49,132.16999999999999,46,2249,858,24,3]
[4,11,459,-1,3163,1113,142.26,158,1879,129.35,131.24,64,2418,661,15,5]
[4,11,460,-1,880,275,120.72,36,612,132.97,112.64,8,646,219,7]
[4,11,463,-1,1378,533,178.57,41,774,156.83000000000001,141.02000000000001,21,1085,268,3,1]
[4,11,100,-1,603981,255308,158.85,28808,384159,140.35,129.93,9276,377989,212022,3792,902]
[4,12,-1,-1,13744,2550,77.17,1235,14397,57.37,39.11,2627,8976,1784,257,100]
[4,12,310,-1,376,74,89.44,50,506,76.06,56.25,96,252,8,15,5]
[4,12,330,-1,1366,523,166.82,87,1396,103.62,72.97,94,1099,141,21,11]
[4,12,335,-1,1405,522,183.15,119,1200,124.66,87.86,167,1042,162,26,8]
[4,12,100,-1,16891,3669,93.51,1491,17499,66.06,45.65,2984,11369,2095,319,124]
[4,13,-1,-1,1341,326,78.73,241,3092,64.760000000000005,55.41,null,1005,286,42,8]
[4,13,301,-1,16,6,158.06,null,25,null,93,null,13,3]
[4,13,304,-1,13,2,62.54,1,20,5,123.7,null,11,1,1]
[4,13,306,-1,60,17,120.22,4,58,55.5,84.48,1,47,10,2]
[4,13,307,-1,29,6,110.76,3,36,109,83.56,null,24,5]
[4,13,308,-1,36,14,111,3,43,162.33000000000001,83.23,null,27,7,2]
[4,13,309,-1,24,10,164.67,3,35,124,89.2,null,20,4]
[4,13,310,-1,80,30,126.44,8,133,68.75,70.22,null,60,20]
[4,13,311,-1,435,157,120.77,40,542,123.63,100.8,null,368,62,4,1]
[4,13,313,-1,164,42,104.67,17,331,84.24,90.06,null,125,35,4]
[4,13,314,-1,307,72,97.35,53,604,35.85,72.819999999999993,null,230,63,13,1]
[4,13,315,-1,21,9,135.52000000000001,1,17,251,150.94,1,17,3]
[4,13,316,-1,193,62,148.97999999999999,26,467,60.5,91.84,null,141,45,6,1]
[4,13,317,-1,263,66,103.03,46,482,63.96,80.209999999999994,null,202,52,7,2]
[4,13,318,-1,301,69,92.05,50,765,62.22,64.44,null,218,81,2]
[4,13,319,-1,117,31,108.85,25,308,76.760000000000005,74.150000000000006,1,84,29,3]
[4,13,320,-1,71,19,108.1,16,189,31.56,67.290000000000006,null,56,15]
[4,13,321,-1,90,25,100.69,12,159,105.5,85.92,null,66,22,2]
[4,13,322,-1,63,25,162.4,7,114,34.29,122.7,null,45,13,5]
[4,13,323,-1,34,14,156.18,5,58,193.6,190.21,null,26,7,null,1]
[4,13,325,-1,40,15,167.38,4,68,15.75,112.1,null,31,6,3]
[4,13,326,-1,34,17,159.91,4,77,37.75,113.82,null,30,4]
[4,13,327,-1,74,17,84.89,8,107,96.5,61.04,null,53,19,2]
[4,13,328,-1,55,19,119.51,4,67,48.75,98.49,null,37,16,2]
[4,13,329,-1,34,18,157.06,2,43,6,116.51,null,27,5,2]
[4,13,330,-1,39,18,176.38,3,47,32.67,177.23,null,33,4,2]
[4,13,331,-1,87,28,114.77,19,198,97.63,86.67,null,68,14,4,1]
[4,13,333,-1,18,7,123.22,4,25,50.75,90.68,null,13,3,2]
[4,13,334,-1,55,10,71.73,7,100,41.14,80.38,null,41,11,3]
[4,13,335,-1,30,15,182.7,null,36,null,146.44,null,27,3]
[4,13,339,-1,133,34,93.79,23,325,25.35,58.24,1,93,36,3]
[4,13,340,-1,16,7,130.44,5,59,25.4,85.42,null,16]
[4,13,341,-1,24,7,144.96,6,60,45.5,66.3,null,17,7]
[4,13,343,-1,138,65,156.13999999999999,20,254,106.3,128.47,null,117,19,2]
[4,13,344,-1,143,53,127.5,14,261,72.290000000000006,69.36,null,114,22,7]
[4,13,345,-1,53,23,133,8,82,84.5,81.180000000000007,1,42,9,1]
[4,13,346,-1,149,49,102.21,30,279,53.53,83.16,null,120,26,3]
[4,13,347,-1,32,8,130.31,5,96,102.6,58.13,null,23,6,3]
[4,13,348,-1,28,10,116.5,1,24,493,178.04,null,21,6,1]
[4,13,349,-1,283,71,97.27,52,621,52.29,69.67,null,223,53,5,2]
[4,13,350,-1,20,8,152.15,4,55,32.25,99.49,null,13,7]
[4,13,351,-1,116,29,89.17,25,258,71.040000000000006,76.25,null,82,29,4,1]
[4,13,354,-1,51,11,82.69,12,122,42.58,62.98,null,36,13,1,1]
[4,13,355,-1,17,4,81,1,21,127,107.62,null,11,5,1]
[4,13,358,-1,4,null,63.75,1,12,6,90.58,null,3,1]
[4,13,362,-1,235,57,94.85,41,471,40,71.349999999999994,null,159,71,5]
[4,13,372,-1,13,5,264.45999999999998,2,28,19,158.29,null,9,4]
[4,13,373,-1,7,4,122.29,2,16,96,107.38,null,6,1]
[4,13,376,-1,null,null,null,null,3,null,17]
[4,13,377,-1,403,84,89.58,55,886,46.82,64.73,null,298,98,6,1]
[4,13,402,-1,20,8,186.35,null,19,null,168.79,null,16,4]
[4,13,405,-1,5,1,139.4,null,5,null,79,null,4,1]
[4,13,436,-1,20,7,127.4,1,22,128,64.77,null,20]
[4,13,437,-1,13,4,122.23,null,20,null,63.45,null,10,2,null,1]
[4,13,438,-1,11,4,108.91,1,33,219,97.06,null,9,2]
[4,13,442,-1,8,5,260.88,null,13,null,71.23,null,8]
[4,13,452,-1,36,8,105.92,13,98,36.229999999999997,55.88,null,26,8,2]
[4,13,459,-1,87,18,79.17,21,263,55.43,53.58,null,64,22,1]
[4,13,460,-1,12,3,72.83,1,5,55,70.2,null,11,1]
[4,13,463,-1,25,7,71.56,3,35,84.33,54.46,null,19,5,1]
[4,13,100,-1,6226,1760,104.31,963,12692,64.040000000000006,73.98,5,4735,1306,159,21]
[4,14,-1,-1,1,1,185,null,2,null,152,null,null,1]
[4,14,318,-1]
[4,14,377,-1,1,1,236,null,null,null,null,null,null,1]
[4,14,100,-1,2,2,210.5,null,2,null,152,null,null,2]
[4,0,384,-1,84810,30401,162.06,4231,57732,130.72999999999999,123.38,1630,57906,24637,533,104]
[4,0,35,-1,218070,111062,147.94999999999999,10736,130442,145,132.16999999999999,4431,108185,103205,1766,483]
[4,0,395,-1,81559,30789,167.54,4336,59440,118.8,112.27,1562,56507,22866,505,119]
[4,0,393,-1,142742,50196,154.47999999999999,6765,96489,133.83000000000001,125.47,2653,99119,39938,845,187]
[4,0,394,-1,99919,38291,164.63,5194,70249,129.6,121.14,1989,72376,24779,621,154]
[4,11,395,-1,78622,30176,170.68,3987,55079,124.26,116.7,1206,54448,22411,450,107]
[4,13,384,-1,958,251,99.7,167,2022,48.07,70.89,1,711,218,24,4]
[4,13,393,-1,1571,421,109.49,254,3346,61.82,79.47,2,1162,361,41,5]
[4,11,394,-1,94597,36860,167.76,4710,63930,135.58000000000001,126.91,1315,68547,24104,513,118]
[4,11,35,-1,212627,109740,149.41,10180,123641,148.96,136.4,3732,104309,102500,1644,442]
[4,13,394,-1,1203,420,126.38,120,1799,91.66,98.3,1,967,207,26,2]
[4,13,35,-1,1341,326,78.73,241,3092,64.760000000000005,55.41,null,1005,286,42,8]
[4,11,393,-1,137429,49182,157.31,6161,88981,141.54,131.53,1918,95610,39018,732,151]
[4,11,384,-1,80706,29350,164.39,3770,52528,138.15,129.58000000000001,1105,55075,23989,453,84]
[4,13,395,-1,1153,342,107.81,181,2433,62.62,74.63,1,890,234,26,2]
[5,0,-1,-1,373,160,176.83,null,null,null,null,181,134,20,33,5]
[5,0,100,-1,627100,260739,156.55000000000001,31262,414352,134.46,124.66,12265,394093,215425,4270,1047]
[5,0,101,-1,2957,157,23.89,2,21,41,94.81,2782,90,46,36,3]
[5,0,301,-1,512,127,132.68,316,3846,127.4,126.5,31,251,144,50,36]
[5,0,304,-1,832,164,116.99,776,9582,78.040000000000006,75.36,53,335,322,101,21]
[5,0,306,-1,456,178,170.76,315,4763,161.32,135.69999999999999,56,269,77,44,10]
[5,0,307,-1,541,190,158.91,330,3141,151.5,174.12,76,290,170,5]
[5,0,308,-1,476,241,213.9,226,3288,131.38999999999999,142.91999999999999,13,310,115,36,2]
[5,0,309,-1,318,90,122.41,235,3076,148.34,152.53,37,228,32,19,2]
[5,0,310,-1,3407,1314,133.04,1131,14162,133.32,104.3,387,1891,908,178,43]
[5,0,311,-1,796,255,137.04,425,4846,127.68,163.44,106,458,187,33,12]
[5,0,313,-1,406,118,112.6,212,2737,132.66999999999999,134.93,71,216,100,13,6]
[5,0,314,-1,1493,643,145.86000000000001,405,5043,198.8,179.84,192,866,369,58,8]
[5,0,315,-1,611,346,183.39,319,3530,189.65,176.52,40,342,206,19,4]
[5,0,316,-1,2911,859,126.07,1330,19159,135.19,129.9,264,1681,785,127,54]
[5,0,317,-1,4896,2383,177.89,1583,17489,167.68,160.34,369,2208,2085,137,97]
[5,0,318,-1,2917,591,102.09,1934,26961,113.25,95.15,263,1285,1025,284,60]
[5,0,319,-1,2003,748,136.57,873,12106,139.36000000000001,119.17,174,1267,539,20,3]
[5,0,320,-1,1234,320,105,738,10118,112.29,99.97,138,759,285,35,17]
[5,0,321,-1,672,146,91.35,413,5375,141.86000000000001,119.78,83,386,144,51,8]
[5,0,322,-1,784,197,116.09,478,6483,122.73,110,123,335,248,69,9]
[5,0,323,-1,691,247,139.81,359,5847,141.96,131.72999999999999,73,405,179,30,4]
[5,0,325,-1,1785,737,148.16999999999999,577,6287,162.06,186.82,180,935,495,141,34]
[5,0,326,-1,742,276,155.72,419,6517,152.74,121.8,97,442,163,37,3]
[5,0,327,-1,1019,370,156.47999999999999,721,8870,139.09,131.72999999999999,86,714,146,64,9]
[5,0,328,-1,633,134,101.38,339,3956,110.1,119.74,90,363,110,55,15]
[5,0,329,-1,894,188,105.85,663,9131,121.72,97.76,83,480,217,106,8]
[5,0,330,-1,1645,267,80.2,1072,11936,93.96,77.78,267,773,236,246,123]
[5,0,331,-1,2073,933,148.68,494,5840,166.53,171.67,143,1461,374,81,14]
[5,0,333,-1,671,161,115.86,453,5360,123.57,118.95,53,324,215,58,21]
[5,0,334,-1,943,435,156.66,310,4521,181.15,176.55,84,526,246,74,13]
[5,0,335,-1,2474,804,127.18,1095,14251,114.62,103.07,424,1148,624,214,64]
[5,0,339,-1,1041,282,120.75,655,8918,122.52,116.21,134,536,243,106,22]
[5,0,340,-1,415,129,119.78,242,2584,170.98,159.25,38,235,86,56]
[5,0,341,-1,1251,567,148.08000000000001,337,4234,233.33,226.69,80,736,300,134,1]
[5,0,343,-1,1065,540,142.80000000000001,223,2999,186.27,166.79,165,383,496,16,5]
[5,0,344,-1,1343,406,120.99,542,7277,139.44,130.22,197,710,366,63,7]
[5,0,345,-1,1860,797,145.69,548,6531,135.32,170.25,157,1102,510,82,9]
[5,0,346,-1,3096,616,90.83,1954,26096,96,85.97,318,1166,1353,186,73]
[5,0,347,-1,409,115,120.67,282,3644,138.59,131.51,66,189,88,51,15]
[5,0,348,-1,1540,538,142.01,394,5468,162.88999999999999,161.66999999999999,147,1107,248,37,1]
[5,0,349,-1,3702,1797,160.72,1015,13123,188.21,178.93,363,2046,1029,248,16]
[5,0,350,-1,603,165,111.06,460,5220,129.35,121.12,68,320,153,61,1]
[5,0,351,-1,1896,667,137.88,892,13234,122.46,114.13,102,1047,609,110,28]
[5,0,354,-1,443,172,127.53,157,2161,187.71,173.09,147,149,125,17,5]
[5,0,355,-1,410,137,166.37,240,3862,140.97999999999999,138.71,29,251,108,22]
[5,0,358,-1,226,82,149.04,195,2442,129.65,143.34,19,101,80,22,4]
[5,0,362,-1,2232,504,93.65,994,15847,118.23,103.9,311,1100,636,174,11]
[5,0,372,-1,3,null,1.33,null,null,null,null,3]
[5,0,373,-1,207,95,181.04,170,1590,165.38,163.38,16,108,72,10,1]
[5,0,377,-1,2363,628,111.95,1241,21049,120.53,101.15,229,1207,738,88,101]
[5,0,392,-1,10485,10235,474.13,null,11,null,467.55,2,10428,43,12]
[5,0,397,-1,null,null,null,5,55,587.79999999999995,462.31]
[5,0,402,-1,744,464,191.07,242,3125,186.45,182.99,50,426,236,29,3]
[5,0,405,-1,113,37,238.1,52,731,95.15,151.04,6,63,39,5]
[5,0,436,-1,456,167,140.47999999999999,172,2491,170.17,167.06,44,296,105,11]
[5,0,437,-1,197,61,125.16,157,2224,143.06,130.53,40,72,56,18,11]
[5,0,438,-1,457,112,123.14,302,4448,101.51,83.59,14,219,158,51,15]
[5,0,442,-1,154,47,119.46,73,829,94.34,126.82,12,84,47,11]
[5,0,452,-1,336,78,109.96,207,2574,158.57,157.08000000000001,46,199,51,37,3]
[5,0,459,-1,205,62,116.84,166,2515,138.81,140.51,38,104,43,15,5]
[5,0,460,-1,97,41,152.08000000000001,59,806,199.2,165.63,16,47,30,4]
[5,0,463,-1,135,53,159.76,47,688,151.66,153.49,21,57,53,4]
[5,0,499,-1,547451,227366,153.94,17,513,76.290000000000006,210.02,2368,348433,196512,136,2]
[5,0,-1,-1,null,null,null,679,8821,125.54,113.73]
[5,11,-1,-1,13560,10438,372.92,392,4714,205.84,198.93,2832,10538,105,77,8]
[5,11,301,-1,483,124,136.9,310,3755,127.24,126.78,29,231,137,50,36]
[5,11,304,-1,816,162,118.18,773,9486,77.94,75.14,53,324,317,101,21]
[5,11,306,-1,439,173,172.21,304,4615,162.81,137.28,53,261,74,41,10]
[5,11,307,-1,517,189,164.32,315,3038,150.65,176.4,74,284,154,5]
[5,11,308,-1,461,237,217.91,221,3168,131.37,144.41999999999999,13,306,107,33,2]
[5,11,309,-1,308,86,121.17,228,2973,149.27000000000001,154.19999999999999,35,224,30,17,2]
[5,11,310,-1,3384,1309,133.55000000000001,1125,13865,133.57,105.38,381,1883,901,176,43]
[5,11,311,-1,731,234,138.83000000000001,410,4587,127.8,165.68,103,423,161,33,11]
[5,11,313,-1,382,113,114.66,202,2534,134.31,137.72,66,209,88,13,6]
[5,11,314,-1,1435,635,149.93,378,4625,207.79,189.89,184,844,350,50,7]
[5,11,315,-1,598,344,184.46,314,3405,190.63,179.33,37,333,205,19,4]
[5,11,316,-1,2722,835,131.35,1253,18301,140.43,132.69,253,1632,676,110,51]
[5,11,317,-1,4830,2378,179.81,1567,17352,169.16,161.19999999999999,339,2186,2074,134,97]
[5,11,318,-1,2721,576,107.04,1858,25883,115.56,96.67,251,1246,898,266,60]
[5,11,319,-1,1822,737,147.38,808,11343,146.61000000000001,123.86,162,1227,412,18,3]
[5,11,320,-1,1119,314,113.19,664,9491,122.65,104.02,122,723,227,33,14]
[5,11,321,-1,653,142,92.35,406,5264,142.38999999999999,120.19,76,381,137,51,8]
[5,11,322,-1,753,192,118.9,469,6377,122.27,109.28,118,329,232,65,9]
[5,11,323,-1,669,237,138.27000000000001,357,5715,142.47,130.30000000000001,70,397,168,30,4]
[5,11,325,-1,1761,735,149.66999999999999,569,6159,162.63,188.55,169,929,490,139,34]
[5,11,326,-1,706,270,160.19,408,6380,151.4,121.92,91,436,139,37,3]
[5,11,327,-1,1007,366,156.38,708,8727,140.25,132.18,84,708,145,62,8]
[5,11,328,-1,613,130,103.21,332,3833,109.82,120.09,80,360,103,55,15]
[5,11,329,-1,879,185,106.97,660,9048,122.01,97.84,77,475,214,105,8]
[5,11,330,-1,1084,195,87.16,607,6950,116.7,100.35,154,555,209,126,40]
[5,11,331,-1,2023,920,150.76,475,5658,169.51,173.71,126,1446,362,75,14]
[5,11,333,-1,656,158,115.59,449,5257,124.02,119.72,48,320,211,57,20]
[5,11,334,-1,922,430,158.84,299,4356,184.76,179.98,80,519,238,72,13]
[5,11,335,-1,1756,687,147.02000000000001,742,10084,142.01,123.89,200,819,580,114,43]
[5,11,339,-1,1023,277,120.99,648,8765,123,116.28,126,531,242,102,22]
[5,11,340,-1,404,126,120.74,235,2472,173.49,161.54,36,231,83,54]
[5,11,341,-1,1244,566,148.52000000000001,336,4205,234.02,227.6,78,732,299,134,1]
[5,11,343,-1,1049,538,144.16,221,2985,187.93,167.29,156,377,495,16,5]
[5,11,344,-1,1317,396,121.27,528,7031,140.21,131.6,191,706,351,62,7]
[5,11,345,-1,1760,789,152.04,516,6180,142.22,178.2,147,1079,449,76,9]
[5,11,346,-1,3075,614,90.99,1939,25876,95.83,85.85,310,1157,1350,186,72]
[5,11,347,-1,397,111,120.71,278,3527,138.54,131.93,63,185,86,48,15]
[5,11,348,-1,1519,529,142.09,384,5310,164.76,163.43,143,1099,239,37,1]
[5,11,349,-1,3605,1783,163.55000000000001,953,12190,197.71,188.41,345,2011,999,237,13]
[5,11,350,-1,589,157,111.21,451,5131,130.37,121.61,65,316,148,59,1]
[5,11,351,-1,1753,658,146.57,818,12565,130.03,117.67,94,1020,528,85,26]
[5,11,354,-1,428,169,130.43,152,2071,190.93,176.64,138,148,121,17,4]
[5,11,355,-1,396,132,169,235,3797,140.84,139.06,29,246,100,21]
[5,11,358,-1,221,81,151.30000000000001,184,2360,130.66,144.41999999999999,19,97,80,21,4]
[5,11,362,-1,2062,483,97.58,914,15147,125.27,106.55,301,1064,531,156,10]
[5,11,372,-1,3,null,1.33,null,null,null,null,3]
[5,11,373,-1,198,91,183.8,162,1485,169.04,168.33,13,106,69,9,1]
[5,11,377,-1,2211,615,117.28,1187,20198,124.77,103.16,223,1173,635,83,97]
[5,11,402,-1,725,459,193.35,237,3029,189.25,185.24,45,420,230,28,2]
[5,11,405,-1,110,35,236.7,49,643,94.65,156.91999999999999,6,61,38,5]
[5,11,436,-1,448,167,142.05000000000001,169,2391,171.93,169.9,44,294,100,10]
[5,11,437,-1,192,60,126.19,149,2117,147.11000000000001,131.94,38,71,54,18,11]
[5,11,438,-1,447,110,124.46,300,4398,101.74,83.55,10,215,157,50,15]
[5,11,442,-1,152,47,120.75,70,773,95.04,128.03,11,84,46,11]
[5,11,452,-1,328,76,111.66,201,2462,160.52000000000001,157.86000000000001,42,195,51,37,3]
[5,11,459,-1,197,62,120.24,154,2368,140.22999999999999,144.46,38,99,40,15,5]
[5,11,460,-1,93,40,152.35,55,748,200.85,170.47,14,47,28,4]
[5,11,463,-1,131,50,159.6,43,590,148.81,163.03,21,57,50,3]
[5,11,499,-1,528335,222534,155.66,16,480,74.06,215.16,359,333441,194440,94,1]
[5,11,100,-1,604222,255286,158.68,29187,388237,139.93,129.19,9468,377810,212183,3842,919]
[5,12,-1,-1,609,132,98.84,300,4260,26.37,27.63,440,148,11,8,2]
[5,12,310,-1,8,1,37.630000000000003,1,169,163,23.59,6,2]
[5,12,330,-1,556,72,67.11,461,4890,64.180000000000007,45.01,113,218,22,120,83]
[5,12,335,-1,710,116,78.819999999999993,349,4085,57.17,52.24,224,326,39,100,21]
[5,12,499,-1,14767,3370,101.09,1,17,112,223.88,2009,10854,1862,41,1]
[5,12,100,-1,16650,3691,98.89,1112,13421,51.91,41.65,2792,11548,1934,269,107]
[5,13,-1,-1,4,3,176,null,22,null,47.36,null,null,1,3]
[5,13,301,-1,27,3,66.959999999999994,6,91,135.5,114.96,null,20,7]
[5,13,304,-1,16,2,56.19,3,96,103.33,96.77,null,11,5]
[5,13,306,-1,15,5,150.53,11,148,120.18,86.3,1,8,3,3]
[5,13,307,-1,22,1,45.68,15,103,169.27,106.75,null,6,16]
[5,13,308,-1,15,4,90.6,5,120,132.4,103.2,null,4,8,3]
[5,13,309,-1,8,4,200.13,7,103,117.86,104.37,null,4,2,2]
[5,13,310,-1,15,4,69.599999999999994,5,128,71.2,94.41,null,6,7,2]
[5,13,311,-1,61,21,124.3,15,259,124.53,123.81,null,34,26,null,1]
[5,13,313,-1,19,5,99.74,10,202,99.5,100.38,null,7,12]
[5,13,314,-1,50,8,52.08,27,418,72.89,68.61,null,22,19,8,1]
[5,13,315,-1,6,1,132.66999999999999,5,122,128.4,99.68,1,4,1]
[5,13,316,-1,175,24,53.73,76,857,50.46,70.48,null,49,108,16,2]
[5,13,317,-1,36,5,65.64,16,136,22,50.6,null,22,11,3]
[5,13,318,-1,183,15,34.96,76,1078,56.61,58.67,null,38,127,18]
[5,13,319,-1,168,11,29.57,65,763,49.23,49.47,1,39,127,1]
[5,13,320,-1,97,5,26.3,74,624,19.350000000000001,38.83,1,34,58,1,3]
[5,13,321,-1,12,4,85.08,7,111,111.29,100.17,null,5,7]
[5,13,322,-1,26,5,56.23,9,106,146.56,153.16,null,6,16,4]
[5,13,323,-1,14,4,101,2,105,50.5,118,null,5,9]
[5,13,325,-1,12,2,72.75,8,128,121,103.73,null,5,5,2]
[5,13,326,-1,29,6,83.93,11,137,202.73,115.99,null,5,24]
[5,13,327,-1,3,null,69,9,128,74.22,95.35,null,2,1]
[5,13,328,-1,10,4,87.4,7,123,123.57,108.8,null,3,7]
[5,13,329,-1,5,3,114.6,3,83,58.67,88.81,null,1,3,1]
[5,13,330,-1,5,null,25.2,4,96,73.5,113.55,null,null,5]
[5,13,331,-1,33,13,93.27,19,182,92.21,108.46,null,15,12,6]
[5,13,333,-1,10,3,190,4,103,73.5,79.680000000000007,null,4,4,1,1]
[5,13,334,-1,17,5,74.650000000000006,11,165,82.91,86.02,null,7,8,2]
[5,13,335,-1,8,1,64.5,4,82,48.25,73.83,null,3,5]
[5,13,339,-1,11,5,172.64,7,153,78.86,112.05,1,5,1,4]
[5,13,340,-1,9,3,102.67,7,112,86.86,108.71,null,4,3,2]
[5,13,341,-1,5,1,83.2,1,23,2,64.52,null,4,1]
[5,13,343,-1,7,2,117.71,2,14,3,60.86,null,6,1]
[5,13,344,-1,20,10,137.69999999999999,14,246,110.07,90.7,null,4,15,1]
[5,13,345,-1,87,5,28.97,32,351,24.06,30.41,null,20,61,6]
[5,13,346,-1,13,2,107.08,15,219,117.33,100.22,null,9,3,null,1]
[5,13,347,-1,9,4,157.66999999999999,4,117,142,118.74,null,4,2,3]
[5,13,348,-1,17,9,166.71,10,158,91.1,102.22,null,8,9]
[5,13,349,-1,75,11,62.44,61,923,42.74,53.78,null,33,28,11,3]
[5,13,350,-1,11,8,132.63999999999999,9,89,78.22,93.16,null,4,5,2]
[5,13,351,-1,134,9,33.22,74,666,38.78,46.88,null,27,81,24,2]
[5,13,354,-1,6,3,107.17,5,90,90,91.43,null,1,4,null,1]
[5,13,355,-1,14,5,91.93,5,65,147.6,118.65,null,5,8,1]
[5,13,358,-1,5,1,49,11,82,112.64,112.45,null,4,null,1]
[5,13,362,-1,158,21,49.02,80,700,37.76,46.6,null,35,104,18,1]
[5,13,372,-1]
[5,13,373,-1,6,4,174.5,8,104,91.25,94.14,null,2,3,1]
[5,13,377,-1,146,13,35.590000000000003,54,851,27.35,53.4,null,34,103,5,4]
[5,13,402,-1,8,2,99.63,5,94,53.8,110.62,null,2,4,1,1]
[5,13,405,-1,3,2,289.33,3,88,103.33,108.05,null,2,1]
[5,13,436,-1,7,null,59.57,3,100,71,99.29,null,2,5]
[5,13,437,-1,3,1,140.66999999999999,8,107,67.75,102.65,null,1,2]
[5,13,438,-1,5,2,121.2,2,50,67,87.48,null,3,1,1]
[5,13,442,-1,1,null,39,3,56,78,110.14,null,null,1]
[5,13,452,-1,4,2,76.5,6,112,93.5,139.93,null,4]
[5,13,459,-1,8,null,33.130000000000003,12,147,120.5,76.95,null,5,3]
[5,13,460,-1,2,1,287,4,58,176.5,103.28,null,null,2]
[5,13,463,-1,4,3,165,4,98,182.25,96.05,null,null,3,1]
[5,13,499,-1,4347,1460,123.71,null,null,null,null,null,4138,208,1]
[5,13,100,-1,6226,1760,104.31,963,12692,64.040000000000006,73.98,5,4735,1306,159,21]
[5,14,-1,-1,null,null,null,null,2,null,152]
[5,14,499,-1,2,2,210.5,null,null,null,null,null,null,2]
[5,14,100,-1,2,2,210.5,null,2,null,152,null,null,2]
[5,0,35,-1,561266,237918,159.25,703,9421,127.4,121.38,5333,359085,196621,217,10]
[5,0,384,-1,14559,5115,132.66999999999999,6325,87820,135.62,125.64,1627,7597,4019,1112,204]
[5,0,393,-1,20244,7152,138.91999999999999,9853,130063,139.21,125.37,1902,10819,6272,977,274]
[5,0,394,-1,16680,5849,136.58000000000001,8053,99360,130.12,124,1781,9346,4027,1193,333]
[5,0,395,-1,14351,4705,123.34,6328,87688,132.21,123.73,1622,7246,4486,771,226]
[5,11,35,-1,541895,232972,161.1,408,5194,200.68,200.43,3191,343979,194545,171,9]
[5,11,384,-1,13344,4936,138.66999999999999,5712,80505,144.55000000000001,131.81,1339,7143,3737,949,176]
[5,11,393,-1,19314,7045,143.43,9468,125411,142.72,127.49,1790,10568,5772,918,266]
[5,11,394,-1,15716,5687,140.51,7442,91954,134.38,128.85,1585,8980,3851,1052,248]
[5,11,395,-1,13953,4646,125.33,6157,85173,134.01,125.22,1563,7140,4278,752,220]
[5,13,35,-1,4351,1463,123.76,null,22,null,47.36,null,4138,209,4]
[5,13,384,-1,433,60,56.01,263,3217,46.13,64.099999999999994,1,124,240,61,7]
[5,13,393,-1,795,95,45.2,380,4602,52.74,65.47,3,235,497,54,6]
[5,13,394,-1,311,86,98.7,149,2343,120.74,105.56,1,135,152,21,2]
[5,13,395,-1,336,56,59.8,171,2508,67.290000000000006,73.010000000000005,null,103,208,19,6]
[6,0,100,-1,627100,260739,156.55000000000001,31262,414352,134.46,124.66]
[6,11,100,-1,603981,255308,158.85,28808,384159,140.35,129.93]
[6,11,"AK",-1,1883,815,162.1,64,1122,154.09,131.91]
[6,11,"AL",-1,14960,6071,153.94999999999999,717,9728,148.83000000000001,135.24]
[6,11,"AR",-1,6848,3128,170.98,293,4221,150.24,136.72999999999999]
[6,11,"AZ",-1,13786,6100,162.63,646,8918,137.53,127.94]
[6,11,"CA",-1,48649,19738,159.13,2320,30704,135.62,123.16]
[6,11,"CO",-1,11507,4431,145.87,663,8121,126.9,118.46]
[6,11,"CT",-1,3407,1642,182.42,162,2143,149.97999999999999,137.19999999999999]
[6,11,"DC",-1,711,290,150.88,38,473,157.03,136.44999999999999]
[6,11,"DE",-1,1709,718,156.36000000000001,80,1102,151.66,128.97999999999999]
[6,11,"FL",-1,55146,23300,154.13999999999999,2550,33463,148.33000000000001,129.11000000000001]
[6,11,"GA",-1,28902,10623,143.86000000000001,1467,20165,131.72,124.25]
[6,11,"HI",-1,3663,1588,164.74,166,2195,122.61,129.47]
[6,11,"IA",-1,5227,2547,177.27,213,2900,140.47,144.12]
[6,11,"ID",-1,3758,1695,166.06,160,2283,130.03,129.15]
[6,11,"IL",-1,14381,6431,163.78,631,8397,156.25,139.32]
[6,11,"IN",-1,10785,4942,166.97,481,6580,154.55000000000001,138.25]
[6,11,"KS",-1,4821,2220,170.78,261,3025,151.25,138.61000000000001]
[6,11,"KY",-1,8334,3936,164.81,378,5159,131.58000000000001,133.02000000000001]
[6,11,"LA",-1,10473,4381,161.33000000000001,510,6546,138.82,135.41]
[6,11,"MA",-1,6235,2843,172.41,302,3877,154.9,136.44999999999999]
[6,11,"MD",-1,11285,3836,135.72999999999999,580,7596,136.99,114]
[6,11,"ME",-1,2527,1274,184.41,105,1459,164.67,160.52000000000001]
[6,11,"MI",-1,12779,5856,168.31,607,8004,149.16,139.41]
[6,11,"MN",-1,7789,3673,180.8,378,5166,139.13,136.12]
[6,11,"MO",-1,11873,5454,171.26,575,7347,150.12,140.87]
[6,11,"MS",-1,7489,3204,157.55000000000001,359,4738,139.58000000000001,136.83000000000001]
[6,11,"MT",-1,2695,1307,177.05,106,1457,171.13,151]
[6,11,"NC",-1,26956,10086,143.22,1322,18765,125.68,115.71]
[6,11,"ND",-1,1306,625,173.84,71,909,140.51,126.92]
[6,11,"NE",-1,3722,1578,154.87,171,2513,116.56,128.78]
[6,11,"NH",-1,1932,907,186,83,1161,171.81,138.99]
[6,11,"NJ",-1,7633,3397,175.96,358,4311,130.08000000000001,142.77000000000001]
[6,11,"NM",-1,4279,1978,163.31,222,2588,150.5,132.22]
[6,11,"NV",-1,8108,3365,156.41999999999999,381,4612,144.76,125.17]
[6,11,"NY",-1,15300,7150,174.14,739,9095,153.1,151.18]
[6,11,"OH",-1,18058,8448,169.12,841,10988,141.43,135.61000000000001]
[6,11,"OK",-1,10808,4539,157.19,601,7205,141.31,124.15]
[6,11,"OR",-1,7790,4032,191.31,328,4283,173.72,147.69999999999999]
[6,11,"OT",-1,8360,5472,203.29,266,3982,138.72,171.01]
[6,11,"PA",-1,16851,7983,178.34,714,9306,149.63,142.34]
[6,11,"PR",-1,4090,1865,181.7,191,3364,139.19,140.69999999999999]
[6,11,"RI",-1,1604,677,169.65,74,949,170.97,143.69999999999999]
[6,11,"SC",-1,16025,6498,153.52000000000001,809,10589,142.44999999999999,131.36000000000001]
[6,11,"SD",-1,2330,1030,168.53,101,1312,149.16999999999999,144.15]
[6,11,"TN",-1,15990,6866,161.76,788,10494,132.97,129.07]
[6,11,"TX",-1,65832,23466,140.85,3396,45491,130.4,119.77]
[6,11,"UT",-1,3453,1475,153.33000000000001,143,2191,137.85,123.98]
[6,11,"VA",-1,23202,8507,140.08000000000001,1084,15690,132.55000000000001,120.26]
[6,11,"VT",-1,722,397,205.46,36,449,194.33,170.24]
[6,11,"WA",-1,13549,6068,162.68,631,8130,138.91999999999999,122.76]
[6,11,"WI",-1,8754,4071,172.73,393,5384,148.04,145.9]
[6,11,"WV",-1,4258,2114,177.56,195,2591,157.18,149.33000000000001]
[6,11,"WY",-1,1447,671,177.35,58,918,149.76,153.9]
[6,12,100,-1,16891,3669,93.51,1491,17499,66.06,45.65]
[6,12,"AK",-1,23,8,138.65,1,22,46,70.64]
[6,12,"AL",-1,512,110,103.24,39,530,62.33,44.48]
[6,12,"AR",-1,254,53,85.72,20,281,56.7,51.01]
[6,12,"AZ",-1,462,89,86.39,45,517,83.2,47.49]
[6,12,"CA",-1,1310,306,102.99,108,1269,62.06,49.82]
[6,12,"CO",-1,243,44,81.790000000000006,30,290,70.27,43.16]
[6,12,"CT",-1,128,28,86.5,16,135,58.38,41.47]
[6,12,"DC",-1,9,2,98.67,null,19,null,39.53]
[6,12,"DE",-1,45,11,86.82,5,62,80.8,49.08]
[6,12,"FL",-1,1399,284,84.7,128,1521,60.8,42.94]
[6,12,"GA",-1,645,153,92.75,58,717,48.9,39.64]
[6,12,"HI",-1,58,12,100.5,9,73,74.56,60.48]
[6,12,"IA",-1,211,33,93.08,14,190,68.569999999999993,47.87]
[6,12,"ID",-1,98,10,73.8,7,110,54.14,53.63]
[6,12,"IL",-1,495,116,97.32,43,444,53.63,51.08]
[6,12,"IN",-1,313,74,93.94,32,318,68.19,42.01]
[6,12,"KS",-1,176,41,102.03,10,153,45.9,34.1]
[6,12,"KY",-1,254,50,93.7,29,314,59.14,43.26]
[6,12,"LA",-1,305,62,95.37,23,312,88.13,51.87]
[6,12,"MA",-1,169,40,92.75,7,151,60.14,47.13]
[6,12,"MD",-1,227,55,94.35,22,222,62.18,37.880000000000003]
[6,12,"ME",-1,61,18,103.26,5,93,29.8,41.29]
[6,12,"MI",-1,549,130,109.81,38,534,59.11,46.09]
[6,12,"MN",-1,239,53,94.44,17,256,72.239999999999995,41.04]
[6,12,"MO",-1,414,99,95.31,31,436,64.709999999999994,45.83]
[6,12,"MS",-1,252,53,101.55,10,220,40.9,49.22]
[6,12,"MT",-1,64,13,104.22,6,67,10.83,22]
[6,13,"OT",-1,230,66,142.33000000000001,null,177,null,115.27]

{"sheet":"DT","index":5,"n_rows":2,"n_cols":1,"rows_kept":2,"cut":false,"hidden":true,"merged":[]}
["ST_DATE"]
["2022-01-08"]

{"sheet":"Rating Bundle - SOO","index":6,"n_rows":35,"n_cols":15,"rows_kept":35,"cut":false,"hidden":false,"merged":[[1,3,1,10],[1,11,1,16],[2,3,2,10],[2,11,2,16],[8,3,10,3],[8,4,10,4],[8,5,10,5],[8,6,10,6],[8,7,10,7],[8,8,10,8],[8,9,10,9],[8,10,10,10],[8,11,10,16],[7,3,7,10],[7,11,7,16],[6,11,6,16]]}
[]
[null,null,"DISTRICT SELECTOR","Compensation and Pension Rating Bundle Metrics",null,null,null,null,null,null,null,"Report through"]
[null,null,null,"Station of Origin View",null,null,null,null,null,null,null,{"$f":"D_DT[]","v":"2022-01-08"}]
[null,null,null,"The Station of Origination (SOO) primarily represents pending claims based on geographic boundaries",null,null,null,null,null,null,null,"ADP = Average Days Pending",null,null,"MTD = Month to Date"]
[null,null,null,"Each Special Mission has distinct claim counts",null,null,null,null,null,null,null,"ADC = Average Days to Complete",null,null,"FYTD = Fiscal Year to Date"]
[null,null,null,"When Special Mission is set to Pension, BDD, or Quickstart, the District Selector has no impact."]
[null,null,null,null,null,null,null,null,null,null,null,"Accuracy metrics are available on Rating Bundle - SOJ tab"]
[null,null,null,"CLAIM METRICS",null,null,null,null,null,null,null,"ACCURACY METRICS"]
[null,null,"SPECIAL MISSION SELECTOR","#\nPending","#\nPending\n> 125 Days","%\nPending\n> 125 Days","ADP","#\nCompleted\nMTD","ADC\nMTD","#\nCompleted\nFYTD","ADC\nFYTD","Accuracy measurement is available on the Rating Bundle SOJ tab"]
[]
[]
[100,null,{"$f":"Driver!$C$20& \" Total\"","v":"USA - All Missions Total"},{"$f":"IF(ISNA($A12),\"\",IFERROR(SUMIFS(D_D[INV],D_D[MT],4,D_D[CAT],SMS,D_D[LOC],$A12),0))","v":627100},{"$f":"IF(ISNA($A12),\"\",IFERROR(SUMIFS(D_D[BL],D_D[MT],4,D_D[CAT],SMS,D_D[LOC],$A12),0))","v":260739},{"$f":"IF(ISNA($A12),\"\",IFERROR(E12/D12,0))","v":0.41578536118641363},{"$f":"IF(ISNA($A12),\"\",IFERROR(SUMIFS(D_D[ADP],D_D[MT],4,D_D[CAT],SMS,D_D[LOC],$A12),0))","v":156.55000000000001},{"$f":"IF(ISNA($A12),\"\",IFERROR(SUMIFS(D_D[PROD_MTD],D_D[MT],4,D_D[CAT],SMS,D_D[LOC],$A12),0))","v":31262},{"$f":"IF(ISNA($A12),\"\",IFERROR(SUMIFS(D_D[ADCM],D_D[MT],4,D_D[CAT],SMS,D_D[LOC],$A12),0))","v":134.46},{"$f":"IF(ISNA($A12),\"\",IFERROR(SUMIFS(D_D[PROD_FYTD],D_D[MT],4,D_D[CAT],SMS,D_D[LOC],$A12),0))","v":414352},{"$f":"IF(ISNA($A12),\"\",IFERROR(SUMIFS(D_D[ADCF],D_D[MT],4,D_D[CAT],SMS,D_D[LOC],$A12),0))","v":124.66}]
[{"$f":"INDEX(RO,(MATCH($C13,RO_D,0)))","v":"395"},1,{"$f":"IFERROR(INDEX(INDIRECT(DS_RO),B13),\"\")","v":"Pacific District"},{"$f":"IF(ISNA($A13),\"\",IFERROR(SUMIFS(D_D[INV],D_D[MT],4,D_D[CAT],SMS,D_D[LOC],$A13),0))","v":81559},{"$f":"IF(ISNA($A13),\"\",IFERROR(SUMIFS(D_D[BL],D_D[MT],4,D_D[CAT],SMS,D_D[LOC],$A13),0))","v":30789},{"$f":"IF(ISNA($A13),\"\",IFERROR(E13/D13,0))","v":0.37750585465736458},{"$f":"IF(ISNA($A13),\"\",IFERROR(SUMIFS(D_D[ADP],D_D[MT],4,D_D[CAT],SMS,D_D[LOC],$A13),0))","v":167.54},{"$f":"IF(ISNA($A13),\"\",IFERROR(SUMIFS(D_D[PROD_MTD],D_D[MT],4,D_D[CAT],SMS,D_D[LOC],$A13),0))","v":4336},{"$f":"IF(ISNA($A13),\"\",IFERROR(SUMIFS(D_D[ADCM],D_D[MT],4,D_D[CAT],SMS,D_D[LOC],$A13),0))","v":118.8},{"$f":"IF(ISNA($A13),\"\",IFERROR(SUMIFS(D_D[PROD_FYTD],D_D[MT],4,D_D[CAT],SMS,D_D[LOC],$A13),0))","v":59440},{"$f":"IF(ISNA($A13),\"\",IFERROR(SUMIFS(D_D[ADCF],D_D[MT],4,D_D[CAT],SMS,D_D[LOC],$A13),0))","v":112.27}]
["340",2,"Albuquerque",{"$f":"IF(ISNA($A14),\"\",IFERROR(SUMIFS(D_D[INV],D_D[MT],4,D_D[CAT],SMS,D_D[LOC],$A14),0))","v":2645},{"$f":"IF(ISNA($A14),\"\",IFERROR(SUMIFS(D_D[BL],D_D[MT],4,D_D[CAT],SMS,D_D[LOC],$A14),0))","v":1039},{"$f":"IF(ISNA($A14),\"\",IFERROR(E14/D14,0))","v":0.39281663516068055},{"$f":"IF(ISNA($A14),\"\",IFERROR(SUMIFS(D_D[ADP],D_D[MT],4,D_D[CAT],SMS,D_D[LOC],$A14),0))","v":178.22},{"$f":"IF(ISNA($A14),\"\",IFERROR(SUMIFS(D_D[PROD_MTD],D_D[MT],4,D_D[CAT],SMS,D_D[LOC],$A14),0))","v":134},{"$f":"IF(ISNA($A14),\"\",IFERROR(SUMIFS(D_D[ADCM],D_D[MT],4,D_D[CAT],SMS,D_D[LOC],$A14),0))","v":119.12},{"$f":"IF(ISNA($A14),\"\",IFERROR(SUMIFS(D_D[PROD_FYTD],D_D[MT],4,D_D[CAT],SMS,D_D[LOC],$A14),0))","v":1749},{"$f":"IF(ISNA($A14),\"\",IFERROR(SUMIFS(D_D[ADCF],D_D[MT],4,D_D[CAT],SMS,D_D[LOC],$A14),0))","v":145.62}]
["463",3,{"$f":"IFERROR(INDEX(INDIRECT(DS_RO),B15),\"\")","v":"Anchorage"},{"$f":"IF(ISNA($A15),\"\",IFERROR(SUMIFS(D_D[INV],D_D[MT],4,D_D[CAT],SMS,D_D[LOC],$A15),0))","v":1413},{"$f":"IF(ISNA($A15),\"\",IFERROR(SUMIFS(D_D[BL],D_D[MT],4,D_D[CAT],SMS,D_D[LOC],$A15),0))","v":543},{"$f":"IF(ISNA($A15),\"\",IFERROR(E15/D15,0))","v":0.38428874734607221},{"$f":"IF(ISNA($A15),\"\",IFERROR(SUMIFS(D_D[ADP],D_D[MT],4,D_D[CAT],SMS,D_D[LOC],$A15),0))","v":175.93},{"$f":"IF(ISNA($A15),\"\",IFERROR(SUMIFS(D_D[PROD_MTD],D_D[MT],4,D_D[CAT],SMS,D_D[LOC],$A15),0))","v":45},{"$f":"IF(ISNA($A15),\"\",IFERROR(SUMIFS(D_D[ADCM],D_D[MT],4,D_D[CAT],SMS,D_D[LOC],$A15),0))","v":149.53},{"$f":"IF(ISNA($A15),\"\",IFERROR(SUMIFS(D_D[PROD_FYTD],D_D[MT],4,D_D[CAT],SMS,D_D[LOC],$A15),0))","v":818},{"$f":"IF(ISNA($A15),\"\",IFERROR(SUMIFS(D_D[ADCF],D_D[MT],4,D_D[CAT],SMS,D_D[LOC],$A15),0))","v":136.09}]
["347",4,"Boise",{"$f":"IF(ISNA($A16),\"\",IFERROR(SUMIFS(D_D[INV],D_D[MT],4,D_D[CAT],SMS,D_D[LOC],$A16),0))","v":2439},{"$f":"IF(ISNA($A16),\"\",IFERROR(SUMIFS(D_D[BL],D_D[MT],4,D_D[CAT],SMS,D_D[LOC],$A16),0))","v":940},0.38540385403854038,{"$f":"IF(ISNA($A16),\"\",IFERROR(SUMIFS(D_D[ADP],D_D[MT],4,D_D[CAT],SMS,D_D[LOC],$A16),0))","v":160.52000000000001},{"$f":"IF(ISNA($A16),\"\",IFERROR(SUMIFS(D_D[PROD_MTD],D_D[MT],4,D_D[CAT],SMS,D_D[LOC],$A16),0))","v":115},{"$f":"IF(ISNA($A16),\"\",IFERROR(SUMIFS(D_D[ADCM],D_D[MT],4,D_D[CAT],SMS,D_D[LOC],$A16),0))","v":128.6},{"$f":"IF(ISNA($A16),\"\",IFERROR(SUMIFS(D_D[PROD_FYTD],D_D[MT],4,D_D[CAT],SMS,D_D[LOC],$A16),0))","v":1633},{"$f":"IF(ISNA($A16),\"\",IFERROR(SUMIFS(D_D[ADCF],D_D[MT],4,D_D[CAT],SMS,D_D[LOC],$A16),0))","v":119.45}]
["459",5,"Honolulu",{"$f":"IF(ISNA($A17),\"\",IFERROR(SUMIFS(D_D[INV],D_D[MT],4,D_D[CAT],SMS,D_D[LOC],$A17),0))","v":3293},{"$f":"IF(ISNA($A17),\"\",IFERROR(SUMIFS(D_D[BL],D_D[MT],4,D_D[CAT],SMS,D_D[LOC],$A17),0))","v":1141},0.34649255997570605,{"$f":"IF(ISNA($A17),\"\",IFERROR(SUMIFS(D_D[ADP],D_D[MT],4,D_D[CAT],SMS,D_D[LOC],$A17),0))","v":139.86000000000001},{"$f":"IF(ISNA($A17),\"\",IFERROR(SUMIFS(D_D[PROD_MTD],D_D[MT],4,D_D[CAT],SMS,D_D[LOC],$A17),0))","v":187},{"$f":"IF(ISNA($A17),\"\",IFERROR(SUMIFS(D_D[ADCM],D_D[MT],4,D_D[CAT],SMS,D_D[LOC],$A17),0))","v":117.89},{"$f":"IF(ISNA($A17),\"\",IFERROR(SUMIFS(D_D[PROD_FYTD],D_D[MT],4,D_D[CAT],SMS,D_D[LOC],$A17),0))","v":2206},{"$f":"IF(ISNA($A17),\"\",IFERROR(SUMIFS(D_D[ADCF],D_D[MT],4,D_D[CAT],SMS,D_D[LOC],$A17),0))","v":119.36}]
["344",6,"Los Angeles",{"$f":"IF(ISNA($A18),\"\",IFERROR(SUMIFS(D_D[INV],D_D[MT],4,D_D[CAT],SMS,D_D[LOC],$A18),0))","v":10436},{"$f":"IF(ISNA($A18),\"\",IFERROR(SUMIFS(D_D[BL],D_D[MT],4,D_D[CAT],SMS,D_D[LOC],$A18),0))","v":3213},0.30787658106554233,{"$f":"IF(ISNA($A18),\"\",IFERROR(SUMIFS(D_D[ADP],D_D[MT],4,D_D[CAT],SMS,D_D[LOC],$A18),0))","v":128.38999999999999},{"$f":"IF(ISNA($A18),\"\",IFERROR(SUMIFS(D_D[PROD_MTD],D_D[MT],4,D_D[CAT],SMS,D_D[LOC],$A18),0))","v":506},{"$f":"IF(ISNA($A18),\"\",IFERROR(SUMIFS(D_D[ADCM],D_D[MT],4,D_D[CAT],SMS,D_D[LOC],$A18),0))","v":120.32},{"$f":"IF(ISNA($A18),\"\",IFERROR(SUMIFS(D_D[PROD_FYTD],D_D[MT],4,D_D[CAT],SMS,D_D[LOC],$A18),0))","v":6831},{"$f":"IF(ISNA($A18),\"\",IFERROR(SUMIFS(D_D[ADCF],D_D[MT],4,D_D[CAT],SMS,D_D[LOC],$A18),0))","v":104.01}]
["358",7,"Manila",{"$f":"IF(ISNA($A19),\"\",IFERROR(SUMIFS(D_D[INV],D_D[MT],4,D_D[CAT],SMS,D_D[LOC],$A19),0))","v":477},{"$f":"IF(ISNA($A19),\"\",IFERROR(SUMIFS(D_D[BL],D_D[MT],4,D_D[CAT],SMS,D_D[LOC],$A19),0))","v":193},0.40461215932914046,{"$f":"IF(ISNA($A19),\"\",IFERROR(SUMIFS(D_D[ADP],D_D[MT],4,D_D[CAT],SMS,D_D[LOC],$A19),0))","v":185.53},{"$f":"IF(ISNA($A19),\"\",IFERROR(SUMIFS(D_D[PROD_MTD],D_D[MT],4,D_D[CAT],SMS,D_D[LOC],$A19),0))","v":22},{"$f":"IF(ISNA($A19),\"\",IFERROR(SUMIFS(D_D[ADCM],D_D[MT],4,D_D[CAT],SMS,D_D[LOC],$A19),0))","v":120.73},{"$f":"IF(ISNA($A19),\"\",IFERROR(SUMIFS(D_D[PROD_FYTD],D_D[MT],4,D_D[CAT],SMS,D_D[LOC],$A19),0))","v":311},{"$f":"IF(ISNA($A19),\"\",IFERROR(SUMIFS(D_D[ADCF],D_D[MT],4,D_D[CAT],SMS,D_D[LOC],$A19),0))","v":111.69}]
["343",8,"Oakland",{"$f":"IF(ISNA($A20),\"\",IFERROR(SUMIFS(D_D[INV],D_D[MT],4,D_D[CAT],SMS,D_D[LOC],$A20),0))","v":11313},{"$f":"IF(ISNA($A20),\"\",IFERROR(SUMIFS(D_D[BL],D_D[MT],4,D_D[CAT],SMS,D_D[LOC],$A20),0))","v":4213},0.37240342968266593,{"$f":"IF(ISNA($A20),\"\",IFERROR(SUMIFS(D_D[ADP],D_D[MT],4,D_D[CAT],SMS,D_D[LOC],$A20),0))","v":154.04},{"$f":"IF(ISNA($A20),\"\",IFERROR(SUMIFS(D_D[PROD_MTD],D_D[MT],4,D_D[CAT],SMS,D_D[LOC],$A20),0))","v":514},{"$f":"IF(ISNA($A20),\"\",IFERROR(SUMIFS(D_D[ADCM],D_D[MT],4,D_D[CAT],SMS,D_D[LOC],$A20),0))","v":125.52},{"$f":"IF(ISNA($A20),\"\",IFERROR(SUMIFS(D_D[PROD_FYTD],D_D[MT],4,D_D[CAT],SMS,D_D[LOC],$A20),0))","v":7329},{"$f":"IF(ISNA($A20),\"\",IFERROR(SUMIFS(D_D[ADCF],D_D[MT],4,D_D[CAT],SMS,D_D[LOC],$A20),0))","v":118.79}]
["345",9,"Phoenix",{"$f":"IF(ISNA($A21),\"\",IFERROR(SUMIFS(D_D[INV],D_D[MT],4,D_D[CAT],SMS,D_D[LOC],$A21),0))","v":8184},{"$f":"IF(ISNA($A21),\"\",IFERROR(SUMIFS(D_D[BL],D_D[MT],4,D_D[CAT],SMS,D_D[LOC],$A21),0))","v":3210},0.39222873900293254,{"$f":"IF(ISNA($A21),\"\",IFERROR(SUMIFS(D_D[ADP],D_D[MT],4,D_D[CAT],SMS,D_D[LOC],$A21),0))","v":161.41},{"$f":"IF(ISNA($A21),\"\",IFERROR(SUMIFS(D_D[PROD_MTD],D_D[MT],4,D_D[CAT],SMS,D_D[LOC],$A21),0))","v":396},{"$f":"IF(ISNA($A21),\"\",IFERROR(SUMIFS(D_D[ADCM],D_D[MT],4,D_D[CAT],SMS,D_D[LOC],$A21),0))","v":122.37},{"$f":"IF(ISNA($A21),\"\",IFERROR(SUMIFS(D_D[PROD_FYTD],D_D[MT],4,D_D[CAT],SMS,D_D[LOC],$A21),0))","v":5402},{"$f":"IF(ISNA($A21),\"\",IFERROR(SUMIFS(D_D[ADCF],D_D[MT],4,D_D[CAT],SMS,D_D[LOC],$A21),0))","v":118.84}]
["348",10,"Portland",{"$f":"IF(ISNA($A22),\"\",IFERROR(SUMIFS(D_D[INV],D_D[MT],4,D_D[CAT],SMS,D_D[LOC],$A22),0))","v":4626},{"$f":"IF(ISNA($A22),\"\",IFERROR(SUMIFS(D_D[BL],D_D[MT],4,D_D[CAT],SMS,D_D[LOC],$A22),0))","v":1877},0.40575010808473844,{"$f":"IF(ISNA($A22),\"\",IFERROR(SUMIFS(D_D[ADP],D_D[MT],4,D_D[CAT],SMS,D_D[LOC],$A22),0))","v":183.42},{"$f":"IF(ISNA($A22),\"\",IFERROR(SUMIFS(D_D[PROD_MTD],D_D[MT],4,D_D[CAT],SMS,D_D[LOC],$A22),0))","v":217},{"$f":"IF(ISNA($A22),\"\",IFERROR(SUMIFS(D_D[ADCM],D_D[MT],4,D_D[CAT],SMS,D_D[LOC],$A22),0))","v":171.19},{"$f":"IF(ISNA($A22),\"\",IFERROR(SUMIFS(D_D[PROD_FYTD],D_D[MT],4,D_D[CAT],SMS,D_D[LOC],$A22),0))","v":2822},{"$f":"IF(ISNA($A22),\"\",IFERROR(SUMIFS(D_D[ADCF],D_D[MT],4,D_D[CAT],SMS,D_D[LOC],$A22),0))","v":143.87}]
["354",11,"Reno",{"$f":"IF(ISNA($A23),\"\",IFERROR(SUMIFS(D_D[INV],D_D[MT],4,D_D[CAT],SMS,D_D[LOC],$A23),0))","v":5202},{"$f":"IF(ISNA($A23),\"\",IFERROR(SUMIFS(D_D[BL],D_D[MT],4,D_D[CAT],SMS,D_D[LOC],$A23),0))","v":1839},0.35351787773933102,{"$f":"IF(ISNA($A23),\"\",IFERROR(SUMIFS(D_D[ADP],D_D[MT],4,D_D[CAT],SMS,D_D[LOC],$A23),0))","v":149.66},{"$f":"IF(ISNA($A23),\"\",IFERROR(SUMIFS(D_D[PROD_MTD],D_D[MT],4,D_D[CAT],SMS,D_D[LOC],$A23),0))","v":239},{"$f":"IF(ISNA($A23),\"\",IFERROR(SUMIFS(D_D[ADCM],D_D[MT],4,D_D[CAT],SMS,D_D[LOC],$A23),0))","v":130.15},{"$f":"IF(ISNA($A23),\"\",IFERROR(SUMIFS(D_D[PROD_FYTD],D_D[MT],4,D_D[CAT],SMS,D_D[LOC],$A23),0))","v":3061},{"$f":"IF(ISNA($A23),\"\",IFERROR(SUMIFS(D_D[ADCF],D_D[MT],4,D_D[CAT],SMS,D_D[LOC],$A23),0))","v":119.2}]
["341",12,"Salt Lake City",{"$f":"IF(ISNA($A24),\"\",IFERROR(SUMIFS(D_D[INV],D_D[MT],4,D_D[CAT],SMS,D_D[LOC],$A24),0))","v":4375},{"$f":"IF(ISNA($A24),\"\",IFERROR(SUMIFS(D_D[BL],D_D[MT],4,D_D[CAT],SMS,D_D[LOC],$A24),0))","v":2354},0.5380571428571429,{"$f":"IF(ISNA($A24),\"\",IFERROR(SUMIFS(D_D[ADP],D_D[MT],4,D_D[CAT],SMS,D_D[LOC],$A24),0))","v":218.29},{"$f":"IF(ISNA($A24),\"\",IFERROR(SUMIFS(D_D[PROD_MTD],D_D[MT],4,D_D[CAT],SMS,D_D[LOC],$A24),0))","v":144},{"$f":"IF(ISNA($A24),\"\",IFERROR(SUMIFS(D_D[ADCM],D_D[MT],4,D_D[CAT],SMS,D_D[LOC],$A24),0))","v":136.36000000000001},{"$f":"IF(ISNA($A24),\"\",IFERROR(SUMIFS(D_D[PROD_FYTD],D_D[MT],4,D_D[CAT],SMS,D_D[LOC],$A24),0))","v":2257},{"$f":"IF(ISNA($A24),\"\",IFERROR(SUMIFS(D_D[ADCF],D_D[MT],4,D_D[CAT],SMS,D_D[LOC],$A24),0))","v":142.61000000000001}]
["377",13,"San Diego",{"$f":"IF(ISNA($A25),\"\",IFERROR(SUMIFS(D_D[INV],D_D[MT],4,D_D[CAT],SMS,D_D[LOC],$A25),0))","v":13555},{"$f":"IF(ISNA($A25),\"\",IFERROR(SUMIFS(D_D[BL],D_D[MT],4,D_D[CAT],SMS,D_D[LOC],$A25),0))","v":4599},0.33928439690151235,{"$f":"IF(ISNA($A25),\"\",IFERROR(SUMIFS(D_D[ADP],D_D[MT],4,D_D[CAT],SMS,D_D[LOC],$A25),0))","v":161.34},{"$f":"IF(ISNA($A25),\"\",IFERROR(SUMIFS(D_D[PROD_MTD],D_D[MT],4,D_D[CAT],SMS,D_D[LOC],$A25),0))","v":663},{"$f":"IF(ISNA($A25),\"\",IFERROR(SUMIFS(D_D[ADCM],D_D[MT],4,D_D[CAT],SMS,D_D[LOC],$A25),0))","v":132.81},{"$f":"IF(ISNA($A25),\"\",IFERROR(SUMIFS(D_D[PROD_FYTD],D_D[MT],4,D_D[CAT],SMS,D_D[LOC],$A25),0))","v":9722},{"$f":"IF(ISNA($A25),\"\",IFERROR(SUMIFS(D_D[ADCF],D_D[MT],4,D_D[CAT],SMS,D_D[LOC],$A25),0))","v":117.44}]
["346",14,"Seattle",{"$f":"IF(ISNA($A26),\"\",IFERROR(SUMIFS(D_D[INV],D_D[MT],4,D_D[CAT],SMS,D_D[LOC],$A26),0))","v":13601},{"$f":"IF(ISNA($A26),\"\",IFERROR(SUMIFS(D_D[BL],D_D[MT],4,D_D[CAT],SMS,D_D[LOC],$A26),0))","v":5628},0.41379310344827586,{"$f":"IF(ISNA($A26),\"\",IFERROR(SUMIFS(D_D[ADP],D_D[MT],4,D_D[CAT],SMS,D_D[LOC],$A26),0))","v":208.18},{"$f":"IF(ISNA($A26),\"\",IFERROR(SUMIFS(D_D[PROD_MTD],D_D[MT],4,D_D[CAT],SMS,D_D[LOC],$A26),0))","v":1154},{"$f":"IF(ISNA($A26),\"\",IFERROR(SUMIFS(D_D[ADCM],D_D[MT],4,D_D[CAT],SMS,D_D[LOC],$A26),0))","v":89.38},{"$f":"IF(ISNA($A26),\"\",IFERROR(SUMIFS(D_D[PROD_FYTD],D_D[MT],4,D_D[CAT],SMS,D_D[LOC],$A26),0))","v":15299},{"$f":"IF(ISNA($A26),\"\",IFERROR(SUMIFS(D_D[ADCF],D_D[MT],4,D_D[CAT],SMS,D_D[LOC],$A26),0))","v":88.68}]
[{"$error":"#N/A"},15,"",{"$f":"IF(ISNA($A27),\"\",IFERROR(SUMIFS(D_D[INV],D_D[MT],4,D_D[CAT],SMS,D_D[LOC],$A27),0))","v":""},{"$f":"IF(ISNA($A27),\"\",IFERROR(SUMIFS(D_D[BL],D_D[MT],4,D_D[CAT],SMS,D_D[LOC],$A27),0))","v":""},"",{"$f":"IF(ISNA($A27),\"\",IFERROR(SUMIFS(D_D[ADP],D_D[MT],4,D_D[CAT],SMS,D_D[LOC],$A27),0))","v":""},{"$f":"IF(ISNA($A27),\"\",IFERROR(SUMIFS(D_D[PROD_MTD],D_D[MT],4,D_D[CAT],SMS,D_D[LOC],$A27),0))","v":""},{"$f":"IF(ISNA($A27),\"\",IFERROR(SUMIFS(D_D[ADCM],D_D[MT],4,D_D[CAT],SMS,D_D[LOC],$A27),0))","v":""},{"$f":"IF(ISNA($A27),\"\",IFERROR(SUMIFS(D_D[PROD_FYTD],D_D[MT],4,D_D[CAT],SMS,D_D[LOC],$A27),0))","v":""},{"$f":"IF(ISNA($A27),\"\",IFERROR(SUMIFS(D_D[ADCF],D_D[MT],4,D_D[CAT],SMS,D_D[LOC],$A27),0))","v":""}]
[{"$error":"#N/A"},16,"",{"$f":"IF(ISNA($A28),\"\",IFERROR(SUMIFS(D_D[INV],D_D[MT],4,D_D[CAT],SMS,D_D[LOC],$A28),0))","v":""},{"$f":"IF(ISNA($A28),\"\",IFERROR(SUMIFS(D_D[BL],D_D[MT],4,D_D[CAT],SMS,D_D[LOC],$A28),0))","v":""},"",{"$f":"IF(ISNA($A28),\"\",IFERROR(SUMIFS(D_D[ADP],D_D[MT],4,D_D[CAT],SMS,D_D[LOC],$A28),0))","v":""},{"$f":"IF(ISNA($A28),\"\",IFERROR(SUMIFS(D_D[PROD_MTD],D_D[MT],4,D_D[CAT],SMS,D_D[LOC],$A28),0))","v":""},{"$f":"IF(ISNA($A28),\"\",IFERROR(SUMIFS(D_D[ADCM],D_D[MT],4,D_D[CAT],SMS,D_D[LOC],$A28),0))","v":""},{"$f":"IF(ISNA($A28),\"\",IFERROR(SUMIFS(D_D[PROD_FYTD],D_D[MT],4,D_D[CAT],SMS,D_D[LOC],$A28),0))","v":""},{"$f":"IF(ISNA($A28),\"\",IFERROR(SUMIFS(D_D[ADCF],D_D[MT],4,D_D[CAT],SMS,D_D[LOC],$A28),0))","v":""}]
[{"$error":"#N/A"},17,"",{"$f":"IF(ISNA($A29),\"\",IFERROR(SUMIFS(D_D[INV],D_D[MT],4,D_D[CAT],SMS,D_D[LOC],$A29),0))","v":""},{"$f":"IF(ISNA($A29),\"\",IFERROR(SUMIFS(D_D[BL],D_D[MT],4,D_D[CAT],SMS,D_D[LOC],$A29),0))","v":""},"",{"$f":"IF(ISNA($A29),\"\",IFERROR(SUMIFS(D_D[ADP],D_D[MT],4,D_D[CAT],SMS,D_D[LOC],$A29),0))","v":""},{"$f":"IF(ISNA($A29),\"\",IFERROR(SUMIFS(D_D[PROD_MTD],D_D[MT],4,D_D[CAT],SMS,D_D[LOC],$A29),0))","v":""},{"$f":"IF(ISNA($A29),\"\",IFERROR(SUMIFS(D_D[ADCM],D_D[MT],4,D_D[CAT],SMS,D_D[LOC],$A29),0))","v":""},{"$f":"IF(ISNA($A29),\"\",IFERROR(SUMIFS(D_D[PROD_FYTD],D_D[MT],4,D_D[CAT],SMS,D_D[LOC],$A29),0))","v":""},{"$f":"IF(ISNA($A29),\"\",IFERROR(SUMIFS(D_D[ADCF],D_D[MT],4,D_D[CAT],SMS,D_D[LOC],$A29),0))","v":""}]
[{"$error":"#N/A"},18,"",{"$f":"IF(ISNA($A30),\"\",IFERROR(SUMIFS(D_D[INV],D_D[MT],4,D_D[CAT],SMS,D_D[LOC],$A30),0))","v":""},{"$f":"IF(ISNA($A30),\"\",IFERROR(SUMIFS(D_D[BL],D_D[MT],4,D_D[CAT],SMS,D_D[LOC],$A30),0))","v":""},"",{"$f":"IF(ISNA($A30),\"\",IFERROR(SUMIFS(D_D[ADP],D_D[MT],4,D_D[CAT],SMS,D_D[LOC],$A30),0))","v":""},{"$f":"IF(ISNA($A30),\"\",IFERROR(SUMIFS(D_D[PROD_MTD],D_D[MT],4,D_D[CAT],SMS,D_D[LOC],$A30),0))","v":""},{"$f":"IF(ISNA($A30),\"\",IFERROR(SUMIFS(D_D[ADCM],D_D[MT],4,D_D[CAT],SMS,D_D[LOC],$A30),0))","v":""},{"$f":"IF(ISNA($A30),\"\",IFERROR(SUMIFS(D_D[PROD_FYTD],D_D[MT],4,D_D[CAT],SMS,D_D[LOC],$A30),0))","v":""},{"$f":"IF(ISNA($A30),\"\",IFERROR(SUMIFS(D_D[ADCF],D_D[MT],4,D_D[CAT],SMS,D_D[LOC],$A30),0))","v":""}]
[{"$error":"#N/A"},19,"",{"$f":"IF(ISNA($A31),\"\",IFERROR(SUMIFS(D_D[INV],D_D[MT],4,D_D[CAT],SMS,D_D[LOC],$A31),0))","v":""},{"$f":"IF(ISNA($A31),\"\",IFERROR(SUMIFS(D_D[BL],D_D[MT],4,D_D[CAT],SMS,D_D[LOC],$A31),0))","v":""},"",{"$f":"IF(ISNA($A31),\"\",IFERROR(SUMIFS(D_D[ADP],D_D[MT],4,D_D[CAT],SMS,D_D[LOC],$A31),0))","v":""},{"$f":"IF(ISNA($A31),\"\",IFERROR(SUMIFS(D_D[PROD_MTD],D_D[MT],4,D_D[CAT],SMS,D_D[LOC],$A31),0))","v":""},{"$f":"IF(ISNA($A31),\"\",IFERROR(SUMIFS(D_D[ADCM],D_D[MT],4,D_D[CAT],SMS,D_D[LOC],$A31),0))","v":""},{"$f":"IF(ISNA($A31),\"\",IFERROR(SUMIFS(D_D[PROD_FYTD],D_D[MT],4,D_D[CAT],SMS,D_D[LOC],$A31),0))","v":""},{"$f":"IF(ISNA($A31),\"\",IFERROR(SUMIFS(D_D[ADCF],D_D[MT],4,D_D[CAT],SMS,D_D[LOC],$A31),0))","v":""}]
[{"$error":"#N/A"},20,"",{"$f":"IF(ISNA($A32),\"\",IFERROR(SUMIFS(D_D[INV],D_D[MT],4,D_D[CAT],SMS,D_D[LOC],$A32),0))","v":""},{"$f":"IF(ISNA($A32),\"\",IFERROR(SUMIFS(D_D[BL],D_D[MT],4,D_D[CAT],SMS,D_D[LOC],$A32),0))","v":""},"",{"$f":"IF(ISNA($A32),\"\",IFERROR(SUMIFS(D_D[ADP],D_D[MT],4,D_D[CAT],SMS,D_D[LOC],$A32),0))","v":""},{"$f":"IF(ISNA($A32),\"\",IFERROR(SUMIFS(D_D[PROD_MTD],D_D[MT],4,D_D[CAT],SMS,D_D[LOC],$A32),0))","v":""},{"$f":"IF(ISNA($A32),\"\",IFERROR(SUMIFS(D_D[ADCM],D_D[MT],4,D_D[CAT],SMS,D_D[LOC],$A32),0))","v":""},{"$f":"IF(ISNA($A32),\"\",IFERROR(SUMIFS(D_D[PROD_FYTD],D_D[MT],4,D_D[CAT],SMS,D_D[LOC],$A32),0))","v":""},{"$f":"IF(ISNA($A32),\"\",IFERROR(SUMIFS(D_D[ADCF],D_D[MT],4,D_D[CAT],SMS,D_D[LOC],$A32),0))","v":""}]
[{"$error":"#N/A"},21,"",{"$f":"IF(ISNA($A33),\"\",IFERROR(SUMIFS(D_D[INV],D_D[MT],4,D_D[CAT],SMS,D_D[LOC],$A33),0))","v":""},{"$f":"IF(ISNA($A33),\"\",IFERROR(SUMIFS(D_D[BL],D_D[MT],4,D_D[CAT],SMS,D_D[LOC],$A33),0))","v":""},"",{"$f":"IF(ISNA($A33),\"\",IFERROR(SUMIFS(D_D[ADP],D_D[MT],4,D_D[CAT],SMS,D_D[LOC],$A33),0))","v":""},{"$f":"IF(ISNA($A33),\"\",IFERROR(SUMIFS(D_D[PROD_MTD],D_D[MT],4,D_D[CAT],SMS,D_D[LOC],$A33),0))","v":""},{"$f":"IF(ISNA($A33),\"\",IFERROR(SUMIFS(D_D[ADCM],D_D[MT],4,D_D[CAT],SMS,D_D[LOC],$A33),0))","v":""},{"$f":"IF(ISNA($A33),\"\",IFERROR(SUMIFS(D_D[PROD_FYTD],D_D[MT],4,D_D[CAT],SMS,D_D[LOC],$A33),0))","v":""},{"$f":"IF(ISNA($A33),\"\",IFERROR(SUMIFS(D_D[ADCF],D_D[MT],4,D_D[CAT],SMS,D_D[LOC],$A33),0))","v":""}]
[{"$error":"#N/A"},22,"",{"$f":"IF(ISNA($A34),\"\",IFERROR(SUMIFS(D_D[INV],D_D[MT],4,D_D[CAT],SMS,D_D[LOC],$A34),0))","v":""},{"$f":"IF(ISNA($A34),\"\",IFERROR(SUMIFS(D_D[BL],D_D[MT],4,D_D[CAT],SMS,D_D[LOC],$A34),0))","v":""},"",{"$f":"IF(ISNA($A34),\"\",IFERROR(SUMIFS(D_D[ADP],D_D[MT],4,D_D[CAT],SMS,D_D[LOC],$A34),0))","v":""},{"$f":"IF(ISNA($A34),\"\",IFERROR(SUMIFS(D_D[PROD_MTD],D_D[MT],4,D_D[CAT],SMS,D_D[LOC],$A34),0))","v":""},{"$f":"IF(ISNA($A34),\"\",IFERROR(SUMIFS(D_D[ADCM],D_D[MT],4,D_D[CAT],SMS,D_D[LOC],$A34),0))","v":""},{"$f":"IF(ISNA($A34),\"\",IFERROR(SUMIFS(D_D[PROD_FYTD],D_D[MT],4,D_D[CAT],SMS,D_D[LOC],$A34),0))","v":""},{"$f":"IF(ISNA($A34),\"\",IFERROR(SUMIFS(D_D[ADCF],D_D[MT],4,D_D[CAT],SMS,D_D[LOC],$A34),0))","v":""}]
[{"$error":"#N/A"},23,"",{"$f":"IF(ISNA($A35),\"\",IFERROR(SUMIFS(D_D[INV],D_D[MT],4,D_D[CAT],SMS,D_D[LOC],$A35),0))","v":""},{"$f":"IF(ISNA($A35),\"\",IFERROR(SUMIFS(D_D[BL],D_D[MT],4,D_D[CAT],SMS,D_D[LOC],$A35),0))","v":""},"",{"$f":"IF(ISNA($A35),\"\",IFERROR(SUMIFS(D_D[ADP],D_D[MT],4,D_D[CAT],SMS,D_D[LOC],$A35),0))","v":""},{"$f":"IF(ISNA($A35),\"\",IFERROR(SUMIFS(D_D[PROD_MTD],D_D[MT],4,D_D[CAT],SMS,D_D[LOC],$A35),0))","v":""},{"$f":"IF(ISNA($A35),\"\",IFERROR(SUMIFS(D_D[ADCM],D_D[MT],4,D_D[CAT],SMS,D_D[LOC],$A35),0))","v":""},{"$f":"IF(ISNA($A35),\"\",IFERROR(SUMIFS(D_D[PROD_FYTD],D_D[MT],4,D_D[CAT],SMS,D_D[LOC],$A35),0))","v":""},{"$f":"IF(ISNA($A35),\"\",IFERROR(SUMIFS(D_D[ADCF],D_D[MT],4,D_D[CAT],SMS,D_D[LOC],$A35),0))","v":""}]

{"sheet":"Rating Bundle - State","index":7,"n_rows":35,"n_cols":15,"rows_kept":35,"cut":false,"hidden":false,"merged":[[8,9,10,9],[8,10,10,10],[8,11,10,16],[8,6,10,6],[1,11,1,16],[2,11,2,16],[1,3,1,10],[2,3,2,10],[7,3,7,10],[7,11,7,16],[8,3,10,3],[8,4,10,4],[8,5,10,5],[8,7,10,7],[8,8,10,8],[6,11,6,16]]}
[]
[null,null,"DISTRICT SELECTOR","Compensation and Pension Rating Bundle Metrics",null,null,null,null,null,null,null,"Report through"]
[null,null,null,"State View",null,null,null,null,null,null,null,{"$f":"D_DT[]","v":"2022-01-08"}]
[null,null,null,"The State listed is based on the address associated with the claim, not payment address",null,null,null,null,null,null,null,"ADP = Average Days Pending",null,null,"MTD = Month to Date"]
[null,null,null,"Each Special Mission has distinct claim counts",null,null,null,null,null,null,null,"ADC = Average Days to Complete",null,null,"FYTD = Fiscal Year to Date"]
[null,null,null,"When Special Mission is set to Pension, BDD, or Quickstart, the District Selector has no impact."]
[null,null,null,null,null,null,null,null,null,null,null,"Accuracy metrics are available on Rating Bundle - SOJ tab"]
[null,null,null,"CLAIM METRICS",null,null,null,null,null,null,null,"ACCURACY METRICS"]
[null,null,"SPECIAL MISSION SELECTOR","#\nPending","#\nPending\n> 125 Days","%\nPending\n> 125 Days","ADP","#\nCompleted\nMTD","ADC\nMTD","#\nCompleted\nFYTD","ADC\nFYTD","Accuracy measurement is available on the Rating Bundle SOJ tab"]
[]
[]
[100,null,{"$f":"Driver!$C$20& \" Total\"","v":"USA - All Missions Total"},{"$f":"IF(ISNA($A12),\"\",IFERROR(SUMIFS(D_D[INV],D_D[MT],6,D_D[CAT],SMS,D_D[LOC],$A12),0))","v":627100},{"$f":"IF(ISNA($A12),\"\",IFERROR(SUMIFS(D_D[BL],D_D[MT],6,D_D[CAT],SMS,D_D[LOC],$A12),0))","v":260739},{"$f":"IF(ISNA($A12),\"\",IFERROR(E12/D12,0))","v":0.41578536118641363},{"$f":"IF(ISNA($A12),\"\",IFERROR(SUMIFS(D_D[ADP],D_D[MT],6,D_D[CAT],SMS,D_D[LOC],$A12),0))","v":156.55000000000001},{"$f":"IF(ISNA($A12),\"\",IFERROR(SUMIFS(D_D[PROD_MTD],D_D[MT],6,D_D[CAT],SMS,D_D[LOC],$A12),0))","v":31262},{"$f":"IF(ISNA($A12),\"\",IFERROR(SUMIFS(D_D[ADCM],D_D[MT],6,D_D[CAT],SMS,D_D[LOC],$A12),0))","v":134.46},{"$f":"IF(ISNA($A12),\"\",IFERROR(SUMIFS(D_D[PROD_FYTD],D_D[MT],6,D_D[CAT],SMS,D_D[LOC],$A12),0))","v":414352},{"$f":"IF(ISNA($A12),\"\",IFERROR(SUMIFS(D_D[ADCF],D_D[MT],6,D_D[CAT],SMS,D_D[LOC],$A12),0))","v":124.66}]
[{"$f":"INDEX(STATE,(MATCH($C13,STATE_D,0)))","v":"395"},1,{"$f":"IFERROR(INDEX(INDIRECT(DS_ST),B13),\"\")","v":"Pacific District"},{"$f":"IF(ISNA($A13),\"\",IFERROR(SUMIFS(D_D[INV],D_D[MT],6,D_D[CAT],SMS,D_D[LOC],$A13),0))","v":113186},{"$f":"IF(ISNA($A13),\"\",IFERROR(SUMIFS(D_D[BL],D_D[MT],6,D_D[CAT],SMS,D_D[LOC],$A13),0))","v":47870},{"$f":"IF(ISNA($A13),\"\",IFERROR(E13/D13,0))","v":0.42293216475535844},{"$f":"IF(ISNA($A13),\"\",IFERROR(SUMIFS(D_D[ADP],D_D[MT],6,D_D[CAT],SMS,D_D[LOC],$A13),0))","v":160.19},{"$f":"IF(ISNA($A13),\"\",IFERROR(SUMIFS(D_D[PROD_MTD],D_D[MT],6,D_D[CAT],SMS,D_D[LOC],$A13),0))","v":5534},{"$f":"IF(ISNA($A13),\"\",IFERROR(SUMIFS(D_D[ADCM],D_D[MT],6,D_D[CAT],SMS,D_D[LOC],$A13),0))","v":132.86000000000001},{"$f":"IF(ISNA($A13),\"\",IFERROR(SUMIFS(D_D[PROD_FYTD],D_D[MT],6,D_D[CAT],SMS,D_D[LOC],$A13),0))","v":72675},{"$f":"IF(ISNA($A13),\"\",IFERROR(SUMIFS(D_D[ADCF],D_D[MT],6,D_D[CAT],SMS,D_D[LOC],$A13),0))","v":120.97}]
["AK",2,"Alaska",{"$f":"IF(ISNA($A14),\"\",IFERROR(SUMIFS(D_D[INV],D_D[MT],6,D_D[CAT],SMS,D_D[LOC],$A14),0))","v":1959},{"$f":"IF(ISNA($A14),\"\",IFERROR(SUMIFS(D_D[BL],D_D[MT],6,D_D[CAT],SMS,D_D[LOC],$A14),0))","v":842},{"$f":"IF(ISNA($A14),\"\",IFERROR(E14/D14,0))","v":0.42981112812659522},{"$f":"IF(ISNA($A14),\"\",IFERROR(SUMIFS(D_D[ADP],D_D[MT],6,D_D[CAT],SMS,D_D[LOC],$A14),0))","v":160.16},{"$f":"IF(ISNA($A14),\"\",IFERROR(SUMIFS(D_D[PROD_MTD],D_D[MT],6,D_D[CAT],SMS,D_D[LOC],$A14),0))","v":73},{"$f":"IF(ISNA($A14),\"\",IFERROR(SUMIFS(D_D[ADCM],D_D[MT],6,D_D[CAT],SMS,D_D[LOC],$A14),0))","v":142.88999999999999},{"$f":"IF(ISNA($A14),\"\",IFERROR(SUMIFS(D_D[PROD_FYTD],D_D[MT],6,D_D[CAT],SMS,D_D[LOC],$A14),0))","v":1232},{"$f":"IF(ISNA($A14),\"\",IFERROR(SUMIFS(D_D[ADCF],D_D[MT],6,D_D[CAT],SMS,D_D[LOC],$A14),0))","v":127.55}]
["AZ",3,{"$f":"IFERROR(INDEX(INDIRECT(DS_ST),B15),\"\")","v":"Arizona"},{"$f":"IF(ISNA($A15),\"\",IFERROR(SUMIFS(D_D[INV],D_D[MT],6,D_D[CAT],SMS,D_D[LOC],$A15),0))","v":14358},{"$f":"IF(ISNA($A15),\"\",IFERROR(SUMIFS(D_D[BL],D_D[MT],6,D_D[CAT],SMS,D_D[LOC],$A15),0))","v":6225},{"$f":"IF(ISNA($A15),\"\",IFERROR(E15/D15,0))","v":0.43355620559966568},{"$f":"IF(ISNA($A15),\"\",IFERROR(SUMIFS(D_D[ADP],D_D[MT],6,D_D[CAT],SMS,D_D[LOC],$A15),0))","v":159.80000000000001},{"$f":"IF(ISNA($A15),\"\",IFERROR(SUMIFS(D_D[PROD_MTD],D_D[MT],6,D_D[CAT],SMS,D_D[LOC],$A15),0))","v":708},{"$f":"IF(ISNA($A15),\"\",IFERROR(SUMIFS(D_D[ADCM],D_D[MT],6,D_D[CAT],SMS,D_D[LOC],$A15),0))","v":133.18},{"$f":"IF(ISNA($A15),\"\",IFERROR(SUMIFS(D_D[PROD_FYTD],D_D[MT],6,D_D[CAT],SMS,D_D[LOC],$A15),0))","v":9702},{"$f":"IF(ISNA($A15),\"\",IFERROR(SUMIFS(D_D[ADCF],D_D[MT],6,D_D[CAT],SMS,D_D[LOC],$A15),0))","v":121.98}]
["CA",4,"California",{"$f":"IF(ISNA($A16),\"\",IFERROR(SUMIFS(D_D[INV],D_D[MT],6,D_D[CAT],SMS,D_D[LOC],$A16),0))","v":50525},{"$f":"IF(ISNA($A16),\"\",IFERROR(SUMIFS(D_D[BL],D_D[MT],6,D_D[CAT],SMS,D_D[LOC],$A16),0))","v":20180},0.39940623453735774,{"$f":"IF(ISNA($A16),\"\",IFERROR(SUMIFS(D_D[ADP],D_D[MT],6,D_D[CAT],SMS,D_D[LOC],$A16),0))","v":156.93},{"$f":"IF(ISNA($A16),\"\",IFERROR(SUMIFS(D_D[PROD_MTD],D_D[MT],6,D_D[CAT],SMS,D_D[LOC],$A16),0))","v":2517},{"$f":"IF(ISNA($A16),\"\",IFERROR(SUMIFS(D_D[ADCM],D_D[MT],6,D_D[CAT],SMS,D_D[LOC],$A16),0))","v":129.12},{"$f":"IF(ISNA($A16),\"\",IFERROR(SUMIFS(D_D[PROD_FYTD],D_D[MT],6,D_D[CAT],SMS,D_D[LOC],$A16),0))","v":33083},{"$f":"IF(ISNA($A16),\"\",IFERROR(SUMIFS(D_D[ADCF],D_D[MT],6,D_D[CAT],SMS,D_D[LOC],$A16),0))","v":118.46}]
["HI",5,"Hawaii",{"$f":"IF(ISNA($A17),\"\",IFERROR(SUMIFS(D_D[INV],D_D[MT],6,D_D[CAT],SMS,D_D[LOC],$A17),0))","v":3806},{"$f":"IF(ISNA($A17),\"\",IFERROR(SUMIFS(D_D[BL],D_D[MT],6,D_D[CAT],SMS,D_D[LOC],$A17),0))","v":1617},0.42485549132947975,{"$f":"IF(ISNA($A17),\"\",IFERROR(SUMIFS(D_D[ADP],D_D[MT],6,D_D[CAT],SMS,D_D[LOC],$A17),0))","v":161.77000000000001},{"$f":"IF(ISNA($A17),\"\",IFERROR(SUMIFS(D_D[PROD_MTD],D_D[MT],6,D_D[CAT],SMS,D_D[LOC],$A17),0))","v":189},{"$f":"IF(ISNA($A17),\"\",IFERROR(SUMIFS(D_D[ADCM],D_D[MT],6,D_D[CAT],SMS,D_D[LOC],$A17),0))","v":118.15},{"$f":"IF(ISNA($A17),\"\",IFERROR(SUMIFS(D_D[PROD_FYTD],D_D[MT],6,D_D[CAT],SMS,D_D[LOC],$A17),0))","v":2451},{"$f":"IF(ISNA($A17),\"\",IFERROR(SUMIFS(D_D[ADCF],D_D[MT],6,D_D[CAT],SMS,D_D[LOC],$A17),0))","v":122.07}]
["ID",6,"Idaho",{"$f":"IF(ISNA($A18),\"\",IFERROR(SUMIFS(D_D[INV],D_D[MT],6,D_D[CAT],SMS,D_D[LOC],$A18),0))","v":3893},{"$f":"IF(ISNA($A18),\"\",IFERROR(SUMIFS(D_D[BL],D_D[MT],6,D_D[CAT],SMS,D_D[LOC],$A18),0))","v":1716},0.44079116362702286,{"$f":"IF(ISNA($A18),\"\",IFERROR(SUMIFS(D_D[ADP],D_D[MT],6,D_D[CAT],SMS,D_D[LOC],$A18),0))","v":163.33000000000001},{"$f":"IF(ISNA($A18),\"\",IFERROR(SUMIFS(D_D[PROD_MTD],D_D[MT],6,D_D[CAT],SMS,D_D[LOC],$A18),0))","v":171},{"$f":"IF(ISNA($A18),\"\",IFERROR(SUMIFS(D_D[ADCM],D_D[MT],6,D_D[CAT],SMS,D_D[LOC],$A18),0))","v":125.99},{"$f":"IF(ISNA($A18),\"\",IFERROR(SUMIFS(D_D[PROD_FYTD],D_D[MT],6,D_D[CAT],SMS,D_D[LOC],$A18),0))","v":2501},{"$f":"IF(ISNA($A18),\"\",IFERROR(SUMIFS(D_D[ADCF],D_D[MT],6,D_D[CAT],SMS,D_D[LOC],$A18),0))","v":123.33}]
["NV",7,"Nevada",{"$f":"IF(ISNA($A19),\"\",IFERROR(SUMIFS(D_D[INV],D_D[MT],6,D_D[CAT],SMS,D_D[LOC],$A19),0))","v":8423},{"$f":"IF(ISNA($A19),\"\",IFERROR(SUMIFS(D_D[BL],D_D[MT],6,D_D[CAT],SMS,D_D[LOC],$A19),0))","v":3441},0.40852427876053665,{"$f":"IF(ISNA($A19),\"\",IFERROR(SUMIFS(D_D[ADP],D_D[MT],6,D_D[CAT],SMS,D_D[LOC],$A19),0))","v":154.33000000000001},{"$f":"IF(ISNA($A19),\"\",IFERROR(SUMIFS(D_D[PROD_MTD],D_D[MT],6,D_D[CAT],SMS,D_D[LOC],$A19),0))","v":418},{"$f":"IF(ISNA($A19),\"\",IFERROR(SUMIFS(D_D[ADCM],D_D[MT],6,D_D[CAT],SMS,D_D[LOC],$A19),0))","v":136.12},{"$f":"IF(ISNA($A19),\"\",IFERROR(SUMIFS(D_D[PROD_FYTD],D_D[MT],6,D_D[CAT],SMS,D_D[LOC],$A19),0))","v":4959},{"$f":"IF(ISNA($A19),\"\",IFERROR(SUMIFS(D_D[ADCF],D_D[MT],6,D_D[CAT],SMS,D_D[LOC],$A19),0))","v":120.06}]
["NM",8,"New Mexico",{"$f":"IF(ISNA($A20),\"\",IFERROR(SUMIFS(D_D[INV],D_D[MT],6,D_D[CAT],SMS,D_D[LOC],$A20),0))","v":4470},{"$f":"IF(ISNA($A20),\"\",IFERROR(SUMIFS(D_D[BL],D_D[MT],6,D_D[CAT],SMS,D_D[LOC],$A20),0))","v":2042},0.45682326621923935,{"$f":"IF(ISNA($A20),\"\",IFERROR(SUMIFS(D_D[ADP],D_D[MT],6,D_D[CAT],SMS,D_D[LOC],$A20),0))","v":161.65},{"$f":"IF(ISNA($A20),\"\",IFERROR(SUMIFS(D_D[PROD_MTD],D_D[MT],6,D_D[CAT],SMS,D_D[LOC],$A20),0))","v":245},{"$f":"IF(ISNA($A20),\"\",IFERROR(SUMIFS(D_D[ADCM],D_D[MT],6,D_D[CAT],SMS,D_D[LOC],$A20),0))","v":141.47},{"$f":"IF(ISNA($A20),\"\",IFERROR(SUMIFS(D_D[PROD_FYTD],D_D[MT],6,D_D[CAT],SMS,D_D[LOC],$A20),0))","v":2811},{"$f":"IF(ISNA($A20),\"\",IFERROR(SUMIFS(D_D[ADCF],D_D[MT],6,D_D[CAT],SMS,D_D[LOC],$A20),0))","v":126.73}]
["OR",9,"Oregon",{"$f":"IF(ISNA($A21),\"\",IFERROR(SUMIFS(D_D[INV],D_D[MT],6,D_D[CAT],SMS,D_D[LOC],$A21),0))","v":8072},{"$f":"IF(ISNA($A21),\"\",IFERROR(SUMIFS(D_D[BL],D_D[MT],6,D_D[CAT],SMS,D_D[LOC],$A21),0))","v":4111},0.50929137760158572,{"$f":"IF(ISNA($A21),\"\",IFERROR(SUMIFS(D_D[ADP],D_D[MT],6,D_D[CAT],SMS,D_D[LOC],$A21),0))","v":188.49},{"$f":"IF(ISNA($A21),\"\",IFERROR(SUMIFS(D_D[PROD_MTD],D_D[MT],6,D_D[CAT],SMS,D_D[LOC],$A21),0))","v":358},{"$f":"IF(ISNA($A21),\"\",IFERROR(SUMIFS(D_D[ADCM],D_D[MT],6,D_D[CAT],SMS,D_D[LOC],$A21),0))","v":163.46},{"$f":"IF(ISNA($A21),\"\",IFERROR(SUMIFS(D_D[PROD_FYTD],D_D[MT],6,D_D[CAT],SMS,D_D[LOC],$A21),0))","v":4596},{"$f":"IF(ISNA($A21),\"\",IFERROR(SUMIFS(D_D[ADCF],D_D[MT],6,D_D[CAT],SMS,D_D[LOC],$A21),0))","v":140.84}]
["PI",10,"Philippines",{"$f":"IF(ISNA($A22),\"\",IFERROR(SUMIFS(D_D[INV],D_D[MT],6,D_D[CAT],SMS,D_D[LOC],$A22),0))","v":0},{"$f":"IF(ISNA($A22),\"\",IFERROR(SUMIFS(D_D[BL],D_D[MT],6,D_D[CAT],SMS,D_D[LOC],$A22),0))","v":0},0,{"$f":"IF(ISNA($A22),\"\",IFERROR(SUMIFS(D_D[ADP],D_D[MT],6,D_D[CAT],SMS,D_D[LOC],$A22),0))","v":0},{"$f":"IF(ISNA($A22),\"\",IFERROR(SUMIFS(D_D[PROD_MTD],D_D[MT],6,D_D[CAT],SMS,D_D[LOC],$A22),0))","v":0},{"$f":"IF(ISNA($A22),\"\",IFERROR(SUMIFS(D_D[ADCM],D_D[MT],6,D_D[CAT],SMS,D_D[LOC],$A22),0))","v":0},{"$f":"IF(ISNA($A22),\"\",IFERROR(SUMIFS(D_D[PROD_FYTD],D_D[MT],6,D_D[CAT],SMS,D_D[LOC],$A22),0))","v":0},{"$f":"IF(ISNA($A22),\"\",IFERROR(SUMIFS(D_D[ADCF],D_D[MT],6,D_D[CAT],SMS,D_D[LOC],$A22),0))","v":0}]
["UT",11,"Utah",{"$f":"IF(ISNA($A23),\"\",IFERROR(SUMIFS(D_D[INV],D_D[MT],6,D_D[CAT],SMS,D_D[LOC],$A23),0))","v":3602},{"$f":"IF(ISNA($A23),\"\",IFERROR(SUMIFS(D_D[BL],D_D[MT],6,D_D[CAT],SMS,D_D[LOC],$A23),0))","v":1508},0.41865630205441423,{"$f":"IF(ISNA($A23),\"\",IFERROR(SUMIFS(D_D[ADP],D_D[MT],6,D_D[CAT],SMS,D_D[LOC],$A23),0))","v":151.44},{"$f":"IF(ISNA($A23),\"\",IFERROR(SUMIFS(D_D[PROD_MTD],D_D[MT],6,D_D[CAT],SMS,D_D[LOC],$A23),0))","v":165},{"$f":"IF(ISNA($A23),\"\",IFERROR(SUMIFS(D_D[ADCM],D_D[MT],6,D_D[CAT],SMS,D_D[LOC],$A23),0))","v":125.55},{"$f":"IF(ISNA($A23),\"\",IFERROR(SUMIFS(D_D[PROD_FYTD],D_D[MT],6,D_D[CAT],SMS,D_D[LOC],$A23),0))","v":2422},{"$f":"IF(ISNA($A23),\"\",IFERROR(SUMIFS(D_D[ADCF],D_D[MT],6,D_D[CAT],SMS,D_D[LOC],$A23),0))","v":116.99}]
["WA",12,"Washington",{"$f":"IF(ISNA($A24),\"\",IFERROR(SUMIFS(D_D[INV],D_D[MT],6,D_D[CAT],SMS,D_D[LOC],$A24),0))","v":14078},{"$f":"IF(ISNA($A24),\"\",IFERROR(SUMIFS(D_D[BL],D_D[MT],6,D_D[CAT],SMS,D_D[LOC],$A24),0))","v":6188},0.43955107259553916,{"$f":"IF(ISNA($A24),\"\",IFERROR(SUMIFS(D_D[ADP],D_D[MT],6,D_D[CAT],SMS,D_D[LOC],$A24),0))","v":160.02000000000001},{"$f":"IF(ISNA($A24),\"\",IFERROR(SUMIFS(D_D[PROD_MTD],D_D[MT],6,D_D[CAT],SMS,D_D[LOC],$A24),0))","v":690},{"$f":"IF(ISNA($A24),\"\",IFERROR(SUMIFS(D_D[ADCM],D_D[MT],6,D_D[CAT],SMS,D_D[LOC],$A24),0))","v":131.69999999999999},{"$f":"IF(ISNA($A24),\"\",IFERROR(SUMIFS(D_D[PROD_FYTD],D_D[MT],6,D_D[CAT],SMS,D_D[LOC],$A24),0))","v":8918},{"$f":"IF(ISNA($A24),\"\",IFERROR(SUMIFS(D_D[ADCF],D_D[MT],6,D_D[CAT],SMS,D_D[LOC],$A24),0))","v":116.83}]
[{"$error":"#N/A"},13,"",{"$f":"IF(ISNA($A25),\"\",IFERROR(SUMIFS(D_D[INV],D_D[MT],6,D_D[CAT],SMS,D_D[LOC],$A25),0))","v":""},{"$f":"IF(ISNA($A25),\"\",IFERROR(SUMIFS(D_D[BL],D_D[MT],6,D_D[CAT],SMS,D_D[LOC],$A25),0))","v":""},"",{"$f":"IF(ISNA($A25),\"\",IFERROR(SUMIFS(D_D[ADP],D_D[MT],6,D_D[CAT],SMS,D_D[LOC],$A25),0))","v":""},{"$f":"IF(ISNA($A25),\"\",IFERROR(SUMIFS(D_D[PROD_MTD],D_D[MT],6,D_D[CAT],SMS,D_D[LOC],$A25),0))","v":""},{"$f":"IF(ISNA($A25),\"\",IFERROR(SUMIFS(D_D[ADCM],D_D[MT],6,D_D[CAT],SMS,D_D[LOC],$A25),0))","v":""},{"$f":"IF(ISNA($A25),\"\",IFERROR(SUMIFS(D_D[PROD_FYTD],D_D[MT],6,D_D[CAT],SMS,D_D[LOC],$A25),0))","v":""},{"$f":"IF(ISNA($A25),\"\",IFERROR(SUMIFS(D_D[ADCF],D_D[MT],6,D_D[CAT],SMS,D_D[LOC],$A25),0))","v":""}]
[{"$error":"#N/A"},14,"",{"$f":"IF(ISNA($A26),\"\",IFERROR(SUMIFS(D_D[INV],D_D[MT],6,D_D[CAT],SMS,D_D[LOC],$A26),0))","v":""},{"$f":"IF(ISNA($A26),\"\",IFERROR(SUMIFS(D_D[BL],D_D[MT],6,D_D[CAT],SMS,D_D[LOC],$A26),0))","v":""},"",{"$f":"IF(ISNA($A26),\"\",IFERROR(SUMIFS(D_D[ADP],D_D[MT],6,D_D[CAT],SMS,D_D[LOC],$A26),0))","v":""},{"$f":"IF(ISNA($A26),\"\",IFERROR(SUMIFS(D_D[PROD_MTD],D_D[MT],6,D_D[CAT],SMS,D_D[LOC],$A26),0))","v":""},{"$f":"IF(ISNA($A26),\"\",IFERROR(SUMIFS(D_D[ADCM],D_D[MT],6,D_D[CAT],SMS,D_D[LOC],$A26),0))","v":""},{"$f":"IF(ISNA($A26),\"\",IFERROR(SUMIFS(D_D[PROD_FYTD],D_D[MT],6,D_D[CAT],SMS,D_D[LOC],$A26),0))","v":""},{"$f":"IF(ISNA($A26),\"\",IFERROR(SUMIFS(D_D[ADCF],D_D[MT],6,D_D[CAT],SMS,D_D[LOC],$A26),0))","v":""}]
[{"$error":"#N/A"},15,"",{"$f":"IF(ISNA($A27),\"\",IFERROR(SUMIFS(D_D[INV],D_D[MT],6,D_D[CAT],SMS,D_D[LOC],$A27),0))","v":""},{"$f":"IF(ISNA($A27),\"\",IFERROR(SUMIFS(D_D[BL],D_D[MT],6,D_D[CAT],SMS,D_D[LOC],$A27),0))","v":""},"",{"$f":"IF(ISNA($A27),\"\",IFERROR(SUMIFS(D_D[ADP],D_D[MT],6,D_D[CAT],SMS,D_D[LOC],$A27),0))","v":""},{"$f":"IF(ISNA($A27),\"\",IFERROR(SUMIFS(D_D[PROD_MTD],D_D[MT],6,D_D[CAT],SMS,D_D[LOC],$A27),0))","v":""},{"$f":"IF(ISNA($A27),\"\",IFERROR(SUMIFS(D_D[ADCM],D_D[MT],6,D_D[CAT],SMS,D_D[LOC],$A27),0))","v":""},{"$f":"IF(ISNA($A27),\"\",IFERROR(SUMIFS(D_D[PROD_FYTD],D_D[MT],6,D_D[CAT],SMS,D_D[LOC],$A27),0))","v":""},{"$f":"IF(ISNA($A27),\"\",IFERROR(SUMIFS(D_D[ADCF],D_D[MT],6,D_D[CAT],SMS,D_D[LOC],$A27),0))","v":""}]
[{"$error":"#N/A"},16,"",{"$f":"IF(ISNA($A28),\"\",IFERROR(SUMIFS(D_D[INV],D_D[MT],6,D_D[CAT],SMS,D_D[LOC],$A28),0))","v":""},{"$f":"IF(ISNA($A28),\"\",IFERROR(SUMIFS(D_D[BL],D_D[MT],6,D_D[CAT],SMS,D_D[LOC],$A28),0))","v":""},"",{"$f":"IF(ISNA($A28),\"\",IFERROR(SUMIFS(D_D[ADP],D_D[MT],6,D_D[CAT],SMS,D_D[LOC],$A28),0))","v":""},{"$f":"IF(ISNA($A28),\"\",IFERROR(SUMIFS(D_D[PROD_MTD],D_D[MT],6,D_D[CAT],SMS,D_D[LOC],$A28),0))","v":""},{"$f":"IF(ISNA($A28),\"\",IFERROR(SUMIFS(D_D[ADCM],D_D[MT],6,D_D[CAT],SMS,D_D[LOC],$A28),0))","v":""},{"$f":"IF(ISNA($A28),\"\",IFERROR(SUMIFS(D_D[PROD_FYTD],D_D[MT],6,D_D[CAT],SMS,D_D[LOC],$A28),0))","v":""},{"$f":"IF(ISNA($A28),\"\",IFERROR(SUMIFS(D_D[ADCF],D_D[MT],6,D_D[CAT],SMS,D_D[LOC],$A28),0))","v":""}]
[{"$error":"#N/A"},17,"",{"$f":"IF(ISNA($A29),\"\",IFERROR(SUMIFS(D_D[INV],D_D[MT],6,D_D[CAT],SMS,D_D[LOC],$A29),0))","v":""},{"$f":"IF(ISNA($A29),\"\",IFERROR(SUMIFS(D_D[BL],D_D[MT],6,D_D[CAT],SMS,D_D[LOC],$A29),0))","v":""},"",{"$f":"IF(ISNA($A29),\"\",IFERROR(SUMIFS(D_D[ADP],D_D[MT],6,D_D[CAT],SMS,D_D[LOC],$A29),0))","v":""},{"$f":"IF(ISNA($A29),\"\",IFERROR(SUMIFS(D_D[PROD_MTD],D_D[MT],6,D_D[CAT],SMS,D_D[LOC],$A29),0))","v":""},{"$f":"IF(ISNA($A29),\"\",IFERROR(SUMIFS(D_D[ADCM],D_D[MT],6,D_D[CAT],SMS,D_D[LOC],$A29),0))","v":""},{"$f":"IF(ISNA($A29),\"\",IFERROR(SUMIFS(D_D[PROD_FYTD],D_D[MT],6,D_D[CAT],SMS,D_D[LOC],$A29),0))","v":""},{"$f":"IF(ISNA($A29),\"\",IFERROR(SUMIFS(D_D[ADCF],D_D[MT],6,D_D[CAT],SMS,D_D[LOC],$A29),0))","v":""}]
[{"$error":"#N/A"},18,"",{"$f":"IF(ISNA($A30),\"\",IFERROR(SUMIFS(D_D[INV],D_D[MT],6,D_D[CAT],SMS,D_D[LOC],$A30),0))","v":""},{"$f":"IF(ISNA($A30),\"\",IFERROR(SUMIFS(D_D[BL],D_D[MT],6,D_D[CAT],SMS,D_D[LOC],$A30),0))","v":""},"",{"$f":"IF(ISNA($A30),\"\",IFERROR(SUMIFS(D_D[ADP],D_D[MT],6,D_D[CAT],SMS,D_D[LOC],$A30),0))","v":""},{"$f":"IF(ISNA($A30),\"\",IFERROR(SUMIFS(D_D[PROD_MTD],D_D[MT],6,D_D[CAT],SMS,D_D[LOC],$A30),0))","v":""},{"$f":"IF(ISNA($A30),\"\",IFERROR(SUMIFS(D_D[ADCM],D_D[MT],6,D_D[CAT],SMS,D_D[LOC],$A30),0))","v":""},{"$f":"IF(ISNA($A30),\"\",IFERROR(SUMIFS(D_D[PROD_FYTD],D_D[MT],6,D_D[CAT],SMS,D_D[LOC],$A30),0))","v":""},{"$f":"IF(ISNA($A30),\"\",IFERROR(SUMIFS(D_D[ADCF],D_D[MT],6,D_D[CAT],SMS,D_D[LOC],$A30),0))","v":""}]
[{"$error":"#N/A"},19,"",{"$f":"IF(ISNA($A31),\"\",IFERROR(SUMIFS(D_D[INV],D_D[MT],6,D_D[CAT],SMS,D_D[LOC],$A31),0))","v":""},{"$f":"IF(ISNA($A31),\"\",IFERROR(SUMIFS(D_D[BL],D_D[MT],6,D_D[CAT],SMS,D_D[LOC],$A31),0))","v":""},"",{"$f":"IF(ISNA($A31),\"\",IFERROR(SUMIFS(D_D[ADP],D_D[MT],6,D_D[CAT],SMS,D_D[LOC],$A31),0))","v":""},{"$f":"IF(ISNA($A31),\"\",IFERROR(SUMIFS(D_D[PROD_MTD],D_D[MT],6,D_D[CAT],SMS,D_D[LOC],$A31),0))","v":""},{"$f":"IF(ISNA($A31),\"\",IFERROR(SUMIFS(D_D[ADCM],D_D[MT],6,D_D[CAT],SMS,D_D[LOC],$A31),0))","v":""},{"$f":"IF(ISNA($A31),\"\",IFERROR(SUMIFS(D_D[PROD_FYTD],D_D[MT],6,D_D[CAT],SMS,D_D[LOC],$A31),0))","v":""},{"$f":"IF(ISNA($A31),\"\",IFERROR(SUMIFS(D_D[ADCF],D_D[MT],6,D_D[CAT],SMS,D_D[LOC],$A31),0))","v":""}]
[{"$error":"#N/A"},20,"",{"$f":"IF(ISNA($A32),\"\",IFERROR(SUMIFS(D_D[INV],D_D[MT],6,D_D[CAT],SMS,D_D[LOC],$A32),0))","v":""},{"$f":"IF(ISNA($A32),\"\",IFERROR(SUMIFS(D_D[BL],D_D[MT],6,D_D[CAT],SMS,D_D[LOC],$A32),0))","v":""},"",{"$f":"IF(ISNA($A32),\"\",IFERROR(SUMIFS(D_D[ADP],D_D[MT],6,D_D[CAT],SMS,D_D[LOC],$A32),0))","v":""},{"$f":"IF(ISNA($A32),\"\",IFERROR(SUMIFS(D_D[PROD_MTD],D_D[MT],6,D_D[CAT],SMS,D_D[LOC],$A32),0))","v":""},{"$f":"IF(ISNA($A32),\"\",IFERROR(SUMIFS(D_D[ADCM],D_D[MT],6,D_D[CAT],SMS,D_D[LOC],$A32),0))","v":""},{"$f":"IF(ISNA($A32),\"\",IFERROR(SUMIFS(D_D[PROD_FYTD],D_D[MT],6,D_D[CAT],SMS,D_D[LOC],$A32),0))","v":""},{"$f":"IF(ISNA($A32),\"\",IFERROR(SUMIFS(D_D[ADCF],D_D[MT],6,D_D[CAT],SMS,D_D[LOC],$A32),0))","v":""}]
[{"$error":"#N/A"},21,"",{"$f":"IF(ISNA($A33),\"\",IFERROR(SUMIFS(D_D[INV],D_D[MT],6,D_D[CAT],SMS,D_D[LOC],$A33),0))","v":""},{"$f":"IF(ISNA($A33),\"\",IFERROR(SUMIFS(D_D[BL],D_D[MT],6,D_D[CAT],SMS,D_D[LOC],$A33),0))","v":""},"",{"$f":"IF(ISNA($A33),\"\",IFERROR(SUMIFS(D_D[ADP],D_D[MT],6,D_D[CAT],SMS,D_D[LOC],$A33),0))","v":""},{"$f":"IF(ISNA($A33),\"\",IFERROR(SUMIFS(D_D[PROD_MTD],D_D[MT],6,D_D[CAT],SMS,D_D[LOC],$A33),0))","v":""},{"$f":"IF(ISNA($A33),\"\",IFERROR(SUMIFS(D_D[ADCM],D_D[MT],6,D_D[CAT],SMS,D_D[LOC],$A33),0))","v":""},{"$f":"IF(ISNA($A33),\"\",IFERROR(SUMIFS(D_D[PROD_FYTD],D_D[MT],6,D_D[CAT],SMS,D_D[LOC],$A33),0))","v":""},{"$f":"IF(ISNA($A33),\"\",IFERROR(SUMIFS(D_D[ADCF],D_D[MT],6,D_D[CAT],SMS,D_D[LOC],$A33),0))","v":""}]
[{"$error":"#N/A"},22,"",{"$f":"IF(ISNA($A34),\"\",IFERROR(SUMIFS(D_D[INV],D_D[MT],6,D_D[CAT],SMS,D_D[LOC],$A34),0))","v":""},{"$f":"IF(ISNA($A34),\"\",IFERROR(SUMIFS(D_D[BL],D_D[MT],6,D_D[CAT],SMS,D_D[LOC],$A34),0))","v":""},"",{"$f":"IF(ISNA($A34),\"\",IFERROR(SUMIFS(D_D[ADP],D_D[MT],6,D_D[CAT],SMS,D_D[LOC],$A34),0))","v":""},{"$f":"IF(ISNA($A34),\"\",IFERROR(SUMIFS(D_D[PROD_MTD],D_D[MT],6,D_D[CAT],SMS,D_D[LOC],$A34),0))","v":""},{"$f":"IF(ISNA($A34),\"\",IFERROR(SUMIFS(D_D[ADCM],D_D[MT],6,D_D[CAT],SMS,D_D[LOC],$A34),0))","v":""},{"$f":"IF(ISNA($A34),\"\",IFERROR(SUMIFS(D_D[PROD_FYTD],D_D[MT],6,D_D[CAT],SMS,D_D[LOC],$A34),0))","v":""},{"$f":"IF(ISNA($A34),\"\",IFERROR(SUMIFS(D_D[ADCF],D_D[MT],6,D_D[CAT],SMS,D_D[LOC],$A34),0))","v":""}]
[{"$error":"#N/A"},23,"",{"$f":"IF(ISNA($A35),\"\",IFERROR(SUMIFS(D_D[INV],D_D[MT],6,D_D[CAT],SMS,D_D[LOC],$A35),0))","v":""},{"$f":"IF(ISNA($A35),\"\",IFERROR(SUMIFS(D_D[BL],D_D[MT],6,D_D[CAT],SMS,D_D[LOC],$A35),0))","v":""},"",{"$f":"IF(ISNA($A35),\"\",IFERROR(SUMIFS(D_D[ADP],D_D[MT],6,D_D[CAT],SMS,D_D[LOC],$A35),0))","v":""},{"$f":"IF(ISNA($A35),\"\",IFERROR(SUMIFS(D_D[PROD_MTD],D_D[MT],6,D_D[CAT],SMS,D_D[LOC],$A35),0))","v":""},{"$f":"IF(ISNA($A35),\"\",IFERROR(SUMIFS(D_D[ADCM],D_D[MT],6,D_D[CAT],SMS,D_D[LOC],$A35),0))","v":""},{"$f":"IF(ISNA($A35),\"\",IFERROR(SUMIFS(D_D[PROD_FYTD],D_D[MT],6,D_D[CAT],SMS,D_D[LOC],$A35),0))","v":""},{"$f":"IF(ISNA($A35),\"\",IFERROR(SUMIFS(D_D[ADCF],D_D[MT],6,D_D[CAT],SMS,D_D[LOC],$A35),0))","v":""}]

{"sheet":"Rating Bundle - SOJ - NWQ","index":8,"n_rows":36,"n_cols":12,"rows_kept":36,"cut":false,"hidden":false,"merged":[[8,6,10,6],[7,3,7,6],[7,7,7,11],[6,3,6,8],[1,9,1,11],[2,9,2,11],[8,11,10,11],[8,7,10,7],[8,8,10,8],[1,3,1,8],[2,3,2,8],[5,3,5,8],[3,3,3,8],[4,3,4,8],[8,9,10,9],[8,10,10,10],[5,9,5,11],[8,3,10,3],[8,4,10,4],[8,5,10,5]]}
[]
[null,null,"DISTRICT SELECTOR","Compensation and Pension Rating Bundle Metrics",null,null,null,null,null,"Report through"]
[null,null,null,"NWQ-Station of Jurisdiction View",null,null,null,null,null,{"$f":"D_DT[]","v":"2022-01-08"}]
[null,null,null,"The Station of Jurisdiction (SOJ)  is the regional office assigned to work the claim",null,null,null,null,null,"ADP = Average Days Pending"]
[null,null,null,"Each Special Mission has distinct claim counts"]
[null,null,null,"When Special Mission is set to Pension, BDD, or Quickstart, the District Selector has",null,null,null,null,null,"Life Cycle Metrics defined on Legend tab"]
[null,null,null,"no impact"]
[null,null,null,"CLAIM METRICS",null,null,null,"LIFE CYCLE METRICS (as Percent of # Pending)"]
[null,null,"SPECIAL MISSION SELECTOR","#\nPending","#\nPending\n> 125 Days","%\nPending\n> 125 Days","ADP","Pending Development","Pending Evidence","Pending Decision","Pending Award","Pending Authorization"]
[]
[]
[100,null,{"$f":"Driver!$C$20& \" Total\"","v":"USA - All Missions Total"},{"$f":"IF(ISNA($A12),\"\",IFERROR(SUMIFS(D_D[INV],D_D[MT],5,D_D[CAT],SMS, D_D[EP],-1,D_D[LOC],$A12),0))","v":627100},{"$f":"IF(ISNA($A12),\"\",IFERROR(SUMIFS(D_D[BL],D_D[MT],5,D_D[CAT],SMS, D_D[EP],-1,D_D[LOC],$A12),0))","v":260739},{"$f":"IF(ISNA($A12),\"\",IFERROR(E12/D12,0))","v":0.41578536118641363},{"$f":"IF(ISNA($A12),\"\",IFERROR(SUMIFS(D_D[ADP],D_D[MT],5,D_D[CAT],SMS, D_D[EP],-1,D_D[LOC],$A12),0))","v":156.55000000000001},{"$f":"IF(ISNA($A12),\"\",IFERROR(SUMIFS(D_D[DEV],D_D[MT],5,D_D[CAT],SMS, D_D[EP],-1,D_D[LOC],$A12)/$D12,0))","v":1.9558284165204911E-2},{"$f":"IF(ISNA($A12),\"\",IFERROR(SUMIFS(D_D[EVD],D_D[MT],5,D_D[CAT],SMS, D_D[EP],-1,D_D[LOC],$A12)/$D12,0))","v":0.62843725083718704},{"$f":"IF(ISNA($A12),\"\",IFERROR(SUMIFS(D_D[DEC],D_D[MT],5,D_D[CAT],SMS, D_D[EP],-1,D_D[LOC],$A12)/$D12,0))","v":0.34352575346834635},{"$f":"IF(ISNA($A12),\"\",IFERROR(SUMIFS(D_D[AWD],D_D[MT],5,D_D[CAT],SMS, D_D[EP],-1,D_D[LOC],$A12)/$D12,0))","v":6.8091213522564181E-3},{"$f":"IF(ISNA($A12),\"\",IFERROR(SUMIFS(D_D[AUT],D_D[MT],5,D_D[CAT],SMS, D_D[EP],-1,D_D[LOC],$A12)/$D12,0))","v":1.6695901770052623E-3}]
[499,null,{"$f":"\"NWQ-\"&Driver!$C$20& \" Total\"","v":"NWQ-USA - All Missions Total"},{"$f":"IF(ISNA($A13),\"\",IFERROR(SUMIFS(D_D[INV],D_D[MT],5,D_D[CAT],SMS, D_D[EP],-1,D_D[LOC],$A13),0))","v":547451},{"$f":"IF(ISNA($A13),\"\",IFERROR(SUMIFS(D_D[BL],D_D[MT],5,D_D[CAT],SMS, D_D[EP],-1,D_D[LOC],$A13),0))","v":227366},{"$f":"IF(ISNA($A13),\"\",IFERROR(E13/D13,0))","v":0.41531753526799658},{"$f":"IF(ISNA($A13),\"\",IFERROR(SUMIFS(D_D[ADP],D_D[MT],5,D_D[CAT],SMS, D_D[EP],-1,D_D[LOC],$A13),0))","v":153.94},{"$f":"IF(ISNA($A13),\"\",IFERROR(SUMIFS(D_D[DEV],D_D[MT],5,D_D[CAT],SMS, D_D[EP],-1,D_D[LOC],$A13)/$D13,0))","v":4.3255012777399255E-3},{"$f":"IF(ISNA($A13),\"\",IFERROR(SUMIFS(D_D[EVD],D_D[MT],5,D_D[CAT],SMS, D_D[EP],-1,D_D[LOC],$A13)/$D13,0))","v":0.63646426803494738},{"$f":"IF(ISNA($A13),\"\",IFERROR(SUMIFS(D_D[DEC],D_D[MT],5,D_D[CAT],SMS, D_D[EP],-1,D_D[LOC],$A13)/$D13,0))","v":0.35895815333244435},{"$f":"IF(ISNA($A13),\"\",IFERROR(SUMIFS(D_D[AWD],D_D[MT],5,D_D[CAT],SMS, D_D[EP],-1,D_D[LOC],$A13)/$D13,0))","v":2.4842405987019844E-4},{"$f":"IF(ISNA($A13),\"\",IFERROR(SUMIFS(D_D[AUT],D_D[MT],5,D_D[CAT],SMS, D_D[EP],-1,D_D[LOC],$A13)/$D13,0))","v":3.6532949980911535E-6}]
[{"$f":"INDEX(RO,(MATCH($C14,RO_D,0)))","v":"395"},1,{"$f":"IFERROR(INDEX(INDIRECT(DS_RO),B14),\"\")","v":"Pacific District"},{"$f":"IF(ISNA($A14),\"\",IFERROR(SUMIFS(D_D[INV],D_D[MT],5,D_D[CAT],SMS, D_D[EP],-1,D_D[LOC],$A14),0))","v":14351},{"$f":"IF(ISNA($A14),\"\",IFERROR(SUMIFS(D_D[BL],D_D[MT],5,D_D[CAT],SMS, D_D[EP],-1,D_D[LOC],$A14),0))","v":4705},{"$f":"IF(ISNA($A14),\"\",IFERROR(E14/D14,0))","v":0.32785171765033794},{"$f":"IF(ISNA($A14),\"\",IFERROR(SUMIFS(D_D[ADP],D_D[MT],5,D_D[CAT],SMS, D_D[EP],-1,D_D[LOC],$A14),0))","v":123.34},{"$f":"IF(ISNA($A14),\"\",IFERROR(SUMIFS(D_D[DEV],D_D[MT],5,D_D[CAT],SMS, D_D[EP],-1,D_D[LOC],$A14)/$D14,0))","v":0.11302348268413351},{"$f":"IF(ISNA($A14),\"\",IFERROR(SUMIFS(D_D[EVD],D_D[MT],5,D_D[CAT],SMS, D_D[EP],-1,D_D[LOC],$A14)/$D14,0))","v":0.50491254964810817},{"$f":"IF(ISNA($A14),\"\",IFERROR(SUMIFS(D_D[DEC],D_D[MT],5,D_D[CAT],SMS, D_D[EP],-1,D_D[LOC],$A14)/$D14,0))","v":0.31259145704132119},{"$f":"IF(ISNA($A14),\"\",IFERROR(SUMIFS(D_D[AWD],D_D[MT],5,D_D[CAT],SMS, D_D[EP],-1,D_D[LOC],$A14)/$D14,0))","v":5.3724479130374189E-2},{"$f":"IF(ISNA($A14),\"\",IFERROR(SUMIFS(D_D[AUT],D_D[MT],5,D_D[CAT],SMS, D_D[EP],-1,D_D[LOC],$A14)/$D14,0))","v":1.5748031496062992E-2}]
["340",2,{"$f":"IFERROR(INDEX(INDIRECT(DS_RO),B15),\"\")","v":"Albuquerque"},{"$f":"IF(ISNA($A15),\"\",IFERROR(SUMIFS(D_D[INV],D_D[MT],5,D_D[CAT],SMS, D_D[EP],-1,D_D[LOC],$A15),0))","v":415},{"$f":"IF(ISNA($A15),\"\",IFERROR(SUMIFS(D_D[BL],D_D[MT],5,D_D[CAT],SMS, D_D[EP],-1,D_D[LOC],$A15),0))","v":129},{"$f":"IF(ISNA($A15),\"\",IFERROR(E15/D15,0))","v":0.31084337349397589},{"$f":"IF(ISNA($A15),\"\",IFERROR(SUMIFS(D_D[ADP],D_D[MT],5,D_D[CAT],SMS, D_D[EP],-1,D_D[LOC],$A15),0))","v":119.78},{"$f":"IF(ISNA($A15),\"\",IFERROR(SUMIFS(D_D[DEV],D_D[MT],5,D_D[CAT],SMS, D_D[EP],-1,D_D[LOC],$A15)/$D15,0))","v":9.1566265060240959E-2},{"$f":"IF(ISNA($A15),\"\",IFERROR(SUMIFS(D_D[EVD],D_D[MT],5,D_D[CAT],SMS, D_D[EP],-1,D_D[LOC],$A15)/$D15,0))","v":0.5662650602409639},{"$f":"IF(ISNA($A15),\"\",IFERROR(SUMIFS(D_D[DEC],D_D[MT],5,D_D[CAT],SMS, D_D[EP],-1,D_D[LOC],$A15)/$D15,0))","v":0.20722891566265061},{"$f":"IF(ISNA($A15),\"\",IFERROR(SUMIFS(D_D[AWD],D_D[MT],5,D_D[CAT],SMS, D_D[EP],-1,D_D[LOC],$A15)/$D15,0))","v":0.13493975903614458},{"$f":"IF(ISNA($A15),\"\",IFERROR(SUMIFS(D_D[AUT],D_D[MT],5,D_D[CAT],SMS, D_D[EP],-1,D_D[LOC],$A15)/$D15,0))","v":0}]
["463",3,"Anchorage",{"$f":"IF(ISNA($A16),\"\",IFERROR(SUMIFS(D_D[INV],D_D[MT],5,D_D[CAT],SMS, D_D[EP],-1,D_D[LOC],$A16),0))","v":135},{"$f":"IF(ISNA($A16),\"\",IFERROR(SUMIFS(D_D[BL],D_D[MT],5,D_D[CAT],SMS, D_D[EP],-1,D_D[LOC],$A16),0))","v":53},0.3925925925925926,{"$f":"IF(ISNA($A16),\"\",IFERROR(SUMIFS(D_D[ADP],D_D[MT],5,D_D[CAT],SMS, D_D[EP],-1,D_D[LOC],$A16),0))","v":159.76},{"$f":"IF(ISNA($A16),\"\",IFERROR(SUMIFS(D_D[DEV],D_D[MT],5,D_D[CAT],SMS, D_D[EP],-1,D_D[LOC],$A16)/$D16,0))","v":0.15555555555555556},{"$f":"IF(ISNA($A16),\"\",IFERROR(SUMIFS(D_D[EVD],D_D[MT],5,D_D[CAT],SMS, D_D[EP],-1,D_D[LOC],$A16)/$D16,0))","v":0.42222222222222222},{"$f":"IF(ISNA($A16),\"\",IFERROR(SUMIFS(D_D[DEC],D_D[MT],5,D_D[CAT],SMS, D_D[EP],-1,D_D[LOC],$A16)/$D16,0))","v":0.3925925925925926},{"$f":"IF(ISNA($A16),\"\",IFERROR(SUMIFS(D_D[AWD],D_D[MT],5,D_D[CAT],SMS, D_D[EP],-1,D_D[LOC],$A16)/$D16,0))","v":2.9629629629629631E-2},{"$f":"IF(ISNA($A16),\"\",IFERROR(SUMIFS(D_D[AUT],D_D[MT],5,D_D[CAT],SMS, D_D[EP],-1,D_D[LOC],$A16)/$D16,0))","v":0}]
["347",4,"Boise",{"$f":"IF(ISNA($A17),\"\",IFERROR(SUMIFS(D_D[INV],D_D[MT],5,D_D[CAT],SMS, D_D[EP],-1,D_D[LOC],$A17),0))","v":409},{"$f":"IF(ISNA($A17),\"\",IFERROR(SUMIFS(D_D[BL],D_D[MT],5,D_D[CAT],SMS, D_D[EP],-1,D_D[LOC],$A17),0))","v":115},0.28117359413202936,{"$f":"IF(ISNA($A17),\"\",IFERROR(SUMIFS(D_D[ADP],D_D[MT],5,D_D[CAT],SMS, D_D[EP],-1,D_D[LOC],$A17),0))","v":120.67},{"$f":"IF(ISNA($A17),\"\",IFERROR(SUMIFS(D_D[DEV],D_D[MT],5,D_D[CAT],SMS, D_D[EP],-1,D_D[LOC],$A17)/$D17,0))","v":0.16136919315403422},{"$f":"IF(ISNA($A17),\"\",IFERROR(SUMIFS(D_D[EVD],D_D[MT],5,D_D[CAT],SMS, D_D[EP],-1,D_D[LOC],$A17)/$D17,0))","v":0.46210268948655259},{"$f":"IF(ISNA($A17),\"\",IFERROR(SUMIFS(D_D[DEC],D_D[MT],5,D_D[CAT],SMS, D_D[EP],-1,D_D[LOC],$A17)/$D17,0))","v":0.21515892420537897},{"$f":"IF(ISNA($A17),\"\",IFERROR(SUMIFS(D_D[AWD],D_D[MT],5,D_D[CAT],SMS, D_D[EP],-1,D_D[LOC],$A17)/$D17,0))","v":0.12469437652811736},{"$f":"IF(ISNA($A17),\"\",IFERROR(SUMIFS(D_D[AUT],D_D[MT],5,D_D[CAT],SMS, D_D[EP],-1,D_D[LOC],$A17)/$D17,0))","v":3.6674816625916873E-2}]
["459",5,"Honolulu",{"$f":"IF(ISNA($A18),\"\",IFERROR(SUMIFS(D_D[INV],D_D[MT],5,D_D[CAT],SMS, D_D[EP],-1,D_D[LOC],$A18),0))","v":205},{"$f":"IF(ISNA($A18),\"\",IFERROR(SUMIFS(D_D[BL],D_D[MT],5,D_D[CAT],SMS, D_D[EP],-1,D_D[LOC],$A18),0))","v":62},0.30243902439024389,{"$f":"IF(ISNA($A18),\"\",IFERROR(SUMIFS(D_D[ADP],D_D[MT],5,D_D[CAT],SMS, D_D[EP],-1,D_D[LOC],$A18),0))","v":116.84},{"$f":"IF(ISNA($A18),\"\",IFERROR(SUMIFS(D_D[DEV],D_D[MT],5,D_D[CAT],SMS, D_D[EP],-1,D_D[LOC],$A18)/$D18,0))","v":0.18536585365853658},{"$f":"IF(ISNA($A18),\"\",IFERROR(SUMIFS(D_D[EVD],D_D[MT],5,D_D[CAT],SMS, D_D[EP],-1,D_D[LOC],$A18)/$D18,0))","v":0.50731707317073171},{"$f":"IF(ISNA($A18),\"\",IFERROR(SUMIFS(D_D[DEC],D_D[MT],5,D_D[CAT],SMS, D_D[EP],-1,D_D[LOC],$A18)/$D18,0))","v":0.2097560975609756},{"$f":"IF(ISNA($A18),\"\",IFERROR(SUMIFS(D_D[AWD],D_D[MT],5,D_D[CAT],SMS, D_D[EP],-1,D_D[LOC],$A18)/$D18,0))","v":7.3170731707317069E-2},{"$f":"IF(ISNA($A18),\"\",IFERROR(SUMIFS(D_D[AUT],D_D[MT],5,D_D[CAT],SMS, D_D[EP],-1,D_D[LOC],$A18)/$D18,0))","v":2.4390243902439025E-2}]
["344",6,"Los Angeles",{"$f":"IF(ISNA($A19),\"\",IFERROR(SUMIFS(D_D[INV],D_D[MT],5,D_D[CAT],SMS, D_D[EP],-1,D_D[LOC],$A19),0))","v":1343},{"$f":"IF(ISNA($A19),\"\",IFERROR(SUMIFS(D_D[BL],D_D[MT],5,D_D[CAT],SMS, D_D[EP],-1,D_D[LOC],$A19),0))","v":406},0.30230826507818315,{"$f":"IF(ISNA($A19),\"\",IFERROR(SUMIFS(D_D[ADP],D_D[MT],5,D_D[CAT],SMS, D_D[EP],-1,D_D[LOC],$A19),0))","v":120.99},{"$f":"IF(ISNA($A19),\"\",IFERROR(SUMIFS(D_D[DEV],D_D[MT],5,D_D[CAT],SMS, D_D[EP],-1,D_D[LOC],$A19)/$D19,0))","v":0.14668652271034996},{"$f":"IF(ISNA($A19),\"\",IFERROR(SUMIFS(D_D[EVD],D_D[MT],5,D_D[CAT],SMS, D_D[EP],-1,D_D[LOC],$A19)/$D19,0))","v":0.52866716306775874},{"$f":"IF(ISNA($A19),\"\",IFERROR(SUMIFS(D_D[DEC],D_D[MT],5,D_D[CAT],SMS, D_D[EP],-1,D_D[LOC],$A19)/$D19,0))","v":0.27252419955323903},{"$f":"IF(ISNA($A19),\"\",IFERROR(SUMIFS(D_D[AWD],D_D[MT],5,D_D[CAT],SMS, D_D[EP],-1,D_D[LOC],$A19)/$D19,0))","v":4.6909903201787041E-2},{"$f":"IF(ISNA($A19),\"\",IFERROR(SUMIFS(D_D[AUT],D_D[MT],5,D_D[CAT],SMS, D_D[EP],-1,D_D[LOC],$A19)/$D19,0))","v":5.2122114668652275E-3}]
["358",7,"Manila",{"$f":"IF(ISNA($A20),\"\",IFERROR(SUMIFS(D_D[INV],D_D[MT],5,D_D[CAT],SMS, D_D[EP],-1,D_D[LOC],$A20),0))","v":226},{"$f":"IF(ISNA($A20),\"\",IFERROR(SUMIFS(D_D[BL],D_D[MT],5,D_D[CAT],SMS, D_D[EP],-1,D_D[LOC],$A20),0))","v":82},0.36283185840707965,{"$f":"IF(ISNA($A20),\"\",IFERROR(SUMIFS(D_D[ADP],D_D[MT],5,D_D[CAT],SMS, D_D[EP],-1,D_D[LOC],$A20),0))","v":149.04},{"$f":"IF(ISNA($A20),\"\",IFERROR(SUMIFS(D_D[DEV],D_D[MT],5,D_D[CAT],SMS, D_D[EP],-1,D_D[LOC],$A20)/$D20,0))","v":8.4070796460176997E-2},{"$f":"IF(ISNA($A20),\"\",IFERROR(SUMIFS(D_D[EVD],D_D[MT],5,D_D[CAT],SMS, D_D[EP],-1,D_D[LOC],$A20)/$D20,0))","v":0.44690265486725661},{"$f":"IF(ISNA($A20),\"\",IFERROR(SUMIFS(D_D[DEC],D_D[MT],5,D_D[CAT],SMS, D_D[EP],-1,D_D[LOC],$A20)/$D20,0))","v":0.35398230088495575},{"$f":"IF(ISNA($A20),\"\",IFERROR(SUMIFS(D_D[AWD],D_D[MT],5,D_D[CAT],SMS, D_D[EP],-1,D_D[LOC],$A20)/$D20,0))","v":9.7345132743362831E-2},{"$f":"IF(ISNA($A20),\"\",IFERROR(SUMIFS(D_D[AUT],D_D[MT],5,D_D[CAT],SMS, D_D[EP],-1,D_D[LOC],$A20)/$D20,0))","v":1.7699115044247787E-2}]
["343",8,"Oakland",{"$f":"IF(ISNA($A21),\"\",IFERROR(SUMIFS(D_D[INV],D_D[MT],5,D_D[CAT],SMS, D_D[EP],-1,D_D[LOC],$A21),0))","v":1065},{"$f":"IF(ISNA($A21),\"\",IFERROR(SUMIFS(D_D[BL],D_D[MT],5,D_D[CAT],SMS, D_D[EP],-1,D_D[LOC],$A21),0))","v":540},0.50704225352112675,{"$f":"IF(ISNA($A21),\"\",IFERROR(SUMIFS(D_D[ADP],D_D[MT],5,D_D[CAT],SMS, D_D[EP],-1,D_D[LOC],$A21),0))","v":142.80000000000001},{"$f":"IF(ISNA($A21),\"\",IFERROR(SUMIFS(D_D[DEV],D_D[MT],5,D_D[CAT],SMS, D_D[EP],-1,D_D[LOC],$A21)/$D21,0))","v":0.15492957746478872},{"$f":"IF(ISNA($A21),\"\",IFERROR(SUMIFS(D_D[EVD],D_D[MT],5,D_D[CAT],SMS, D_D[EP],-1,D_D[LOC],$A21)/$D21,0))","v":0.35962441314553989},{"$f":"IF(ISNA($A21),\"\",IFERROR(SUMIFS(D_D[DEC],D_D[MT],5,D_D[CAT],SMS, D_D[EP],-1,D_D[LOC],$A21)/$D21,0))","v":0.46572769953051646},{"$f":"IF(ISNA($A21),\"\",IFERROR(SUMIFS(D_D[AWD],D_D[MT],5,D_D[CAT],SMS, D_D[EP],-1,D_D[LOC],$A21)/$D21,0))","v":1.5023474178403756E-2},{"$f":"IF(ISNA($A21),\"\",IFERROR(SUMIFS(D_D[AUT],D_D[MT],5,D_D[CAT],SMS, D_D[EP],-1,D_D[LOC],$A21)/$D21,0))","v":4.6948356807511738E-3}]
["345",9,"Phoenix",{"$f":"IF(ISNA($A22),\"\",IFERROR(SUMIFS(D_D[INV],D_D[MT],5,D_D[CAT],SMS, D_D[EP],-1,D_D[LOC],$A22),0))","v":1860},{"$f":"IF(ISNA($A22),\"\",IFERROR(SUMIFS(D_D[BL],D_D[MT],5,D_D[CAT],SMS, D_D[EP],-1,D_D[LOC],$A22),0))","v":797},0.42849462365591395,{"$f":"IF(ISNA($A22),\"\",IFERROR(SUMIFS(D_D[ADP],D_D[MT],5,D_D[CAT],SMS, D_D[EP],-1,D_D[LOC],$A22),0))","v":145.69},{"$f":"IF(ISNA($A22),\"\",IFERROR(SUMIFS(D_D[DEV],D_D[MT],5,D_D[CAT],SMS, D_D[EP],-1,D_D[LOC],$A22)/$D22,0))","v":8.4408602150537637E-2},{"$f":"IF(ISNA($A22),\"\",IFERROR(SUMIFS(D_D[EVD],D_D[MT],5,D_D[CAT],SMS, D_D[EP],-1,D_D[LOC],$A22)/$D22,0))","v":0.59247311827956994},{"$f":"IF(ISNA($A22),\"\",IFERROR(SUMIFS(D_D[DEC],D_D[MT],5,D_D[CAT],SMS, D_D[EP],-1,D_D[LOC],$A22)/$D22,0))","v":0.27419354838709675},{"$f":"IF(ISNA($A22),\"\",IFERROR(SUMIFS(D_D[AWD],D_D[MT],5,D_D[CAT],SMS, D_D[EP],-1,D_D[LOC],$A22)/$D22,0))","v":4.4086021505376341E-2},{"$f":"IF(ISNA($A22),\"\",IFERROR(SUMIFS(D_D[AUT],D_D[MT],5,D_D[CAT],SMS, D_D[EP],-1,D_D[LOC],$A22)/$D22,0))","v":4.8387096774193551E-3}]
["348",10,"Portland",{"$f":"IF(ISNA($A23),\"\",IFERROR(SUMIFS(D_D[INV],D_D[MT],5,D_D[CAT],SMS, D_D[EP],-1,D_D[LOC],$A23),0))","v":1540},{"$f":"IF(ISNA($A23),\"\",IFERROR(SUMIFS(D_D[BL],D_D[MT],5,D_D[CAT],SMS, D_D[EP],-1,D_D[LOC],$A23),0))","v":538},0.34935064935064936,{"$f":"IF(ISNA($A23),\"\",IFERROR(SUMIFS(D_D[ADP],D_D[MT],5,D_D[CAT],SMS, D_D[EP],-1,D_D[LOC],$A23),0))","v":142.01},{"$f":"IF(ISNA($A23),\"\",IFERROR(SUMIFS(D_D[DEV],D_D[MT],5,D_D[CAT],SMS, D_D[EP],-1,D_D[LOC],$A23)/$D23,0))","v":9.5454545454545459E-2},{"$f":"IF(ISNA($A23),\"\",IFERROR(SUMIFS(D_D[EVD],D_D[MT],5,D_D[CAT],SMS, D_D[EP],-1,D_D[LOC],$A23)/$D23,0))","v":0.71883116883116882},{"$f":"IF(ISNA($A23),\"\",IFERROR(SUMIFS(D_D[DEC],D_D[MT],5,D_D[CAT],SMS, D_D[EP],-1,D_D[LOC],$A23)/$D23,0))","v":0.16103896103896104},{"$f":"IF(ISNA($A23),\"\",IFERROR(SUMIFS(D_D[AWD],D_D[MT],5,D_D[CAT],SMS, D_D[EP],-1,D_D[LOC],$A23)/$D23,0))","v":2.4025974025974027E-2},{"$f":"IF(ISNA($A23),\"\",IFERROR(SUMIFS(D_D[AUT],D_D[MT],5,D_D[CAT],SMS, D_D[EP],-1,D_D[LOC],$A23)/$D23,0))","v":6.4935064935064935E-4}]
["354",11,"Reno",{"$f":"IF(ISNA($A24),\"\",IFERROR(SUMIFS(D_D[INV],D_D[MT],5,D_D[CAT],SMS, D_D[EP],-1,D_D[LOC],$A24),0))","v":443},{"$f":"IF(ISNA($A24),\"\",IFERROR(SUMIFS(D_D[BL],D_D[MT],5,D_D[CAT],SMS, D_D[EP],-1,D_D[LOC],$A24),0))","v":172},0.38826185101580135,{"$f":"IF(ISNA($A24),\"\",IFERROR(SUMIFS(D_D[ADP],D_D[MT],5,D_D[CAT],SMS, D_D[EP],-1,D_D[LOC],$A24),0))","v":127.53},{"$f":"IF(ISNA($A24),\"\",IFERROR(SUMIFS(D_D[DEV],D_D[MT],5,D_D[CAT],SMS, D_D[EP],-1,D_D[LOC],$A24)/$D24,0))","v":0.33182844243792325},{"$f":"IF(ISNA($A24),\"\",IFERROR(SUMIFS(D_D[EVD],D_D[MT],5,D_D[CAT],SMS, D_D[EP],-1,D_D[LOC],$A24)/$D24,0))","v":0.33634311512415349},{"$f":"IF(ISNA($A24),\"\",IFERROR(SUMIFS(D_D[DEC],D_D[MT],5,D_D[CAT],SMS, D_D[EP],-1,D_D[LOC],$A24)/$D24,0))","v":0.28216704288939054},{"$f":"IF(ISNA($A24),\"\",IFERROR(SUMIFS(D_D[AWD],D_D[MT],5,D_D[CAT],SMS, D_D[EP],-1,D_D[LOC],$A24)/$D24,0))","v":3.8374717832957109E-2},{"$f":"IF(ISNA($A24),\"\",IFERROR(SUMIFS(D_D[AUT],D_D[MT],5,D_D[CAT],SMS, D_D[EP],-1,D_D[LOC],$A24)/$D24,0))","v":1.1286681715575621E-2}]
["341",12,"Salt Lake City",{"$f":"IF(ISNA($A25),\"\",IFERROR(SUMIFS(D_D[INV],D_D[MT],5,D_D[CAT],SMS, D_D[EP],-1,D_D[LOC],$A25),0))","v":1251},{"$f":"IF(ISNA($A25),\"\",IFERROR(SUMIFS(D_D[BL],D_D[MT],5,D_D[CAT],SMS, D_D[EP],-1,D_D[LOC],$A25),0))","v":567},0.45323741007194246,{"$f":"IF(ISNA($A25),\"\",IFERROR(SUMIFS(D_D[ADP],D_D[MT],5,D_D[CAT],SMS, D_D[EP],-1,D_D[LOC],$A25),0))","v":148.08000000000001},{"$f":"IF(ISNA($A25),\"\",IFERROR(SUMIFS(D_D[DEV],D_D[MT],5,D_D[CAT],SMS, D_D[EP],-1,D_D[LOC],$A25)/$D25,0))","v":6.3948840927258194E-2},{"$f":"IF(ISNA($A25),\"\",IFERROR(SUMIFS(D_D[EVD],D_D[MT],5,D_D[CAT],SMS, D_D[EP],-1,D_D[LOC],$A25)/$D25,0))","v":0.58832933653077535},{"$f":"IF(ISNA($A25),\"\",IFERROR(SUMIFS(D_D[DEC],D_D[MT],5,D_D[CAT],SMS, D_D[EP],-1,D_D[LOC],$A25)/$D25,0))","v":0.23980815347721823},{"$f":"IF(ISNA($A25),\"\",IFERROR(SUMIFS(D_D[AWD],D_D[MT],5,D_D[CAT],SMS, D_D[EP],-1,D_D[LOC],$A25)/$D25,0))","v":0.10711430855315747},{"$f":"IF(ISNA($A25),\"\",IFERROR(SUMIFS(D_D[AUT],D_D[MT],5,D_D[CAT],SMS, D_D[EP],-1,D_D[LOC],$A25)/$D25,0))","v":7.993605115907274E-4}]
["377",13,"San Diego",{"$f":"IF(ISNA($A26),\"\",IFERROR(SUMIFS(D_D[INV],D_D[MT],5,D_D[CAT],SMS, D_D[EP],-1,D_D[LOC],$A26),0))","v":2363},{"$f":"IF(ISNA($A26),\"\",IFERROR(SUMIFS(D_D[BL],D_D[MT],5,D_D[CAT],SMS, D_D[EP],-1,D_D[LOC],$A26),0))","v":628},0.2657638595006348,{"$f":"IF(ISNA($A26),\"\",IFERROR(SUMIFS(D_D[ADP],D_D[MT],5,D_D[CAT],SMS, D_D[EP],-1,D_D[LOC],$A26),0))","v":111.95},{"$f":"IF(ISNA($A26),\"\",IFERROR(SUMIFS(D_D[DEV],D_D[MT],5,D_D[CAT],SMS, D_D[EP],-1,D_D[LOC],$A26)/$D26,0))","v":9.6910706728734655E-2},{"$f":"IF(ISNA($A26),\"\",IFERROR(SUMIFS(D_D[EVD],D_D[MT],5,D_D[CAT],SMS, D_D[EP],-1,D_D[LOC],$A26)/$D26,0))","v":0.51079136690647486},{"$f":"IF(ISNA($A26),\"\",IFERROR(SUMIFS(D_D[DEC],D_D[MT],5,D_D[CAT],SMS, D_D[EP],-1,D_D[LOC],$A26)/$D26,0))","v":0.3123148539991536},{"$f":"IF(ISNA($A26),\"\",IFERROR(SUMIFS(D_D[AWD],D_D[MT],5,D_D[CAT],SMS, D_D[EP],-1,D_D[LOC],$A26)/$D26,0))","v":3.7240795598815067E-2},{"$f":"IF(ISNA($A26),\"\",IFERROR(SUMIFS(D_D[AUT],D_D[MT],5,D_D[CAT],SMS, D_D[EP],-1,D_D[LOC],$A26)/$D26,0))","v":4.2742276766821838E-2}]
["346",14,"Seattle",{"$f":"IF(ISNA($A27),\"\",IFERROR(SUMIFS(D_D[INV],D_D[MT],5,D_D[CAT],SMS, D_D[EP],-1,D_D[LOC],$A27),0))","v":3096},{"$f":"IF(ISNA($A27),\"\",IFERROR(SUMIFS(D_D[BL],D_D[MT],5,D_D[CAT],SMS, D_D[EP],-1,D_D[LOC],$A27),0))","v":616},0.19896640826873385,{"$f":"IF(ISNA($A27),\"\",IFERROR(SUMIFS(D_D[ADP],D_D[MT],5,D_D[CAT],SMS, D_D[EP],-1,D_D[LOC],$A27),0))","v":90.83},{"$f":"IF(ISNA($A27),\"\",IFERROR(SUMIFS(D_D[DEV],D_D[MT],5,D_D[CAT],SMS, D_D[EP],-1,D_D[LOC],$A27)/$D27,0))","v":0.10271317829457365},{"$f":"IF(ISNA($A27),\"\",IFERROR(SUMIFS(D_D[EVD],D_D[MT],5,D_D[CAT],SMS, D_D[EP],-1,D_D[LOC],$A27)/$D27,0))","v":0.37661498708010338},{"$f":"IF(ISNA($A27),\"\",IFERROR(SUMIFS(D_D[DEC],D_D[MT],5,D_D[CAT],SMS, D_D[EP],-1,D_D[LOC],$A27)/$D27,0))","v":0.43701550387596899},{"$f":"IF(ISNA($A27),\"\",IFERROR(SUMIFS(D_D[AWD],D_D[MT],5,D_D[CAT],SMS, D_D[EP],-1,D_D[LOC],$A27)/$D27,0))","v":6.0077519379844964E-2},{"$f":"IF(ISNA($A27),\"\",IFERROR(SUMIFS(D_D[AUT],D_D[MT],5,D_D[CAT],SMS, D_D[EP],-1,D_D[LOC],$A27)/$D27,0))","v":2.3578811369509043E-2}]
[{"$error":"#N/A"},15,"",{"$f":"IF(ISNA($A28),\"\",IFERROR(SUMIFS(D_D[INV],D_D[MT],5,D_D[CAT],SMS, D_D[EP],-1,D_D[LOC],$A28),0))","v":""},{"$f":"IF(ISNA($A28),\"\",IFERROR(SUMIFS(D_D[BL],D_D[MT],5,D_D[CAT],SMS, D_D[EP],-1,D_D[LOC],$A28),0))","v":""},"",{"$f":"IF(ISNA($A28),\"\",IFERROR(SUMIFS(D_D[ADP],D_D[MT],5,D_D[CAT],SMS, D_D[EP],-1,D_D[LOC],$A28),0))","v":""},{"$f":"IF(ISNA($A28),\"\",IFERROR(SUMIFS(D_D[DEV],D_D[MT],5,D_D[CAT],SMS, D_D[EP],-1,D_D[LOC],$A28)/$D28,0))","v":""},{"$f":"IF(ISNA($A28),\"\",IFERROR(SUMIFS(D_D[EVD],D_D[MT],5,D_D[CAT],SMS, D_D[EP],-1,D_D[LOC],$A28)/$D28,0))","v":""},{"$f":"IF(ISNA($A28),\"\",IFERROR(SUMIFS(D_D[DEC],D_D[MT],5,D_D[CAT],SMS, D_D[EP],-1,D_D[LOC],$A28)/$D28,0))","v":""},{"$f":"IF(ISNA($A28),\"\",IFERROR(SUMIFS(D_D[AWD],D_D[MT],5,D_D[CAT],SMS, D_D[EP],-1,D_D[LOC],$A28)/$D28,0))","v":""},{"$f":"IF(ISNA($A28),\"\",IFERROR(SUMIFS(D_D[AUT],D_D[MT],5,D_D[CAT],SMS, D_D[EP],-1,D_D[LOC],$A28)/$D28,0))","v":""}]
[{"$error":"#N/A"},16,"",{"$f":"IF(ISNA($A29),\"\",IFERROR(SUMIFS(D_D[INV],D_D[MT],5,D_D[CAT],SMS, D_D[EP],-1,D_D[LOC],$A29),0))","v":""},{"$f":"IF(ISNA($A29),\"\",IFERROR(SUMIFS(D_D[BL],D_D[MT],5,D_D[CAT],SMS, D_D[EP],-1,D_D[LOC],$A29),0))","v":""},"",{"$f":"IF(ISNA($A29),\"\",IFERROR(SUMIFS(D_D[ADP],D_D[MT],5,D_D[CAT],SMS, D_D[EP],-1,D_D[LOC],$A29),0))","v":""},{"$f":"IF(ISNA($A29),\"\",IFERROR(SUMIFS(D_D[DEV],D_D[MT],5,D_D[CAT],SMS, D_D[EP],-1,D_D[LOC],$A29)/$D29,0))","v":""},{"$f":"IF(ISNA($A29),\"\",IFERROR(SUMIFS(D_D[EVD],D_D[MT],5,D_D[CAT],SMS, D_D[EP],-1,D_D[LOC],$A29)/$D29,0))","v":""},{"$f":"IF(ISNA($A29),\"\",IFERROR(SUMIFS(D_D[DEC],D_D[MT],5,D_D[CAT],SMS, D_D[EP],-1,D_D[LOC],$A29)/$D29,0))","v":""},{"$f":"IF(ISNA($A29),\"\",IFERROR(SUMIFS(D_D[AWD],D_D[MT],5,D_D[CAT],SMS, D_D[EP],-1,D_D[LOC],$A29)/$D29,0))","v":""},{"$f":"IF(ISNA($A29),\"\",IFERROR(SUMIFS(D_D[AUT],D_D[MT],5,D_D[CAT],SMS, D_D[EP],-1,D_D[LOC],$A29)/$D29,0))","v":""}]
[{"$error":"#N/A"},17,"",{"$f":"IF(ISNA($A30),\"\",IFERROR(SUMIFS(D_D[INV],D_D[MT],5,D_D[CAT],SMS, D_D[EP],-1,D_D[LOC],$A30),0))","v":""},{"$f":"IF(ISNA($A30),\"\",IFERROR(SUMIFS(D_D[BL],D_D[MT],5,D_D[CAT],SMS, D_D[EP],-1,D_D[LOC],$A30),0))","v":""},"",{"$f":"IF(ISNA($A30),\"\",IFERROR(SUMIFS(D_D[ADP],D_D[MT],5,D_D[CAT],SMS, D_D[EP],-1,D_D[LOC],$A30),0))","v":""},{"$f":"IF(ISNA($A30),\"\",IFERROR(SUMIFS(D_D[DEV],D_D[MT],5,D_D[CAT],SMS, D_D[EP],-1,D_D[LOC],$A30)/$D30,0))","v":""},{"$f":"IF(ISNA($A30),\"\",IFERROR(SUMIFS(D_D[EVD],D_D[MT],5,D_D[CAT],SMS, D_D[EP],-1,D_D[LOC],$A30)/$D30,0))","v":""},{"$f":"IF(ISNA($A30),\"\",IFERROR(SUMIFS(D_D[DEC],D_D[MT],5,D_D[CAT],SMS, D_D[EP],-1,D_D[LOC],$A30)/$D30,0))","v":""},{"$f":"IF(ISNA($A30),\"\",IFERROR(SUMIFS(D_D[AWD],D_D[MT],5,D_D[CAT],SMS, D_D[EP],-1,D_D[LOC],$A30)/$D30,0))","v":""},{"$f":"IF(ISNA($A30),\"\",IFERROR(SUMIFS(D_D[AUT],D_D[MT],5,D_D[CAT],SMS, D_D[EP],-1,D_D[LOC],$A30)/$D30,0))","v":""}]
[{"$error":"#N/A"},18,"",{"$f":"IF(ISNA($A31),\"\",IFERROR(SUMIFS(D_D[INV],D_D[MT],5,D_D[CAT],SMS, D_D[EP],-1,D_D[LOC],$A31),0))","v":""},{"$f":"IF(ISNA($A31),\"\",IFERROR(SUMIFS(D_D[BL],D_D[MT],5,D_D[CAT],SMS, D_D[EP],-1,D_D[LOC],$A31),0))","v":""},"",{"$f":"IF(ISNA($A31),\"\",IFERROR(SUMIFS(D_D[ADP],D_D[MT],5,D_D[CAT],SMS, D_D[EP],-1,D_D[LOC],$A31),0))","v":""},{"$f":"IF(ISNA($A31),\"\",IFERROR(SUMIFS(D_D[DEV],D_D[MT],5,D_D[CAT],SMS, D_D[EP],-1,D_D[LOC],$A31)/$D31,0))","v":""},{"$f":"IF(ISNA($A31),\"\",IFERROR(SUMIFS(D_D[EVD],D_D[MT],5,D_D[CAT],SMS, D_D[EP],-1,D_D[LOC],$A31)/$D31,0))","v":""},{"$f":"IF(ISNA($A31),\"\",IFERROR(SUMIFS(D_D[DEC],D_D[MT],5,D_D[CAT],SMS, D_D[EP],-1,D_D[LOC],$A31)/$D31,0))","v":""},{"$f":"IF(ISNA($A31),\"\",IFERROR(SUMIFS(D_D[AWD],D_D[MT],5,D_D[CAT],SMS, D_D[EP],-1,D_D[LOC],$A31)/$D31,0))","v":""},{"$f":"IF(ISNA($A31),\"\",IFERROR(SUMIFS(D_D[AUT],D_D[MT],5,D_D[CAT],SMS, D_D[EP],-1,D_D[LOC],$A31)/$D31,0))","v":""}]
[{"$error":"#N/A"},19,"",{"$f":"IF(ISNA($A32),\"\",IFERROR(SUMIFS(D_D[INV],D_D[MT],5,D_D[CAT],SMS, D_D[EP],-1,D_D[LOC],$A32),0))","v":""},{"$f":"IF(ISNA($A32),\"\",IFERROR(SUMIFS(D_D[BL],D_D[MT],5,D_D[CAT],SMS, D_D[EP],-1,D_D[LOC],$A32),0))","v":""},"",{"$f":"IF(ISNA($A32),\"\",IFERROR(SUMIFS(D_D[ADP],D_D[MT],5,D_D[CAT],SMS, D_D[EP],-1,D_D[LOC],$A32),0))","v":""},{"$f":"IF(ISNA($A32),\"\",IFERROR(SUMIFS(D_D[DEV],D_D[MT],5,D_D[CAT],SMS, D_D[EP],-1,D_D[LOC],$A32)/$D32,0))","v":""},{"$f":"IF(ISNA($A32),\"\",IFERROR(SUMIFS(D_D[EVD],D_D[MT],5,D_D[CAT],SMS, D_D[EP],-1,D_D[LOC],$A32)/$D32,0))","v":""},{"$f":"IF(ISNA($A32),\"\",IFERROR(SUMIFS(D_D[DEC],D_D[MT],5,D_D[CAT],SMS, D_D[EP],-1,D_D[LOC],$A32)/$D32,0))","v":""},{"$f":"IF(ISNA($A32),\"\",IFERROR(SUMIFS(D_D[AWD],D_D[MT],5,D_D[CAT],SMS, D_D[EP],-1,D_D[LOC],$A32)/$D32,0))","v":""},{"$f":"IF(ISNA($A32),\"\",IFERROR(SUMIFS(D_D[AUT],D_D[MT],5,D_D[CAT],SMS, D_D[EP],-1,D_D[LOC],$A32)/$D32,0))","v":""}]
[{"$error":"#N/A"},20,"",{"$f":"IF(ISNA($A33),\"\",IFERROR(SUMIFS(D_D[INV],D_D[MT],5,D_D[CAT],SMS, D_D[EP],-1,D_D[LOC],$A33),0))","v":""},{"$f":"IF(ISNA($A33),\"\",IFERROR(SUMIFS(D_D[BL],D_D[MT],5,D_D[CAT],SMS, D_D[EP],-1,D_D[LOC],$A33),0))","v":""},"",{"$f":"IF(ISNA($A33),\"\",IFERROR(SUMIFS(D_D[ADP],D_D[MT],5,D_D[CAT],SMS, D_D[EP],-1,D_D[LOC],$A33),0))","v":""},{"$f":"IF(ISNA($A33),\"\",IFERROR(SUMIFS(D_D[DEV],D_D[MT],5,D_D[CAT],SMS, D_D[EP],-1,D_D[LOC],$A33)/$D33,0))","v":""},{"$f":"IF(ISNA($A33),\"\",IFERROR(SUMIFS(D_D[EVD],D_D[MT],5,D_D[CAT],SMS, D_D[EP],-1,D_D[LOC],$A33)/$D33,0))","v":""},{"$f":"IF(ISNA($A33),\"\",IFERROR(SUMIFS(D_D[DEC],D_D[MT],5,D_D[CAT],SMS, D_D[EP],-1,D_D[LOC],$A33)/$D33,0))","v":""},{"$f":"IF(ISNA($A33),\"\",IFERROR(SUMIFS(D_D[AWD],D_D[MT],5,D_D[CAT],SMS, D_D[EP],-1,D_D[LOC],$A33)/$D33,0))","v":""},{"$f":"IF(ISNA($A33),\"\",IFERROR(SUMIFS(D_D[AUT],D_D[MT],5,D_D[CAT],SMS, D_D[EP],-1,D_D[LOC],$A33)/$D33,0))","v":""}]
[{"$error":"#N/A"},21,"",{"$f":"IF(ISNA($A34),\"\",IFERROR(SUMIFS(D_D[INV],D_D[MT],5,D_D[CAT],SMS, D_D[EP],-1,D_D[LOC],$A34),0))","v":""},{"$f":"IF(ISNA($A34),\"\",IFERROR(SUMIFS(D_D[BL],D_D[MT],5,D_D[CAT],SMS, D_D[EP],-1,D_D[LOC],$A34),0))","v":""},"",{"$f":"IF(ISNA($A34),\"\",IFERROR(SUMIFS(D_D[ADP],D_D[MT],5,D_D[CAT],SMS, D_D[EP],-1,D_D[LOC],$A34),0))","v":""},{"$f":"IF(ISNA($A34),\"\",IFERROR(SUMIFS(D_D[DEV],D_D[MT],5,D_D[CAT],SMS, D_D[EP],-1,D_D[LOC],$A34)/$D34,0))","v":""},{"$f":"IF(ISNA($A34),\"\",IFERROR(SUMIFS(D_D[EVD],D_D[MT],5,D_D[CAT],SMS, D_D[EP],-1,D_D[LOC],$A34)/$D34,0))","v":""},{"$f":"IF(ISNA($A34),\"\",IFERROR(SUMIFS(D_D[DEC],D_D[MT],5,D_D[CAT],SMS, D_D[EP],-1,D_D[LOC],$A34)/$D34,0))","v":""},{"$f":"IF(ISNA($A34),\"\",IFERROR(SUMIFS(D_D[AWD],D_D[MT],5,D_D[CAT],SMS, D_D[EP],-1,D_D[LOC],$A34)/$D34,0))","v":""},{"$f":"IF(ISNA($A34),\"\",IFERROR(SUMIFS(D_D[AUT],D_D[MT],5,D_D[CAT],SMS, D_D[EP],-1,D_D[LOC],$A34)/$D34,0))","v":""}]
[{"$error":"#N/A"},22,"",{"$f":"IF(ISNA($A35),\"\",IFERROR(SUMIFS(D_D[INV],D_D[MT],5,D_D[CAT],SMS, D_D[EP],-1,D_D[LOC],$A35),0))","v":""},{"$f":"IF(ISNA($A35),\"\",IFERROR(SUMIFS(D_D[BL],D_D[MT],5,D_D[CAT],SMS, D_D[EP],-1,D_D[LOC],$A35),0))","v":""},"",{"$f":"IF(ISNA($A35),\"\",IFERROR(SUMIFS(D_D[ADP],D_D[MT],5,D_D[CAT],SMS, D_D[EP],-1,D_D[LOC],$A35),0))","v":""},{"$f":"IF(ISNA($A35),\"\",IFERROR(SUMIFS(D_D[DEV],D_D[MT],5,D_D[CAT],SMS, D_D[EP],-1,D_D[LOC],$A35)/$D35,0))","v":""},{"$f":"IF(ISNA($A35),\"\",IFERROR(SUMIFS(D_D[EVD],D_D[MT],5,D_D[CAT],SMS, D_D[EP],-1,D_D[LOC],$A35)/$D35,0))","v":""},{"$f":"IF(ISNA($A35),\"\",IFERROR(SUMIFS(D_D[DEC],D_D[MT],5,D_D[CAT],SMS, D_D[EP],-1,D_D[LOC],$A35)/$D35,0))","v":""},{"$f":"IF(ISNA($A35),\"\",IFERROR(SUMIFS(D_D[AWD],D_D[MT],5,D_D[CAT],SMS, D_D[EP],-1,D_D[LOC],$A35)/$D35,0))","v":""},{"$f":"IF(ISNA($A35),\"\",IFERROR(SUMIFS(D_D[AUT],D_D[MT],5,D_D[CAT],SMS, D_D[EP],-1,D_D[LOC],$A35)/$D35,0))","v":""}]
[{"$error":"#N/A"},23,"",{"$f":"IF(ISNA($A36),\"\",IFERROR(SUMIFS(D_D[INV],D_D[MT],5,D_D[CAT],SMS, D_D[EP],-1,D_D[LOC],$A36),0))","v":""},{"$f":"IF(ISNA($A36),\"\",IFERROR(SUMIFS(D_D[BL],D_D[MT],5,D_D[CAT],SMS, D_D[EP],-1,D_D[LOC],$A36),0))","v":""},"",{"$f":"IF(ISNA($A36),\"\",IFERROR(SUMIFS(D_D[ADP],D_D[MT],5,D_D[CAT],SMS, D_D[EP],-1,D_D[LOC],$A36),0))","v":""},{"$f":"IF(ISNA($A36),\"\",IFERROR(SUMIFS(D_D[DEV],D_D[MT],5,D_D[CAT],SMS, D_D[EP],-1,D_D[LOC],$A36)/$D36,0))","v":""},{"$f":"IF(ISNA($A36),\"\",IFERROR(SUMIFS(D_D[EVD],D_D[MT],5,D_D[CAT],SMS, D_D[EP],-1,D_D[LOC],$A36)/$D36,0))","v":""},{"$f":"IF(ISNA($A36),\"\",IFERROR(SUMIFS(D_D[DEC],D_D[MT],5,D_D[CAT],SMS, D_D[EP],-1,D_D[LOC],$A36)/$D36,0))","v":""},{"$f":"IF(ISNA($A36),\"\",IFERROR(SUMIFS(D_D[AWD],D_D[MT],5,D_D[CAT],SMS, D_D[EP],-1,D_D[LOC],$A36)/$D36,0))","v":""},{"$f":"IF(ISNA($A36),\"\",IFERROR(SUMIFS(D_D[AUT],D_D[MT],5,D_D[CAT],SMS, D_D[EP],-1,D_D[LOC],$A36)/$D36,0))","v":""}]

{"sheet":"Rating Bundle - NWQ - State","index":9,"n_rows":89,"n_cols":12,"rows_kept":89,"cut":false,"hidden":false,"merged":[[8,9,10,9],[8,10,10,10],[8,11,10,11],[8,4,10,4],[8,5,10,5],[8,6,10,6],[8,7,10,7],[8,8,10,8],[7,4,7,6],[7,7,7,11],[1,9,1,11],[2,9,2,11],[1,4,1,8],[2,4,2,8],[5,9,5,11],[3,4,4,8]]}
[]
[null,null,"DISTRICT SELECTOR",null,"Compensation and Pension Rating Bundle Metrics",null,null,null,null,"Report through"]
[null,null,null,null,"NWQ State View",null,null,null,null,{"$f":"D_DT[]","v":"2022-01-08"}]
[null,null,null,null,"The State listed is based on the address associated with the claim, not payment address"]
[]
[null,null,null,null,"Each Special Mission has distinct claim counts",null,null,null,null,"Life Cycle Metrics defined on Legend tab"]
[]
[null,null,null,null,"CLAIM METRICS",null,null,"LIFE CYCLE METRICS (as Percent of # Pending)"]
[null,null,"SPECIAL MISSION SELECTOR",null,"#\nPending","#\nPending\n> 125 Days","%\nPending\n> 125 Days","Pending Development","Pending Evidence","Pending Decision","Pending Award","Pending Authorization"]
[]
[]
[100,null,{"$f":"Driver!$C$20","v":"USA - All Missions"},"Total",{"$f":"IF(ISNA($A12),\"\",IFERROR(SUMIFS(D_D[INV],D_D[MT],5,D_D[CAT],SMS, D_D[EP],-1,D_D[LOC],$A12),0))","v":627100},{"$f":"IF(ISNA($A12),\"\",IFERROR(SUMIFS(D_D[BL],D_D[MT],5,D_D[CAT],SMS, D_D[EP],-1,D_D[LOC],$A12),0))","v":260739},{"$f":"IF(ISNA($A12),\"\",IFERROR(F12/E12,0))","v":0.41578536118641363},{"$f":"IF(ISNA($A12),\"\",IFERROR(SUMIFS(D_D[DEV],D_D[MT],5,D_D[CAT],SMS, D_D[EP],-1,D_D[LOC],$A12)/$E12,0))","v":1.9558284165204911E-2},{"$f":"IF(ISNA($A12),\"\",IFERROR(SUMIFS(D_D[EVD],D_D[MT],5,D_D[CAT],SMS, D_D[EP],-1,D_D[LOC],$A12)/$E12,0))","v":0.62843725083718704},{"$f":"IF(ISNA($A12),\"\",IFERROR(SUMIFS(D_D[DEC],D_D[MT],5,D_D[CAT],SMS, D_D[EP],-1,D_D[LOC],$A12)/$E12,0))","v":0.34352575346834635},{"$f":"IF(ISNA($A12),\"\",IFERROR(SUMIFS(D_D[AWD],D_D[MT],5,D_D[CAT],SMS, D_D[EP],-1,D_D[LOC],$A12)/$E12,0))","v":6.8091213522564181E-3},{"$f":"IF(ISNA($A12),\"\",IFERROR(SUMIFS(D_D[AUT],D_D[MT],5,D_D[CAT],SMS, D_D[EP],-1,D_D[LOC],$A12)/$E12,0))","v":1.6695901770052623E-3}]
[499,null,{"$f":"\"NWQ-\"&Driver!$C$20","v":"NWQ-USA - All Missions"},"Total",{"$f":"IF(ISNA($A13),\"\",IFERROR(SUMIFS(D_D[INV],D_D[MT],5,D_D[CAT],SMS, D_D[EP],-1,D_D[LOC],$A13),0))","v":547451},{"$f":"IF(ISNA($A13),\"\",IFERROR(SUMIFS(D_D[BL],D_D[MT],5,D_D[CAT],SMS, D_D[EP],-1,D_D[LOC],$A13),0))","v":227366},{"$f":"IF(ISNA($A13),\"\",IFERROR(F13/E13,0))","v":0.41531753526799658},{"$f":"IF(ISNA($A13),\"\",IFERROR(SUMIFS(D_D[DEV],D_D[MT],5,D_D[CAT],SMS, D_D[EP],-1,D_D[LOC],$A13)/$E13,0))","v":4.3255012777399255E-3},{"$f":"IF(ISNA($A13),\"\",IFERROR(SUMIFS(D_D[EVD],D_D[MT],5,D_D[CAT],SMS, D_D[EP],-1,D_D[LOC],$A13)/$E13,0))","v":0.63646426803494738},{"$f":"IF(ISNA($A13),\"\",IFERROR(SUMIFS(D_D[DEC],D_D[MT],5,D_D[CAT],SMS, D_D[EP],-1,D_D[LOC],$A13)/$E13,0))","v":0.35895815333244435},{"$f":"IF(ISNA($A13),\"\",IFERROR(SUMIFS(D_D[AWD],D_D[MT],5,D_D[CAT],SMS, D_D[EP],-1,D_D[LOC],$A13)/$E13,0))","v":2.4842405987019844E-4},{"$f":"IF(ISNA($A13),\"\",IFERROR(SUMIFS(D_D[AUT],D_D[MT],5,D_D[CAT],SMS, D_D[EP],-1,D_D[LOC],$A13)/$E13,0))","v":3.6532949980911535E-6}]
[{"$f":"INDEX(STATE,(MATCH($C14,STATE_D,0)))","v":"395"},1,{"$f":"IFERROR(INDEX(INDIRECT(DS_NWQ),B14),\"\")","v":"Pacific District"},{"$f":"IFERROR(INDEX(INDIRECT(DS_NWQD),B14),\"\")","v":" "},{"$f":"IF(ISNA($A14),\"\",IFERROR(SUMIFS(D_D[INV],D_D[MT],5,D_D[CAT],SMS, D_D[EP],499,D_D[LOC],$A14),0))","v":113186},{"$f":"IF(ISNA($A14),\"\",IFERROR(SUMIFS(D_D[BL],D_D[MT],5,D_D[CAT],SMS, D_D[EP],499,D_D[LOC],$A14),0))","v":47870},{"$f":"IF(ISNA($A14),\"\",IFERROR(F14/E14,0))","v":0.42293216475535844},{"$f":"IF(ISNA($A14),\"\",IFERROR(SUMIFS(D_D[DEV],D_D[MT],5,D_D[CAT],SMS, D_D[EP],499,D_D[LOC],$A14)/$E14,0))","v":1.9763928401038997E-2},{"$f":"IF(ISNA($A14),\"\",IFERROR(SUMIFS(D_D[EVD],D_D[MT],5,D_D[CAT],SMS, D_D[EP],499,D_D[LOC],$A14)/$E14,0))","v":0.6408124679730709},{"$f":"IF(ISNA($A14),\"\",IFERROR(SUMIFS(D_D[DEC],D_D[MT],5,D_D[CAT],SMS, D_D[EP],499,D_D[LOC],$A14)/$E14,0))","v":0.33148092520276357},{"$f":"IF(ISNA($A14),\"\",IFERROR(SUMIFS(D_D[AWD],D_D[MT],5,D_D[CAT],SMS, D_D[EP],499,D_D[LOC],$A14)/$E14,0))","v":6.1668404219603129E-3},{"$f":"IF(ISNA($A14),\"\",IFERROR(SUMIFS(D_D[AUT],D_D[MT],5,D_D[CAT],SMS, D_D[EP],499,D_D[LOC],$A14)/$E14,0))","v":1.7758380011662219E-3}]
[{"$f":"IFERROR(INDEX(INDIRECT(DS_NWQI),B15),#N/A)","v":"AK100"},2,"Alaska",{"$f":"IFERROR(INDEX(INDIRECT(DS_NWQD),B15),\"\")","v":"Alaska-Total"},{"$f":"IF(ISNA($A15),\"\",IFERROR(SUMIFS(D_D[INV],D_D[MT],5,D_D[CAT],SMS, D_D[EP],499,D_D[LOC],$A15),0))","v":1959},{"$f":"IF(ISNA($A15),\"\",IFERROR(SUMIFS(D_D[BL],D_D[MT],5,D_D[CAT],SMS, D_D[EP],499,D_D[LOC],$A15),0))","v":842},0.42981112812659522,{"$f":"IF(ISNA($A15),\"\",IFERROR(SUMIFS(D_D[DEV],D_D[MT],5,D_D[CAT],SMS, D_D[EP],499,D_D[LOC],$A15)/$E15,0))","v":1.2761613067891782E-2},{"$f":"IF(ISNA($A15),\"\",IFERROR(SUMIFS(D_D[EVD],D_D[MT],5,D_D[CAT],SMS, D_D[EP],499,D_D[LOC],$A15)/$E15,0))","v":0.7626339969372129},{"$f":"IF(ISNA($A15),\"\",IFERROR(SUMIFS(D_D[DEC],D_D[MT],5,D_D[CAT],SMS, D_D[EP],499,D_D[LOC],$A15)/$E15,0))","v":0.2169474221541603},{"$f":"IF(ISNA($A15),\"\",IFERROR(SUMIFS(D_D[AWD],D_D[MT],5,D_D[CAT],SMS, D_D[EP],499,D_D[LOC],$A15)/$E15,0))","v":6.636038795303726E-3},{"$f":"IF(ISNA($A15),\"\",IFERROR(SUMIFS(D_D[AUT],D_D[MT],5,D_D[CAT],SMS, D_D[EP],499,D_D[LOC],$A15)/$E15,0))","v":1.0209290454313426E-3}]
["AK463",3,0,"Anchorage RO",{"$f":"IF(ISNA($A16),\"\",IFERROR(SUMIFS(D_D[INV],D_D[MT],5,D_D[CAT],SMS, D_D[EP],499,D_D[LOC],$A16),0))","v":22},{"$f":"IF(ISNA($A16),\"\",IFERROR(SUMIFS(D_D[BL],D_D[MT],5,D_D[CAT],SMS, D_D[EP],499,D_D[LOC],$A16),0))","v":5},0.22727272727272727,{"$f":"IF(ISNA($A16),\"\",IFERROR(SUMIFS(D_D[DEV],D_D[MT],5,D_D[CAT],SMS, D_D[EP],499,D_D[LOC],$A16)/$E16,0))","v":0.59090909090909094},{"$f":"IF(ISNA($A16),\"\",IFERROR(SUMIFS(D_D[EVD],D_D[MT],5,D_D[CAT],SMS, D_D[EP],499,D_D[LOC],$A16)/$E16,0))","v":0.22727272727272727},{"$f":"IF(ISNA($A16),\"\",IFERROR(SUMIFS(D_D[DEC],D_D[MT],5,D_D[CAT],SMS, D_D[EP],499,D_D[LOC],$A16)/$E16,0))","v":0.18181818181818182},{"$f":"IF(ISNA($A16),\"\",IFERROR(SUMIFS(D_D[AWD],D_D[MT],5,D_D[CAT],SMS, D_D[EP],499,D_D[LOC],$A16)/$E16,0))","v":0},{"$f":"IF(ISNA($A16),\"\",IFERROR(SUMIFS(D_D[AUT],D_D[MT],5,D_D[CAT],SMS, D_D[EP],499,D_D[LOC],$A16)/$E16,0))","v":0}]
["AK-1",4," ","Alaska-Other RO",{"$f":"IF(ISNA($A17),\"\",IFERROR(SUMIFS(D_D[INV],D_D[MT],5,D_D[CAT],SMS, D_D[EP],499,D_D[LOC],$A17),0))","v":192},{"$f":"IF(ISNA($A17),\"\",IFERROR(SUMIFS(D_D[BL],D_D[MT],5,D_D[CAT],SMS, D_D[EP],499,D_D[LOC],$A17),0))","v":75},0.390625,{"$f":"IF(ISNA($A17),\"\",IFERROR(SUMIFS(D_D[DEV],D_D[MT],5,D_D[CAT],SMS, D_D[EP],499,D_D[LOC],$A17)/$E17,0))","v":5.7291666666666664E-2},{"$f":"IF(ISNA($A17),\"\",IFERROR(SUMIFS(D_D[EVD],D_D[MT],5,D_D[CAT],SMS, D_D[EP],499,D_D[LOC],$A17)/$E17,0))","v":0.63020833333333337},{"$f":"IF(ISNA($A17),\"\",IFERROR(SUMIFS(D_D[DEC],D_D[MT],5,D_D[CAT],SMS, D_D[EP],499,D_D[LOC],$A17)/$E17,0))","v":0.23958333333333334},{"$f":"IF(ISNA($A17),\"\",IFERROR(SUMIFS(D_D[AWD],D_D[MT],5,D_D[CAT],SMS, D_D[EP],499,D_D[LOC],$A17)/$E17,0))","v":6.25E-2},{"$f":"IF(ISNA($A17),\"\",IFERROR(SUMIFS(D_D[AUT],D_D[MT],5,D_D[CAT],SMS, D_D[EP],499,D_D[LOC],$A17)/$E17,0))","v":1.0416666666666666E-2}]
["AK499",5," ","Alaska-NWQ",{"$f":"IF(ISNA($A18),\"\",IFERROR(SUMIFS(D_D[INV],D_D[MT],5,D_D[CAT],SMS, D_D[EP],499,D_D[LOC],$A18),0))","v":1745},{"$f":"IF(ISNA($A18),\"\",IFERROR(SUMIFS(D_D[BL],D_D[MT],5,D_D[CAT],SMS, D_D[EP],499,D_D[LOC],$A18),0))","v":762},0.43667621776504301,{"$f":"IF(ISNA($A18),\"\",IFERROR(SUMIFS(D_D[DEV],D_D[MT],5,D_D[CAT],SMS, D_D[EP],499,D_D[LOC],$A18)/$E18,0))","v":5.7306590257879652E-4},{"$f":"IF(ISNA($A18),\"\",IFERROR(SUMIFS(D_D[EVD],D_D[MT],5,D_D[CAT],SMS, D_D[EP],499,D_D[LOC],$A18)/$E18,0))","v":0.78395415472779373},{"$f":"IF(ISNA($A18),\"\",IFERROR(SUMIFS(D_D[DEC],D_D[MT],5,D_D[CAT],SMS, D_D[EP],499,D_D[LOC],$A18)/$E18,0))","v":0.2148997134670487},{"$f":"IF(ISNA($A18),\"\",IFERROR(SUMIFS(D_D[AWD],D_D[MT],5,D_D[CAT],SMS, D_D[EP],499,D_D[LOC],$A18)/$E18,0))","v":5.7306590257879652E-4},{"$f":"IF(ISNA($A18),\"\",IFERROR(SUMIFS(D_D[AUT],D_D[MT],5,D_D[CAT],SMS, D_D[EP],499,D_D[LOC],$A18)/$E18,0))","v":0}]
["AZ100",6,"Arizona","Arizona-Total",{"$f":"IF(ISNA($A19),\"\",IFERROR(SUMIFS(D_D[INV],D_D[MT],5,D_D[CAT],SMS, D_D[EP],499,D_D[LOC],$A19),0))","v":14358},{"$f":"IF(ISNA($A19),\"\",IFERROR(SUMIFS(D_D[BL],D_D[MT],5,D_D[CAT],SMS, D_D[EP],499,D_D[LOC],$A19),0))","v":6225},0.43355620559966568,{"$f":"IF(ISNA($A19),\"\",IFERROR(SUMIFS(D_D[DEV],D_D[MT],5,D_D[CAT],SMS, D_D[EP],499,D_D[LOC],$A19)/$E19,0))","v":2.1869341133862654E-2},{"$f":"IF(ISNA($A19),\"\",IFERROR(SUMIFS(D_D[EVD],D_D[MT],5,D_D[CAT],SMS, D_D[EP],499,D_D[LOC],$A19)/$E19,0))","v":0.61888842457166737},{"$f":"IF(ISNA($A19),\"\",IFERROR(SUMIFS(D_D[DEC],D_D[MT],5,D_D[CAT],SMS, D_D[EP],499,D_D[LOC],$A19)/$E19,0))","v":0.35144170497283744},{"$f":"IF(ISNA($A19),\"\",IFERROR(SUMIFS(D_D[AWD],D_D[MT],5,D_D[CAT],SMS, D_D[EP],499,D_D[LOC],$A19)/$E19,0))","v":6.4075776570553002E-3},{"$f":"IF(ISNA($A19),\"\",IFERROR(SUMIFS(D_D[AUT],D_D[MT],5,D_D[CAT],SMS, D_D[EP],499,D_D[LOC],$A19)/$E19,0))","v":1.3929516645772391E-3}]
["AZ345",7,0,"Phoenix RO",{"$f":"IF(ISNA($A20),\"\",IFERROR(SUMIFS(D_D[INV],D_D[MT],5,D_D[CAT],SMS, D_D[EP],499,D_D[LOC],$A20),0))","v":267},{"$f":"IF(ISNA($A20),\"\",IFERROR(SUMIFS(D_D[BL],D_D[MT],5,D_D[CAT],SMS, D_D[EP],499,D_D[LOC],$A20),0))","v":47},0.17602996254681649,{"$f":"IF(ISNA($A20),\"\",IFERROR(SUMIFS(D_D[DEV],D_D[MT],5,D_D[CAT],SMS, D_D[EP],499,D_D[LOC],$A20)/$E20,0))","v":0.30337078651685395},{"$f":"IF(ISNA($A20),\"\",IFERROR(SUMIFS(D_D[EVD],D_D[MT],5,D_D[CAT],SMS, D_D[EP],499,D_D[LOC],$A20)/$E20,0))","v":0.56554307116104874},{"$f":"IF(ISNA($A20),\"\",IFERROR(SUMIFS(D_D[DEC],D_D[MT],5,D_D[CAT],SMS, D_D[EP],499,D_D[LOC],$A20)/$E20,0))","v":7.4906367041198504E-2},{"$f":"IF(ISNA($A20),\"\",IFERROR(SUMIFS(D_D[AWD],D_D[MT],5,D_D[CAT],SMS, D_D[EP],499,D_D[LOC],$A20)/$E20,0))","v":5.2434456928838954E-2},{"$f":"IF(ISNA($A20),\"\",IFERROR(SUMIFS(D_D[AUT],D_D[MT],5,D_D[CAT],SMS, D_D[EP],499,D_D[LOC],$A20)/$E20,0))","v":3.7453183520599251E-3}]
["AZ-1",8," ","Arizona-Other RO",{"$f":"IF(ISNA($A21),\"\",IFERROR(SUMIFS(D_D[INV],D_D[MT],5,D_D[CAT],SMS, D_D[EP],499,D_D[LOC],$A21),0))","v":1621},{"$f":"IF(ISNA($A21),\"\",IFERROR(SUMIFS(D_D[BL],D_D[MT],5,D_D[CAT],SMS, D_D[EP],499,D_D[LOC],$A21),0))","v":767},0.473164713140037,{"$f":"IF(ISNA($A21),\"\",IFERROR(SUMIFS(D_D[DEV],D_D[MT],5,D_D[CAT],SMS, D_D[EP],499,D_D[LOC],$A21)/$E21,0))","v":9.9321406539173346E-2},{"$f":"IF(ISNA($A21),\"\",IFERROR(SUMIFS(D_D[EVD],D_D[MT],5,D_D[CAT],SMS, D_D[EP],499,D_D[LOC],$A21)/$E21,0))","v":0.59161011721159773},{"$f":"IF(ISNA($A21),\"\",IFERROR(SUMIFS(D_D[DEC],D_D[MT],5,D_D[CAT],SMS, D_D[EP],499,D_D[LOC],$A21)/$E21,0))","v":0.25046267735965455},{"$f":"IF(ISNA($A21),\"\",IFERROR(SUMIFS(D_D[AWD],D_D[MT],5,D_D[CAT],SMS, D_D[EP],499,D_D[LOC],$A21)/$E21,0))","v":4.6884639111659472E-2},{"$f":"IF(ISNA($A21),\"\",IFERROR(SUMIFS(D_D[AUT],D_D[MT],5,D_D[CAT],SMS, D_D[EP],499,D_D[LOC],$A21)/$E21,0))","v":1.1721159777914868E-2}]
["AZ499",9," ",{"$f":"IFERROR(INDEX(INDIRECT(DS_NWQD),B22),\"\")","v":"Arizona-NWQ"},{"$f":"IF(ISNA($A22),\"\",IFERROR(SUMIFS(D_D[INV],D_D[MT],5,D_D[CAT],SMS, D_D[EP],499,D_D[LOC],$A22),0))","v":12470},{"$f":"IF(ISNA($A22),\"\",IFERROR(SUMIFS(D_D[BL],D_D[MT],5,D_D[CAT],SMS, D_D[EP],499,D_D[LOC],$A22),0))","v":5411},{"$f":"IF(ISNA($A22),\"\",IFERROR(F22/E22,0))","v":0.43392141138732959},{"$f":"IF(ISNA($A22),\"\",IFERROR(SUMIFS(D_D[DEV],D_D[MT],5,D_D[CAT],SMS, D_D[EP],499,D_D[LOC],$A22)/$E22,0))","v":5.7738572574178026E-3},{"$f":"IF(ISNA($A22),\"\",IFERROR(SUMIFS(D_D[EVD],D_D[MT],5,D_D[CAT],SMS, D_D[EP],499,D_D[LOC],$A22)/$E22,0))","v":0.62357658380112269},{"$f":"IF(ISNA($A22),\"\",IFERROR(SUMIFS(D_D[DEC],D_D[MT],5,D_D[CAT],SMS, D_D[EP],499,D_D[LOC],$A22)/$E22,0))","v":0.37048917401764236},{"$f":"IF(ISNA($A22),\"\",IFERROR(SUMIFS(D_D[AWD],D_D[MT],5,D_D[CAT],SMS, D_D[EP],499,D_D[LOC],$A22)/$E22,0))","v":1.6038492381716118E-4},{"$f":"IF(ISNA($A22),\"\",IFERROR(SUMIFS(D_D[AUT],D_D[MT],5,D_D[CAT],SMS, D_D[EP],499,D_D[LOC],$A22)/$E22,0))","v":0}]
["CA100",10,"California","California-Total",{"$f":"IF(ISNA($A23),\"\",IFERROR(SUMIFS(D_D[INV],D_D[MT],5,D_D[CAT],SMS, D_D[EP],499,D_D[LOC],$A23),0))","v":50525},{"$f":"IF(ISNA($A23),\"\",IFERROR(SUMIFS(D_D[BL],D_D[MT],5,D_D[CAT],SMS, D_D[EP],499,D_D[LOC],$A23),0))","v":20180},0.39940623453735774,{"$f":"IF(ISNA($A23),\"\",IFERROR(SUMIFS(D_D[DEV],D_D[MT],5,D_D[CAT],SMS, D_D[EP],499,D_D[LOC],$A23)/$E23,0))","v":2.0286986640277092E-2},{"$f":"IF(ISNA($A23),\"\",IFERROR(SUMIFS(D_D[EVD],D_D[MT],5,D_D[CAT],SMS, D_D[EP],499,D_D[LOC],$A23)/$E23,0))","v":0.6484710539336962},{"$f":"IF(ISNA($A23),\"\",IFERROR(SUMIFS(D_D[DEC],D_D[MT],5,D_D[CAT],SMS, D_D[EP],499,D_D[LOC],$A23)/$E23,0))","v":0.32292924294903513},{"$f":"IF(ISNA($A23),\"\",IFERROR(SUMIFS(D_D[AWD],D_D[MT],5,D_D[CAT],SMS, D_D[EP],499,D_D[LOC],$A23)/$E23,0))","v":6.313706086095992E-3},{"$f":"IF(ISNA($A23),\"\",IFERROR(SUMIFS(D_D[AUT],D_D[MT],5,D_D[CAT],SMS, D_D[EP],499,D_D[LOC],$A23)/$E23,0))","v":1.9990103908955961E-3}]
["CA344",11,0,"Los Angeles RO",{"$f":"IF(ISNA($A24),\"\",IFERROR(SUMIFS(D_D[INV],D_D[MT],5,D_D[CAT],SMS, D_D[EP],499,D_D[LOC],$A24),0))","v":429},{"$f":"IF(ISNA($A24),\"\",IFERROR(SUMIFS(D_D[BL],D_D[MT],5,D_D[CAT],SMS, D_D[EP],499,D_D[LOC],$A24),0))","v":86},0.20046620046620048,{"$f":"IF(ISNA($A24),\"\",IFERROR(SUMIFS(D_D[DEV],D_D[MT],5,D_D[CAT],SMS, D_D[EP],499,D_D[LOC],$A24)/$E24,0))","v":0.22843822843822845},{"$f":"IF(ISNA($A24),\"\",IFERROR(SUMIFS(D_D[EVD],D_D[MT],5,D_D[CAT],SMS, D_D[EP],499,D_D[LOC],$A24)/$E24,0))","v":0.47785547785547783},{"$f":"IF(ISNA($A24),\"\",IFERROR(SUMIFS(D_D[DEC],D_D[MT],5,D_D[CAT],SMS, D_D[EP],499,D_D[LOC],$A24)/$E24,0))","v":0.2400932400932401},{"$f":"IF(ISNA($A24),\"\",IFERROR(SUMIFS(D_D[AWD],D_D[MT],5,D_D[CAT],SMS, D_D[EP],499,D_D[LOC],$A24)/$E24,0))","v":4.8951048951048952E-2},{"$f":"IF(ISNA($A24),\"\",IFERROR(SUMIFS(D_D[AUT],D_D[MT],5,D_D[CAT],SMS, D_D[EP],499,D_D[LOC],$A24)/$E24,0))","v":4.662004662004662E-3}]
["CA343",12,0,"Oakland RO",{"$f":"IF(ISNA($A25),\"\",IFERROR(SUMIFS(D_D[INV],D_D[MT],5,D_D[CAT],SMS, D_D[EP],499,D_D[LOC],$A25),0))","v":341},{"$f":"IF(ISNA($A25),\"\",IFERROR(SUMIFS(D_D[BL],D_D[MT],5,D_D[CAT],SMS, D_D[EP],499,D_D[LOC],$A25),0))","v":79},0.2316715542521994,{"$f":"IF(ISNA($A25),\"\",IFERROR(SUMIFS(D_D[DEV],D_D[MT],5,D_D[CAT],SMS, D_D[EP],499,D_D[LOC],$A25)/$E25,0))","v":0.36363636363636365},{"$f":"IF(ISNA($A25),\"\",IFERROR(SUMIFS(D_D[EVD],D_D[MT],5,D_D[CAT],SMS, D_D[EP],499,D_D[LOC],$A25)/$E25,0))","v":0.34017595307917886},{"$f":"IF(ISNA($A25),\"\",IFERROR(SUMIFS(D_D[DEC],D_D[MT],5,D_D[CAT],SMS, D_D[EP],499,D_D[LOC],$A25)/$E25,0))","v":0.27859237536656889},{"$f":"IF(ISNA($A25),\"\",IFERROR(SUMIFS(D_D[AWD],D_D[MT],5,D_D[CAT],SMS, D_D[EP],499,D_D[LOC],$A25)/$E25,0))","v":8.7976539589442824E-3},{"$f":"IF(ISNA($A25),\"\",IFERROR(SUMIFS(D_D[AUT],D_D[MT],5,D_D[CAT],SMS, D_D[EP],499,D_D[LOC],$A25)/$E25,0))","v":8.7976539589442824E-3}]
["CA377",13," ","San Diego RO",{"$f":"IF(ISNA($A26),\"\",IFERROR(SUMIFS(D_D[INV],D_D[MT],5,D_D[CAT],SMS, D_D[EP],499,D_D[LOC],$A26),0))","v":545},{"$f":"IF(ISNA($A26),\"\",IFERROR(SUMIFS(D_D[BL],D_D[MT],5,D_D[CAT],SMS, D_D[EP],499,D_D[LOC],$A26),0))","v":104},0.19082568807339451,{"$f":"IF(ISNA($A26),\"\",IFERROR(SUMIFS(D_D[DEV],D_D[MT],5,D_D[CAT],SMS, D_D[EP],499,D_D[LOC],$A26)/$E26,0))","v":0.19633027522935781},{"$f":"IF(ISNA($A26),\"\",IFERROR(SUMIFS(D_D[EVD],D_D[MT],5,D_D[CAT],SMS, D_D[EP],499,D_D[LOC],$A26)/$E26,0))","v":0.44220183486238535},{"$f":"IF(ISNA($A26),\"\",IFERROR(SUMIFS(D_D[DEC],D_D[MT],5,D_D[CAT],SMS, D_D[EP],499,D_D[LOC],$A26)/$E26,0))","v":0.27889908256880735},{"$f":"IF(ISNA($A26),\"\",IFERROR(SUMIFS(D_D[AWD],D_D[MT],5,D_D[CAT],SMS, D_D[EP],499,D_D[LOC],$A26)/$E26,0))","v":3.3027522935779818E-2},{"$f":"IF(ISNA($A26),\"\",IFERROR(SUMIFS(D_D[AUT],D_D[MT],5,D_D[CAT],SMS, D_D[EP],499,D_D[LOC],$A26)/$E26,0))","v":4.9541284403669728E-2}]
["CA-1",14," ","California-Other RO",{"$f":"IF(ISNA($A27),\"\",IFERROR(SUMIFS(D_D[INV],D_D[MT],5,D_D[CAT],SMS, D_D[EP],499,D_D[LOC],$A27),0))","v":5332},{"$f":"IF(ISNA($A27),\"\",IFERROR(SUMIFS(D_D[BL],D_D[MT],5,D_D[CAT],SMS, D_D[EP],499,D_D[LOC],$A27),0))","v":2517},0.47205551387846961,{"$f":"IF(ISNA($A27),\"\",IFERROR(SUMIFS(D_D[DEV],D_D[MT],5,D_D[CAT],SMS, D_D[EP],499,D_D[LOC],$A27)/$E27,0))","v":9.1897974493623399E-2},{"$f":"IF(ISNA($A27),\"\",IFERROR(SUMIFS(D_D[EVD],D_D[MT],5,D_D[CAT],SMS, D_D[EP],499,D_D[LOC],$A27)/$E27,0))","v":0.64066016504126033},{"$f":"IF(ISNA($A27),\"\",IFERROR(SUMIFS(D_D[DEC],D_D[MT],5,D_D[CAT],SMS, D_D[EP],499,D_D[LOC],$A27)/$E27,0))","v":0.20405101275318829},{"$f":"IF(ISNA($A27),\"\",IFERROR(SUMIFS(D_D[AWD],D_D[MT],5,D_D[CAT],SMS, D_D[EP],499,D_D[LOC],$A27)/$E27,0))","v":5.0450112528132036E-2},{"$f":"IF(ISNA($A27),\"\",IFERROR(SUMIFS(D_D[AUT],D_D[MT],5,D_D[CAT],SMS, D_D[EP],499,D_D[LOC],$A27)/$E27,0))","v":1.2940735183795949E-2}]
["CA499",15," ",{"$f":"IFERROR(INDEX(INDIRECT(DS_NWQD),B28),\"\")","v":"California-NWQ"},{"$f":"IF(ISNA($A28),\"\",IFERROR(SUMIFS(D_D[INV],D_D[MT],5,D_D[CAT],SMS, D_D[EP],499,D_D[LOC],$A28),0))","v":43878},{"$f":"IF(ISNA($A28),\"\",IFERROR(SUMIFS(D_D[BL],D_D[MT],5,D_D[CAT],SMS, D_D[EP],499,D_D[LOC],$A28),0))","v":17394},{"$f":"IF(ISNA($A28),\"\",IFERROR(F28/E28,0))","v":0.39641733898536852},{"$f":"IF(ISNA($A28),\"\",IFERROR(SUMIFS(D_D[DEV],D_D[MT],5,D_D[CAT],SMS, D_D[EP],499,D_D[LOC],$A28)/$E28,0))","v":4.6948356807511738E-3},{"$f":"IF(ISNA($A28),\"\",IFERROR(SUMIFS(D_D[EVD],D_D[MT],5,D_D[CAT],SMS, D_D[EP],499,D_D[LOC],$A28)/$E28,0))","v":0.65604631022380233},{"$f":"IF(ISNA($A28),\"\",IFERROR(SUMIFS(D_D[DEC],D_D[MT],5,D_D[CAT],SMS, D_D[EP],499,D_D[LOC],$A28)/$E28,0))","v":0.33907653037968916},{"$f":"IF(ISNA($A28),\"\",IFERROR(SUMIFS(D_D[AWD],D_D[MT],5,D_D[CAT],SMS, D_D[EP],499,D_D[LOC],$A28)/$E28,0))","v":1.8232371575732713E-4},{"$f":"IF(ISNA($A28),\"\",IFERROR(SUMIFS(D_D[AUT],D_D[MT],5,D_D[CAT],SMS, D_D[EP],499,D_D[LOC],$A28)/$E28,0))","v":0}]
["HI100",16,"Hawaii","Hawaii-Total",{"$f":"IF(ISNA($A29),\"\",IFERROR(SUMIFS(D_D[INV],D_D[MT],5,D_D[CAT],SMS, D_D[EP],499,D_D[LOC],$A29),0))","v":3806},{"$f":"IF(ISNA($A29),\"\",IFERROR(SUMIFS(D_D[BL],D_D[MT],5,D_D[CAT],SMS, D_D[EP],499,D_D[LOC],$A29),0))","v":1617},0.42485549132947975,{"$f":"IF(ISNA($A29),\"\",IFERROR(SUMIFS(D_D[DEV],D_D[MT],5,D_D[CAT],SMS, D_D[EP],499,D_D[LOC],$A29)/$E29,0))","v":1.3399894902785077E-2},{"$f":"IF(ISNA($A29),\"\",IFERROR(SUMIFS(D_D[EVD],D_D[MT],5,D_D[CAT],SMS, D_D[EP],499,D_D[LOC],$A29)/$E29,0))","v":0.72044140830268},{"$f":"IF(ISNA($A29),\"\",IFERROR(SUMIFS(D_D[DEC],D_D[MT],5,D_D[CAT],SMS, D_D[EP],499,D_D[LOC],$A29)/$E29,0))","v":0.26011560693641617},{"$f":"IF(ISNA($A29),\"\",IFERROR(SUMIFS(D_D[AWD],D_D[MT],5,D_D[CAT],SMS, D_D[EP],499,D_D[LOC],$A29)/$E29,0))","v":4.2038885969521806E-3},{"$f":"IF(ISNA($A29),\"\",IFERROR(SUMIFS(D_D[AUT],D_D[MT],5,D_D[CAT],SMS, D_D[EP],499,D_D[LOC],$A29)/$E29,0))","v":1.8392012611665792E-3}]
["HI459",17,0,"Honolulu RO",{"$f":"IF(ISNA($A30),\"\",IFERROR(SUMIFS(D_D[INV],D_D[MT],5,D_D[CAT],SMS, D_D[EP],499,D_D[LOC],$A30),0))","v":41},{"$f":"IF(ISNA($A30),\"\",IFERROR(SUMIFS(D_D[BL],D_D[MT],5,D_D[CAT],SMS, D_D[EP],499,D_D[LOC],$A30),0))","v":12},0.29268292682926828,{"$f":"IF(ISNA($A30),\"\",IFERROR(SUMIFS(D_D[DEV],D_D[MT],5,D_D[CAT],SMS, D_D[EP],499,D_D[LOC],$A30)/$E30,0))","v":0.41463414634146339},{"$f":"IF(ISNA($A30),\"\",IFERROR(SUMIFS(D_D[EVD],D_D[MT],5,D_D[CAT],SMS, D_D[EP],499,D_D[LOC],$A30)/$E30,0))","v":0.43902439024390244},{"$f":"IF(ISNA($A30),\"\",IFERROR(SUMIFS(D_D[DEC],D_D[MT],5,D_D[CAT],SMS, D_D[EP],499,D_D[LOC],$A30)/$E30,0))","v":0.14634146341463414},{"$f":"IF(ISNA($A30),\"\",IFERROR(SUMIFS(D_D[AWD],D_D[MT],5,D_D[CAT],SMS, D_D[EP],499,D_D[LOC],$A30)/$E30,0))","v":0},{"$f":"IF(ISNA($A30),\"\",IFERROR(SUMIFS(D_D[AUT],D_D[MT],5,D_D[CAT],SMS, D_D[EP],499,D_D[LOC],$A30)/$E30,0))","v":0}]
["HI-1",18,0,"Hawaii-Other RO",{"$f":"IF(ISNA($A31),\"\",IFERROR(SUMIFS(D_D[INV],D_D[MT],5,D_D[CAT],SMS, D_D[EP],499,D_D[LOC],$A31),0))","v":428},{"$f":"IF(ISNA($A31),\"\",IFERROR(SUMIFS(D_D[BL],D_D[MT],5,D_D[CAT],SMS, D_D[EP],499,D_D[LOC],$A31),0))","v":179},0.41822429906542058,{"$f":"IF(ISNA($A31),\"\",IFERROR(SUMIFS(D_D[DEV],D_D[MT],5,D_D[CAT],SMS, D_D[EP],499,D_D[LOC],$A31)/$E31,0))","v":6.3084112149532703E-2},{"$f":"IF(ISNA($A31),\"\",IFERROR(SUMIFS(D_D[EVD],D_D[MT],5,D_D[CAT],SMS, D_D[EP],499,D_D[LOC],$A31)/$E31,0))","v":0.64485981308411211},{"$f":"IF(ISNA($A31),\"\",IFERROR(SUMIFS(D_D[DEC],D_D[MT],5,D_D[CAT],SMS, D_D[EP],499,D_D[LOC],$A31)/$E31,0))","v":0.23831775700934579},{"$f":"IF(ISNA($A31),\"\",IFERROR(SUMIFS(D_D[AWD],D_D[MT],5,D_D[CAT],SMS, D_D[EP],499,D_D[LOC],$A31)/$E31,0))","v":3.7383177570093455E-2},{"$f":"IF(ISNA($A31),\"\",IFERROR(SUMIFS(D_D[AUT],D_D[MT],5,D_D[CAT],SMS, D_D[EP],499,D_D[LOC],$A31)/$E31,0))","v":1.6355140186915886E-2}]
["HI499",19,0,"Hawaii-NWQ",{"$f":"IF(ISNA($A32),\"\",IFERROR(SUMIFS(D_D[INV],D_D[MT],5,D_D[CAT],SMS, D_D[EP],499,D_D[LOC],$A32),0))","v":3337},{"$f":"IF(ISNA($A32),\"\",IFERROR(SUMIFS(D_D[BL],D_D[MT],5,D_D[CAT],SMS, D_D[EP],499,D_D[LOC],$A32),0))","v":1426},0.42732993706922384,{"$f":"IF(ISNA($A32),\"\",IFERROR(SUMIFS(D_D[DEV],D_D[MT],5,D_D[CAT],SMS, D_D[EP],499,D_D[LOC],$A32)/$E32,0))","v":2.0976925382079712E-3},{"$f":"IF(ISNA($A32),\"\",IFERROR(SUMIFS(D_D[EVD],D_D[MT],5,D_D[CAT],SMS, D_D[EP],499,D_D[LOC],$A32)/$E32,0))","v":0.7335930476475877},{"$f":"IF(ISNA($A32),\"\",IFERROR(SUMIFS(D_D[DEC],D_D[MT],5,D_D[CAT],SMS, D_D[EP],499,D_D[LOC],$A32)/$E32,0))","v":0.26430925981420439},{"$f":"IF(ISNA($A32),\"\",IFERROR(SUMIFS(D_D[AWD],D_D[MT],5,D_D[CAT],SMS, D_D[EP],499,D_D[LOC],$A32)/$E32,0))","v":0},{"$f":"IF(ISNA($A32),\"\",IFERROR(SUMIFS(D_D[AUT],D_D[MT],5,D_D[CAT],SMS, D_D[EP],499,D_D[LOC],$A32)/$E32,0))","v":0}]
["ID100",20,"Idaho","Idaho-Total",{"$f":"IF(ISNA($A33),\"\",IFERROR(SUMIFS(D_D[INV],D_D[MT],5,D_D[CAT],SMS, D_D[EP],499,D_D[LOC],$A33),0))","v":3893},{"$f":"IF(ISNA($A33),\"\",IFERROR(SUMIFS(D_D[BL],D_D[MT],5,D_D[CAT],SMS, D_D[EP],499,D_D[LOC],$A33),0))","v":1716},0.44079116362702286,{"$f":"IF(ISNA($A33),\"\",IFERROR(SUMIFS(D_D[DEV],D_D[MT],5,D_D[CAT],SMS, D_D[EP],499,D_D[LOC],$A33)/$E33,0))","v":1.5926021063447211E-2},{"$f":"IF(ISNA($A33),\"\",IFERROR(SUMIFS(D_D[EVD],D_D[MT],5,D_D[CAT],SMS, D_D[EP],499,D_D[LOC],$A33)/$E33,0))","v":0.64012329822758796},{"$f":"IF(ISNA($A33),\"\",IFERROR(SUMIFS(D_D[DEC],D_D[MT],5,D_D[CAT],SMS, D_D[EP],499,D_D[LOC],$A33)/$E33,0))","v":0.33752889802209091},{"$f":"IF(ISNA($A33),\"\",IFERROR(SUMIFS(D_D[AWD],D_D[MT],5,D_D[CAT],SMS, D_D[EP],499,D_D[LOC],$A33)/$E33,0))","v":5.394297456974056E-3},{"$f":"IF(ISNA($A33),\"\",IFERROR(SUMIFS(D_D[AUT],D_D[MT],5,D_D[CAT],SMS, D_D[EP],499,D_D[LOC],$A33)/$E33,0))","v":1.0274852298998202E-3}]
["ID347",21,0,"Boise RO",{"$f":"IF(ISNA($A34),\"\",IFERROR(SUMIFS(D_D[INV],D_D[MT],5,D_D[CAT],SMS, D_D[EP],499,D_D[LOC],$A34),0))","v":39},{"$f":"IF(ISNA($A34),\"\",IFERROR(SUMIFS(D_D[BL],D_D[MT],5,D_D[CAT],SMS, D_D[EP],499,D_D[LOC],$A34),0))","v":8},0.20512820512820512,{"$f":"IF(ISNA($A34),\"\",IFERROR(SUMIFS(D_D[DEV],D_D[MT],5,D_D[CAT],SMS, D_D[EP],499,D_D[LOC],$A34)/$E34,0))","v":0.4358974358974359},{"$f":"IF(ISNA($A34),\"\",IFERROR(SUMIFS(D_D[EVD],D_D[MT],5,D_D[CAT],SMS, D_D[EP],499,D_D[LOC],$A34)/$E34,0))","v":0.30769230769230771},{"$f":"IF(ISNA($A34),\"\",IFERROR(SUMIFS(D_D[DEC],D_D[MT],5,D_D[CAT],SMS, D_D[EP],499,D_D[LOC],$A34)/$E34,0))","v":0.15384615384615385},{"$f":"IF(ISNA($A34),\"\",IFERROR(SUMIFS(D_D[AWD],D_D[MT],5,D_D[CAT],SMS, D_D[EP],499,D_D[LOC],$A34)/$E34,0))","v":7.6923076923076927E-2},{"$f":"IF(ISNA($A34),\"\",IFERROR(SUMIFS(D_D[AUT],D_D[MT],5,D_D[CAT],SMS, D_D[EP],499,D_D[LOC],$A34)/$E34,0))","v":2.564102564102564E-2}]
["ID-1",22,0,"Idaho-Other RO",{"$f":"IF(ISNA($A35),\"\",IFERROR(SUMIFS(D_D[INV],D_D[MT],5,D_D[CAT],SMS, D_D[EP],499,D_D[LOC],$A35),0))","v":440},{"$f":"IF(ISNA($A35),\"\",IFERROR(SUMIFS(D_D[BL],D_D[MT],5,D_D[CAT],SMS, D_D[EP],499,D_D[LOC],$A35),0))","v":213},0.48409090909090907,{"$f":"IF(ISNA($A35),\"\",IFERROR(SUMIFS(D_D[DEV],D_D[MT],5,D_D[CAT],SMS, D_D[EP],499,D_D[LOC],$A35)/$E35,0))","v":6.8181818181818177E-2},{"$f":"IF(ISNA($A35),\"\",IFERROR(SUMIFS(D_D[EVD],D_D[MT],5,D_D[CAT],SMS, D_D[EP],499,D_D[LOC],$A35)/$E35,0))","v":0.65227272727272723},{"$f":"IF(ISNA($A35),\"\",IFERROR(SUMIFS(D_D[DEC],D_D[MT],5,D_D[CAT],SMS, D_D[EP],499,D_D[LOC],$A35)/$E35,0))","v":0.23181818181818181},{"$f":"IF(ISNA($A35),\"\",IFERROR(SUMIFS(D_D[AWD],D_D[MT],5,D_D[CAT],SMS, D_D[EP],499,D_D[LOC],$A35)/$E35,0))","v":4.0909090909090909E-2},{"$f":"IF(ISNA($A35),\"\",IFERROR(SUMIFS(D_D[AUT],D_D[MT],5,D_D[CAT],SMS, D_D[EP],499,D_D[LOC],$A35)/$E35,0))","v":6.8181818181818179E-3}]
["ID499",23,0,"Idaho-NWQ",{"$f":"IF(ISNA($A36),\"\",IFERROR(SUMIFS(D_D[INV],D_D[MT],5,D_D[CAT],SMS, D_D[EP],499,D_D[LOC],$A36),0))","v":3414},{"$f":"IF(ISNA($A36),\"\",IFERROR(SUMIFS(D_D[BL],D_D[MT],5,D_D[CAT],SMS, D_D[EP],499,D_D[LOC],$A36),0))","v":1495},0.43790275336848272,{"$f":"IF(ISNA($A36),\"\",IFERROR(SUMIFS(D_D[DEV],D_D[MT],5,D_D[CAT],SMS, D_D[EP],499,D_D[LOC],$A36)/$E36,0))","v":4.3936731107205628E-3},{"$f":"IF(ISNA($A36),\"\",IFERROR(SUMIFS(D_D[EVD],D_D[MT],5,D_D[CAT],SMS, D_D[EP],499,D_D[LOC],$A36)/$E36,0))","v":0.64235500878734619},{"$f":"IF(ISNA($A36),\"\",IFERROR(SUMIFS(D_D[DEC],D_D[MT],5,D_D[CAT],SMS, D_D[EP],499,D_D[LOC],$A36)/$E36,0))","v":0.35325131810193322},{"$f":"IF(ISNA($A36),\"\",IFERROR(SUMIFS(D_D[AWD],D_D[MT],5,D_D[CAT],SMS, D_D[EP],499,D_D[LOC],$A36)/$E36,0))","v":0},{"$f":"IF(ISNA($A36),\"\",IFERROR(SUMIFS(D_D[AUT],D_D[MT],5,D_D[CAT],SMS, D_D[EP],499,D_D[LOC],$A36)/$E36,0))","v":0}]
["NV100",24,"Nevada","Nevada-Total",{"$f":"IF(ISNA($A37),\"\",IFERROR(SUMIFS(D_D[INV],D_D[MT],5,D_D[CAT],SMS, D_D[EP],499,D_D[LOC],$A37),0))","v":8423},{"$f":"IF(ISNA($A37),\"\",IFERROR(SUMIFS(D_D[BL],D_D[MT],5,D_D[CAT],SMS, D_D[EP],499,D_D[LOC],$A37),0))","v":3441},0.40852427876053665,{"$f":"IF(ISNA($A37),\"\",IFERROR(SUMIFS(D_D[DEV],D_D[MT],5,D_D[CAT],SMS, D_D[EP],499,D_D[LOC],$A37)/$E37,0))","v":3.0392971625311647E-2},{"$f":"IF(ISNA($A37),\"\",IFERROR(SUMIFS(D_D[EVD],D_D[MT],5,D_D[CAT],SMS, D_D[EP],499,D_D[LOC],$A37)/$E37,0))","v":0.63682773358660805},{"$f":"IF(ISNA($A37),\"\",IFERROR(SUMIFS(D_D[DEC],D_D[MT],5,D_D[CAT],SMS, D_D[EP],499,D_D[LOC],$A37)/$E37,0))","v":0.32446871660928411},{"$f":"IF(ISNA($A37),\"\",IFERROR(SUMIFS(D_D[AWD],D_D[MT],5,D_D[CAT],SMS, D_D[EP],499,D_D[LOC],$A37)/$E37,0))","v":5.6986821797459335E-3},{"$f":"IF(ISNA($A37),\"\",IFERROR(SUMIFS(D_D[AUT],D_D[MT],5,D_D[CAT],SMS, D_D[EP],499,D_D[LOC],$A37)/$E37,0))","v":2.6118959990502197E-3}]
["NV354",25,0,"Reno RO",{"$f":"IF(ISNA($A38),\"\",IFERROR(SUMIFS(D_D[INV],D_D[MT],5,D_D[CAT],SMS, D_D[EP],499,D_D[LOC],$A38),0))","v":175},{"$f":"IF(ISNA($A38),\"\",IFERROR(SUMIFS(D_D[BL],D_D[MT],5,D_D[CAT],SMS, D_D[EP],499,D_D[LOC],$A38),0))","v":22},0.12571428571428572,{"$f":"IF(ISNA($A38),\"\",IFERROR(SUMIFS(D_D[DEV],D_D[MT],5,D_D[CAT],SMS, D_D[EP],499,D_D[LOC],$A38)/$E38,0))","v":0.69714285714285718},{"$f":"IF(ISNA($A38),\"\",IFERROR(SUMIFS(D_D[EVD],D_D[MT],5,D_D[CAT],SMS, D_D[EP],499,D_D[LOC],$A38)/$E38,0))","v":0.2},{"$f":"IF(ISNA($A38),\"\",IFERROR(SUMIFS(D_D[DEC],D_D[MT],5,D_D[CAT],SMS, D_D[EP],499,D_D[LOC],$A38)/$E38,0))","v":0.08},{"$f":"IF(ISNA($A38),\"\",IFERROR(SUMIFS(D_D[AWD],D_D[MT],5,D_D[CAT],SMS, D_D[EP],499,D_D[LOC],$A38)/$E38,0))","v":1.7142857142857144E-2},{"$f":"IF(ISNA($A38),\"\",IFERROR(SUMIFS(D_D[AUT],D_D[MT],5,D_D[CAT],SMS, D_D[EP],499,D_D[LOC],$A38)/$E38,0))","v":5.7142857142857143E-3}]
["NV-1",26,0,"Nevada-Other RO",{"$f":"IF(ISNA($A39),\"\",IFERROR(SUMIFS(D_D[INV],D_D[MT],5,D_D[CAT],SMS, D_D[EP],499,D_D[LOC],$A39),0))","v":993},{"$f":"IF(ISNA($A39),\"\",IFERROR(SUMIFS(D_D[BL],D_D[MT],5,D_D[CAT],SMS, D_D[EP],499,D_D[LOC],$A39),0))","v":436},0.4390735146022155,{"$f":"IF(ISNA($A39),\"\",IFERROR(SUMIFS(D_D[DEV],D_D[MT],5,D_D[CAT],SMS, D_D[EP],499,D_D[LOC],$A39)/$E39,0))","v":0.10976837865055387},{"$f":"IF(ISNA($A39),\"\",IFERROR(SUMIFS(D_D[EVD],D_D[MT],5,D_D[CAT],SMS, D_D[EP],499,D_D[LOC],$A39)/$E39,0))","v":0.57502517623363547},{"$f":"IF(ISNA($A39),\"\",IFERROR(SUMIFS(D_D[DEC],D_D[MT],5,D_D[CAT],SMS, D_D[EP],499,D_D[LOC],$A39)/$E39,0))","v":0.24974823766364551},{"$f":"IF(ISNA($A39),\"\",IFERROR(SUMIFS(D_D[AWD],D_D[MT],5,D_D[CAT],SMS, D_D[EP],499,D_D[LOC],$A39)/$E39,0))","v":4.4310171198388724E-2},{"$f":"IF(ISNA($A39),\"\",IFERROR(SUMIFS(D_D[AUT],D_D[MT],5,D_D[CAT],SMS, D_D[EP],499,D_D[LOC],$A39)/$E39,0))","v":2.1148036253776436E-2}]
["NV499",27,0,"Nevada-NWQ",{"$f":"IF(ISNA($A40),\"\",IFERROR(SUMIFS(D_D[INV],D_D[MT],5,D_D[CAT],SMS, D_D[EP],499,D_D[LOC],$A40),0))","v":7255},{"$f":"IF(ISNA($A40),\"\",IFERROR(SUMIFS(D_D[BL],D_D[MT],5,D_D[CAT],SMS, D_D[EP],499,D_D[LOC],$A40),0))","v":2983},0.41116471399035148,{"$f":"IF(ISNA($A40),\"\",IFERROR(SUMIFS(D_D[DEV],D_D[MT],5,D_D[CAT],SMS, D_D[EP],499,D_D[LOC],$A40)/$E40,0))","v":3.4458993797381117E-3},{"$f":"IF(ISNA($A40),\"\",IFERROR(SUMIFS(D_D[EVD],D_D[MT],5,D_D[CAT],SMS, D_D[EP],499,D_D[LOC],$A40)/$E40,0))","v":0.65582356995175739},{"$f":"IF(ISNA($A40),\"\",IFERROR(SUMIFS(D_D[DEC],D_D[MT],5,D_D[CAT],SMS, D_D[EP],499,D_D[LOC],$A40)/$E40,0))","v":0.34059269469331493},{"$f":"IF(ISNA($A40),\"\",IFERROR(SUMIFS(D_D[AWD],D_D[MT],5,D_D[CAT],SMS, D_D[EP],499,D_D[LOC],$A40)/$E40,0))","v":1.3783597518952445E-4},{"$f":"IF(ISNA($A40),\"\",IFERROR(SUMIFS(D_D[AUT],D_D[MT],5,D_D[CAT],SMS, D_D[EP],499,D_D[LOC],$A40)/$E40,0))","v":0}]
["NM100",28,"New Mexico","New Mexico-Total",{"$f":"IF(ISNA($A41),\"\",IFERROR(SUMIFS(D_D[INV],D_D[MT],5,D_D[CAT],SMS, D_D[EP],499,D_D[LOC],$A41),0))","v":4470},{"$f":"IF(ISNA($A41),\"\",IFERROR(SUMIFS(D_D[BL],D_D[MT],5,D_D[CAT],SMS, D_D[EP],499,D_D[LOC],$A41),0))","v":2042},0.45682326621923935,{"$f":"IF(ISNA($A41),\"\",IFERROR(SUMIFS(D_D[DEV],D_D[MT],5,D_D[CAT],SMS, D_D[EP],499,D_D[LOC],$A41)/$E41,0))","v":1.7897091722595078E-2},{"$f":"IF(ISNA($A41),\"\",IFERROR(SUMIFS(D_D[EVD],D_D[MT],5,D_D[CAT],SMS, D_D[EP],499,D_D[LOC],$A41)/$E41,0))","v":0.61096196868008945},{"$f":"IF(ISNA($A41),\"\",IFERROR(SUMIFS(D_D[DEC],D_D[MT],5,D_D[CAT],SMS, D_D[EP],499,D_D[LOC],$A41)/$E41,0))","v":0.36331096196868007},{"$f":"IF(ISNA($A41),\"\",IFERROR(SUMIFS(D_D[AWD],D_D[MT],5,D_D[CAT],SMS, D_D[EP],499,D_D[LOC],$A41)/$E41,0))","v":5.5928411633109623E-3},{"$f":"IF(ISNA($A41),\"\",IFERROR(SUMIFS(D_D[AUT],D_D[MT],5,D_D[CAT],SMS, D_D[EP],499,D_D[LOC],$A41)/$E41,0))","v":2.2371364653243847E-3}]
["NM340",29,0,"Albuquerque RO",{"$f":"IF(ISNA($A42),\"\",IFERROR(SUMIFS(D_D[INV],D_D[MT],5,D_D[CAT],SMS, D_D[EP],499,D_D[LOC],$A42),0))","v":42},{"$f":"IF(ISNA($A42),\"\",IFERROR(SUMIFS(D_D[BL],D_D[MT],5,D_D[CAT],SMS, D_D[EP],499,D_D[LOC],$A42),0))","v":6},0.14285714285714285,{"$f":"IF(ISNA($A42),\"\",IFERROR(SUMIFS(D_D[DEV],D_D[MT],5,D_D[CAT],SMS, D_D[EP],499,D_D[LOC],$A42)/$E42,0))","v":0.40476190476190477},{"$f":"IF(ISNA($A42),\"\",IFERROR(SUMIFS(D_D[EVD],D_D[MT],5,D_D[CAT],SMS, D_D[EP],499,D_D[LOC],$A42)/$E42,0))","v":0.35714285714285715},{"$f":"IF(ISNA($A42),\"\",IFERROR(SUMIFS(D_D[DEC],D_D[MT],5,D_D[CAT],SMS, D_D[EP],499,D_D[LOC],$A42)/$E42,0))","v":0.16666666666666666},{"$f":"IF(ISNA($A42),\"\",IFERROR(SUMIFS(D_D[AWD],D_D[MT],5,D_D[CAT],SMS, D_D[EP],499,D_D[LOC],$A42)/$E42,0))","v":7.1428571428571425E-2},{"$f":"IF(ISNA($A42),\"\",IFERROR(SUMIFS(D_D[AUT],D_D[MT],5,D_D[CAT],SMS, D_D[EP],499,D_D[LOC],$A42)/$E42,0))","v":0}]
["NM-1",30,0,"New Mexico-Other RO",{"$f":"IF(ISNA($A43),\"\",IFERROR(SUMIFS(D_D[INV],D_D[MT],5,D_D[CAT],SMS, D_D[EP],499,D_D[LOC],$A43),0))","v":578},{"$f":"IF(ISNA($A43),\"\",IFERROR(SUMIFS(D_D[BL],D_D[MT],5,D_D[CAT],SMS, D_D[EP],499,D_D[LOC],$A43),0))","v":292},0.50519031141868509,{"$f":"IF(ISNA($A43),\"\",IFERROR(SUMIFS(D_D[DEV],D_D[MT],5,D_D[CAT],SMS, D_D[EP],499,D_D[LOC],$A43)/$E43,0))","v":8.4775086505190306E-2},{"$f":"IF(ISNA($A43),\"\",IFERROR(SUMIFS(D_D[EVD],D_D[MT],5,D_D[CAT],SMS, D_D[EP],499,D_D[LOC],$A43)/$E43,0))","v":0.54325259515570934},{"$f":"IF(ISNA($A43),\"\",IFERROR(SUMIFS(D_D[DEC],D_D[MT],5,D_D[CAT],SMS, D_D[EP],499,D_D[LOC],$A43)/$E43,0))","v":0.31660899653979241},{"$f":"IF(ISNA($A43),\"\",IFERROR(SUMIFS(D_D[AWD],D_D[MT],5,D_D[CAT],SMS, D_D[EP],499,D_D[LOC],$A43)/$E43,0))","v":3.8062283737024222E-2},{"$f":"IF(ISNA($A43),\"\",IFERROR(SUMIFS(D_D[AUT],D_D[MT],5,D_D[CAT],SMS, D_D[EP],499,D_D[LOC],$A43)/$E43,0))","v":1.7301038062283738E-2}]
["NM499",31,0,"New Mexico-NWQ",{"$f":"IF(ISNA($A44),\"\",IFERROR(SUMIFS(D_D[INV],D_D[MT],5,D_D[CAT],SMS, D_D[EP],499,D_D[LOC],$A44),0))","v":3850},{"$f":"IF(ISNA($A44),\"\",IFERROR(SUMIFS(D_D[BL],D_D[MT],5,D_D[CAT],SMS, D_D[EP],499,D_D[LOC],$A44),0))","v":1744},0.45298701298701299,{"$f":"IF(ISNA($A44),\"\",IFERROR(SUMIFS(D_D[DEV],D_D[MT],5,D_D[CAT],SMS, D_D[EP],499,D_D[LOC],$A44)/$E44,0))","v":3.6363636363636364E-3},{"$f":"IF(ISNA($A44),\"\",IFERROR(SUMIFS(D_D[EVD],D_D[MT],5,D_D[CAT],SMS, D_D[EP],499,D_D[LOC],$A44)/$E44,0))","v":0.62389610389610395},{"$f":"IF(ISNA($A44),\"\",IFERROR(SUMIFS(D_D[DEC],D_D[MT],5,D_D[CAT],SMS, D_D[EP],499,D_D[LOC],$A44)/$E44,0))","v":0.37246753246753245},{"$f":"IF(ISNA($A44),\"\",IFERROR(SUMIFS(D_D[AWD],D_D[MT],5,D_D[CAT],SMS, D_D[EP],499,D_D[LOC],$A44)/$E44,0))","v":0},{"$f":"IF(ISNA($A44),\"\",IFERROR(SUMIFS(D_D[AUT],D_D[MT],5,D_D[CAT],SMS, D_D[EP],499,D_D[LOC],$A44)/$E44,0))","v":0}]
["OR100",32,"Oregon","Oregon-Total",{"$f":"IF(ISNA($A45),\"\",IFERROR(SUMIFS(D_D[INV],D_D[MT],5,D_D[CAT],SMS, D_D[EP],499,D_D[LOC],$A45),0))","v":8072},{"$f":"IF(ISNA($A45),\"\",IFERROR(SUMIFS(D_D[BL],D_D[MT],5,D_D[CAT],SMS, D_D[EP],499,D_D[LOC],$A45),0))","v":4111},0.50929137760158572,{"$f":"IF(ISNA($A45),\"\",IFERROR(SUMIFS(D_D[DEV],D_D[MT],5,D_D[CAT],SMS, D_D[EP],499,D_D[LOC],$A45)/$E45,0))","v":1.6228939544103073E-2},{"$f":"IF(ISNA($A45),\"\",IFERROR(SUMIFS(D_D[EVD],D_D[MT],5,D_D[CAT],SMS, D_D[EP],499,D_D[LOC],$A45)/$E45,0))","v":0.62784935579781964},{"$f":"IF(ISNA($A45),\"\",IFERROR(SUMIFS(D_D[DEC],D_D[MT],5,D_D[CAT],SMS, D_D[EP],499,D_D[LOC],$A45)/$E45,0))","v":0.35146184340931613},{"$f":"IF(ISNA($A45),\"\",IFERROR(SUMIFS(D_D[AWD],D_D[MT],5,D_D[CAT],SMS, D_D[EP],499,D_D[LOC],$A45)/$E45,0))","v":3.7165510406342913E-3},{"$f":"IF(ISNA($A45),\"\",IFERROR(SUMIFS(D_D[AUT],D_D[MT],5,D_D[CAT],SMS, D_D[EP],499,D_D[LOC],$A45)/$E45,0))","v":7.4331020812685826E-4}]
["OR348",33,0,"Portland RO",{"$f":"IF(ISNA($A46),\"\",IFERROR(SUMIFS(D_D[INV],D_D[MT],5,D_D[CAT],SMS, D_D[EP],499,D_D[LOC],$A46),0))","v":111},{"$f":"IF(ISNA($A46),\"\",IFERROR(SUMIFS(D_D[BL],D_D[MT],5,D_D[CAT],SMS, D_D[EP],499,D_D[LOC],$A46),0))","v":17},0.15315315315315314,{"$f":"IF(ISNA($A46),\"\",IFERROR(SUMIFS(D_D[DEV],D_D[MT],5,D_D[CAT],SMS, D_D[EP],499,D_D[LOC],$A46)/$E46,0))","v":0.45045045045045046},{"$f":"IF(ISNA($A46),\"\",IFERROR(SUMIFS(D_D[EVD],D_D[MT],5,D_D[CAT],SMS, D_D[EP],499,D_D[LOC],$A46)/$E46,0))","v":0.40540540540540543},{"$f":"IF(ISNA($A46),\"\",IFERROR(SUMIFS(D_D[DEC],D_D[MT],5,D_D[CAT],SMS, D_D[EP],499,D_D[LOC],$A46)/$E46,0))","v":0.12612612612612611},{"$f":"IF(ISNA($A46),\"\",IFERROR(SUMIFS(D_D[AWD],D_D[MT],5,D_D[CAT],SMS, D_D[EP],499,D_D[LOC],$A46)/$E46,0))","v":9.0090090090090089E-3},{"$f":"IF(ISNA($A46),\"\",IFERROR(SUMIFS(D_D[AUT],D_D[MT],5,D_D[CAT],SMS, D_D[EP],499,D_D[LOC],$A46)/$E46,0))","v":9.0090090090090089E-3}]
[{"$f":"IFERROR(INDEX(INDIRECT(DS_NWQI),B47),#N/A)","v":"OR-1"},34,0,"Oregon-Other RO",{"$f":"IF(ISNA($A47),\"\",IFERROR(SUMIFS(D_D[INV],D_D[MT],5,D_D[CAT],SMS, D_D[EP],499,D_D[LOC],$A47),0))","v":838},{"$f":"IF(ISNA($A47),\"\",IFERROR(SUMIFS(D_D[BL],D_D[MT],5,D_D[CAT],SMS, D_D[EP],499,D_D[LOC],$A47),0))","v":507},0.6050119331742243,{"$f":"IF(ISNA($A47),\"\",IFERROR(SUMIFS(D_D[DEV],D_D[MT],5,D_D[CAT],SMS, D_D[EP],499,D_D[LOC],$A47)/$E47,0))","v":6.8019093078758947E-2},{"$f":"IF(ISNA($A47),\"\",IFERROR(SUMIFS(D_D[EVD],D_D[MT],5,D_D[CAT],SMS, D_D[EP],499,D_D[LOC],$A47)/$E47,0))","v":0.67183770883054894},{"$f":"IF(ISNA($A47),\"\",IFERROR(SUMIFS(D_D[DEC],D_D[MT],5,D_D[CAT],SMS, D_D[EP],499,D_D[LOC],$A47)/$E47,0))","v":0.22195704057279236},{"$f":"IF(ISNA($A47),\"\",IFERROR(SUMIFS(D_D[AWD],D_D[MT],5,D_D[CAT],SMS, D_D[EP],499,D_D[LOC],$A47)/$E47,0))","v":3.2219570405727926E-2},{"$f":"IF(ISNA($A47),\"\",IFERROR(SUMIFS(D_D[AUT],D_D[MT],5,D_D[CAT],SMS, D_D[EP],499,D_D[LOC],$A47)/$E47,0))","v":5.9665871121718375E-3}]
["OR499",35,0,"Oregon-NWQ",{"$f":"IF(ISNA($A48),\"\",IFERROR(SUMIFS(D_D[INV],D_D[MT],5,D_D[CAT],SMS, D_D[EP],499,D_D[LOC],$A48),0))","v":7123},{"$f":"IF(ISNA($A48),\"\",IFERROR(SUMIFS(D_D[BL],D_D[MT],5,D_D[CAT],SMS, D_D[EP],499,D_D[LOC],$A48),0))","v":3587},0.50357995226730312,{"$f":"IF(ISNA($A48),\"\",IFERROR(SUMIFS(D_D[DEV],D_D[MT],5,D_D[CAT],SMS, D_D[EP],499,D_D[LOC],$A48)/$E48,0))","v":3.3693668398146847E-3},{"$f":"IF(ISNA($A48),\"\",IFERROR(SUMIFS(D_D[EVD],D_D[MT],5,D_D[CAT],SMS, D_D[EP],499,D_D[LOC],$A48)/$E48,0))","v":0.62614067106556226},{"$f":"IF(ISNA($A48),\"\",IFERROR(SUMIFS(D_D[DEC],D_D[MT],5,D_D[CAT],SMS, D_D[EP],499,D_D[LOC],$A48)/$E48,0))","v":0.3702091815246385},{"$f":"IF(ISNA($A48),\"\",IFERROR(SUMIFS(D_D[AWD],D_D[MT],5,D_D[CAT],SMS, D_D[EP],499,D_D[LOC],$A48)/$E48,0))","v":2.8078056998455706E-4},{"$f":"IF(ISNA($A48),\"\",IFERROR(SUMIFS(D_D[AUT],D_D[MT],5,D_D[CAT],SMS, D_D[EP],499,D_D[LOC],$A48)/$E48,0))","v":0}]
["PI100",36,"Philippines",{"$f":"IFERROR(INDEX(INDIRECT(DS_NWQD),B49),\"\")","v":"Philippines-Total"},{"$f":"IF(ISNA($A49),\"\",IFERROR(SUMIFS(D_D[INV],D_D[MT],5,D_D[CAT],SMS, D_D[EP],499,D_D[LOC],$A49),0))","v":0},{"$f":"IF(ISNA($A49),\"\",IFERROR(SUMIFS(D_D[BL],D_D[MT],5,D_D[CAT],SMS, D_D[EP],499,D_D[LOC],$A49),0))","v":0},{"$f":"IF(ISNA($A49),\"\",IFERROR(F49/E49,0))","v":0},{"$f":"IF(ISNA($A49),\"\",IFERROR(SUMIFS(D_D[DEV],D_D[MT],5,D_D[CAT],SMS, D_D[EP],499,D_D[LOC],$A49)/$E49,0))","v":0},{"$f":"IF(ISNA($A49),\"\",IFERROR(SUMIFS(D_D[EVD],D_D[MT],5,D_D[CAT],SMS, D_D[EP],499,D_D[LOC],$A49)/$E49,0))","v":0},{"$f":"IF(ISNA($A49),\"\",IFERROR(SUMIFS(D_D[DEC],D_D[MT],5,D_D[CAT],SMS, D_D[EP],499,D_D[LOC],$A49)/$E49,0))","v":0},{"$f":"IF(ISNA($A49),\"\",IFERROR(SUMIFS(D_D[AWD],D_D[MT],5,D_D[CAT],SMS, D_D[EP],499,D_D[LOC],$A49)/$E49,0))","v":0},{"$f":"IF(ISNA($A49),\"\",IFERROR(SUMIFS(D_D[AUT],D_D[MT],5,D_D[CAT],SMS, D_D[EP],499,D_D[LOC],$A49)/$E49,0))","v":0}]
["PI358",37,0,"Manila RO",{"$f":"IF(ISNA($A50),\"\",IFERROR(SUMIFS(D_D[INV],D_D[MT],5,D_D[CAT],SMS, D_D[EP],499,D_D[LOC],$A50),0))","v":0},{"$f":"IF(ISNA($A50),\"\",IFERROR(SUMIFS(D_D[BL],D_D[MT],5,D_D[CAT],SMS, D_D[EP],499,D_D[LOC],$A50),0))","v":0},0,{"$f":"IF(ISNA($A50),\"\",IFERROR(SUMIFS(D_D[DEV],D_D[MT],5,D_D[CAT],SMS, D_D[EP],499,D_D[LOC],$A50)/$E50,0))","v":0},{"$f":"IF(ISNA($A50),\"\",IFERROR(SUMIFS(D_D[EVD],D_D[MT],5,D_D[CAT],SMS, D_D[EP],499,D_D[LOC],$A50)/$E50,0))","v":0},{"$f":"IF(ISNA($A50),\"\",IFERROR(SUMIFS(D_D[DEC],D_D[MT],5,D_D[CAT],SMS, D_D[EP],499,D_D[LOC],$A50)/$E50,0))","v":0},{"$f":"IF(ISNA($A50),\"\",IFERROR(SUMIFS(D_D[AWD],D_D[MT],5,D_D[CAT],SMS, D_D[EP],499,D_D[LOC],$A50)/$E50,0))","v":0},{"$f":"IF(ISNA($A50),\"\",IFERROR(SUMIFS(D_D[AUT],D_D[MT],5,D_D[CAT],SMS, D_D[EP],499,D_D[LOC],$A50)/$E50,0))","v":0}]
["PI-1",38,0,"Philippines-Other RO",{"$f":"IF(ISNA($A51),\"\",IFERROR(SUMIFS(D_D[INV],D_D[MT],5,D_D[CAT],SMS, D_D[EP],499,D_D[LOC],$A51),0))","v":0},{"$f":"IF(ISNA($A51),\"\",IFERROR(SUMIFS(D_D[BL],D_D[MT],5,D_D[CAT],SMS, D_D[EP],499,D_D[LOC],$A51),0))","v":0},0,{"$f":"IF(ISNA($A51),\"\",IFERROR(SUMIFS(D_D[DEV],D_D[MT],5,D_D[CAT],SMS, D_D[EP],499,D_D[LOC],$A51)/$E51,0))","v":0},{"$f":"IF(ISNA($A51),\"\",IFERROR(SUMIFS(D_D[EVD],D_D[MT],5,D_D[CAT],SMS, D_D[EP],499,D_D[LOC],$A51)/$E51,0))","v":0},{"$f":"IF(ISNA($A51),\"\",IFERROR(SUMIFS(D_D[DEC],D_D[MT],5,D_D[CAT],SMS, D_D[EP],499,D_D[LOC],$A51)/$E51,0))","v":0},{"$f":"IF(ISNA($A51),\"\",IFERROR(SUMIFS(D_D[AWD],D_D[MT],5,D_D[CAT],SMS, D_D[EP],499,D_D[LOC],$A51)/$E51,0))","v":0},{"$f":"IF(ISNA($A51),\"\",IFERROR(SUMIFS(D_D[AUT],D_D[MT],5,D_D[CAT],SMS, D_D[EP],499,D_D[LOC],$A51)/$E51,0))","v":0}]
["PI499",39,0,"Philippines-NWQ",{"$f":"IF(ISNA($A52),\"\",IFERROR(SUMIFS(D_D[INV],D_D[MT],5,D_D[CAT],SMS, D_D[EP],499,D_D[LOC],$A52),0))","v":0},{"$f":"IF(ISNA($A52),\"\",IFERROR(SUMIFS(D_D[BL],D_D[MT],5,D_D[CAT],SMS, D_D[EP],499,D_D[LOC],$A52),0))","v":0},0,{"$f":"IF(ISNA($A52),\"\",IFERROR(SUMIFS(D_D[DEV],D_D[MT],5,D_D[CAT],SMS, D_D[EP],499,D_D[LOC],$A52)/$E52,0))","v":0},{"$f":"IF(ISNA($A52),\"\",IFERROR(SUMIFS(D_D[EVD],D_D[MT],5,D_D[CAT],SMS, D_D[EP],499,D_D[LOC],$A52)/$E52,0))","v":0},{"$f":"IF(ISNA($A52),\"\",IFERROR(SUMIFS(D_D[DEC],D_D[MT],5,D_D[CAT],SMS, D_D[EP],499,D_D[LOC],$A52)/$E52,0))","v":0},{"$f":"IF(ISNA($A52),\"\",IFERROR(SUMIFS(D_D[AWD],D_D[MT],5,D_D[CAT],SMS, D_D[EP],499,D_D[LOC],$A52)/$E52,0))","v":0},{"$f":"IF(ISNA($A52),\"\",IFERROR(SUMIFS(D_D[AUT],D_D[MT],5,D_D[CAT],SMS, D_D[EP],499,D_D[LOC],$A52)/$E52,0))","v":0}]
["UT100",40,"Utah","Utah-Total",{"$f":"IF(ISNA($A53),\"\",IFERROR(SUMIFS(D_D[INV],D_D[MT],5,D_D[CAT],SMS, D_D[EP],499,D_D[LOC],$A53),0))","v":3602},{"$f":"IF(ISNA($A53),\"\",IFERROR(SUMIFS(D_D[BL],D_D[MT],5,D_D[CAT],SMS, D_D[EP],499,D_D[LOC],$A53),0))","v":1508},0.41865630205441423,{"$f":"IF(ISNA($A53),\"\",IFERROR(SUMIFS(D_D[DEV],D_D[MT],5,D_D[CAT],SMS, D_D[EP],499,D_D[LOC],$A53)/$E53,0))","v":1.9711271515824542E-2},{"$f":"IF(ISNA($A53),\"\",IFERROR(SUMIFS(D_D[EVD],D_D[MT],5,D_D[CAT],SMS, D_D[EP],499,D_D[LOC],$A53)/$E53,0))","v":0.60105496946141035},{"$f":"IF(ISNA($A53),\"\",IFERROR(SUMIFS(D_D[DEC],D_D[MT],5,D_D[CAT],SMS, D_D[EP],499,D_D[LOC],$A53)/$E53,0))","v":0.36785119378123265},{"$f":"IF(ISNA($A53),\"\",IFERROR(SUMIFS(D_D[AWD],D_D[MT],5,D_D[CAT],SMS, D_D[EP],499,D_D[LOC],$A53)/$E53,0))","v":9.1615769017212665E-3},{"$f":"IF(ISNA($A53),\"\",IFERROR(SUMIFS(D_D[AUT],D_D[MT],5,D_D[CAT],SMS, D_D[EP],499,D_D[LOC],$A53)/$E53,0))","v":2.2209883398112162E-3}]
["UT341",41,0,"Salt Lake City RO",{"$f":"IF(ISNA($A54),\"\",IFERROR(SUMIFS(D_D[INV],D_D[MT],5,D_D[CAT],SMS, D_D[EP],499,D_D[LOC],$A54),0))","v":51},{"$f":"IF(ISNA($A54),\"\",IFERROR(SUMIFS(D_D[BL],D_D[MT],5,D_D[CAT],SMS, D_D[EP],499,D_D[LOC],$A54),0))","v":9},0.17647058823529413,{"$f":"IF(ISNA($A54),\"\",IFERROR(SUMIFS(D_D[DEV],D_D[MT],5,D_D[CAT],SMS, D_D[EP],499,D_D[LOC],$A54)/$E54,0))","v":0.39215686274509803},{"$f":"IF(ISNA($A54),\"\",IFERROR(SUMIFS(D_D[EVD],D_D[MT],5,D_D[CAT],SMS, D_D[EP],499,D_D[LOC],$A54)/$E54,0))","v":0.35294117647058826},{"$f":"IF(ISNA($A54),\"\",IFERROR(SUMIFS(D_D[DEC],D_D[MT],5,D_D[CAT],SMS, D_D[EP],499,D_D[LOC],$A54)/$E54,0))","v":0.17647058823529413},{"$f":"IF(ISNA($A54),\"\",IFERROR(SUMIFS(D_D[AWD],D_D[MT],5,D_D[CAT],SMS, D_D[EP],499,D_D[LOC],$A54)/$E54,0))","v":7.8431372549019607E-2},{"$f":"IF(ISNA($A54),\"\",IFERROR(SUMIFS(D_D[AUT],D_D[MT],5,D_D[CAT],SMS, D_D[EP],499,D_D[LOC],$A54)/$E54,0))","v":0}]
["UT-1",42,0,"Utah-Other RO",{"$f":"IF(ISNA($A55),\"\",IFERROR(SUMIFS(D_D[INV],D_D[MT],5,D_D[CAT],SMS, D_D[EP],499,D_D[LOC],$A55),0))","v":436},{"$f":"IF(ISNA($A55),\"\",IFERROR(SUMIFS(D_D[BL],D_D[MT],5,D_D[CAT],SMS, D_D[EP],499,D_D[LOC],$A55),0))","v":209},0.47935779816513763,{"$f":"IF(ISNA($A55),\"\",IFERROR(SUMIFS(D_D[DEV],D_D[MT],5,D_D[CAT],SMS, D_D[EP],499,D_D[LOC],$A55)/$E55,0))","v":8.4862385321100922E-2},{"$f":"IF(ISNA($A55),\"\",IFERROR(SUMIFS(D_D[EVD],D_D[MT],5,D_D[CAT],SMS, D_D[EP],499,D_D[LOC],$A55)/$E55,0))","v":0.61238532110091748},{"$f":"IF(ISNA($A55),\"\",IFERROR(SUMIFS(D_D[DEC],D_D[MT],5,D_D[CAT],SMS, D_D[EP],499,D_D[LOC],$A55)/$E55,0))","v":0.21788990825688073},{"$f":"IF(ISNA($A55),\"\",IFERROR(SUMIFS(D_D[AWD],D_D[MT],5,D_D[CAT],SMS, D_D[EP],499,D_D[LOC],$A55)/$E55,0))","v":6.6513761467889912E-2},{"$f":"IF(ISNA($A55),\"\",IFERROR(SUMIFS(D_D[AUT],D_D[MT],5,D_D[CAT],SMS, D_D[EP],499,D_D[LOC],$A55)/$E55,0))","v":1.834862385321101E-2}]
["UT499",43,0,"Utah-NWQ",{"$f":"IF(ISNA($A56),\"\",IFERROR(SUMIFS(D_D[INV],D_D[MT],5,D_D[CAT],SMS, D_D[EP],499,D_D[LOC],$A56),0))","v":3115},{"$f":"IF(ISNA($A56),\"\",IFERROR(SUMIFS(D_D[BL],D_D[MT],5,D_D[CAT],SMS, D_D[EP],499,D_D[LOC],$A56),0))","v":1290},0.41412520064205455,{"$f":"IF(ISNA($A56),\"\",IFERROR(SUMIFS(D_D[DEV],D_D[MT],5,D_D[CAT],SMS, D_D[EP],499,D_D[LOC],$A56)/$E56,0))","v":4.4943820224719105E-3},{"$f":"IF(ISNA($A56),\"\",IFERROR(SUMIFS(D_D[EVD],D_D[MT],5,D_D[CAT],SMS, D_D[EP],499,D_D[LOC],$A56)/$E56,0))","v":0.6035313001605136},{"$f":"IF(ISNA($A56),\"\",IFERROR(SUMIFS(D_D[DEC],D_D[MT],5,D_D[CAT],SMS, D_D[EP],499,D_D[LOC],$A56)/$E56,0))","v":0.39197431781701447},{"$f":"IF(ISNA($A56),\"\",IFERROR(SUMIFS(D_D[AWD],D_D[MT],5,D_D[CAT],SMS, D_D[EP],499,D_D[LOC],$A56)/$E56,0))","v":0},{"$f":"IF(ISNA($A56),\"\",IFERROR(SUMIFS(D_D[AUT],D_D[MT],5,D_D[CAT],SMS, D_D[EP],499,D_D[LOC],$A56)/$E56,0))","v":0}]
["WA100",44,"Washington","Washington-Total",{"$f":"IF(ISNA($A57),\"\",IFERROR(SUMIFS(D_D[INV],D_D[MT],5,D_D[CAT],SMS, D_D[EP],499,D_D[LOC],$A57),0))","v":14078},{"$f":"IF(ISNA($A57),\"\",IFERROR(SUMIFS(D_D[BL],D_D[MT],5,D_D[CAT],SMS, D_D[EP],499,D_D[LOC],$A57),0))","v":6188},0.43955107259553916,{"$f":"IF(ISNA($A57),\"\",IFERROR(SUMIFS(D_D[DEV],D_D[MT],5,D_D[CAT],SMS, D_D[EP],499,D_D[LOC],$A57)/$E57,0))","v":1.5769285409859356E-2},{"$f":"IF(ISNA($A57),\"\",IFERROR(SUMIFS(D_D[EVD],D_D[MT],5,D_D[CAT],SMS, D_D[EP],499,D_D[LOC],$A57)/$E57,0))","v":0.62686461145049011},{"$f":"IF(ISNA($A57),\"\",IFERROR(SUMIFS(D_D[DEC],D_D[MT],5,D_D[CAT],SMS, D_D[EP],499,D_D[LOC],$A57)/$E57,0))","v":0.34870009944594405},{"$f":"IF(ISNA($A57),\"\",IFERROR(SUMIFS(D_D[AWD],D_D[MT],5,D_D[CAT],SMS, D_D[EP],499,D_D[LOC],$A57)/$E57,0))","v":7.1743145333143911E-3},{"$f":"IF(ISNA($A57),\"\",IFERROR(SUMIFS(D_D[AUT],D_D[MT],5,D_D[CAT],SMS, D_D[EP],499,D_D[LOC],$A57)/$E57,0))","v":1.4916891603921011E-3}]
["WA346",45,0,"Seattle RO",{"$f":"IF(ISNA($A58),\"\",IFERROR(SUMIFS(D_D[INV],D_D[MT],5,D_D[CAT],SMS, D_D[EP],499,D_D[LOC],$A58),0))","v":256},{"$f":"IF(ISNA($A58),\"\",IFERROR(SUMIFS(D_D[BL],D_D[MT],5,D_D[CAT],SMS, D_D[EP],499,D_D[LOC],$A58),0))","v":31},0.12109375,{"$f":"IF(ISNA($A58),\"\",IFERROR(SUMIFS(D_D[DEV],D_D[MT],5,D_D[CAT],SMS, D_D[EP],499,D_D[LOC],$A58)/$E58,0))","v":0.2734375},{"$f":"IF(ISNA($A58),\"\",IFERROR(SUMIFS(D_D[EVD],D_D[MT],5,D_D[CAT],SMS, D_D[EP],499,D_D[LOC],$A58)/$E58,0))","v":0.41796875},{"$f":"IF(ISNA($A58),\"\",IFERROR(SUMIFS(D_D[DEC],D_D[MT],5,D_D[CAT],SMS, D_D[EP],499,D_D[LOC],$A58)/$E58,0))","v":0.23828125},{"$f":"IF(ISNA($A58),\"\",IFERROR(SUMIFS(D_D[AWD],D_D[MT],5,D_D[CAT],SMS, D_D[EP],499,D_D[LOC],$A58)/$E58,0))","v":5.078125E-2},{"$f":"IF(ISNA($A58),\"\",IFERROR(SUMIFS(D_D[AUT],D_D[MT],5,D_D[CAT],SMS, D_D[EP],499,D_D[LOC],$A58)/$E58,0))","v":1.953125E-2}]
["WA-1",46,0,"Washington-Other RO",{"$f":"IF(ISNA($A59),\"\",IFERROR(SUMIFS(D_D[INV],D_D[MT],5,D_D[CAT],SMS, D_D[EP],499,D_D[LOC],$A59),0))","v":1642},{"$f":"IF(ISNA($A59),\"\",IFERROR(SUMIFS(D_D[BL],D_D[MT],5,D_D[CAT],SMS, D_D[EP],499,D_D[LOC],$A59),0))","v":831},0.50609013398294767,{"$f":"IF(ISNA($A59),\"\",IFERROR(SUMIFS(D_D[DEV],D_D[MT],5,D_D[CAT],SMS, D_D[EP],499,D_D[LOC],$A59)/$E59,0))","v":7.6735688185140066E-2},{"$f":"IF(ISNA($A59),\"\",IFERROR(SUMIFS(D_D[EVD],D_D[MT],5,D_D[CAT],SMS, D_D[EP],499,D_D[LOC],$A59)/$E59,0))","v":0.62241169305724731},{"$f":"IF(ISNA($A59),\"\",IFERROR(SUMIFS(D_D[DEC],D_D[MT],5,D_D[CAT],SMS, D_D[EP],499,D_D[LOC],$A59)/$E59,0))","v":0.23873325213154689},{"$f":"IF(ISNA($A59),\"\",IFERROR(SUMIFS(D_D[AWD],D_D[MT],5,D_D[CAT],SMS, D_D[EP],499,D_D[LOC],$A59)/$E59,0))","v":5.3593179049939099E-2},{"$f":"IF(ISNA($A59),\"\",IFERROR(SUMIFS(D_D[AUT],D_D[MT],5,D_D[CAT],SMS, D_D[EP],499,D_D[LOC],$A59)/$E59,0))","v":8.5261875761266752E-3}]
["WA499",47,0,{"$f":"IFERROR(INDEX(INDIRECT(DS_NWQD),B60),\"\")","v":"Washington-NWQ"},{"$f":"IF(ISNA($A60),\"\",IFERROR(SUMIFS(D_D[INV],D_D[MT],5,D_D[CAT],SMS, D_D[EP],499,D_D[LOC],$A60),0))","v":12180},{"$f":"IF(ISNA($A60),\"\",IFERROR(SUMIFS(D_D[BL],D_D[MT],5,D_D[CAT],SMS, D_D[EP],499,D_D[LOC],$A60),0))","v":5326},{"$f":"IF(ISNA($A60),\"\",IFERROR(F60/E60,0))","v":0.43727422003284072},{"$f":"IF(ISNA($A60),\"\",IFERROR(SUMIFS(D_D[DEV],D_D[MT],5,D_D[CAT],SMS, D_D[EP],499,D_D[LOC],$A60)/$E60,0))","v":2.134646962233169E-3},{"$f":"IF(ISNA($A60),\"\",IFERROR(SUMIFS(D_D[EVD],D_D[MT],5,D_D[CAT],SMS, D_D[EP],499,D_D[LOC],$A60)/$E60,0))","v":0.63185550082101805},{"$f":"IF(ISNA($A60),\"\",IFERROR(SUMIFS(D_D[DEC],D_D[MT],5,D_D[CAT],SMS, D_D[EP],499,D_D[LOC],$A60)/$E60,0))","v":0.36584564860426927},{"$f":"IF(ISNA($A60),\"\",IFERROR(SUMIFS(D_D[AWD],D_D[MT],5,D_D[CAT],SMS, D_D[EP],499,D_D[LOC],$A60)/$E60,0))","v":0},{"$f":"IF(ISNA($A60),\"\",IFERROR(SUMIFS(D_D[AUT],D_D[MT],5,D_D[CAT],SMS, D_D[EP],499,D_D[LOC],$A60)/$E60,0))","v":1.6420361247947455E-4}]
[{"$error":"#N/A"},48,"","",{"$f":"IF(ISNA($A61),\"\",IFERROR(SUMIFS(D_D[INV],D_D[MT],5,D_D[CAT],SMS, D_D[EP],499,D_D[LOC],$A61),0))","v":""},{"$f":"IF(ISNA($A61),\"\",IFERROR(SUMIFS(D_D[BL],D_D[MT],5,D_D[CAT],SMS, D_D[EP],499,D_D[LOC],$A61),0))","v":""},"",{"$f":"IF(ISNA($A61),\"\",IFERROR(SUMIFS(D_D[DEV],D_D[MT],5,D_D[CAT],SMS, D_D[EP],499,D_D[LOC],$A61)/$E61,0))","v":""},{"$f":"IF(ISNA($A61),\"\",IFERROR(SUMIFS(D_D[EVD],D_D[MT],5,D_D[CAT],SMS, D_D[EP],499,D_D[LOC],$A61)/$E61,0))","v":""},{"$f":"IF(ISNA($A61),\"\",IFERROR(SUMIFS(D_D[DEC],D_D[MT],5,D_D[CAT],SMS, D_D[EP],499,D_D[LOC],$A61)/$E61,0))","v":""},{"$f":"IF(ISNA($A61),\"\",IFERROR(SUMIFS(D_D[AWD],D_D[MT],5,D_D[CAT],SMS, D_D[EP],499,D_D[LOC],$A61)/$E61,0))","v":""},{"$f":"IF(ISNA($A61),\"\",IFERROR(SUMIFS(D_D[AUT],D_D[MT],5,D_D[CAT],SMS, D_D[EP],499,D_D[LOC],$A61)/$E61,0))","v":""}]
[{"$error":"#N/A"},49,"","",{"$f":"IF(ISNA($A62),\"\",IFERROR(SUMIFS(D_D[INV],D_D[MT],5,D_D[CAT],SMS, D_D[EP],499,D_D[LOC],$A62),0))","v":""},{"$f":"IF(ISNA($A62),\"\",IFERROR(SUMIFS(D_D[BL],D_D[MT],5,D_D[CAT],SMS, D_D[EP],499,D_D[LOC],$A62),0))","v":""},"",{"$f":"IF(ISNA($A62),\"\",IFERROR(SUMIFS(D_D[DEV],D_D[MT],5,D_D[CAT],SMS, D_D[EP],499,D_D[LOC],$A62)/$E62,0))","v":""},{"$f":"IF(ISNA($A62),\"\",IFERROR(SUMIFS(D_D[EVD],D_D[MT],5,D_D[CAT],SMS, D_D[EP],499,D_D[LOC],$A62)/$E62,0))","v":""},{"$f":"IF(ISNA($A62),\"\",IFERROR(SUMIFS(D_D[DEC],D_D[MT],5,D_D[CAT],SMS, D_D[EP],499,D_D[LOC],$A62)/$E62,0))","v":""},{"$f":"IF(ISNA($A62),\"\",IFERROR(SUMIFS(D_D[AWD],D_D[MT],5,D_D[CAT],SMS, D_D[EP],499,D_D[LOC],$A62)/$E62,0))","v":""},{"$f":"IF(ISNA($A62),\"\",IFERROR(SUMIFS(D_D[AUT],D_D[MT],5,D_D[CAT],SMS, D_D[EP],499,D_D[LOC],$A62)/$E62,0))","v":""}]
[{"$error":"#N/A"},50,{"$f":"IFERROR(INDEX(INDIRECT(DS_NWQ),B63),\"\")","v":""},"",{"$f":"IF(ISNA($A63),\"\",IFERROR(SUMIFS(D_D[INV],D_D[MT],5,D_D[CAT],SMS, D_D[EP],499,D_D[LOC],$A63),0))","v":""},{"$f":"IF(ISNA($A63),\"\",IFERROR(SUMIFS(D_D[BL],D_D[MT],5,D_D[CAT],SMS, D_D[EP],499,D_D[LOC],$A63),0))","v":""},"",{"$f":"IF(ISNA($A63),\"\",IFERROR(SUMIFS(D_D[DEV],D_D[MT],5,D_D[CAT],SMS, D_D[EP],499,D_D[LOC],$A63)/$E63,0))","v":""},{"$f":"IF(ISNA($A63),\"\",IFERROR(SUMIFS(D_D[EVD],D_D[MT],5,D_D[CAT],SMS, D_D[EP],499,D_D[LOC],$A63)/$E63,0))","v":""},{"$f":"IF(ISNA($A63),\"\",IFERROR(SUMIFS(D_D[DEC],D_D[MT],5,D_D[CAT],SMS, D_D[EP],499,D_D[LOC],$A63)/$E63,0))","v":""},{"$f":"IF(ISNA($A63),\"\",IFERROR(SUMIFS(D_D[AWD],D_D[MT],5,D_D[CAT],SMS, D_D[EP],499,D_D[LOC],$A63)/$E63,0))","v":""},{"$f":"IF(ISNA($A63),\"\",IFERROR(SUMIFS(D_D[AUT],D_D[MT],5,D_D[CAT],SMS, D_D[EP],499,D_D[LOC],$A63)/$E63,0))","v":""}]
[{"$error":"#N/A"},51,"",{"$f":"IFERROR(INDEX(INDIRECT(DS_NWQD),B64),\"\")","v":""},{"$f":"IF(ISNA($A64),\"\",IFERROR(SUMIFS(D_D[INV],D_D[MT],5,D_D[CAT],SMS, D_D[EP],499,D_D[LOC],$A64),0))","v":""},{"$f":"IF(ISNA($A64),\"\",IFERROR(SUMIFS(D_D[BL],D_D[MT],5,D_D[CAT],SMS, D_D[EP],499,D_D[LOC],$A64),0))","v":""},{"$f":"IF(ISNA($A64),\"\",IFERROR(F64/E64,0))","v":""},{"$f":"IF(ISNA($A64),\"\",IFERROR(SUMIFS(D_D[DEV],D_D[MT],5,D_D[CAT],SMS, D_D[EP],499,D_D[LOC],$A64)/$E64,0))","v":""},{"$f":"IF(ISNA($A64),\"\",IFERROR(SUMIFS(D_D[EVD],D_D[MT],5,D_D[CAT],SMS, D_D[EP],499,D_D[LOC],$A64)/$E64,0))","v":""},{"$f":"IF(ISNA($A64),\"\",IFERROR(SUMIFS(D_D[DEC],D_D[MT],5,D_D[CAT],SMS, D_D[EP],499,D_D[LOC],$A64)/$E64,0))","v":""},{"$f":"IF(ISNA($A64),\"\",IFERROR(SUMIFS(D_D[AWD],D_D[MT],5,D_D[CAT],SMS, D_D[EP],499,D_D[LOC],$A64)/$E64,0))","v":""},{"$f":"IF(ISNA($A64),\"\",IFERROR(SUMIFS(D_D[AUT],D_D[MT],5,D_D[CAT],SMS, D_D[EP],499,D_D[LOC],$A64)/$E64,0))","v":""}]
[{"$error":"#N/A"},52,"","",{"$f":"IF(ISNA($A65),\"\",IFERROR(SUMIFS(D_D[INV],D_D[MT],5,D_D[CAT],SMS, D_D[EP],499,D_D[LOC],$A65),0))","v":""},{"$f":"IF(ISNA($A65),\"\",IFERROR(SUMIFS(D_D[BL],D_D[MT],5,D_D[CAT],SMS, D_D[EP],499,D_D[LOC],$A65),0))","v":""},"",{"$f":"IF(ISNA($A65),\"\",IFERROR(SUMIFS(D_D[DEV],D_D[MT],5,D_D[CAT],SMS, D_D[EP],499,D_D[LOC],$A65)/$E65,0))","v":""},{"$f":"IF(ISNA($A65),\"\",IFERROR(SUMIFS(D_D[EVD],D_D[MT],5,D_D[CAT],SMS, D_D[EP],499,D_D[LOC],$A65)/$E65,0))","v":""},{"$f":"IF(ISNA($A65),\"\",IFERROR(SUMIFS(D_D[DEC],D_D[MT],5,D_D[CAT],SMS, D_D[EP],499,D_D[LOC],$A65)/$E65,0))","v":""},{"$f":"IF(ISNA($A65),\"\",IFERROR(SUMIFS(D_D[AWD],D_D[MT],5,D_D[CAT],SMS, D_D[EP],499,D_D[LOC],$A65)/$E65,0))","v":""},{"$f":"IF(ISNA($A65),\"\",IFERROR(SUMIFS(D_D[AUT],D_D[MT],5,D_D[CAT],SMS, D_D[EP],499,D_D[LOC],$A65)/$E65,0))","v":""}]
[{"$error":"#N/A"},53,"","",{"$f":"IF(ISNA($A66),\"\",IFERROR(SUMIFS(D_D[INV],D_D[MT],5,D_D[CAT],SMS, D_D[EP],499,D_D[LOC],$A66),0))","v":""},{"$f":"IF(ISNA($A66),\"\",IFERROR(SUMIFS(D_D[BL],D_D[MT],5,D_D[CAT],SMS, D_D[EP],499,D_D[LOC],$A66),0))","v":""},"",{"$f":"IF(ISNA($A66),\"\",IFERROR(SUMIFS(D_D[DEV],D_D[MT],5,D_D[CAT],SMS, D_D[EP],499,D_D[LOC],$A66)/$E66,0))","v":""},{"$f":"IF(ISNA($A66),\"\",IFERROR(SUMIFS(D_D[EVD],D_D[MT],5,D_D[CAT],SMS, D_D[EP],499,D_D[LOC],$A66)/$E66,0))","v":""},{"$f":"IF(ISNA($A66),\"\",IFERROR(SUMIFS(D_D[DEC],D_D[MT],5,D_D[CAT],SMS, D_D[EP],499,D_D[LOC],$A66)/$E66,0))","v":""},{"$f":"IF(ISNA($A66),\"\",IFERROR(SUMIFS(D_D[AWD],D_D[MT],5,D_D[CAT],SMS, D_D[EP],499,D_D[LOC],$A66)/$E66,0))","v":""},{"$f":"IF(ISNA($A66),\"\",IFERROR(SUMIFS(D_D[AUT],D_D[MT],5,D_D[CAT],SMS, D_D[EP],499,D_D[LOC],$A66)/$E66,0))","v":""}]
[{"$error":"#N/A"},54,"","",{"$f":"IF(ISNA($A67),\"\",IFERROR(SUMIFS(D_D[INV],D_D[MT],5,D_D[CAT],SMS, D_D[EP],499,D_D[LOC],$A67),0))","v":""},{"$f":"IF(ISNA($A67),\"\",IFERROR(SUMIFS(D_D[BL],D_D[MT],5,D_D[CAT],SMS, D_D[EP],499,D_D[LOC],$A67),0))","v":""},"",{"$f":"IF(ISNA($A67),\"\",IFERROR(SUMIFS(D_D[DEV],D_D[MT],5,D_D[CAT],SMS, D_D[EP],499,D_D[LOC],$A67)/$E67,0))","v":""},{"$f":"IF(ISNA($A67),\"\",IFERROR(SUMIFS(D_D[EVD],D_D[MT],5,D_D[CAT],SMS, D_D[EP],499,D_D[LOC],$A67)/$E67,0))","v":""},{"$f":"IF(ISNA($A67),\"\",IFERROR(SUMIFS(D_D[DEC],D_D[MT],5,D_D[CAT],SMS, D_D[EP],499,D_D[LOC],$A67)/$E67,0))","v":""},{"$f":"IF(ISNA($A67),\"\",IFERROR(SUMIFS(D_D[AWD],D_D[MT],5,D_D[CAT],SMS, D_D[EP],499,D_D[LOC],$A67)/$E67,0))","v":""},{"$f":"IF(ISNA($A67),\"\",IFERROR(SUMIFS(D_D[AUT],D_D[MT],5,D_D[CAT],SMS, D_D[EP],499,D_D[LOC],$A67)/$E67,0))","v":""}]
[{"$error":"#N/A"},55,"","",{"$f":"IF(ISNA($A68),\"\",IFERROR(SUMIFS(D_D[INV],D_D[MT],5,D_D[CAT],SMS, D_D[EP],499,D_D[LOC],$A68),0))","v":""},{"$f":"IF(ISNA($A68),\"\",IFERROR(SUMIFS(D_D[BL],D_D[MT],5,D_D[CAT],SMS, D_D[EP],499,D_D[LOC],$A68),0))","v":""},"",{"$f":"IF(ISNA($A68),\"\",IFERROR(SUMIFS(D_D[DEV],D_D[MT],5,D_D[CAT],SMS, D_D[EP],499,D_D[LOC],$A68)/$E68,0))","v":""},{"$f":"IF(ISNA($A68),\"\",IFERROR(SUMIFS(D_D[EVD],D_D[MT],5,D_D[CAT],SMS, D_D[EP],499,D_D[LOC],$A68)/$E68,0))","v":""},{"$f":"IF(ISNA($A68),\"\",IFERROR(SUMIFS(D_D[DEC],D_D[MT],5,D_D[CAT],SMS, D_D[EP],499,D_D[LOC],$A68)/$E68,0))","v":""},{"$f":"IF(ISNA($A68),\"\",IFERROR(SUMIFS(D_D[AWD],D_D[MT],5,D_D[CAT],SMS, D_D[EP],499,D_D[LOC],$A68)/$E68,0))","v":""},{"$f":"IF(ISNA($A68),\"\",IFERROR(SUMIFS(D_D[AUT],D_D[MT],5,D_D[CAT],SMS, D_D[EP],499,D_D[LOC],$A68)/$E68,0))","v":""}]
[{"$error":"#N/A"},56,"","",{"$f":"IF(ISNA($A69),\"\",IFERROR(SUMIFS(D_D[INV],D_D[MT],5,D_D[CAT],SMS, D_D[EP],499,D_D[LOC],$A69),0))","v":""},{"$f":"IF(ISNA($A69),\"\",IFERROR(SUMIFS(D_D[BL],D_D[MT],5,D_D[CAT],SMS, D_D[EP],499,D_D[LOC],$A69),0))","v":""},"",{"$f":"IF(ISNA($A69),\"\",IFERROR(SUMIFS(D_D[DEV],D_D[MT],5,D_D[CAT],SMS, D_D[EP],499,D_D[LOC],$A69)/$E69,0))","v":""},{"$f":"IF(ISNA($A69),\"\",IFERROR(SUMIFS(D_D[EVD],D_D[MT],5,D_D[CAT],SMS, D_D[EP],499,D_D[LOC],$A69)/$E69,0))","v":""},{"$f":"IF(ISNA($A69),\"\",IFERROR(SUMIFS(D_D[DEC],D_D[MT],5,D_D[CAT],SMS, D_D[EP],499,D_D[LOC],$A69)/$E69,0))","v":""},{"$f":"IF(ISNA($A69),\"\",IFERROR(SUMIFS(D_D[AWD],D_D[MT],5,D_D[CAT],SMS, D_D[EP],499,D_D[LOC],$A69)/$E69,0))","v":""},{"$f":"IF(ISNA($A69),\"\",IFERROR(SUMIFS(D_D[AUT],D_D[MT],5,D_D[CAT],SMS, D_D[EP],499,D_D[LOC],$A69)/$E69,0))","v":""}]
[{"$error":"#N/A"},57,"","",{"$f":"IF(ISNA($A70),\"\",IFERROR(SUMIFS(D_D[INV],D_D[MT],5,D_D[CAT],SMS, D_D[EP],499,D_D[LOC],$A70),0))","v":""},{"$f":"IF(ISNA($A70),\"\",IFERROR(SUMIFS(D_D[BL],D_D[MT],5,D_D[CAT],SMS, D_D[EP],499,D_D[LOC],$A70),0))","v":""},"",{"$f":"IF(ISNA($A70),\"\",IFERROR(SUMIFS(D_D[DEV],D_D[MT],5,D_D[CAT],SMS, D_D[EP],499,D_D[LOC],$A70)/$E70,0))","v":""},{"$f":"IF(ISNA($A70),\"\",IFERROR(SUMIFS(D_D[EVD],D_D[MT],5,D_D[CAT],SMS, D_D[EP],499,D_D[LOC],$A70)/$E70,0))","v":""},{"$f":"IF(ISNA($A70),\"\",IFERROR(SUMIFS(D_D[DEC],D_D[MT],5,D_D[CAT],SMS, D_D[EP],499,D_D[LOC],$A70)/$E70,0))","v":""},{"$f":"IF(ISNA($A70),\"\",IFERROR(SUMIFS(D_D[AWD],D_D[MT],5,D_D[CAT],SMS, D_D[EP],499,D_D[LOC],$A70)/$E70,0))","v":""},{"$f":"IF(ISNA($A70),\"\",IFERROR(SUMIFS(D_D[AUT],D_D[MT],5,D_D[CAT],SMS, D_D[EP],499,D_D[LOC],$A70)/$E70,0))","v":""}]
[{"$error":"#N/A"},58,"","",{"$f":"IF(ISNA($A71),\"\",IFERROR(SUMIFS(D_D[INV],D_D[MT],5,D_D[CAT],SMS, D_D[EP],499,D_D[LOC],$A71),0))","v":""},{"$f":"IF(ISNA($A71),\"\",IFERROR(SUMIFS(D_D[BL],D_D[MT],5,D_D[CAT],SMS, D_D[EP],499,D_D[LOC],$A71),0))","v":""},"",{"$f":"IF(ISNA($A71),\"\",IFERROR(SUMIFS(D_D[DEV],D_D[MT],5,D_D[CAT],SMS, D_D[EP],499,D_D[LOC],$A71)/$E71,0))","v":""},{"$f":"IF(ISNA($A71),\"\",IFERROR(SUMIFS(D_D[EVD],D_D[MT],5,D_D[CAT],SMS, D_D[EP],499,D_D[LOC],$A71)/$E71,0))","v":""},{"$f":"IF(ISNA($A71),\"\",IFERROR(SUMIFS(D_D[DEC],D_D[MT],5,D_D[CAT],SMS, D_D[EP],499,D_D[LOC],$A71)/$E71,0))","v":""},{"$f":"IF(ISNA($A71),\"\",IFERROR(SUMIFS(D_D[AWD],D_D[MT],5,D_D[CAT],SMS, D_D[EP],499,D_D[LOC],$A71)/$E71,0))","v":""},{"$f":"IF(ISNA($A71),\"\",IFERROR(SUMIFS(D_D[AUT],D_D[MT],5,D_D[CAT],SMS, D_D[EP],499,D_D[LOC],$A71)/$E71,0))","v":""}]
[{"$error":"#N/A"},59,"","",{"$f":"IF(ISNA($A72),\"\",IFERROR(SUMIFS(D_D[INV],D_D[MT],5,D_D[CAT],SMS, D_D[EP],499,D_D[LOC],$A72),0))","v":""},{"$f":"IF(ISNA($A72),\"\",IFERROR(SUMIFS(D_D[BL],D_D[MT],5,D_D[CAT],SMS, D_D[EP],499,D_D[LOC],$A72),0))","v":""},"",{"$f":"IF(ISNA($A72),\"\",IFERROR(SUMIFS(D_D[DEV],D_D[MT],5,D_D[CAT],SMS, D_D[EP],499,D_D[LOC],$A72)/$E72,0))","v":""},{"$f":"IF(ISNA($A72),\"\",IFERROR(SUMIFS(D_D[EVD],D_D[MT],5,D_D[CAT],SMS, D_D[EP],499,D_D[LOC],$A72)/$E72,0))","v":""},{"$f":"IF(ISNA($A72),\"\",IFERROR(SUMIFS(D_D[DEC],D_D[MT],5,D_D[CAT],SMS, D_D[EP],499,D_D[LOC],$A72)/$E72,0))","v":""},{"$f":"IF(ISNA($A72),\"\",IFERROR(SUMIFS(D_D[AWD],D_D[MT],5,D_D[CAT],SMS, D_D[EP],499,D_D[LOC],$A72)/$E72,0))","v":""},{"$f":"IF(ISNA($A72),\"\",IFERROR(SUMIFS(D_D[AUT],D_D[MT],5,D_D[CAT],SMS, D_D[EP],499,D_D[LOC],$A72)/$E72,0))","v":""}]
[{"$error":"#N/A"},60,"","",{"$f":"IF(ISNA($A73),\"\",IFERROR(SUMIFS(D_D[INV],D_D[MT],5,D_D[CAT],SMS, D_D[EP],499,D_D[LOC],$A73),0))","v":""},{"$f":"IF(ISNA($A73),\"\",IFERROR(SUMIFS(D_D[BL],D_D[MT],5,D_D[CAT],SMS, D_D[EP],499,D_D[LOC],$A73),0))","v":""},"",{"$f":"IF(ISNA($A73),\"\",IFERROR(SUMIFS(D_D[DEV],D_D[MT],5,D_D[CAT],SMS, D_D[EP],499,D_D[LOC],$A73)/$E73,0))","v":""},{"$f":"IF(ISNA($A73),\"\",IFERROR(SUMIFS(D_D[EVD],D_D[MT],5,D_D[CAT],SMS, D_D[EP],499,D_D[LOC],$A73)/$E73,0))","v":""},{"$f":"IF(ISNA($A73),\"\",IFERROR(SUMIFS(D_D[DEC],D_D[MT],5,D_D[CAT],SMS, D_D[EP],499,D_D[LOC],$A73)/$E73,0))","v":""},{"$f":"IF(ISNA($A73),\"\",IFERROR(SUMIFS(D_D[AWD],D_D[MT],5,D_D[CAT],SMS, D_D[EP],499,D_D[LOC],$A73)/$E73,0))","v":""},{"$f":"IF(ISNA($A73),\"\",IFERROR(SUMIFS(D_D[AUT],D_D[MT],5,D_D[CAT],SMS, D_D[EP],499,D_D[LOC],$A73)/$E73,0))","v":""}]
[{"$error":"#N/A"},61,"","",{"$f":"IF(ISNA($A74),\"\",IFERROR(SUMIFS(D_D[INV],D_D[MT],5,D_D[CAT],SMS, D_D[EP],499,D_D[LOC],$A74),0))","v":""},{"$f":"IF(ISNA($A74),\"\",IFERROR(SUMIFS(D_D[BL],D_D[MT],5,D_D[CAT],SMS, D_D[EP],499,D_D[LOC],$A74),0))","v":""},"",{"$f":"IF(ISNA($A74),\"\",IFERROR(SUMIFS(D_D[DEV],D_D[MT],5,D_D[CAT],SMS, D_D[EP],499,D_D[LOC],$A74)/$E74,0))","v":""},{"$f":"IF(ISNA($A74),\"\",IFERROR(SUMIFS(D_D[EVD],D_D[MT],5,D_D[CAT],SMS, D_D[EP],499,D_D[LOC],$A74)/$E74,0))","v":""},{"$f":"IF(ISNA($A74),\"\",IFERROR(SUMIFS(D_D[DEC],D_D[MT],5,D_D[CAT],SMS, D_D[EP],499,D_D[LOC],$A74)/$E74,0))","v":""},{"$f":"IF(ISNA($A74),\"\",IFERROR(SUMIFS(D_D[AWD],D_D[MT],5,D_D[CAT],SMS, D_D[EP],499,D_D[LOC],$A74)/$E74,0))","v":""},{"$f":"IF(ISNA($A74),\"\",IFERROR(SUMIFS(D_D[AUT],D_D[MT],5,D_D[CAT],SMS, D_D[EP],499,D_D[LOC],$A74)/$E74,0))","v":""}]
[{"$error":"#N/A"},62,"","",{"$f":"IF(ISNA($A75),\"\",IFERROR(SUMIFS(D_D[INV],D_D[MT],5,D_D[CAT],SMS, D_D[EP],499,D_D[LOC],$A75),0))","v":""},{"$f":"IF(ISNA($A75),\"\",IFERROR(SUMIFS(D_D[BL],D_D[MT],5,D_D[CAT],SMS, D_D[EP],499,D_D[LOC],$A75),0))","v":""},"",{"$f":"IF(ISNA($A75),\"\",IFERROR(SUMIFS(D_D[DEV],D_D[MT],5,D_D[CAT],SMS, D_D[EP],499,D_D[LOC],$A75)/$E75,0))","v":""},{"$f":"IF(ISNA($A75),\"\",IFERROR(SUMIFS(D_D[EVD],D_D[MT],5,D_D[CAT],SMS, D_D[EP],499,D_D[LOC],$A75)/$E75,0))","v":""},{"$f":"IF(ISNA($A75),\"\",IFERROR(SUMIFS(D_D[DEC],D_D[MT],5,D_D[CAT],SMS, D_D[EP],499,D_D[LOC],$A75)/$E75,0))","v":""},{"$f":"IF(ISNA($A75),\"\",IFERROR(SUMIFS(D_D[AWD],D_D[MT],5,D_D[CAT],SMS, D_D[EP],499,D_D[LOC],$A75)/$E75,0))","v":""},{"$f":"IF(ISNA($A75),\"\",IFERROR(SUMIFS(D_D[AUT],D_D[MT],5,D_D[CAT],SMS, D_D[EP],499,D_D[LOC],$A75)/$E75,0))","v":""}]
[{"$error":"#N/A"},63,"","",{"$f":"IF(ISNA($A76),\"\",IFERROR(SUMIFS(D_D[INV],D_D[MT],5,D_D[CAT],SMS, D_D[EP],499,D_D[LOC],$A76),0))","v":""},{"$f":"IF(ISNA($A76),\"\",IFERROR(SUMIFS(D_D[BL],D_D[MT],5,D_D[CAT],SMS, D_D[EP],499,D_D[LOC],$A76),0))","v":""},"",{"$f":"IF(ISNA($A76),\"\",IFERROR(SUMIFS(D_D[DEV],D_D[MT],5,D_D[CAT],SMS, D_D[EP],499,D_D[LOC],$A76)/$E76,0))","v":""},{"$f":"IF(ISNA($A76),\"\",IFERROR(SUMIFS(D_D[EVD],D_D[MT],5,D_D[CAT],SMS, D_D[EP],499,D_D[LOC],$A76)/$E76,0))","v":""},{"$f":"IF(ISNA($A76),\"\",IFERROR(SUMIFS(D_D[DEC],D_D[MT],5,D_D[CAT],SMS, D_D[EP],499,D_D[LOC],$A76)/$E76,0))","v":""},{"$f":"IF(ISNA($A76),\"\",IFERROR(SUMIFS(D_D[AWD],D_D[MT],5,D_D[CAT],SMS, D_D[EP],499,D_D[LOC],$A76)/$E76,0))","v":""},{"$f":"IF(ISNA($A76),\"\",IFERROR(SUMIFS(D_D[AUT],D_D[MT],5,D_D[CAT],SMS, D_D[EP],499,D_D[LOC],$A76)/$E76,0))","v":""}]
[{"$error":"#N/A"},64,"","",{"$f":"IF(ISNA($A77),\"\",IFERROR(SUMIFS(D_D[INV],D_D[MT],5,D_D[CAT],SMS, D_D[EP],499,D_D[LOC],$A77),0))","v":""},{"$f":"IF(ISNA($A77),\"\",IFERROR(SUMIFS(D_D[BL],D_D[MT],5,D_D[CAT],SMS, D_D[EP],499,D_D[LOC],$A77),0))","v":""},"",{"$f":"IF(ISNA($A77),\"\",IFERROR(SUMIFS(D_D[DEV],D_D[MT],5,D_D[CAT],SMS, D_D[EP],499,D_D[LOC],$A77)/$E77,0))","v":""},{"$f":"IF(ISNA($A77),\"\",IFERROR(SUMIFS(D_D[EVD],D_D[MT],5,D_D[CAT],SMS, D_D[EP],499,D_D[LOC],$A77)/$E77,0))","v":""},{"$f":"IF(ISNA($A77),\"\",IFERROR(SUMIFS(D_D[DEC],D_D[MT],5,D_D[CAT],SMS, D_D[EP],499,D_D[LOC],$A77)/$E77,0))","v":""},{"$f":"IF(ISNA($A77),\"\",IFERROR(SUMIFS(D_D[AWD],D_D[MT],5,D_D[CAT],SMS, D_D[EP],499,D_D[LOC],$A77)/$E77,0))","v":""},{"$f":"IF(ISNA($A77),\"\",IFERROR(SUMIFS(D_D[AUT],D_D[MT],5,D_D[CAT],SMS, D_D[EP],499,D_D[LOC],$A77)/$E77,0))","v":""}]
[{"$error":"#N/A"},65,"","",{"$f":"IF(ISNA($A78),\"\",IFERROR(SUMIFS(D_D[INV],D_D[MT],5,D_D[CAT],SMS, D_D[EP],499,D_D[LOC],$A78),0))","v":""},{"$f":"IF(ISNA($A78),\"\",IFERROR(SUMIFS(D_D[BL],D_D[MT],5,D_D[CAT],SMS, D_D[EP],499,D_D[LOC],$A78),0))","v":""},"",{"$f":"IF(ISNA($A78),\"\",IFERROR(SUMIFS(D_D[DEV],D_D[MT],5,D_D[CAT],SMS, D_D[EP],499,D_D[LOC],$A78)/$E78,0))","v":""},{"$f":"IF(ISNA($A78),\"\",IFERROR(SUMIFS(D_D[EVD],D_D[MT],5,D_D[CAT],SMS, D_D[EP],499,D_D[LOC],$A78)/$E78,0))","v":""},{"$f":"IF(ISNA($A78),\"\",IFERROR(SUMIFS(D_D[DEC],D_D[MT],5,D_D[CAT],SMS, D_D[EP],499,D_D[LOC],$A78)/$E78,0))","v":""},{"$f":"IF(ISNA($A78),\"\",IFERROR(SUMIFS(D_D[AWD],D_D[MT],5,D_D[CAT],SMS, D_D[EP],499,D_D[LOC],$A78)/$E78,0))","v":""},{"$f":"IF(ISNA($A78),\"\",IFERROR(SUMIFS(D_D[AUT],D_D[MT],5,D_D[CAT],SMS, D_D[EP],499,D_D[LOC],$A78)/$E78,0))","v":""}]
[{"$error":"#N/A"},66,"","",{"$f":"IF(ISNA($A79),\"\",IFERROR(SUMIFS(D_D[INV],D_D[MT],5,D_D[CAT],SMS, D_D[EP],499,D_D[LOC],$A79),0))","v":""},{"$f":"IF(ISNA($A79),\"\",IFERROR(SUMIFS(D_D[BL],D_D[MT],5,D_D[CAT],SMS, D_D[EP],499,D_D[LOC],$A79),0))","v":""},"",{"$f":"IF(ISNA($A79),\"\",IFERROR(SUMIFS(D_D[DEV],D_D[MT],5,D_D[CAT],SMS, D_D[EP],499,D_D[LOC],$A79)/$E79,0))","v":""},{"$f":"IF(ISNA($A79),\"\",IFERROR(SUMIFS(D_D[EVD],D_D[MT],5,D_D[CAT],SMS, D_D[EP],499,D_D[LOC],$A79)/$E79,0))","v":""},{"$f":"IF(ISNA($A79),\"\",IFERROR(SUMIFS(D_D[DEC],D_D[MT],5,D_D[CAT],SMS, D_D[EP],499,D_D[LOC],$A79)/$E79,0))","v":""},{"$f":"IF(ISNA($A79),\"\",IFERROR(SUMIFS(D_D[AWD],D_D[MT],5,D_D[CAT],SMS, D_D[EP],499,D_D[LOC],$A79)/$E79,0))","v":""},{"$f":"IF(ISNA($A79),\"\",IFERROR(SUMIFS(D_D[AUT],D_D[MT],5,D_D[CAT],SMS, D_D[EP],499,D_D[LOC],$A79)/$E79,0))","v":""}]
[{"$error":"#N/A"},67,"","",{"$f":"IF(ISNA($A80),\"\",IFERROR(SUMIFS(D_D[INV],D_D[MT],5,D_D[CAT],SMS, D_D[EP],499,D_D[LOC],$A80),0))","v":""},{"$f":"IF(ISNA($A80),\"\",IFERROR(SUMIFS(D_D[BL],D_D[MT],5,D_D[CAT],SMS, D_D[EP],499,D_D[LOC],$A80),0))","v":""},"",{"$f":"IF(ISNA($A80),\"\",IFERROR(SUMIFS(D_D[DEV],D_D[MT],5,D_D[CAT],SMS, D_D[EP],499,D_D[LOC],$A80)/$E80,0))","v":""},{"$f":"IF(ISNA($A80),\"\",IFERROR(SUMIFS(D_D[EVD],D_D[MT],5,D_D[CAT],SMS, D_D[EP],499,D_D[LOC],$A80)/$E80,0))","v":""},{"$f":"IF(ISNA($A80),\"\",IFERROR(SUMIFS(D_D[DEC],D_D[MT],5,D_D[CAT],SMS, D_D[EP],499,D_D[LOC],$A80)/$E80,0))","v":""},{"$f":"IF(ISNA($A80),\"\",IFERROR(SUMIFS(D_D[AWD],D_D[MT],5,D_D[CAT],SMS, D_D[EP],499,D_D[LOC],$A80)/$E80,0))","v":""},{"$f":"IF(ISNA($A80),\"\",IFERROR(SUMIFS(D_D[AUT],D_D[MT],5,D_D[CAT],SMS, D_D[EP],499,D_D[LOC],$A80)/$E80,0))","v":""}]
[{"$error":"#N/A"},68,{"$f":"IFERROR(INDEX(INDIRECT(DS_NWQ),B81),\"\")","v":""},"",{"$f":"IF(ISNA($A81),\"\",IFERROR(SUMIFS(D_D[INV],D_D[MT],5,D_D[CAT],SMS, D_D[EP],499,D_D[LOC],$A81),0))","v":""},{"$f":"IF(ISNA($A81),\"\",IFERROR(SUMIFS(D_D[BL],D_D[MT],5,D_D[CAT],SMS, D_D[EP],499,D_D[LOC],$A81),0))","v":""},"",{"$f":"IF(ISNA($A81),\"\",IFERROR(SUMIFS(D_D[DEV],D_D[MT],5,D_D[CAT],SMS, D_D[EP],499,D_D[LOC],$A81)/$E81,0))","v":""},{"$f":"IF(ISNA($A81),\"\",IFERROR(SUMIFS(D_D[EVD],D_D[MT],5,D_D[CAT],SMS, D_D[EP],499,D_D[LOC],$A81)/$E81,0))","v":""},{"$f":"IF(ISNA($A81),\"\",IFERROR(SUMIFS(D_D[DEC],D_D[MT],5,D_D[CAT],SMS, D_D[EP],499,D_D[LOC],$A81)/$E81,0))","v":""},{"$f":"IF(ISNA($A81),\"\",IFERROR(SUMIFS(D_D[AWD],D_D[MT],5,D_D[CAT],SMS, D_D[EP],499,D_D[LOC],$A81)/$E81,0))","v":""},{"$f":"IF(ISNA($A81),\"\",IFERROR(SUMIFS(D_D[AUT],D_D[MT],5,D_D[CAT],SMS, D_D[EP],499,D_D[LOC],$A81)/$E81,0))","v":""}]
[{"$error":"#N/A"},69,"",{"$f":"IFERROR(INDEX(INDIRECT(DS_NWQD),B82),\"\")","v":""},{"$f":"IF(ISNA($A82),\"\",IFERROR(SUMIFS(D_D[INV],D_D[MT],5,D_D[CAT],SMS, D_D[EP],499,D_D[LOC],$A82),0))","v":""},{"$f":"IF(ISNA($A82),\"\",IFERROR(SUMIFS(D_D[BL],D_D[MT],5,D_D[CAT],SMS, D_D[EP],499,D_D[LOC],$A82),0))","v":""},{"$f":"IF(ISNA($A82),\"\",IFERROR(F82/E82,0))","v":""},{"$f":"IF(ISNA($A82),\"\",IFERROR(SUMIFS(D_D[DEV],D_D[MT],5,D_D[CAT],SMS, D_D[EP],499,D_D[LOC],$A82)/$E82,0))","v":""},{"$f":"IF(ISNA($A82),\"\",IFERROR(SUMIFS(D_D[EVD],D_D[MT],5,D_D[CAT],SMS, D_D[EP],499,D_D[LOC],$A82)/$E82,0))","v":""},{"$f":"IF(ISNA($A82),\"\",IFERROR(SUMIFS(D_D[DEC],D_D[MT],5,D_D[CAT],SMS, D_D[EP],499,D_D[LOC],$A82)/$E82,0))","v":""},{"$f":"IF(ISNA($A82),\"\",IFERROR(SUMIFS(D_D[AWD],D_D[MT],5,D_D[CAT],SMS, D_D[EP],499,D_D[LOC],$A82)/$E82,0))","v":""},{"$f":"IF(ISNA($A82),\"\",IFERROR(SUMIFS(D_D[AUT],D_D[MT],5,D_D[CAT],SMS, D_D[EP],499,D_D[LOC],$A82)/$E82,0))","v":""}]
[{"$error":"#N/A"},70,"","",{"$f":"IF(ISNA($A83),\"\",IFERROR(SUMIFS(D_D[INV],D_D[MT],5,D_D[CAT],SMS, D_D[EP],499,D_D[LOC],$A83),0))","v":""},{"$f":"IF(ISNA($A83),\"\",IFERROR(SUMIFS(D_D[BL],D_D[MT],5,D_D[CAT],SMS, D_D[EP],499,D_D[LOC],$A83),0))","v":""},"",{"$f":"IF(ISNA($A83),\"\",IFERROR(SUMIFS(D_D[DEV],D_D[MT],5,D_D[CAT],SMS, D_D[EP],499,D_D[LOC],$A83)/$E83,0))","v":""},{"$f":"IF(ISNA($A83),\"\",IFERROR(SUMIFS(D_D[EVD],D_D[MT],5,D_D[CAT],SMS, D_D[EP],499,D_D[LOC],$A83)/$E83,0))","v":""},{"$f":"IF(ISNA($A83),\"\",IFERROR(SUMIFS(D_D[DEC],D_D[MT],5,D_D[CAT],SMS, D_D[EP],499,D_D[LOC],$A83)/$E83,0))","v":""},{"$f":"IF(ISNA($A83),\"\",IFERROR(SUMIFS(D_D[AWD],D_D[MT],5,D_D[CAT],SMS, D_D[EP],499,D_D[LOC],$A83)/$E83,0))","v":""},{"$f":"IF(ISNA($A83),\"\",IFERROR(SUMIFS(D_D[AUT],D_D[MT],5,D_D[CAT],SMS, D_D[EP],499,D_D[LOC],$A83)/$E83,0))","v":""}]
[{"$error":"#N/A"},71,"","",{"$f":"IF(ISNA($A84),\"\",IFERROR(SUMIFS(D_D[INV],D_D[MT],5,D_D[CAT],SMS, D_D[EP],499,D_D[LOC],$A84),0))","v":""},{"$f":"IF(ISNA($A84),\"\",IFERROR(SUMIFS(D_D[BL],D_D[MT],5,D_D[CAT],SMS, D_D[EP],499,D_D[LOC],$A84),0))","v":""},"",{"$f":"IF(ISNA($A84),\"\",IFERROR(SUMIFS(D_D[DEV],D_D[MT],5,D_D[CAT],SMS, D_D[EP],499,D_D[LOC],$A84)/$E84,0))","v":""},{"$f":"IF(ISNA($A84),\"\",IFERROR(SUMIFS(D_D[EVD],D_D[MT],5,D_D[CAT],SMS, D_D[EP],499,D_D[LOC],$A84)/$E84,0))","v":""},{"$f":"IF(ISNA($A84),\"\",IFERROR(SUMIFS(D_D[DEC],D_D[MT],5,D_D[CAT],SMS, D_D[EP],499,D_D[LOC],$A84)/$E84,0))","v":""},{"$f":"IF(ISNA($A84),\"\",IFERROR(SUMIFS(D_D[AWD],D_D[MT],5,D_D[CAT],SMS, D_D[EP],499,D_D[LOC],$A84)/$E84,0))","v":""},{"$f":"IF(ISNA($A84),\"\",IFERROR(SUMIFS(D_D[AUT],D_D[MT],5,D_D[CAT],SMS, D_D[EP],499,D_D[LOC],$A84)/$E84,0))","v":""}]
[{"$error":"#N/A"},72,"","",{"$f":"IF(ISNA($A85),\"\",IFERROR(SUMIFS(D_D[INV],D_D[MT],5,D_D[CAT],SMS, D_D[EP],499,D_D[LOC],$A85),0))","v":""},{"$f":"IF(ISNA($A85),\"\",IFERROR(SUMIFS(D_D[BL],D_D[MT],5,D_D[CAT],SMS, D_D[EP],499,D_D[LOC],$A85),0))","v":""},"",{"$f":"IF(ISNA($A85),\"\",IFERROR(SUMIFS(D_D[DEV],D_D[MT],5,D_D[CAT],SMS, D_D[EP],499,D_D[LOC],$A85)/$E85,0))","v":""},{"$f":"IF(ISNA($A85),\"\",IFERROR(SUMIFS(D_D[EVD],D_D[MT],5,D_D[CAT],SMS, D_D[EP],499,D_D[LOC],$A85)/$E85,0))","v":""},{"$f":"IF(ISNA($A85),\"\",IFERROR(SUMIFS(D_D[DEC],D_D[MT],5,D_D[CAT],SMS, D_D[EP],499,D_D[LOC],$A85)/$E85,0))","v":""},{"$f":"IF(ISNA($A85),\"\",IFERROR(SUMIFS(D_D[AWD],D_D[MT],5,D_D[CAT],SMS, D_D[EP],499,D_D[LOC],$A85)/$E85,0))","v":""},{"$f":"IF(ISNA($A85),\"\",IFERROR(SUMIFS(D_D[AUT],D_D[MT],5,D_D[CAT],SMS, D_D[EP],499,D_D[LOC],$A85)/$E85,0))","v":""}]
[{"$error":"#N/A"},73,"","",{"$f":"IF(ISNA($A86),\"\",IFERROR(SUMIFS(D_D[INV],D_D[MT],5,D_D[CAT],SMS, D_D[EP],499,D_D[LOC],$A86),0))","v":""},{"$f":"IF(ISNA($A86),\"\",IFERROR(SUMIFS(D_D[BL],D_D[MT],5,D_D[CAT],SMS, D_D[EP],499,D_D[LOC],$A86),0))","v":""},"",{"$f":"IF(ISNA($A86),\"\",IFERROR(SUMIFS(D_D[DEV],D_D[MT],5,D_D[CAT],SMS, D_D[EP],499,D_D[LOC],$A86)/$E86,0))","v":""},{"$f":"IF(ISNA($A86),\"\",IFERROR(SUMIFS(D_D[EVD],D_D[MT],5,D_D[CAT],SMS, D_D[EP],499,D_D[LOC],$A86)/$E86,0))","v":""},{"$f":"IF(ISNA($A86),\"\",IFERROR(SUMIFS(D_D[DEC],D_D[MT],5,D_D[CAT],SMS, D_D[EP],499,D_D[LOC],$A86)/$E86,0))","v":""},{"$f":"IF(ISNA($A86),\"\",IFERROR(SUMIFS(D_D[AWD],D_D[MT],5,D_D[CAT],SMS, D_D[EP],499,D_D[LOC],$A86)/$E86,0))","v":""},{"$f":"IF(ISNA($A86),\"\",IFERROR(SUMIFS(D_D[AUT],D_D[MT],5,D_D[CAT],SMS, D_D[EP],499,D_D[LOC],$A86)/$E86,0))","v":""}]
[{"$error":"#N/A"},74,"","",{"$f":"IF(ISNA($A87),\"\",IFERROR(SUMIFS(D_D[INV],D_D[MT],5,D_D[CAT],SMS, D_D[EP],499,D_D[LOC],$A87),0))","v":""},{"$f":"IF(ISNA($A87),\"\",IFERROR(SUMIFS(D_D[BL],D_D[MT],5,D_D[CAT],SMS, D_D[EP],499,D_D[LOC],$A87),0))","v":""},"",{"$f":"IF(ISNA($A87),\"\",IFERROR(SUMIFS(D_D[DEV],D_D[MT],5,D_D[CAT],SMS, D_D[EP],499,D_D[LOC],$A87)/$E87,0))","v":""},{"$f":"IF(ISNA($A87),\"\",IFERROR(SUMIFS(D_D[EVD],D_D[MT],5,D_D[CAT],SMS, D_D[EP],499,D_D[LOC],$A87)/$E87,0))","v":""},{"$f":"IF(ISNA($A87),\"\",IFERROR(SUMIFS(D_D[DEC],D_D[MT],5,D_D[CAT],SMS, D_D[EP],499,D_D[LOC],$A87)/$E87,0))","v":""},{"$f":"IF(ISNA($A87),\"\",IFERROR(SUMIFS(D_D[AWD],D_D[MT],5,D_D[CAT],SMS, D_D[EP],499,D_D[LOC],$A87)/$E87,0))","v":""},{"$f":"IF(ISNA($A87),\"\",IFERROR(SUMIFS(D_D[AUT],D_D[MT],5,D_D[CAT],SMS, D_D[EP],499,D_D[LOC],$A87)/$E87,0))","v":""}]
[{"$error":"#N/A"},75,"","",{"$f":"IF(ISNA($A88),\"\",IFERROR(SUMIFS(D_D[INV],D_D[MT],5,D_D[CAT],SMS, D_D[EP],499,D_D[LOC],$A88),0))","v":""},{"$f":"IF(ISNA($A88),\"\",IFERROR(SUMIFS(D_D[BL],D_D[MT],5,D_D[CAT],SMS, D_D[EP],499,D_D[LOC],$A88),0))","v":""},"",{"$f":"IF(ISNA($A88),\"\",IFERROR(SUMIFS(D_D[DEV],D_D[MT],5,D_D[CAT],SMS, D_D[EP],499,D_D[LOC],$A88)/$E88,0))","v":""},{"$f":"IF(ISNA($A88),\"\",IFERROR(SUMIFS(D_D[EVD],D_D[MT],5,D_D[CAT],SMS, D_D[EP],499,D_D[LOC],$A88)/$E88,0))","v":""},{"$f":"IF(ISNA($A88),\"\",IFERROR(SUMIFS(D_D[DEC],D_D[MT],5,D_D[CAT],SMS, D_D[EP],499,D_D[LOC],$A88)/$E88,0))","v":""},{"$f":"IF(ISNA($A88),\"\",IFERROR(SUMIFS(D_D[AWD],D_D[MT],5,D_D[CAT],SMS, D_D[EP],499,D_D[LOC],$A88)/$E88,0))","v":""},{"$f":"IF(ISNA($A88),\"\",IFERROR(SUMIFS(D_D[AUT],D_D[MT],5,D_D[CAT],SMS, D_D[EP],499,D_D[LOC],$A88)/$E88,0))","v":""}]
[{"$error":"#N/A"},77,"",{"$f":"IFERROR(INDEX(INDIRECT(DS_NWQD),B89),\"\")","v":""},{"$f":"IF(ISNA($A89),\"\",IFERROR(SUMIFS(D_D[INV],D_D[MT],5,D_D[CAT],SMS, D_D[EP],499,D_D[LOC],$A89),0))","v":""},{"$f":"IF(ISNA($A89),\"\",IFERROR(SUMIFS(D_D[BL],D_D[MT],5,D_D[CAT],SMS, D_D[EP],499,D_D[LOC],$A89),0))","v":""},{"$f":"IF(ISNA($A89),\"\",IFERROR(F89/E89,0))","v":""},{"$f":"IF(ISNA($A89),\"\",IFERROR(SUMIFS(D_D[DEV],D_D[MT],5,D_D[CAT],SMS, D_D[EP],499,D_D[LOC],$A89)/$E89,0))","v":""},{"$f":"IF(ISNA($A89),\"\",IFERROR(SUMIFS(D_D[EVD],D_D[MT],5,D_D[CAT],SMS, D_D[EP],499,D_D[LOC],$A89)/$E89,0))","v":""},{"$f":"IF(ISNA($A89),\"\",IFERROR(SUMIFS(D_D[DEC],D_D[MT],5,D_D[CAT],SMS, D_D[EP],499,D_D[LOC],$A89)/$E89,0))","v":""},{"$f":"IF(ISNA($A89),\"\",IFERROR(SUMIFS(D_D[AWD],D_D[MT],5,D_D[CAT],SMS, D_D[EP],499,D_D[LOC],$A89)/$E89,0))","v":""},{"$f":"IF(ISNA($A89),\"\",IFERROR(SUMIFS(D_D[AUT],D_D[MT],5,D_D[CAT],SMS, D_D[EP],499,D_D[LOC],$A89)/$E89,0))","v":""}]

{"sheet":"Traditional Aggregate (TA)","index":10,"n_rows":48,"n_cols":14,"rows_kept":48,"cut":false,"hidden":false,"merged":[[1,1,1,6],[1,7,1,11],[10,11,10,13],[31,11,31,13],[32,11,32,12],[11,11,11,13],[2,1,2,13],[3,6,3,9],[3,1,3,4],[3,11,3,13],[16,11,16,13]]}
[]
[null,{"$f":"\"Compensation and Pension National Inventory - Historical Reporting Bundles* - Data through \"","v":"Compensation and Pension National Inventory - Historical Reporting Bundles* - Data through "},null,null,null,null,null,{"$f":"D_DT[]","v":"2022-01-08"}]
[null,"*The data on this page represents historical, alternative reporting on VBA claims processing.  VBA actively measures and monitors these workloads, but the bundles are not specifically tied to VBA's strategic target 125 Days and 98% Accuracy.  The Rating Bundle measures are the only claims processing bundle that is directly related to the strategic 2015 goals.\nEnd products which are included in the Rating Bundle group are highlighted in green."]
[null,"Compensation Entitlement",null,null,null,null,"Pension Entitlement",null,null,null,null,"Legacy Appeals"]
[null,"Measurement","Claims Pending","Pending over 125 days","Percent Pending over 125 days",null,"Measurement","Claims Pending","Pending over 125 days","Percent Pending over 125 days",null,"Measurement","Appeals Pending","Average Days Pending"]
[null,"Original Entitlement - Veterans1",{"$f":"SUM(C7:C9)","v":140896},{"$f":"SUM(D7:D9)","v":60286},{"$f":"IFERROR(D6/C6,0)","v":0.42787588008176242},null,"Original Entitlement ",{"$f":"SUM(H7:H9)","v":10709},{"$f":"SUM(I7:I9)","v":1202},{"$f":"IFERROR(I6/H6,0)","v":0.11224203940610701},1,"Notice of Disagreements",{"$f":"IFERROR(SUMIFS(D_D[INV],D_D[MT],7,D_D[CAT],1,D_D[EP],$K6),0)","v":1242},{"$f":"IFERROR(SUMIFS(D_D[ADP],D_D[MT],7,D_D[CAT],1,D_D[EP],$K6),0)","v":1427.83}]
["095","EP 095 - Initial entitlement decisions for Voc Rehab",{"$f":"IFERROR(SUMIFS(D_D[INV],D_D[MT],3,D_D[CAT],TA_21,D_D[EP],$A7),0)","v":5},{"$f":"IFERROR(SUMIFS(D_D[BL],D_D[MT],3,D_D[CAT],TA_21,D_D[EP],$A7),0)","v":2},{"$f":"IFERROR(D7/C7,0)","v":0.4},180,"EP 180 - Initial entitlement - Veteran ",{"$f":"IFERROR(SUMIFS(D_D[INV],D_D[MT],3,D_D[CAT],TA_31,D_D[EP],$F7),0)","v":4450},{"$f":"IFERROR(SUMIFS(D_D[BL],D_D[MT],3,D_D[CAT],TA_31,D_D[EP],$F7),0)","v":507},0.11393258426966292,9,"Statement of the Case*",{"$f":"IFERROR(SUMIFS(D_D[INV],D_D[MT],7,D_D[CAT],1,D_D[EP],$K7),0)","v":307},{"$f":"IFERROR(SUMIFS(D_D[ADP],D_D[MT],7,D_D[CAT],1,D_D[EP],$K7),0)","v":1652.04}]
["010","EP 010 - Initial entitlement for service-connected disability (=>8)",{"$f":"IFERROR(SUMIFS(D_D[INV],D_D[MT],3,D_D[CAT],TA_21,D_D[EP],$A8),0)","v":49012},{"$f":"IFERROR(SUMIFS(D_D[BL],D_D[MT],3,D_D[CAT],TA_21,D_D[EP],$A8),0)","v":21787},0.44452379009222232,120,"EP 120 - Increased entitlement and/or reconsideration ",{"$f":"IFERROR(SUMIFS(D_D[INV],D_D[MT],3,D_D[CAT],TA_31,D_D[EP],$F8),0)","v":2192},{"$f":"IFERROR(SUMIFS(D_D[BL],D_D[MT],3,D_D[CAT],TA_31,D_D[EP],$F8),0)","v":252},0.11496350364963503,"2","Form 9s",{"$f":"IFERROR(SUMIFS(D_D[INV],D_D[MT],7,D_D[CAT],1,D_D[EP],$K8),0)","v":545},{"$f":"IFERROR(SUMIFS(D_D[ADP],D_D[MT],7,D_D[CAT],1,D_D[EP],$K8),0)","v":866.19}]
["110","EP 110 - Initial entitlement for service-connected disability (<=7)",{"$f":"IFERROR(SUMIFS(D_D[INV],D_D[MT],3,D_D[CAT],TA_21,D_D[EP],$A9),0)","v":91879},{"$f":"IFERROR(SUMIFS(D_D[BL],D_D[MT],3,D_D[CAT],TA_21,D_D[EP],$A9),0)","v":38497},0.41899672395215448,190,"EP 190 - Initial entitlement - Survivor ",{"$f":"IFERROR(SUMIFS(D_D[INV],D_D[MT],3,D_D[CAT],TA_31,D_D[EP],$F9),0)","v":4067},{"$f":"IFERROR(SUMIFS(D_D[BL],D_D[MT],3,D_D[CAT],TA_31,D_D[EP],$F9),0)","v":443},0.10892549791000737,"3","Remands",{"$f":"IFERROR(SUMIFS(D_D[INV],D_D[MT],7,D_D[CAT],1,D_D[EP],$K9),0)","v":27335},{"$f":"IFERROR(SUMIFS(D_D[ADP],D_D[MT],7,D_D[CAT],1,D_D[EP],$K9),0)","v":296.10000000000002}]
[null,"Original Entitlement - Survivors2",{"$f":"SUM(C11:C12)","v":11554},{"$f":"SUM(D11:D12)","v":3517},0.30439674571576941,null,"Pension Award Adjustments",{"$f":"SUM(H11:H16)","v":2124},{"$f":"SUM(I11:I16)","v":203},9.5574387947269301E-2,null,"Total Appeals Pending Under VBA control",{"$f":"M6+M7+M8+M9","v":29429}]
["140","EP 140 - Initial claims from surviving spouses, children or parents",{"$f":"IFERROR(SUMIFS(D_D[INV],D_D[MT],3,D_D[CAT],TA_21,D_D[EP],$A11),0)","v":11491},{"$f":"IFERROR(SUMIFS(D_D[BL],D_D[MT],3,D_D[CAT],TA_21,D_D[EP],$A11),0)","v":3498},0.30441214863806459,135,"EP 135 - Hospitalization adjustment (non-rating)",{"$f":"IFERROR(SUMIFS(D_D[INV],D_D[MT],3,D_D[CAT],TA_32,D_D[EP],$F11),0)","v":32},{"$f":"IFERROR(SUMIFS(D_D[BL],D_D[MT],3,D_D[CAT],TA_32,D_D[EP],$F11),0)","v":3},{"$f":"IFERROR(I11/H11,0)","v":9.375E-2},null,"*the veteran has 60 days to respond to an SOC to continue onto the Form 9 stage"]
["410","EP 410 - Initial claims from Veterans' children with Spina bifida and/or birth defects",{"$f":"IFERROR(SUMIFS(D_D[INV],D_D[MT],3,D_D[CAT],TA_21,D_D[EP],$A12),0)","v":63},{"$f":"IFERROR(SUMIFS(D_D[BL],D_D[MT],3,D_D[CAT],TA_21,D_D[EP],$A12),0)","v":19},0.30158730158730157,137,"EP 137 - Dependency",{"$f":"IFERROR(SUMIFS(D_D[INV],D_D[MT],3,D_D[CAT],TA_32,D_D[EP],$F12),0)","v":7},{"$f":"IFERROR(SUMIFS(D_D[BL],D_D[MT],3,D_D[CAT],TA_32,D_D[EP],$F12),0)","v":1},0.14285714285714285,null,"RAMP (Rapid Appeals Modernization Program)"]
[null,"Supplemental Entitlement",{"$f":"SUM(C14:C17)","v":340550},{"$f":"SUM(D14:D17)","v":101911},0.29925414770224634,"150G","EP 150 - Income adjustments",{"$f":"IFERROR(SUMIFS(D_D[INV],D_D[MT],3,D_D[CAT],TA_32,D_D[EP],$F13),0)","v":2080},{"$f":"IFERROR(SUMIFS(D_D[BL],D_D[MT],3,D_D[CAT],TA_32,D_D[EP],$F13),0)","v":194},9.3269230769230771E-2,"7","EP 682 - Higher Level Review",{"$f":"IFERROR(SUMIFS(D_D[INV],D_D[MT],7,D_D[CAT],1,D_D[EP],$K13),0)","v":0},{"$f":"IFERROR(SUMIFS(D_D[ADP],D_D[MT],7,D_D[CAT],1,D_D[EP],$K13),0)","v":0}]
["040","EP 040 - Supplemental Claims (AMA)",{"$f":"IFERROR(SUMIFS(D_D[INV],D_D[MT],3,D_D[CAT],TA_21,D_D[EP],$A14),0)","v":87698},{"$f":"IFERROR(SUMIFS(D_D[BL],D_D[MT],3,D_D[CAT],TA_21,D_D[EP],$A14),0)","v":28736},0.32766995826586698,155,"EP 155 - Annual eligibility verification reporting (EVRs)",{"$f":"IFERROR(SUMIFS(D_D[INV],D_D[MT],3,D_D[CAT],TA_32,D_D[EP],$F14),0)","v":0},{"$f":"IFERROR(SUMIFS(D_D[BL],D_D[MT],3,D_D[CAT],TA_32,D_D[EP],$F14),0)","v":0},0,8,"EP 683 - Supplemental Evidence",{"$f":"IFERROR(SUMIFS(D_D[INV],D_D[MT],7,D_D[CAT],1,D_D[EP],$K14),0)","v":19},{"$f":"IFERROR(SUMIFS(D_D[ADP],D_D[MT],7,D_D[CAT],1,D_D[EP],$K14),0)","v":987.79}]
["020","EP 020 - Increased evaluation and/or additional claimed conditions",{"$f":"IFERROR(SUMIFS(D_D[INV],D_D[MT],3,D_D[CAT],TA_21,D_D[EP],$A15),0)","v":251448},{"$f":"IFERROR(SUMIFS(D_D[BL],D_D[MT],3,D_D[CAT],TA_21,D_D[EP],$A15),0)","v":73114},0.29077184944799722,297,"EP 297 - Misc determinations",{"$f":"IFERROR(SUMIFS(D_D[INV],D_D[MT],3,D_D[CAT],TA_32,D_D[EP],$F15),0)","v":1},{"$f":"IFERROR(SUMIFS(D_D[BL],D_D[MT],3,D_D[CAT],TA_32,D_D[EP],$F15),0)","v":1},1,6,"Total RAMP",{"$f":"IFERROR(SUMIFS(D_D[INV],D_D[MT],7,D_D[CAT],1,D_D[EP],$K15),0)","v":19},{"$f":"IFERROR(SUMIFS(D_D[ADP],D_D[MT],7,D_D[CAT],1,D_D[EP],$K15),0)","v":987.79}]
["320","EP 320 -Increased entitlement due to hospitalization or surgery",{"$f":"IFERROR(SUMIFS(D_D[INV],D_D[MT],3,D_D[CAT],TA_21,D_D[EP],$A16),0)","v":1390},{"$f":"IFERROR(SUMIFS(D_D[BL],D_D[MT],3,D_D[CAT],TA_21,D_D[EP],$A16),0)","v":54},3.884892086330935E-2,607,"EP 607 - Due process",{"$f":"IFERROR(SUMIFS(D_D[INV],D_D[MT],3,D_D[CAT],TA_32,D_D[EP],$F16),0)","v":4},{"$f":"IFERROR(SUMIFS(D_D[BL],D_D[MT],3,D_D[CAT],TA_32,D_D[EP],$F16),0)","v":4},1]
["420","EP 420 - Spina bifida and/or birth defects reconsideration",{"$f":"IFERROR(SUMIFS(D_D[INV],D_D[MT],3,D_D[CAT],TA_21,D_D[EP],$A17),0)","v":14},{"$f":"IFERROR(SUMIFS(D_D[BL],D_D[MT],3,D_D[CAT],TA_21,D_D[EP],$A17),0)","v":7},0.5,null,"Program Reviews",{"$f":"SUM(H18:H20)","v":2897},{"$f":"SUM(I18:I20)","v":3},{"$f":"IFERROR(I17/H17,0)","v":1.0355540214014498E-3},null,"DROC Decision Review Workload (AMA)"]
["12","Award Adjustments",{"$f":"SUM(C19:C25)","v":167823},{"$f":"SUM(D19:D25)","v":29847},0.17784808995191362,"154","EP 154 - Income Verification Match",{"$f":"IFERROR(SUMIFS(D_D[INV],D_D[MT],3,D_D[CAT],TA_33,D_D[EP],$F18),0)","v":0},{"$f":"IFERROR(SUMIFS(D_D[BL],D_D[MT],3,D_D[CAT],TA_33,D_D[EP],$F18),0)","v":0},0,null,null,"Claims Pending","Average Days Pending"]
["130G","EP 130 - Dependency",{"$f":"IFERROR(SUMIFS(D_D[INV],D_D[MT],3,D_D[CAT],TA_22,D_D[EP],$A19),0)","v":18957},{"$f":"IFERROR(SUMIFS(D_D[BL],D_D[MT],3,D_D[CAT],TA_22,D_D[EP],$A19),0)","v":2655},{"$f":"IFERROR(D19/C19,0)","v":0.14005380598195918},"696","EP 696 - Cost of Living Adjustments",{"$f":"IFERROR(SUMIFS(D_D[INV],D_D[MT],3,D_D[CAT],TA_33,D_D[EP],$F19),0)","v":2897},{"$f":"IFERROR(SUMIFS(D_D[BL],D_D[MT],3,D_D[CAT],TA_33,D_D[EP],$F19),0)","v":3},1.0355540214014498E-3,1,"EP 030 - Higher-Level Reviews (HLR)",{"$f":"IFERROR(SUMIFS(D_D[INV],D_D[MT],12,D_D[CAT],9000,D_D[EP],$K19),0)","v":7040},{"$f":"IFERROR(SUMIFS(D_D[ADP],D_D[MT],12,D_D[CAT],9000,D_D[EP],$K19),0)","v":23.461505681818181}]
["133","EP 133 - Survivor restored entitlement",{"$f":"IFERROR(SUMIFS(D_D[INV],D_D[MT],3,D_D[CAT],TA_22,D_D[EP],$A20),0)","v":13},{"$f":"IFERROR(SUMIFS(D_D[BL],D_D[MT],3,D_D[CAT],TA_22,D_D[EP],$A20),0)","v":1},7.6923076923076927E-2,"697","EP 697 - Non-entitlement reviews",{"$f":"IFERROR(SUMIFS(D_D[INV],D_D[MT],3,D_D[CAT],TA_33,D_D[EP],$F20),0)","v":0},{"$f":"IFERROR(SUMIFS(D_D[BL],D_D[MT],3,D_D[CAT],TA_33,D_D[EP],$F20),0)","v":0},0,1.1000000000000001,"HLR - Compensation",{"$f":"IFERROR(SUMIFS(D_D[INV],D_D[MT],12,D_D[CAT],9000,D_D[EP],$K20),0)","v":6504},{"$f":"IFERROR(SUMIFS(D_D[ADP],D_D[MT],12,D_D[CAT],9000,D_D[EP],$K20),0)","v":18.014298892988929}]
["135","EP 135 - Hospitalization adjustment (non-rating)",{"$f":"IFERROR(SUMIFS(D_D[INV],D_D[MT],3,D_D[CAT],TA_22,D_D[EP],$A21),0)","v":84},{"$f":"IFERROR(SUMIFS(D_D[BL],D_D[MT],3,D_D[CAT],TA_22,D_D[EP],$A21),0)","v":4},4.7619047619047616E-2,null,"Pension Other",{"$f":"SUM(H22:H25)","v":107},{"$f":"SUM(I22:I25)","v":19},{"$f":"IFERROR(I21/H21,0)","v":0.17757009345794392},1.2,"HLR - Pension",{"$f":"IFERROR(SUMIFS(D_D[INV],D_D[MT],12,D_D[CAT],9000,D_D[EP],$K21),0)","v":536},{"$f":"IFERROR(SUMIFS(D_D[ADP],D_D[MT],12,D_D[CAT],9000,D_D[EP],$K21),0)","v":89.559701492537314}]
["290G","EP 290 - Misc determinations",{"$f":"IFERROR(SUMIFS(D_D[INV],D_D[MT],3,D_D[CAT],TA_22,D_D[EP],$A22),0)","v":37110},{"$f":"IFERROR(SUMIFS(D_D[BL],D_D[MT],3,D_D[CAT],TA_22,D_D[EP],$A22),0)","v":7590},0.20452708164915118,"407","EP 407 - Correspondence ",{"$f":"IFERROR(SUMIFS(D_D[INV],D_D[MT],3,D_D[CAT],TA_34,D_D[EP],$F22),0)","v":105},{"$f":"IFERROR(SUMIFS(D_D[BL],D_D[MT],3,D_D[CAT],TA_34,D_D[EP],$F22),0)","v":18},0.17142857142857143,2,"EP 040 - Higher-Level Review Returns (HLRR)",{"$f":"IFERROR(SUMIFS(D_D[INV],D_D[MT],12,D_D[CAT],9000,D_D[EP],$K22),0)","v":16333},{"$f":"IFERROR(SUMIFS(D_D[ADP],D_D[MT],12,D_D[CAT],9000,D_D[EP],$K22),0)","v":110.40286536459928}]
["450","EP 450 - Spina bifida and/or birth defects adjustments",{"$f":"IFERROR(SUMIFS(D_D[INV],D_D[MT],3,D_D[CAT],TA_22,D_D[EP],$A23),0)","v":7},{"$f":"IFERROR(SUMIFS(D_D[BL],D_D[MT],3,D_D[CAT],TA_22,D_D[EP],$A23),0)","v":7},1,"507","EP 507 - Congressional correspondence ",{"$f":"IFERROR(SUMIFS(D_D[INV],D_D[MT],3,D_D[CAT],TA_34,D_D[EP],$F23),0)","v":0},{"$f":"IFERROR(SUMIFS(D_D[BL],D_D[MT],3,D_D[CAT],TA_34,D_D[EP],$F23),0)","v":0},0,2.1,"HLRR - Compensation",{"$f":"IFERROR(SUMIFS(D_D[INV],D_D[MT],12,D_D[CAT],9000,D_D[EP],$K23),0)","v":16084},{"$f":"IFERROR(SUMIFS(D_D[ADP],D_D[MT],12,D_D[CAT],9000,D_D[EP],$K23),0)","v":110.16308132305397}]
["310G","EP 310 -Future examination for disabilities",{"$f":"IFERROR(SUMIFS(D_D[INV],D_D[MT],3,D_D[CAT],TA_22,D_D[EP],$A24),0)","v":15182},{"$f":"IFERROR(SUMIFS(D_D[BL],D_D[MT],3,D_D[CAT],TA_22,D_D[EP],$A24),0)","v":4578},0.30154129890659992,"937","EP 937 - Internal quality reviews",{"$f":"IFERROR(SUMIFS(D_D[INV],D_D[MT],3,D_D[CAT],TA_34,D_D[EP],$F24),0)","v":2},{"$f":"IFERROR(SUMIFS(D_D[BL],D_D[MT],3,D_D[CAT],TA_34,D_D[EP],$F24),0)","v":1},0.5,2.2000000000000002,"HLRR - Pension",{"$f":"IFERROR(SUMIFS(D_D[INV],D_D[MT],12,D_D[CAT],9000,D_D[EP],$K24),0)","v":249},{"$f":"IFERROR(SUMIFS(D_D[ADP],D_D[MT],12,D_D[CAT],9000,D_D[EP],$K24),0)","v":125.89156626506023}]
["600G","EP 600 - Due process",{"$f":"IFERROR(SUMIFS(D_D[INV],D_D[MT],3,D_D[CAT],TA_22,D_D[EP],$A25),0)","v":96470},{"$f":"IFERROR(SUMIFS(D_D[BL],D_D[MT],3,D_D[CAT],TA_22,D_D[EP],$A25),0)","v":15012},0.15561314398258527,"967","EP 967 - Correction of errors",{"$f":"IFERROR(SUMIFS(D_D[INV],D_D[MT],3,D_D[CAT],TA_34,D_D[EP],$F25),0)","v":0},{"$f":"IFERROR(SUMIFS(D_D[BL],D_D[MT],3,D_D[CAT],TA_34,D_D[EP],$F25),0)","v":0},0,3,"EP 040 - Board AMA Returns (Remands)",{"$f":"IFERROR(SUMIFS(D_D[INV],D_D[MT],12,D_D[CAT],9000,D_D[EP],$K25),0)","v":3239},{"$f":"IFERROR(SUMIFS(D_D[ADP],D_D[MT],12,D_D[CAT],9000,D_D[EP],$K25),0)","v":161.95307193578265}]
[null,"Program Reviews ",{"$f":"SUM(C27:C33)","v":707},{"$f":"SUM(D27:D33)","v":242},{"$f":"IFERROR(D26/C26,0)","v":0.34229137199434229},null,"Pension Burial/Accrued",{"$f":"SUM(H27:H29)","v":2759},{"$f":"SUM(I27:I29)","v":1697},{"$f":"IFERROR(I26/H26,0)","v":0.61507792678506701},3.1,"Remands - Compensation",{"$f":"IFERROR(SUMIFS(D_D[INV],D_D[MT],12,D_D[CAT],9000,D_D[EP],$K26),0)","v":3159},{"$f":"IFERROR(SUMIFS(D_D[ADP],D_D[MT],12,D_D[CAT],9000,D_D[EP],$K26),0)","v":162.99715099715101}]
["314","EP 314 - Income verification for unemployability",{"$f":"IFERROR(SUMIFS(D_D[INV],D_D[MT],3,D_D[CAT],TA_23,D_D[EP],$A27),0)","v":0},{"$f":"IFERROR(SUMIFS(D_D[BL],D_D[MT],3,D_D[CAT],TA_23,D_D[EP],$A27),0)","v":0},0,"167","EP 167 - Burials",{"$f":"IFERROR(SUMIFS(D_D[INV],D_D[MT],3,D_D[CAT],TA_35,D_D[EP],$F27),0)","v":1},{"$f":"IFERROR(SUMIFS(D_D[BL],D_D[MT],3,D_D[CAT],TA_35,D_D[EP],$F27),0)","v":0},0,3.2,"Remands - Pension",{"$f":"IFERROR(SUMIFS(D_D[INV],D_D[MT],12,D_D[CAT],9000,D_D[EP],$K27),0)","v":80},{"$f":"IFERROR(SUMIFS(D_D[ADP],D_D[MT],12,D_D[CAT],9000,D_D[EP],$K27),0)","v":120.72499999999999}]
["680G","EP 680 - Review of Hemodialysis related cases/conditions ",{"$f":"IFERROR(SUMIFS(D_D[INV],D_D[MT],3,D_D[CAT],TA_23,D_D[EP],$A28),0)","v":23},{"$f":"IFERROR(SUMIFS(D_D[BL],D_D[MT],3,D_D[CAT],TA_23,D_D[EP],$A28),0)","v":21},0.91304347826086951,"165","EP 165 - Accrued",{"$f":"IFERROR(SUMIFS(D_D[INV],D_D[MT],3,D_D[CAT],TA_36,D_D[EP],$F28),0)","v":2758},{"$f":"IFERROR(SUMIFS(D_D[BL],D_D[MT],3,D_D[CAT],TA_36,D_D[EP],$F28),0)","v":1697},0.61530094271211022,4,"EP 030 - Board AMA Full Grants",{"$f":"IFERROR(SUMIFS(D_D[INV],D_D[MT],12,D_D[CAT],9000,D_D[EP],$K28),0)","v":494},{"$f":"IFERROR(SUMIFS(D_D[ADP],D_D[MT],12,D_D[CAT],9000,D_D[EP],$K28),0)","v":77.323886639676118}]
["682","EP 682 - Review of Radiation related cases/conditions",{"$f":"IFERROR(SUMIFS(D_D[INV],D_D[MT],3,D_D[CAT],TA_23,D_D[EP],$A29),0)","v":1},{"$f":"IFERROR(SUMIFS(D_D[BL],D_D[MT],3,D_D[CAT],TA_23,D_D[EP],$A29),0)","v":1},1,null,null,null,null,null,4.0999999999999996,"Grants - Compensation",{"$f":"IFERROR(SUMIFS(D_D[INV],D_D[MT],12,D_D[CAT],9000,D_D[EP],$K29),0)","v":462},{"$f":"IFERROR(SUMIFS(D_D[ADP],D_D[MT],12,D_D[CAT],9000,D_D[EP],$K29),0)","v":75.376623376623371}]
["684","EP 684 - Review of Misc cases referred to central office",{"$f":"IFERROR(SUMIFS(D_D[INV],D_D[MT],3,D_D[CAT],TA_23,D_D[EP],$A30),0)","v":2},{"$f":"IFERROR(SUMIFS(D_D[BL],D_D[MT],3,D_D[CAT],TA_23,D_D[EP],$A30),0)","v":1},0.5,null,null,null,null,null,4.2,"Grants - Pension",{"$f":"IFERROR(SUMIFS(D_D[INV],D_D[MT],12,D_D[CAT],9000,D_D[EP],$K30),0)","v":32},{"$f":"IFERROR(SUMIFS(D_D[ADP],D_D[MT],12,D_D[CAT],9000,D_D[EP],$K30),0)","v":105.4375}]
["685","EP 685 - Review of effective date related to herbicide exposure",{"$f":"IFERROR(SUMIFS(D_D[INV],D_D[MT],3,D_D[CAT],TA_23,D_D[EP],$A31),0)","v":263},{"$f":"IFERROR(SUMIFS(D_D[BL],D_D[MT],3,D_D[CAT],TA_23,D_D[EP],$A31),0)","v":184},0.69961977186311786]
["690G","EP 690 - Cost of Living Adjustments (COLAs) and other reviews",{"$f":"IFERROR(SUMIFS(D_D[INV],D_D[MT],3,D_D[CAT],TA_23,D_D[EP],$A32),0)","v":416},{"$f":"IFERROR(SUMIFS(D_D[BL],D_D[MT],3,D_D[CAT],TA_23,D_D[EP],$A32),0)","v":34},8.1730769230769232E-2,null,null,null,null,null,null,"Integrated Disability Evaluation System (IDES)"]
["690","EP 690 - Social Security number verification",{"$f":"IFERROR(SUMIFS(D_D[INV],D_D[MT],3,D_D[CAT],TA_23,D_D[EP],$A33),0)","v":2},{"$f":"IFERROR(SUMIFS(D_D[BL],D_D[MT],3,D_D[CAT],TA_23,D_D[EP],$A33),0)","v":1},0.5,null,null,null,null,null,null,"Number of IDES claims pending",null,{"$f":"IFERROR(SUMIFS(D_D[INV],D_D[MT],10,D_D[CAT],1,D_D[EP],-1),0)","v":21916}]
[null,"Compensation Other",{"$f":"SUM(C35:C45)","v":156778},{"$f":"SUM(D35:D45)","v":107620},{"$f":"IFERROR(D34/C34,0)","v":0.68644835372309887}]
["335","EP 335 - Blue Water Navy (Agent Orange)",{"$f":"IFERROR(SUMIFS(D_D[INV],D_D[MT],3,D_D[CAT],TA_24,D_D[EP],$A35),0)","v":20130},{"$f":"IFERROR(SUMIFS(D_D[BL],D_D[MT],3,D_D[CAT],TA_24,D_D[EP],$A35),0)","v":18448},{"$f":"IFERROR(D35/C35,0)","v":0.91644311972180825}]
["400G","EP 400 - Correspondence ",{"$f":"IFERROR(SUMIFS(D_D[INV],D_D[MT],3,D_D[CAT],TA_24,D_D[EP],$A36),0)","v":14019},{"$f":"IFERROR(SUMIFS(D_D[BL],D_D[MT],3,D_D[CAT],TA_24,D_D[EP],$A36),0)","v":3119},0.22248377202368214]
["500G","EP 500 - Congressional correspondence",{"$f":"IFERROR(SUMIFS(D_D[INV],D_D[MT],3,D_D[CAT],TA_24,D_D[EP],$A37),0)","v":260},{"$f":"IFERROR(SUMIFS(D_D[BL],D_D[MT],3,D_D[CAT],TA_24,D_D[EP],$A37),0)","v":38},0.14615384615384616]
["510","EP 510 - Freedom of Information Act (FOIA) requests",{"$f":"IFERROR(SUMIFS(D_D[INV],D_D[MT],3,D_D[CAT],TA_24,D_D[EP],$A38),0)","v":38487},{"$f":"IFERROR(SUMIFS(D_D[BL],D_D[MT],3,D_D[CAT],TA_24,D_D[EP],$A38),0)","v":6570},0.170706991971315]
["930G","EP 930 - Review, including quality assurance",{"$f":"IFERROR(SUMIFS(D_D[INV],D_D[MT],3,D_D[CAT],TA_24,D_D[EP],$A39),0)","v":10497},{"$f":"IFERROR(SUMIFS(D_D[BL],D_D[MT],3,D_D[CAT],TA_24,D_D[EP],$A39),0)","v":7978},0.76002667428789172]
["960G","EP 960 - Correction of errors",{"$f":"IFERROR(SUMIFS(D_D[INV],D_D[MT],3,D_D[CAT],TA_24,D_D[EP],$A40),0)","v":729},{"$f":"IFERROR(SUMIFS(D_D[BL],D_D[MT],3,D_D[CAT],TA_24,D_D[EP],$A40),0)","v":199},0.27297668038408779]
["681","EP 681 - Used to control claims under the Nehmer Agent Orange stipulation",{"$f":"IFERROR(SUMIFS(D_D[INV],D_D[MT],3,D_D[CAT],TA_24,D_D[EP],$A41),0)","v":1022},{"$f":"IFERROR(SUMIFS(D_D[BL],D_D[MT],3,D_D[CAT],TA_24,D_D[EP],$A41),0)","v":754},{"$f":"IFERROR(D41/C41,0)","v":0.73776908023483367}]
["687","EP 687 - Blue Water Navy Agent Orange Nehmer Reviews",{"$f":"IFERROR(SUMIFS(D_D[INV],D_D[MT],3,D_D[CAT],TA_24,D_D[EP],$A42),0)","v":9526},{"$f":"IFERROR(SUMIFS(D_D[BL],D_D[MT],3,D_D[CAT],TA_24,D_D[EP],$A42),0)","v":9522},{"$f":"IFERROR(D42/C42,0)","v":0.99958009657778712}]
["688","EP 688 - NDAA Agent Orange Nehmer Reviews (3 new authorized AO disabilities)",{"$f":"IFERROR(SUMIFS(D_D[INV],D_D[MT],3,D_D[CAT],TA_24,D_D[EP],$A43),0)","v":62107},{"$f":"IFERROR(SUMIFS(D_D[BL],D_D[MT],3,D_D[CAT],TA_24,D_D[EP],$A43),0)","v":60992},{"$f":"IFERROR(D43/C43,0)","v":0.98204711224177632}]
["405","EP 405 - Reopened or new Agent Orange claims between 9/01/10 and 10/24/2011",{"$f":"IFERROR(SUMIFS(D_D[INV],D_D[MT],3,D_D[CAT],TA_24,D_D[EP],$A44),0)","v":0},{"$f":"IFERROR(SUMIFS(D_D[BL],D_D[MT],3,D_D[CAT],TA_24,D_D[EP],$A44),0)","v":0},{"$f":"IFERROR(D44/C44,0)","v":0}]
["409","EP 409 - Agent Orange claims where an interim decision was provided; No longer used as of 10/24/2011",{"$f":"IFERROR(SUMIFS(D_D[INV],D_D[MT],3,D_D[CAT],TA_24,D_D[EP],$A45),0)","v":1},{"$f":"IFERROR(SUMIFS(D_D[BL],D_D[MT],3,D_D[CAT],TA_24,D_D[EP],$A45),0)","v":0},{"$f":"IFERROR(D45/C45,0)","v":0}]
[null,"Compensation Burial/Accrued",{"$f":"SUM(C47:C49)","v":21249},{"$f":"SUM(D47:D49)","v":16457},{"$f":"IFERROR(D46/C46,0)","v":0.77448350510612263}]
["160G","EP 160 - Burials",{"$f":"IFERROR(SUMIFS(D_D[INV],D_D[MT],3,D_D[CAT],TA_25,D_D[EP],$A47),0)","v":6661},{"$f":"IFERROR(SUMIFS(D_D[BL],D_D[MT],3,D_D[CAT],TA_25,D_D[EP],$A47),0)","v":2400},0.36030626032127311]
["165","EP 165 - Accrued",{"$f":"IFERROR(SUMIFS(D_D[INV],D_D[MT],3,D_D[CAT],TA_26,D_D[EP],$A48),0)","v":14588},{"$f":"IFERROR(SUMIFS(D_D[BL],D_D[MT],3,D_D[CAT],TA_26,D_D[EP],$A48),0)","v":14057},0.9636002193583767]

{"sheet":"Diarys and Future Claims","index":11,"n_rows":47,"n_cols":6,"rows_kept":47,"cut":false,"hidden":false,"merged":[[29,4,29,5],[0,1,0,4],[2,1,2,2],[2,4,2,5],[1,1,1,5]]}
[null,"Compensation and Pension Diary and Future Claims - Historical Reporting Bundles* - Data through ",null,null,null,{"$f":"D_DT[]","v":"2022-01-08"}]
[null,"The data on this page represents future claims that VA is aware of.  A portion of these claims roll into the traditional Rating Bundle group of end-products (EP) once the date of claim matures.\t\t\t\t"]
[null,"Compensation Entitlement",null,null,"Pension Entitlement"]
[null,"Measurement","Claims Pending",null,"Measurement","Claims Pending"]
[null,"Original Entitlement - Veterans1",{"$f":"SUM(C6:C8)","v":11422},null,"Original Entitlement ",{"$f":"SUM(F6:F8)","v":0}]
["095","EP 095 - Initial entitlement decisions for Voc Rehab",{"$f":"IFERROR(SUMIFS(D_D[INV],D_D[MT],11,D_D[CAT],TA_21,D_D[EP],$A6),0)","v":0},180,"EP 180 - Initial entitlement - Veteran ",{"$f":"IFERROR(SUMIFS(D_D[INV],D_D[MT],11,D_D[CAT],TA_31,D_D[EP],$D6),0)","v":0}]
["010","EP 010 - Initial entitlement for service-connected disability (=>8)",{"$f":"IFERROR(SUMIFS(D_D[INV],D_D[MT],11,D_D[CAT],TA_21,D_D[EP],$A7),0)","v":9636},120,"EP 120 - Increased entitlement and/or reconsideration ",{"$f":"IFERROR(SUMIFS(D_D[INV],D_D[MT],11,D_D[CAT],TA_31,D_D[EP],$D7),0)","v":0}]
["110","EP 110 - Initial entitlement for service-connected disability (<=7)",{"$f":"IFERROR(SUMIFS(D_D[INV],D_D[MT],11,D_D[CAT],TA_21,D_D[EP],$A8),0)","v":1786},190,"EP 190 - Initial entitlement - Survivor ",{"$f":"IFERROR(SUMIFS(D_D[INV],D_D[MT],11,D_D[CAT],TA_31,D_D[EP],$D8),0)","v":0}]
[null,"Original Entitlement - Survivors2",{"$f":"SUM(C10:C11)","v":0},null,"Pension Award Adjustments",{"$f":"SUM(F10:F15)","v":0}]
["140","EP 140 - Initial claims from surviving spouses, children or parents",{"$f":"IFERROR(SUMIFS(D_D[INV],D_D[MT],11,D_D[CAT],TA_21,D_D[EP],$A10),0)","v":0},135,"EP 135 - Hospitalization adjustment (non-rating)",{"$f":"IFERROR(SUMIFS(D_D[INV],D_D[MT],11,D_D[CAT],TA_31,D_D[EP],$D10),0)","v":0}]
["410","EP 410 - Initial claims from Veterans' children with Spina bifida and/or birth defects",{"$f":"IFERROR(SUMIFS(D_D[INV],D_D[MT],11,D_D[CAT],TA_21,D_D[EP],$A11),0)","v":0},137,"EP 137 - Dependency",{"$f":"IFERROR(SUMIFS(D_D[INV],D_D[MT],11,D_D[CAT],TA_31,D_D[EP],$D11),0)","v":0}]
[null,"Supplemental Entitlement",{"$f":"SUM(C13:C16)","v":454},"150G","EP 150 - Income adjustments",{"$f":"IFERROR(SUMIFS(D_D[INV],D_D[MT],11,D_D[CAT],TA_31,D_D[EP],$D12),0)","v":0}]
["040","EP 040 - Decision Review Request",{"$f":"IFERROR(SUMIFS(D_D[INV],D_D[MT],11,D_D[CAT],TA_21,D_D[EP],$A13),0)","v":0},155,"EP 155 - Annual eligibility verification reporting (EVRs)",{"$f":"IFERROR(SUMIFS(D_D[INV],D_D[MT],11,D_D[CAT],TA_31,D_D[EP],$D13),0)","v":0}]
["020","EP 020 - Increased evaluation and/or additional claimed conditions",{"$f":"IFERROR(SUMIFS(D_D[INV],D_D[MT],11,D_D[CAT],TA_21,D_D[EP],$A14),0)","v":454},297,"EP 297 - Misc determinations",{"$f":"IFERROR(SUMIFS(D_D[INV],D_D[MT],11,D_D[CAT],TA_31,D_D[EP],$D14),0)","v":0}]
["320","EP 320 -Increased entitlement due to hospitalization or surgery",{"$f":"IFERROR(SUMIFS(D_D[INV],D_D[MT],11,D_D[CAT],TA_21,D_D[EP],$A15),0)","v":0},607,"EP 607 - Due process",{"$f":"IFERROR(SUMIFS(D_D[INV],D_D[MT],11,D_D[CAT],TA_31,D_D[EP],$D15),0)","v":0}]
["420","EP 420 - Spina bifida and/or birth defects reconsideration",{"$f":"IFERROR(SUMIFS(D_D[INV],D_D[MT],11,D_D[CAT],TA_21,D_D[EP],$A16),0)","v":0},null,"Program Reviews",{"$f":"SUM(F17:F19)","v":0}]
["12","Award Adjustments",{"$f":"SUM(C18:C24)","v":43},"154","EP 154 - Income Verification Match",{"$f":"IFERROR(SUMIFS(D_D[INV],D_D[MT],11,D_D[CAT],TA_31,D_D[EP],$D17),0)","v":0}]
["130G","EP 130 - Dependency",{"$f":"IFERROR(SUMIFS(D_D[INV],D_D[MT],11,D_D[CAT],TA_22,D_D[EP],$A18),0)","v":35},"696","EP 696 - Cost of Living Adjustments",{"$f":"IFERROR(SUMIFS(D_D[INV],D_D[MT],11,D_D[CAT],TA_31,D_D[EP],$D18),0)","v":0}]
["133","EP 133 - Survivor restored entitlement",{"$f":"IFERROR(SUMIFS(D_D[INV],D_D[MT],11,D_D[CAT],TA_22,D_D[EP],$A19),0)","v":0},"697","EP 697 - Non-entitlement reviews",{"$f":"IFERROR(SUMIFS(D_D[INV],D_D[MT],11,D_D[CAT],TA_31,D_D[EP],$D19),0)","v":0}]
["135","EP 135 - Hospitalization adjustment (non-rating)",{"$f":"IFERROR(SUMIFS(D_D[INV],D_D[MT],11,D_D[CAT],TA_22,D_D[EP],$A20),0)","v":0},null,"Pension Other",{"$f":"SUM(F21:F24)","v":0}]
["290G","EP 290 - Misc determinations",{"$f":"IFERROR(SUMIFS(D_D[INV],D_D[MT],11,D_D[CAT],TA_22,D_D[EP],$A21),0)","v":8},"407","EP 407 - Correspondence ",{"$f":"IFERROR(SUMIFS(D_D[INV],D_D[MT],11,D_D[CAT],TA_31,D_D[EP],$D21),0)","v":0}]
["450","EP 450 - Spina bifida and/or birth defects adjustments",{"$f":"IFERROR(SUMIFS(D_D[INV],D_D[MT],11,D_D[CAT],TA_22,D_D[EP],$A22),0)","v":0},"507","EP 507 - Congressional correspondence ",{"$f":"IFERROR(SUMIFS(D_D[INV],D_D[MT],11,D_D[CAT],TA_31,D_D[EP],$D22),0)","v":0}]
["310G","EP 310 -Future examination for disabilities",{"$f":"IFERROR(SUMIFS(D_D[INV],D_D[MT],11,D_D[CAT],TA_22,D_D[EP],$A23),0)","v":0},"937","EP 937 - Internal quality reviews",{"$f":"IFERROR(SUMIFS(D_D[INV],D_D[MT],11,D_D[CAT],TA_31,D_D[EP],$D23),0)","v":0}]
["600G","EP 600 - Due process",{"$f":"IFERROR(SUMIFS(D_D[INV],D_D[MT],11,D_D[CAT],TA_22,D_D[EP],$A24),0)","v":0},"967","EP 967 - Correction of errors",{"$f":"IFERROR(SUMIFS(D_D[INV],D_D[MT],11,D_D[CAT],TA_31,D_D[EP],$D24),0)","v":0}]
[null,"Program Reviews ",{"$f":"SUM(C26:C33)","v":656},null,"Pension Burial/Accrued",{"$f":"SUM(F26:F27)","v":0}]
["314","EP 314 - Income verification for unemployability",{"$f":"IFERROR(SUMIFS(D_D[INV],D_D[MT],11,D_D[CAT],TA_23,D_D[EP],$A26),0)","v":0},"167","EP 167 - Burials",{"$f":"IFERROR(SUMIFS(D_D[INV],D_D[MT],11,D_D[CAT],TA_31,D_D[EP],$D26),0)","v":0}]
["330","EP 330 - Reviews",{"$f":"IFERROR(SUMIFS(D_D[INV],D_D[MT],11,D_D[CAT],TA_23,D_D[EP],$A27),0)","v":656},"165","EP 165 - Accrued",{"$f":"IFERROR(SUMIFS(D_D[INV],D_D[MT],11,D_D[CAT],TA_31,D_D[EP],$D27),0)","v":0}]
["680G","EP 680 - Review of Hemodialysis related cases/conditions ",{"$f":"IFERROR(SUMIFS(D_D[INV],D_D[MT],11,D_D[CAT],TA_23,D_D[EP],$A28),0)","v":0}]
["682","EP 682 - Review of Radiation related cases/conditions",{"$f":"IFERROR(SUMIFS(D_D[INV],D_D[MT],11,D_D[CAT],TA_23,D_D[EP],$A29),0)","v":0}]
["684","EP 684 - Review of Misc cases referred to central office",{"$f":"IFERROR(SUMIFS(D_D[INV],D_D[MT],11,D_D[CAT],TA_23,D_D[EP],$A30),0)","v":0},null,"Integrated Disability Evaluation System (IDES)"]
["685","EP 685 - Review of effective date related to herbicide exposure",{"$f":"IFERROR(SUMIFS(D_D[INV],D_D[MT],11,D_D[CAT],TA_23,D_D[EP],$A31),0)","v":0},null,"EP 689 - IDES",{"$f":"IFERROR(SUMIFS(D_D[INV],D_D[MT],11,D_D[CAT],1,D_D[EP],-1),0)","v":0}]
["690G","EP 690 - Cost of Living Adjustments (COLAs) and other reviews",{"$f":"IFERROR(SUMIFS(D_D[INV],D_D[MT],11,D_D[CAT],TA_23,D_D[EP],$A32),0)","v":0}]
["690","EP 690 - Social Security number verification",{"$f":"IFERROR(SUMIFS(D_D[INV],D_D[MT],11,D_D[CAT],TA_23,D_D[EP],$A33),0)","v":0}]
[null,"Compensation Other",{"$f":"SUM(C35:C44)","v":34}]
["335","EP 335 - Blue Water Navy (Agent Orange)",{"$f":"IFERROR(SUMIFS(D_D[INV],D_D[MT],11,D_D[CAT],TA_24,D_D[EP],$A35),0)","v":0}]
["400G","EP 400 - Correspondence ",{"$f":"IFERROR(SUMIFS(D_D[INV],D_D[MT],11,D_D[CAT],TA_24,D_D[EP],$A36),0)","v":32}]
["500G","EP 500 - Congressional correspondence",{"$f":"IFERROR(SUMIFS(D_D[INV],D_D[MT],11,D_D[CAT],TA_24,D_D[EP],$A37),0)","v":0}]
["510","EP 510 - Freedom of Information Act (FOIA) requests",{"$f":"IFERROR(SUMIFS(D_D[INV],D_D[MT],11,D_D[CAT],TA_24,D_D[EP],$A38),0)","v":0}]
["930G","EP 930 - Review, including quality assurance",{"$f":"IFERROR(SUMIFS(D_D[INV],D_D[MT],11,D_D[CAT],TA_24,D_D[EP],$A39),0)","v":2}]
["960G","EP 960 - Correction of errors",{"$f":"IFERROR(SUMIFS(D_D[INV],D_D[MT],11,D_D[CAT],TA_24,D_D[EP],$A40),0)","v":0}]
["681","EP 681 - Used to control claims under the Nehmer Agent Orange stipulation",{"$f":"IFERROR(SUMIFS(D_D[INV],D_D[MT],11,D_D[CAT],TA_24,D_D[EP],$A41),0)","v":0}]
["687","EP 687 - Previously used for Nehmer Agent Orange presumptive issues",{"$f":"IFERROR(SUMIFS(D_D[INV],D_D[MT],11,D_D[CAT],TA_24,D_D[EP],$A42),0)","v":0}]
["405","EP 405 - Reopened or new Agent Orange claims between 9/01/10 and 10/24/2011",{"$f":"IFERROR(SUMIFS(D_D[INV],D_D[MT],11,D_D[CAT],TA_24,D_D[EP],$A43),0)","v":0}]
["409","EP 409 - Agent Orange claims where an interim decision was provided; No longer used as of 10/24/2011",{"$f":"IFERROR(SUMIFS(D_D[INV],D_D[MT],11,D_D[CAT],TA_24,D_D[EP],$A44),0)","v":0}]
[null,"Compensation Burial/Accrued",{"$f":"SUM(C46:C47)","v":0}]
["160G","EP 160 - Burials",{"$f":"IFERROR(SUMIFS(D_D[INV],D_D[MT],11,D_D[CAT],TA_25,D_D[EP],$A46),0)","v":0}]
["165","EP 165 - Accrued",{"$f":"IFERROR(SUMIFS(D_D[INV],D_D[MT],11,D_D[CAT],TA_25,D_D[EP],$A47),0)","v":0}]

{"sheet":"TA-Regional Office","index":12,"n_rows":80,"n_cols":19,"rows_kept":80,"cut":false,"hidden":false,"merged":[[1,1,3,1],[5,2,5,18],[72,2,72,18],[73,2,73,3],[73,4,73,6],[73,7,73,9],[73,10,73,12],[73,13,73,15],[3,2,3,3],[3,4,3,6],[3,7,3,9],[3,10,3,12],[3,13,3,15],[1,2,1,5],[1,6,1,9],[2,2,2,18]]}
[null,null,2000,2000,11,11,null,12,12,null,13,13,null,14,14,null,15,16,1]
[null,"Scroll down to see Pension",{"$f":"(\"Inventory by Regional Office - Data through \")","v":"Inventory by Regional Office - Data through "},null,null,null,{"$f":"D_DT[]","v":"2022-01-08"}]
[null,null,"*The claims pending under 'Non-Rating' are a subset of claims listed under the 'Award Adjustment' column and should not be counted twice when computing totals"]
[null,null,"Non-Rating",null,"Entitlement   ",null,null,"Award Adjustment ",null,null,"Program Review ",null,null,"Other",null,null,"Burial  ","Accrued  ","Legacy Appeals"]
[null,null,"Claims Pending","Avg. Days Pending","Claims Pending","Pending over 125 days","Percent Pending over 125 days","Claims Pending","Pending over 125 days","Percent Pending over 125 days","Claims Pending","Pending over 125 days","Percent Pending over 125 days","Claims Pending","Pending over 125 days","Percent Pending over 125 days","Claims Pending","Claims Pending","Appeals Pending"]
[null,null,"Compensation"]
[100,"USA Compensation",{"$f":"IFERROR(SUMIFS(D_D[INV],D_D[MT],1,D_D[CAT],TA_20,D_D[EP],-1, D_D[LOC],$A7),0)","v":56067},{"$f":"IFERROR(SUMIFS(D_D[ADP],D_D[MT],1,D_D[CAT],D$1,D_D[EP],-1, D_D[LOC],$A7),0)","v":90.44},{"$f":"IFERROR(SUMIFS(D_D[INV],D_D[MT],2,D_D[CAT],TA_21,D_D[EP],-1, D_D[LOC],$A7),0)","v":512572},{"$f":"IFERROR(SUMIFS(D_D[BL],D_D[MT],2,D_D[CAT],TA_21,D_D[EP],-1, D_D[LOC],$A7),0)","v":165714},{"$f":"IFERROR(F7/E7,\"0%\")","v":0.32329897068119212},{"$f":"IFERROR(SUMIFS(D_D[INV],D_D[MT],2,D_D[CAT],TA_22,D_D[EP],-1, D_D[LOC],$A7),0)","v":167823},{"$f":"IFERROR(SUMIFS(D_D[BL],D_D[MT],2,D_D[CAT],TA_22,D_D[EP],-1, D_D[LOC],$A7),0)","v":29847},{"$f":"IFERROR(I7/H7,\"0%\")","v":0.17784808995191362},{"$f":"IFERROR(SUMIFS(D_D[INV],D_D[MT],2,D_D[CAT],TA_23,D_D[EP],-1, D_D[LOC],$A7),0)","v":1727},{"$f":"IFERROR(SUMIFS(D_D[BL],D_D[MT],2,D_D[CAT],TA_23,D_D[EP],-1, D_D[LOC],$A7),0)","v":283},{"$f":"IFERROR(L7/K7,\"0%\")","v":0.16386797915460335},{"$f":"IFERROR(SUMIFS(D_D[INV],D_D[MT],2,D_D[CAT],TA_24,D_D[EP],-1, D_D[LOC],$A7),0) - 'Diarys and Future Claims'!C35","v":156781},{"$f":"IFERROR(SUMIFS(D_D[BL],D_D[MT],2,D_D[CAT],TA_24,D_D[EP],-1, D_D[LOC],$A7),0)","v":107621},{"$f":"IFERROR(O7/N7,\"0%\")","v":0.68644159687717266},{"$f":"IFERROR(SUMIFS(D_D[INV],D_D[MT],2,D_D[CAT],TA_25,D_D[EP],-1, D_D[LOC],$A7),0)","v":6661},{"$f":"IFERROR(SUMIFS(D_D[INV],D_D[MT],2,D_D[CAT],TA_26,D_D[EP],-1, D_D[LOC],$A7),0)","v":14588},{"$f":"IFERROR(SUMIFS(D_D[INV],D_D[MT],7,D_D[CAT],2,D_D[EP],TA_20, D_D[LOC],$A7),0)","v":28747}]
[394,"Northeast",{"$f":"IFERROR(SUMIFS(D_D[INV],D_D[MT],1,D_D[CAT],TA_20,D_D[EP],-1, D_D[LOC],$A8),0)","v":12725},{"$f":"IFERROR(SUMIFS(D_D[ADP],D_D[MT],1,D_D[CAT],D$1,D_D[EP],-1, D_D[LOC],$A8),0)","v":124.56},{"$f":"IFERROR(SUMIFS(D_D[INV],D_D[MT],2,D_D[CAT],TA_21,D_D[EP],-1, D_D[LOC],$A8),0)","v":87502},{"$f":"IFERROR(SUMIFS(D_D[BL],D_D[MT],2,D_D[CAT],TA_21,D_D[EP],-1, D_D[LOC],$A8),0)","v":30923},{"$f":"IFERROR(F8/E8,\"0%\")","v":0.35339763662544854},{"$f":"IFERROR(SUMIFS(D_D[INV],D_D[MT],2,D_D[CAT],TA_22,D_D[EP],-1, D_D[LOC],$A8),0)","v":51130},{"$f":"IFERROR(SUMIFS(D_D[BL],D_D[MT],2,D_D[CAT],TA_22,D_D[EP],-1, D_D[LOC],$A8),0)","v":7519},{"$f":"IFERROR(I8/H8,\"0%\")","v":0.14705652258947779},{"$f":"IFERROR(SUMIFS(D_D[INV],D_D[MT],2,D_D[CAT],TA_23,D_D[EP],-1, D_D[LOC],$A8),0)","v":411},{"$f":"IFERROR(SUMIFS(D_D[BL],D_D[MT],2,D_D[CAT],TA_23,D_D[EP],-1, D_D[LOC],$A8),0)","v":22},{"$f":"IFERROR(L8/K8,\"0%\")","v":5.3527980535279802E-2},{"$f":"IFERROR(SUMIFS(D_D[INV],D_D[MT],2,D_D[CAT],TA_24,D_D[EP],-1, D_D[LOC],$A8),0)","v":23973},{"$f":"IFERROR(SUMIFS(D_D[BL],D_D[MT],2,D_D[CAT],TA_24,D_D[EP],-1, D_D[LOC],$A8),0)","v":9718},{"$f":"IFERROR(O8/N8,\"0%\")","v":0.40537271096650396},{"$f":"IFERROR(SUMIFS(D_D[INV],D_D[MT],2,D_D[CAT],TA_25,D_D[EP],-1, D_D[LOC],$A8),0)","v":2136},{"$f":"IFERROR(SUMIFS(D_D[INV],D_D[MT],2,D_D[CAT],TA_26,D_D[EP],-1, D_D[LOC],$A8),0)","v":642},{"$f":"IFERROR(SUMIFS(D_D[INV],D_D[MT],7,D_D[CAT],2,D_D[EP],TA_20, D_D[LOC],$A8),0)","v":174}]
["313","Baltimore",{"$f":"IFERROR(SUMIFS(D_D[INV],D_D[MT],1,D_D[CAT],TA_20,D_D[EP],-1, D_D[LOC],$A9),0)","v":298},{"$f":"IFERROR(SUMIFS(D_D[ADP],D_D[MT],1,D_D[CAT],D$1,D_D[EP],-1, D_D[LOC],$A9),0)","v":60.02},{"$f":"IFERROR(SUMIFS(D_D[INV],D_D[MT],2,D_D[CAT],TA_21,D_D[EP],-1, D_D[LOC],$A9),0)","v":6812},{"$f":"IFERROR(SUMIFS(D_D[BL],D_D[MT],2,D_D[CAT],TA_21,D_D[EP],-1, D_D[LOC],$A9),0)","v":1949},0.28611274221961247,{"$f":"IFERROR(SUMIFS(D_D[INV],D_D[MT],2,D_D[CAT],TA_22,D_D[EP],-1, D_D[LOC],$A9),0)","v":908},{"$f":"IFERROR(SUMIFS(D_D[BL],D_D[MT],2,D_D[CAT],TA_22,D_D[EP],-1, D_D[LOC],$A9),0)","v":168},0.18502202643171806,{"$f":"IFERROR(SUMIFS(D_D[INV],D_D[MT],2,D_D[CAT],TA_23,D_D[EP],-1, D_D[LOC],$A9),0)","v":25},{"$f":"IFERROR(SUMIFS(D_D[BL],D_D[MT],2,D_D[CAT],TA_23,D_D[EP],-1, D_D[LOC],$A9),0)","v":1},0.04,{"$f":"IFERROR(SUMIFS(D_D[INV],D_D[MT],2,D_D[CAT],TA_24,D_D[EP],-1, D_D[LOC],$A9),0)","v":552},{"$f":"IFERROR(SUMIFS(D_D[BL],D_D[MT],2,D_D[CAT],TA_24,D_D[EP],-1, D_D[LOC],$A9),0)","v":170},0.3079710144927536,{"$f":"IFERROR(SUMIFS(D_D[INV],D_D[MT],2,D_D[CAT],TA_25,D_D[EP],-1, D_D[LOC],$A9),0)","v":26},{"$f":"IFERROR(SUMIFS(D_D[INV],D_D[MT],2,D_D[CAT],TA_26,D_D[EP],-1, D_D[LOC],$A9),0)","v":4},{"$f":"IFERROR(SUMIFS(D_D[INV],D_D[MT],7,D_D[CAT],2,D_D[EP],TA_20, D_D[LOC],$A9),0)","v":3}]
["301","Boston",{"$f":"IFERROR(SUMIFS(D_D[INV],D_D[MT],1,D_D[CAT],TA_20,D_D[EP],-1, D_D[LOC],$A10),0)","v":93},{"$f":"IFERROR(SUMIFS(D_D[ADP],D_D[MT],1,D_D[CAT],D$1,D_D[EP],-1, D_D[LOC],$A10),0)","v":54.23},{"$f":"IFERROR(SUMIFS(D_D[INV],D_D[MT],2,D_D[CAT],TA_21,D_D[EP],-1, D_D[LOC],$A10),0)","v":2772},{"$f":"IFERROR(SUMIFS(D_D[BL],D_D[MT],2,D_D[CAT],TA_21,D_D[EP],-1, D_D[LOC],$A10),0)","v":927},{"$f":"IFERROR(F10/E10,\"0%\")","v":0.33441558441558439},{"$f":"IFERROR(SUMIFS(D_D[INV],D_D[MT],2,D_D[CAT],TA_22,D_D[EP],-1, D_D[LOC],$A10),0)","v":619},{"$f":"IFERROR(SUMIFS(D_D[BL],D_D[MT],2,D_D[CAT],TA_22,D_D[EP],-1, D_D[LOC],$A10),0)","v":133},{"$f":"IFERROR(I10/H10,\"0%\")","v":0.2148626817447496},{"$f":"IFERROR(SUMIFS(D_D[INV],D_D[MT],2,D_D[CAT],TA_23,D_D[EP],-1, D_D[LOC],$A10),0)","v":9},{"$f":"IFERROR(SUMIFS(D_D[BL],D_D[MT],2,D_D[CAT],TA_23,D_D[EP],-1, D_D[LOC],$A10),0)","v":1},{"$f":"IFERROR(L10/K10,\"0%\")","v":0.1111111111111111},{"$f":"IFERROR(SUMIFS(D_D[INV],D_D[MT],2,D_D[CAT],TA_24,D_D[EP],-1, D_D[LOC],$A10),0)","v":176},{"$f":"IFERROR(SUMIFS(D_D[BL],D_D[MT],2,D_D[CAT],TA_24,D_D[EP],-1, D_D[LOC],$A10),0)","v":125},{"$f":"IFERROR(O10/N10,\"0%\")","v":0.71022727272727271},{"$f":"IFERROR(SUMIFS(D_D[INV],D_D[MT],2,D_D[CAT],TA_25,D_D[EP],-1, D_D[LOC],$A10),0)","v":18},{"$f":"IFERROR(SUMIFS(D_D[INV],D_D[MT],2,D_D[CAT],TA_26,D_D[EP],-1, D_D[LOC],$A10),0)","v":1},{"$f":"IFERROR(SUMIFS(D_D[INV],D_D[MT],7,D_D[CAT],2,D_D[EP],TA_20, D_D[LOC],$A10),0)","v":0}]
["307","Buffalo",{"$f":"IFERROR(SUMIFS(D_D[INV],D_D[MT],1,D_D[CAT],TA_20,D_D[EP],-1, D_D[LOC],$A11),0)","v":125},{"$f":"IFERROR(SUMIFS(D_D[ADP],D_D[MT],1,D_D[CAT],D$1,D_D[EP],-1, D_D[LOC],$A11),0)","v":129.25},{"$f":"IFERROR(SUMIFS(D_D[INV],D_D[MT],2,D_D[CAT],TA_21,D_D[EP],-1, D_D[LOC],$A11),0)","v":3426},{"$f":"IFERROR(SUMIFS(D_D[BL],D_D[MT],2,D_D[CAT],TA_21,D_D[EP],-1, D_D[LOC],$A11),0)","v":1148},0.33508464681844718,{"$f":"IFERROR(SUMIFS(D_D[INV],D_D[MT],2,D_D[CAT],TA_22,D_D[EP],-1, D_D[LOC],$A11),0)","v":756},{"$f":"IFERROR(SUMIFS(D_D[BL],D_D[MT],2,D_D[CAT],TA_22,D_D[EP],-1, D_D[LOC],$A11),0)","v":193},0.25529100529100529,{"$f":"IFERROR(SUMIFS(D_D[INV],D_D[MT],2,D_D[CAT],TA_23,D_D[EP],-1, D_D[LOC],$A11),0)","v":12},{"$f":"IFERROR(SUMIFS(D_D[BL],D_D[MT],2,D_D[CAT],TA_23,D_D[EP],-1, D_D[LOC],$A11),0)","v":0},0,{"$f":"IFERROR(SUMIFS(D_D[INV],D_D[MT],2,D_D[CAT],TA_24,D_D[EP],-1, D_D[LOC],$A11),0)","v":253},{"$f":"IFERROR(SUMIFS(D_D[BL],D_D[MT],2,D_D[CAT],TA_24,D_D[EP],-1, D_D[LOC],$A11),0)","v":190},0.75098814229249011,{"$f":"IFERROR(SUMIFS(D_D[INV],D_D[MT],2,D_D[CAT],TA_25,D_D[EP],-1, D_D[LOC],$A11),0)","v":28},{"$f":"IFERROR(SUMIFS(D_D[INV],D_D[MT],2,D_D[CAT],TA_26,D_D[EP],-1, D_D[LOC],$A11),0)","v":1},{"$f":"IFERROR(SUMIFS(D_D[INV],D_D[MT],7,D_D[CAT],2,D_D[EP],TA_20, D_D[LOC],$A11),0)","v":2}]
["328","Chicago",{"$f":"IFERROR(SUMIFS(D_D[INV],D_D[MT],1,D_D[CAT],TA_20,D_D[EP],-1, D_D[LOC],$A12),0)","v":344},{"$f":"IFERROR(SUMIFS(D_D[ADP],D_D[MT],1,D_D[CAT],D$1,D_D[EP],-1, D_D[LOC],$A12),0)","v":64.8},{"$f":"IFERROR(SUMIFS(D_D[INV],D_D[MT],2,D_D[CAT],TA_21,D_D[EP],-1, D_D[LOC],$A12),0)","v":7894},{"$f":"IFERROR(SUMIFS(D_D[BL],D_D[MT],2,D_D[CAT],TA_21,D_D[EP],-1, D_D[LOC],$A12),0)","v":2602},0.32961743096022295,{"$f":"IFERROR(SUMIFS(D_D[INV],D_D[MT],2,D_D[CAT],TA_22,D_D[EP],-1, D_D[LOC],$A12),0)","v":1466},{"$f":"IFERROR(SUMIFS(D_D[BL],D_D[MT],2,D_D[CAT],TA_22,D_D[EP],-1, D_D[LOC],$A12),0)","v":293},0.19986357435197818,{"$f":"IFERROR(SUMIFS(D_D[INV],D_D[MT],2,D_D[CAT],TA_23,D_D[EP],-1, D_D[LOC],$A12),0)","v":32},{"$f":"IFERROR(SUMIFS(D_D[BL],D_D[MT],2,D_D[CAT],TA_23,D_D[EP],-1, D_D[LOC],$A12),0)","v":0},0,{"$f":"IFERROR(SUMIFS(D_D[INV],D_D[MT],2,D_D[CAT],TA_24,D_D[EP],-1, D_D[LOC],$A12),0)","v":574},{"$f":"IFERROR(SUMIFS(D_D[BL],D_D[MT],2,D_D[CAT],TA_24,D_D[EP],-1, D_D[LOC],$A12),0)","v":356},0.62020905923344949,{"$f":"IFERROR(SUMIFS(D_D[INV],D_D[MT],2,D_D[CAT],TA_25,D_D[EP],-1, D_D[LOC],$A12),0)","v":71},{"$f":"IFERROR(SUMIFS(D_D[INV],D_D[MT],2,D_D[CAT],TA_26,D_D[EP],-1, D_D[LOC],$A12),0)","v":4},{"$f":"IFERROR(SUMIFS(D_D[INV],D_D[MT],7,D_D[CAT],2,D_D[EP],TA_20, D_D[LOC],$A12),0)","v":2}]
["325","Cleveland",{"$f":"IFERROR(SUMIFS(D_D[INV],D_D[MT],1,D_D[CAT],TA_20,D_D[EP],-1, D_D[LOC],$A13),0)","v":724},{"$f":"IFERROR(SUMIFS(D_D[ADP],D_D[MT],1,D_D[CAT],D$1,D_D[EP],-1, D_D[LOC],$A13),0)","v":96.67},{"$f":"IFERROR(SUMIFS(D_D[INV],D_D[MT],2,D_D[CAT],TA_21,D_D[EP],-1, D_D[LOC],$A13),0)","v":9719},{"$f":"IFERROR(SUMIFS(D_D[BL],D_D[MT],2,D_D[CAT],TA_21,D_D[EP],-1, D_D[LOC],$A13),0)","v":3629},0.37339232431320096,{"$f":"IFERROR(SUMIFS(D_D[INV],D_D[MT],2,D_D[CAT],TA_22,D_D[EP],-1, D_D[LOC],$A13),0)","v":1951},{"$f":"IFERROR(SUMIFS(D_D[BL],D_D[MT],2,D_D[CAT],TA_22,D_D[EP],-1, D_D[LOC],$A13),0)","v":444},0.22757560225525372,{"$f":"IFERROR(SUMIFS(D_D[INV],D_D[MT],2,D_D[CAT],TA_23,D_D[EP],-1, D_D[LOC],$A13),0)","v":31},{"$f":"IFERROR(SUMIFS(D_D[BL],D_D[MT],2,D_D[CAT],TA_23,D_D[EP],-1, D_D[LOC],$A13),0)","v":3},9.6774193548387094E-2,{"$f":"IFERROR(SUMIFS(D_D[INV],D_D[MT],2,D_D[CAT],TA_24,D_D[EP],-1, D_D[LOC],$A13),0)","v":2058},{"$f":"IFERROR(SUMIFS(D_D[BL],D_D[MT],2,D_D[CAT],TA_24,D_D[EP],-1, D_D[LOC],$A13),0)","v":1623},0.78862973760932942,{"$f":"IFERROR(SUMIFS(D_D[INV],D_D[MT],2,D_D[CAT],TA_25,D_D[EP],-1, D_D[LOC],$A13),0)","v":80},{"$f":"IFERROR(SUMIFS(D_D[INV],D_D[MT],2,D_D[CAT],TA_26,D_D[EP],-1, D_D[LOC],$A13),0)","v":10},{"$f":"IFERROR(SUMIFS(D_D[INV],D_D[MT],7,D_D[CAT],2,D_D[EP],TA_20, D_D[LOC],$A13),0)","v":1}]
["329","Detroit",{"$f":"IFERROR(SUMIFS(D_D[INV],D_D[MT],1,D_D[CAT],TA_20,D_D[EP],-1, D_D[LOC],$A14),0)","v":1532},{"$f":"IFERROR(SUMIFS(D_D[ADP],D_D[MT],1,D_D[CAT],D$1,D_D[EP],-1, D_D[LOC],$A14),0)","v":67.27},{"$f":"IFERROR(SUMIFS(D_D[INV],D_D[MT],2,D_D[CAT],TA_21,D_D[EP],-1, D_D[LOC],$A14),0)","v":6337},{"$f":"IFERROR(SUMIFS(D_D[BL],D_D[MT],2,D_D[CAT],TA_21,D_D[EP],-1, D_D[LOC],$A14),0)","v":2229},0.35174372731576453,{"$f":"IFERROR(SUMIFS(D_D[INV],D_D[MT],2,D_D[CAT],TA_22,D_D[EP],-1, D_D[LOC],$A14),0)","v":6290},{"$f":"IFERROR(SUMIFS(D_D[BL],D_D[MT],2,D_D[CAT],TA_22,D_D[EP],-1, D_D[LOC],$A14),0)","v":1143},0.18171701112877583,{"$f":"IFERROR(SUMIFS(D_D[INV],D_D[MT],2,D_D[CAT],TA_23,D_D[EP],-1, D_D[LOC],$A14),0)","v":44},{"$f":"IFERROR(SUMIFS(D_D[BL],D_D[MT],2,D_D[CAT],TA_23,D_D[EP],-1, D_D[LOC],$A14),0)","v":6},0.13636363636363635,{"$f":"IFERROR(SUMIFS(D_D[INV],D_D[MT],2,D_D[CAT],TA_24,D_D[EP],-1, D_D[LOC],$A14),0)","v":853},{"$f":"IFERROR(SUMIFS(D_D[BL],D_D[MT],2,D_D[CAT],TA_24,D_D[EP],-1, D_D[LOC],$A14),0)","v":453},0.53106682297772567,{"$f":"IFERROR(SUMIFS(D_D[INV],D_D[MT],2,D_D[CAT],TA_25,D_D[EP],-1, D_D[LOC],$A14),0)","v":65},{"$f":"IFERROR(SUMIFS(D_D[INV],D_D[MT],2,D_D[CAT],TA_26,D_D[EP],-1, D_D[LOC],$A14),0)","v":5},{"$f":"IFERROR(SUMIFS(D_D[INV],D_D[MT],7,D_D[CAT],2,D_D[EP],TA_20, D_D[LOC],$A14),0)","v":2}]
["308","Hartford",{"$f":"IFERROR(SUMIFS(D_D[INV],D_D[MT],1,D_D[CAT],TA_20,D_D[EP],-1, D_D[LOC],$A15),0)","v":67},{"$f":"IFERROR(SUMIFS(D_D[ADP],D_D[MT],1,D_D[CAT],D$1,D_D[EP],-1, D_D[LOC],$A15),0)","v":68.930000000000007},{"$f":"IFERROR(SUMIFS(D_D[INV],D_D[MT],2,D_D[CAT],TA_21,D_D[EP],-1, D_D[LOC],$A15),0)","v":1959},{"$f":"IFERROR(SUMIFS(D_D[BL],D_D[MT],2,D_D[CAT],TA_21,D_D[EP],-1, D_D[LOC],$A15),0)","v":745},0.38029606942317506,{"$f":"IFERROR(SUMIFS(D_D[INV],D_D[MT],2,D_D[CAT],TA_22,D_D[EP],-1, D_D[LOC],$A15),0)","v":487},{"$f":"IFERROR(SUMIFS(D_D[BL],D_D[MT],2,D_D[CAT],TA_22,D_D[EP],-1, D_D[LOC],$A15),0)","v":133},0.2731006160164271,{"$f":"IFERROR(SUMIFS(D_D[INV],D_D[MT],2,D_D[CAT],TA_23,D_D[EP],-1, D_D[LOC],$A15),0)","v":10},{"$f":"IFERROR(SUMIFS(D_D[BL],D_D[MT],2,D_D[CAT],TA_23,D_D[EP],-1, D_D[LOC],$A15),0)","v":0},0,{"$f":"IFERROR(SUMIFS(D_D[INV],D_D[MT],2,D_D[CAT],TA_24,D_D[EP],-1, D_D[LOC],$A15),0)","v":245},{"$f":"IFERROR(SUMIFS(D_D[BL],D_D[MT],2,D_D[CAT],TA_24,D_D[EP],-1, D_D[LOC],$A15),0)","v":131},0.53469387755102038,{"$f":"IFERROR(SUMIFS(D_D[INV],D_D[MT],2,D_D[CAT],TA_25,D_D[EP],-1, D_D[LOC],$A15),0)","v":11},{"$f":"IFERROR(SUMIFS(D_D[INV],D_D[MT],2,D_D[CAT],TA_26,D_D[EP],-1, D_D[LOC],$A15),0)","v":1},{"$f":"IFERROR(SUMIFS(D_D[INV],D_D[MT],7,D_D[CAT],2,D_D[EP],TA_20, D_D[LOC],$A15),0)","v":0}]
["326","Indianapolis",{"$f":"IFERROR(SUMIFS(D_D[INV],D_D[MT],1,D_D[CAT],TA_20,D_D[EP],-1, D_D[LOC],$A16),0)","v":3923},{"$f":"IFERROR(SUMIFS(D_D[ADP],D_D[MT],1,D_D[CAT],D$1,D_D[EP],-1, D_D[LOC],$A16),0)","v":75.06},{"$f":"IFERROR(SUMIFS(D_D[INV],D_D[MT],2,D_D[CAT],TA_21,D_D[EP],-1, D_D[LOC],$A16),0)","v":5695},{"$f":"IFERROR(SUMIFS(D_D[BL],D_D[MT],2,D_D[CAT],TA_21,D_D[EP],-1, D_D[LOC],$A16),0)","v":1963},0.34468832309043018,{"$f":"IFERROR(SUMIFS(D_D[INV],D_D[MT],2,D_D[CAT],TA_22,D_D[EP],-1, D_D[LOC],$A16),0)","v":4870},{"$f":"IFERROR(SUMIFS(D_D[BL],D_D[MT],2,D_D[CAT],TA_22,D_D[EP],-1, D_D[LOC],$A16),0)","v":1034},0.21232032854209446,{"$f":"IFERROR(SUMIFS(D_D[INV],D_D[MT],2,D_D[CAT],TA_23,D_D[EP],-1, D_D[LOC],$A16),0)","v":24},{"$f":"IFERROR(SUMIFS(D_D[BL],D_D[MT],2,D_D[CAT],TA_23,D_D[EP],-1, D_D[LOC],$A16),0)","v":2},8.3333333333333329E-2,{"$f":"IFERROR(SUMIFS(D_D[INV],D_D[MT],2,D_D[CAT],TA_24,D_D[EP],-1, D_D[LOC],$A16),0)","v":455},{"$f":"IFERROR(SUMIFS(D_D[BL],D_D[MT],2,D_D[CAT],TA_24,D_D[EP],-1, D_D[LOC],$A16),0)","v":305},0.67032967032967028,{"$f":"IFERROR(SUMIFS(D_D[INV],D_D[MT],2,D_D[CAT],TA_25,D_D[EP],-1, D_D[LOC],$A16),0)","v":41},{"$f":"IFERROR(SUMIFS(D_D[INV],D_D[MT],2,D_D[CAT],TA_26,D_D[EP],-1, D_D[LOC],$A16),0)","v":9},{"$f":"IFERROR(SUMIFS(D_D[INV],D_D[MT],7,D_D[CAT],2,D_D[EP],TA_20, D_D[LOC],$A16),0)","v":0}]
["373","Manchester",{"$f":"IFERROR(SUMIFS(D_D[INV],D_D[MT],1,D_D[CAT],TA_20,D_D[EP],-1, D_D[LOC],$A17),0)","v":119},{"$f":"IFERROR(SUMIFS(D_D[ADP],D_D[MT],1,D_D[CAT],D$1,D_D[EP],-1, D_D[LOC],$A17),0)","v":94.73},{"$f":"IFERROR(SUMIFS(D_D[INV],D_D[MT],2,D_D[CAT],TA_21,D_D[EP],-1, D_D[LOC],$A17),0)","v":1023},{"$f":"IFERROR(SUMIFS(D_D[BL],D_D[MT],2,D_D[CAT],TA_21,D_D[EP],-1, D_D[LOC],$A17),0)","v":341},0.33333333333333331,{"$f":"IFERROR(SUMIFS(D_D[INV],D_D[MT],2,D_D[CAT],TA_22,D_D[EP],-1, D_D[LOC],$A17),0)","v":333},{"$f":"IFERROR(SUMIFS(D_D[BL],D_D[MT],2,D_D[CAT],TA_22,D_D[EP],-1, D_D[LOC],$A17),0)","v":76},0.22822822822822822,{"$f":"IFERROR(SUMIFS(D_D[INV],D_D[MT],2,D_D[CAT],TA_23,D_D[EP],-1, D_D[LOC],$A17),0)","v":6},{"$f":"IFERROR(SUMIFS(D_D[BL],D_D[MT],2,D_D[CAT],TA_23,D_D[EP],-1, D_D[LOC],$A17),0)","v":0},0,{"$f":"IFERROR(SUMIFS(D_D[INV],D_D[MT],2,D_D[CAT],TA_24,D_D[EP],-1, D_D[LOC],$A17),0)","v":122},{"$f":"IFERROR(SUMIFS(D_D[BL],D_D[MT],2,D_D[CAT],TA_24,D_D[EP],-1, D_D[LOC],$A17),0)","v":72},0.5901639344262295,{"$f":"IFERROR(SUMIFS(D_D[INV],D_D[MT],2,D_D[CAT],TA_25,D_D[EP],-1, D_D[LOC],$A17),0)","v":10},{"$f":"IFERROR(SUMIFS(D_D[INV],D_D[MT],2,D_D[CAT],TA_26,D_D[EP],-1, D_D[LOC],$A17),0)","v":0},{"$f":"IFERROR(SUMIFS(D_D[INV],D_D[MT],7,D_D[CAT],2,D_D[EP],TA_20, D_D[LOC],$A17),0)","v":0}]
["330","Milwaukee",{"$f":"IFERROR(SUMIFS(D_D[INV],D_D[MT],1,D_D[CAT],TA_20,D_D[EP],-1, D_D[LOC],$A18),0)","v":3001},{"$f":"IFERROR(SUMIFS(D_D[ADP],D_D[MT],1,D_D[CAT],D$1,D_D[EP],-1, D_D[LOC],$A18),0)","v":60.07},{"$f":"IFERROR(SUMIFS(D_D[INV],D_D[MT],2,D_D[CAT],TA_21,D_D[EP],-1, D_D[LOC],$A18),0)","v":6794},{"$f":"IFERROR(SUMIFS(D_D[BL],D_D[MT],2,D_D[CAT],TA_21,D_D[EP],-1, D_D[LOC],$A18),0)","v":2753},0.40521047983514868,{"$f":"IFERROR(SUMIFS(D_D[INV],D_D[MT],2,D_D[CAT],TA_22,D_D[EP],-1, D_D[LOC],$A18),0)","v":17121},{"$f":"IFERROR(SUMIFS(D_D[BL],D_D[MT],2,D_D[CAT],TA_22,D_D[EP],-1, D_D[LOC],$A18),0)","v":1629},9.5146311547222709E-2,{"$f":"IFERROR(SUMIFS(D_D[INV],D_D[MT],2,D_D[CAT],TA_23,D_D[EP],-1, D_D[LOC],$A18),0)","v":49},{"$f":"IFERROR(SUMIFS(D_D[BL],D_D[MT],2,D_D[CAT],TA_23,D_D[EP],-1, D_D[LOC],$A18),0)","v":3},6.1224489795918366E-2,{"$f":"IFERROR(SUMIFS(D_D[INV],D_D[MT],2,D_D[CAT],TA_24,D_D[EP],-1, D_D[LOC],$A18),0)","v":1330},{"$f":"IFERROR(SUMIFS(D_D[BL],D_D[MT],2,D_D[CAT],TA_24,D_D[EP],-1, D_D[LOC],$A18),0)","v":927},0.6969924812030075,{"$f":"IFERROR(SUMIFS(D_D[INV],D_D[MT],2,D_D[CAT],TA_25,D_D[EP],-1, D_D[LOC],$A18),0)","v":663},{"$f":"IFERROR(SUMIFS(D_D[INV],D_D[MT],2,D_D[CAT],TA_26,D_D[EP],-1, D_D[LOC],$A18),0)","v":0},{"$f":"IFERROR(SUMIFS(D_D[INV],D_D[MT],7,D_D[CAT],2,D_D[EP],TA_20, D_D[LOC],$A18),0)","v":1}]
["306","New York",{"$f":"IFERROR(SUMIFS(D_D[INV],D_D[MT],1,D_D[CAT],TA_20,D_D[EP],-1, D_D[LOC],$A19),0)","v":236},{"$f":"IFERROR(SUMIFS(D_D[ADP],D_D[MT],1,D_D[CAT],D$1,D_D[EP],-1, D_D[LOC],$A19),0)","v":75.14},{"$f":"IFERROR(SUMIFS(D_D[INV],D_D[MT],2,D_D[CAT],TA_21,D_D[EP],-1, D_D[LOC],$A19),0)","v":5168},{"$f":"IFERROR(SUMIFS(D_D[BL],D_D[MT],2,D_D[CAT],TA_21,D_D[EP],-1, D_D[LOC],$A19),0)","v":1751},0.33881578947368424,{"$f":"IFERROR(SUMIFS(D_D[INV],D_D[MT],2,D_D[CAT],TA_22,D_D[EP],-1, D_D[LOC],$A19),0)","v":1169},{"$f":"IFERROR(SUMIFS(D_D[BL],D_D[MT],2,D_D[CAT],TA_22,D_D[EP],-1, D_D[LOC],$A19),0)","v":258},0.22070145423438836,{"$f":"IFERROR(SUMIFS(D_D[INV],D_D[MT],2,D_D[CAT],TA_23,D_D[EP],-1, D_D[LOC],$A19),0)","v":31},{"$f":"IFERROR(SUMIFS(D_D[BL],D_D[MT],2,D_D[CAT],TA_23,D_D[EP],-1, D_D[LOC],$A19),0)","v":2},6.4516129032258063E-2,{"$f":"IFERROR(SUMIFS(D_D[INV],D_D[MT],2,D_D[CAT],TA_24,D_D[EP],-1, D_D[LOC],$A19),0)","v":323},{"$f":"IFERROR(SUMIFS(D_D[BL],D_D[MT],2,D_D[CAT],TA_24,D_D[EP],-1, D_D[LOC],$A19),0)","v":169},0.52321981424148611,{"$f":"IFERROR(SUMIFS(D_D[INV],D_D[MT],2,D_D[CAT],TA_25,D_D[EP],-1, D_D[LOC],$A19),0)","v":48},{"$f":"IFERROR(SUMIFS(D_D[INV],D_D[MT],2,D_D[CAT],TA_26,D_D[EP],-1, D_D[LOC],$A19),0)","v":2},{"$f":"IFERROR(SUMIFS(D_D[INV],D_D[MT],7,D_D[CAT],2,D_D[EP],TA_20, D_D[LOC],$A19),0)","v":1}]
["309","Newark",{"$f":"IFERROR(SUMIFS(D_D[INV],D_D[MT],1,D_D[CAT],TA_20,D_D[EP],-1, D_D[LOC],$A20),0)","v":132},{"$f":"IFERROR(SUMIFS(D_D[ADP],D_D[MT],1,D_D[CAT],D$1,D_D[EP],-1, D_D[LOC],$A20),0)","v":52.86},{"$f":"IFERROR(SUMIFS(D_D[INV],D_D[MT],2,D_D[CAT],TA_21,D_D[EP],-1, D_D[LOC],$A20),0)","v":3254},{"$f":"IFERROR(SUMIFS(D_D[BL],D_D[MT],2,D_D[CAT],TA_21,D_D[EP],-1, D_D[LOC],$A20),0)","v":1138},0.34972341733251383,{"$f":"IFERROR(SUMIFS(D_D[INV],D_D[MT],2,D_D[CAT],TA_22,D_D[EP],-1, D_D[LOC],$A20),0)","v":605},{"$f":"IFERROR(SUMIFS(D_D[BL],D_D[MT],2,D_D[CAT],TA_22,D_D[EP],-1, D_D[LOC],$A20),0)","v":126},0.20826446280991737,{"$f":"IFERROR(SUMIFS(D_D[INV],D_D[MT],2,D_D[CAT],TA_23,D_D[EP],-1, D_D[LOC],$A20),0)","v":18},{"$f":"IFERROR(SUMIFS(D_D[BL],D_D[MT],2,D_D[CAT],TA_23,D_D[EP],-1, D_D[LOC],$A20),0)","v":0},0,{"$f":"IFERROR(SUMIFS(D_D[INV],D_D[MT],2,D_D[CAT],TA_24,D_D[EP],-1, D_D[LOC],$A20),0)","v":184},{"$f":"IFERROR(SUMIFS(D_D[BL],D_D[MT],2,D_D[CAT],TA_24,D_D[EP],-1, D_D[LOC],$A20),0)","v":121},0.65760869565217395,{"$f":"IFERROR(SUMIFS(D_D[INV],D_D[MT],2,D_D[CAT],TA_25,D_D[EP],-1, D_D[LOC],$A20),0)","v":20},{"$f":"IFERROR(SUMIFS(D_D[INV],D_D[MT],2,D_D[CAT],TA_26,D_D[EP],-1, D_D[LOC],$A20),0)","v":3},{"$f":"IFERROR(SUMIFS(D_D[INV],D_D[MT],7,D_D[CAT],2,D_D[EP],TA_20, D_D[LOC],$A20),0)","v":2}]
["310","Philadelphia",{"$f":"IFERROR(SUMIFS(D_D[INV],D_D[MT],1,D_D[CAT],TA_20,D_D[EP],-1, D_D[LOC],$A21),0)","v":650},{"$f":"IFERROR(SUMIFS(D_D[ADP],D_D[MT],1,D_D[CAT],D$1,D_D[EP],-1, D_D[LOC],$A21),0)","v":85.49},{"$f":"IFERROR(SUMIFS(D_D[INV],D_D[MT],2,D_D[CAT],TA_21,D_D[EP],-1, D_D[LOC],$A21),0)","v":8454},{"$f":"IFERROR(SUMIFS(D_D[BL],D_D[MT],2,D_D[CAT],TA_21,D_D[EP],-1, D_D[LOC],$A21),0)","v":3181},0.37627158741424177,{"$f":"IFERROR(SUMIFS(D_D[INV],D_D[MT],2,D_D[CAT],TA_22,D_D[EP],-1, D_D[LOC],$A21),0)","v":10441},{"$f":"IFERROR(SUMIFS(D_D[BL],D_D[MT],2,D_D[CAT],TA_22,D_D[EP],-1, D_D[LOC],$A21),0)","v":953},9.1274782108993396E-2,{"$f":"IFERROR(SUMIFS(D_D[INV],D_D[MT],2,D_D[CAT],TA_23,D_D[EP],-1, D_D[LOC],$A21),0)","v":50},{"$f":"IFERROR(SUMIFS(D_D[BL],D_D[MT],2,D_D[CAT],TA_23,D_D[EP],-1, D_D[LOC],$A21),0)","v":2},0.04,{"$f":"IFERROR(SUMIFS(D_D[INV],D_D[MT],2,D_D[CAT],TA_24,D_D[EP],-1, D_D[LOC],$A21),0)","v":1420},{"$f":"IFERROR(SUMIFS(D_D[BL],D_D[MT],2,D_D[CAT],TA_24,D_D[EP],-1, D_D[LOC],$A21),0)","v":1166},0.8211267605633803,{"$f":"IFERROR(SUMIFS(D_D[INV],D_D[MT],2,D_D[CAT],TA_25,D_D[EP],-1, D_D[LOC],$A21),0)","v":730},{"$f":"IFERROR(SUMIFS(D_D[INV],D_D[MT],2,D_D[CAT],TA_26,D_D[EP],-1, D_D[LOC],$A21),0)","v":0},{"$f":"IFERROR(SUMIFS(D_D[INV],D_D[MT],7,D_D[CAT],2,D_D[EP],TA_20, D_D[LOC],$A21),0)","v":9}]
["311","Pittsburgh",{"$f":"IFERROR(SUMIFS(D_D[INV],D_D[MT],1,D_D[CAT],TA_20,D_D[EP],-1, D_D[LOC],$A22),0)","v":272},{"$f":"IFERROR(SUMIFS(D_D[ADP],D_D[MT],1,D_D[CAT],D$1,D_D[EP],-1, D_D[LOC],$A22),0)","v":82.34},{"$f":"IFERROR(SUMIFS(D_D[INV],D_D[MT],2,D_D[CAT],TA_21,D_D[EP],-1, D_D[LOC],$A22),0)","v":6157},{"$f":"IFERROR(SUMIFS(D_D[BL],D_D[MT],2,D_D[CAT],TA_21,D_D[EP],-1, D_D[LOC],$A22),0)","v":2227},0.36170212765957449,{"$f":"IFERROR(SUMIFS(D_D[INV],D_D[MT],2,D_D[CAT],TA_22,D_D[EP],-1, D_D[LOC],$A22),0)","v":1011},{"$f":"IFERROR(SUMIFS(D_D[BL],D_D[MT],2,D_D[CAT],TA_22,D_D[EP],-1, D_D[LOC],$A22),0)","v":202},0.19980217606330367,{"$f":"IFERROR(SUMIFS(D_D[INV],D_D[MT],2,D_D[CAT],TA_23,D_D[EP],-1, D_D[LOC],$A22),0)","v":23},{"$f":"IFERROR(SUMIFS(D_D[BL],D_D[MT],2,D_D[CAT],TA_23,D_D[EP],-1, D_D[LOC],$A22),0)","v":2},8.6956521739130432E-2,{"$f":"IFERROR(SUMIFS(D_D[INV],D_D[MT],2,D_D[CAT],TA_24,D_D[EP],-1, D_D[LOC],$A22),0)","v":434},{"$f":"IFERROR(SUMIFS(D_D[BL],D_D[MT],2,D_D[CAT],TA_24,D_D[EP],-1, D_D[LOC],$A22),0)","v":208},0.47926267281105989,{"$f":"IFERROR(SUMIFS(D_D[INV],D_D[MT],2,D_D[CAT],TA_25,D_D[EP],-1, D_D[LOC],$A22),0)","v":39},{"$f":"IFERROR(SUMIFS(D_D[INV],D_D[MT],2,D_D[CAT],TA_26,D_D[EP],-1, D_D[LOC],$A22),0)","v":0},{"$f":"IFERROR(SUMIFS(D_D[INV],D_D[MT],7,D_D[CAT],2,D_D[EP],TA_20, D_D[LOC],$A22),0)","v":150}]
["304","Providence",{"$f":"IFERROR(SUMIFS(D_D[INV],D_D[MT],1,D_D[CAT],TA_20,D_D[EP],-1, D_D[LOC],$A23),0)","v":337},{"$f":"IFERROR(SUMIFS(D_D[ADP],D_D[MT],1,D_D[CAT],D$1,D_D[EP],-1, D_D[LOC],$A23),0)","v":60.55},{"$f":"IFERROR(SUMIFS(D_D[INV],D_D[MT],2,D_D[CAT],TA_21,D_D[EP],-1, D_D[LOC],$A23),0)","v":2165},{"$f":"IFERROR(SUMIFS(D_D[BL],D_D[MT],2,D_D[CAT],TA_21,D_D[EP],-1, D_D[LOC],$A23),0)","v":611},0.28221709006928408,{"$f":"IFERROR(SUMIFS(D_D[INV],D_D[MT],2,D_D[CAT],TA_22,D_D[EP],-1, D_D[LOC],$A23),0)","v":871},{"$f":"IFERROR(SUMIFS(D_D[BL],D_D[MT],2,D_D[CAT],TA_22,D_D[EP],-1, D_D[LOC],$A23),0)","v":191},0.21928817451205512,{"$f":"IFERROR(SUMIFS(D_D[INV],D_D[MT],2,D_D[CAT],TA_23,D_D[EP],-1, D_D[LOC],$A23),0)","v":10},{"$f":"IFERROR(SUMIFS(D_D[BL],D_D[MT],2,D_D[CAT],TA_23,D_D[EP],-1, D_D[LOC],$A23),0)","v":0},0,{"$f":"IFERROR(SUMIFS(D_D[INV],D_D[MT],2,D_D[CAT],TA_24,D_D[EP],-1, D_D[LOC],$A23),0)","v":242},{"$f":"IFERROR(SUMIFS(D_D[BL],D_D[MT],2,D_D[CAT],TA_24,D_D[EP],-1, D_D[LOC],$A23),0)","v":157},0.64876033057851235,{"$f":"IFERROR(SUMIFS(D_D[INV],D_D[MT],2,D_D[CAT],TA_25,D_D[EP],-1, D_D[LOC],$A23),0)","v":10},{"$f":"IFERROR(SUMIFS(D_D[INV],D_D[MT],2,D_D[CAT],TA_26,D_D[EP],-1, D_D[LOC],$A23),0)","v":3},{"$f":"IFERROR(SUMIFS(D_D[INV],D_D[MT],7,D_D[CAT],2,D_D[EP],TA_20, D_D[LOC],$A23),0)","v":0}]
["376","St. Louis RMC",{"$f":"IFERROR(SUMIFS(D_D[INV],D_D[MT],1,D_D[CAT],TA_20,D_D[EP],-1, D_D[LOC],$A24),0)","v":2},{"$f":"IFERROR(SUMIFS(D_D[ADP],D_D[MT],1,D_D[CAT],D$1,D_D[EP],-1, D_D[LOC],$A24),0)","v":249},{"$f":"IFERROR(SUMIFS(D_D[INV],D_D[MT],2,D_D[CAT],TA_21,D_D[EP],-1, D_D[LOC],$A24),0)","v":468},{"$f":"IFERROR(SUMIFS(D_D[BL],D_D[MT],2,D_D[CAT],TA_21,D_D[EP],-1, D_D[LOC],$A24),0)","v":464},0.99145299145299148,{"$f":"IFERROR(SUMIFS(D_D[INV],D_D[MT],2,D_D[CAT],TA_22,D_D[EP],-1, D_D[LOC],$A24),0)","v":2},{"$f":"IFERROR(SUMIFS(D_D[BL],D_D[MT],2,D_D[CAT],TA_22,D_D[EP],-1, D_D[LOC],$A24),0)","v":2},1,{"$f":"IFERROR(SUMIFS(D_D[INV],D_D[MT],2,D_D[CAT],TA_23,D_D[EP],-1, D_D[LOC],$A24),0)","v":0},{"$f":"IFERROR(SUMIFS(D_D[BL],D_D[MT],2,D_D[CAT],TA_23,D_D[EP],-1, D_D[LOC],$A24),0)","v":0},"0%",{"$f":"IFERROR(SUMIFS(D_D[INV],D_D[MT],2,D_D[CAT],TA_24,D_D[EP],-1, D_D[LOC],$A24),0)","v":12759},{"$f":"IFERROR(SUMIFS(D_D[BL],D_D[MT],2,D_D[CAT],TA_24,D_D[EP],-1, D_D[LOC],$A24),0)","v":1878},0.1471902186691747,{"$f":"IFERROR(SUMIFS(D_D[INV],D_D[MT],2,D_D[CAT],TA_25,D_D[EP],-1, D_D[LOC],$A24),0)","v":5},{"$f":"IFERROR(SUMIFS(D_D[INV],D_D[MT],2,D_D[CAT],TA_26,D_D[EP],-1, D_D[LOC],$A24),0)","v":0},{"$f":"IFERROR(SUMIFS(D_D[INV],D_D[MT],7,D_D[CAT],2,D_D[EP],TA_20, D_D[LOC],$A24),0)","v":0}]
["331","St. Louis",{"$f":"IFERROR(SUMIFS(D_D[INV],D_D[MT],1,D_D[CAT],TA_20,D_D[EP],-1, D_D[LOC],$A25),0)","v":472},{"$f":"IFERROR(SUMIFS(D_D[ADP],D_D[MT],1,D_D[CAT],D$1,D_D[EP],-1, D_D[LOC],$A25),0)","v":93.85},{"$f":"IFERROR(SUMIFS(D_D[INV],D_D[MT],2,D_D[CAT],TA_21,D_D[EP],-1, D_D[LOC],$A25),0)","v":6479},{"$f":"IFERROR(SUMIFS(D_D[BL],D_D[MT],2,D_D[CAT],TA_21,D_D[EP],-1, D_D[LOC],$A25),0)","v":2280},0.35190615835777128,{"$f":"IFERROR(SUMIFS(D_D[INV],D_D[MT],2,D_D[CAT],TA_22,D_D[EP],-1, D_D[LOC],$A25),0)","v":1247},{"$f":"IFERROR(SUMIFS(D_D[BL],D_D[MT],2,D_D[CAT],TA_22,D_D[EP],-1, D_D[LOC],$A25),0)","v":290},0.23255813953488372,{"$f":"IFERROR(SUMIFS(D_D[INV],D_D[MT],2,D_D[CAT],TA_23,D_D[EP],-1, D_D[LOC],$A25),0)","v":26},{"$f":"IFERROR(SUMIFS(D_D[BL],D_D[MT],2,D_D[CAT],TA_23,D_D[EP],-1, D_D[LOC],$A25),0)","v":0},0,{"$f":"IFERROR(SUMIFS(D_D[INV],D_D[MT],2,D_D[CAT],TA_24,D_D[EP],-1, D_D[LOC],$A25),0)","v":1263},{"$f":"IFERROR(SUMIFS(D_D[BL],D_D[MT],2,D_D[CAT],TA_24,D_D[EP],-1, D_D[LOC],$A25),0)","v":1016},0.80443388756927947,{"$f":"IFERROR(SUMIFS(D_D[INV],D_D[MT],2,D_D[CAT],TA_25,D_D[EP],-1, D_D[LOC],$A25),0)","v":51},{"$f":"IFERROR(SUMIFS(D_D[INV],D_D[MT],2,D_D[CAT],TA_26,D_D[EP],-1, D_D[LOC],$A25),0)","v":3},{"$f":"IFERROR(SUMIFS(D_D[INV],D_D[MT],7,D_D[CAT],2,D_D[EP],TA_20, D_D[LOC],$A25),0)","v":1}]
["402","Togus",{"$f":"IFERROR(SUMIFS(D_D[INV],D_D[MT],1,D_D[CAT],TA_20,D_D[EP],-1, D_D[LOC],$A26),0)","v":97},{"$f":"IFERROR(SUMIFS(D_D[ADP],D_D[MT],1,D_D[CAT],D$1,D_D[EP],-1, D_D[LOC],$A26),0)","v":109.82},{"$f":"IFERROR(SUMIFS(D_D[INV],D_D[MT],2,D_D[CAT],TA_21,D_D[EP],-1, D_D[LOC],$A26),0)","v":1450},{"$f":"IFERROR(SUMIFS(D_D[BL],D_D[MT],2,D_D[CAT],TA_21,D_D[EP],-1, D_D[LOC],$A26),0)","v":520},0.35862068965517241,{"$f":"IFERROR(SUMIFS(D_D[INV],D_D[MT],2,D_D[CAT],TA_22,D_D[EP],-1, D_D[LOC],$A26),0)","v":409},{"$f":"IFERROR(SUMIFS(D_D[BL],D_D[MT],2,D_D[CAT],TA_22,D_D[EP],-1, D_D[LOC],$A26),0)","v":155},0.37897310513447435,{"$f":"IFERROR(SUMIFS(D_D[INV],D_D[MT],2,D_D[CAT],TA_23,D_D[EP],-1, D_D[LOC],$A26),0)","v":4},{"$f":"IFERROR(SUMIFS(D_D[BL],D_D[MT],2,D_D[CAT],TA_23,D_D[EP],-1, D_D[LOC],$A26),0)","v":0},0,{"$f":"IFERROR(SUMIFS(D_D[INV],D_D[MT],2,D_D[CAT],TA_24,D_D[EP],-1, D_D[LOC],$A26),0)","v":650},{"$f":"IFERROR(SUMIFS(D_D[BL],D_D[MT],2,D_D[CAT],TA_24,D_D[EP],-1, D_D[LOC],$A26),0)","v":597},0.91846153846153844,{"$f":"IFERROR(SUMIFS(D_D[INV],D_D[MT],2,D_D[CAT],TA_25,D_D[EP],-1, D_D[LOC],$A26),0)","v":211},{"$f":"IFERROR(SUMIFS(D_D[INV],D_D[MT],2,D_D[CAT],TA_26,D_D[EP],-1, D_D[LOC],$A26),0)","v":593},{"$f":"IFERROR(SUMIFS(D_D[INV],D_D[MT],7,D_D[CAT],2,D_D[EP],TA_20, D_D[LOC],$A26),0)","v":0}]
["372","Washington",{"$f":"IFERROR(SUMIFS(D_D[INV],D_D[MT],1,D_D[CAT],TA_20,D_D[EP],-1, D_D[LOC],$A27),0)","v":222},{"$f":"IFERROR(SUMIFS(D_D[ADP],D_D[MT],1,D_D[CAT],D$1,D_D[EP],-1, D_D[LOC],$A27),0)","v":3043.83},{"$f":"IFERROR(SUMIFS(D_D[INV],D_D[MT],2,D_D[CAT],TA_21,D_D[EP],-1, D_D[LOC],$A27),0)","v":235},{"$f":"IFERROR(SUMIFS(D_D[BL],D_D[MT],2,D_D[CAT],TA_21,D_D[EP],-1, D_D[LOC],$A27),0)","v":70},0.2978723404255319,{"$f":"IFERROR(SUMIFS(D_D[INV],D_D[MT],2,D_D[CAT],TA_22,D_D[EP],-1, D_D[LOC],$A27),0)","v":286},{"$f":"IFERROR(SUMIFS(D_D[BL],D_D[MT],2,D_D[CAT],TA_22,D_D[EP],-1, D_D[LOC],$A27),0)","v":28},9.7902097902097904E-2,{"$f":"IFERROR(SUMIFS(D_D[INV],D_D[MT],2,D_D[CAT],TA_23,D_D[EP],-1, D_D[LOC],$A27),0)","v":2},{"$f":"IFERROR(SUMIFS(D_D[BL],D_D[MT],2,D_D[CAT],TA_23,D_D[EP],-1, D_D[LOC],$A27),0)","v":0},0,{"$f":"IFERROR(SUMIFS(D_D[INV],D_D[MT],2,D_D[CAT],TA_24,D_D[EP],-1, D_D[LOC],$A27),0)","v":13},{"$f":"IFERROR(SUMIFS(D_D[BL],D_D[MT],2,D_D[CAT],TA_24,D_D[EP],-1, D_D[LOC],$A27),0)","v":5},0.38461538461538464,{"$f":"IFERROR(SUMIFS(D_D[INV],D_D[MT],2,D_D[CAT],TA_25,D_D[EP],-1, D_D[LOC],$A27),0)","v":0},{"$f":"IFERROR(SUMIFS(D_D[INV],D_D[MT],2,D_D[CAT],TA_26,D_D[EP],-1, D_D[LOC],$A27),0)","v":0},{"$f":"IFERROR(SUMIFS(D_D[INV],D_D[MT],7,D_D[CAT],2,D_D[EP],TA_20, D_D[LOC],$A27),0)","v":0}]
["405","White River Junction",{"$f":"IFERROR(SUMIFS(D_D[INV],D_D[MT],1,D_D[CAT],TA_20,D_D[EP],-1, D_D[LOC],$A28),0)","v":25},{"$f":"IFERROR(SUMIFS(D_D[ADP],D_D[MT],1,D_D[CAT],D$1,D_D[EP],-1, D_D[LOC],$A28),0)","v":92.16},{"$f":"IFERROR(SUMIFS(D_D[INV],D_D[MT],2,D_D[CAT],TA_21,D_D[EP],-1, D_D[LOC],$A28),0)","v":386},{"$f":"IFERROR(SUMIFS(D_D[BL],D_D[MT],2,D_D[CAT],TA_21,D_D[EP],-1, D_D[LOC],$A28),0)","v":143},0.3704663212435233,{"$f":"IFERROR(SUMIFS(D_D[INV],D_D[MT],2,D_D[CAT],TA_22,D_D[EP],-1, D_D[LOC],$A28),0)","v":131},{"$f":"IFERROR(SUMIFS(D_D[BL],D_D[MT],2,D_D[CAT],TA_22,D_D[EP],-1, D_D[LOC],$A28),0)","v":33},0.25190839694656486,{"$f":"IFERROR(SUMIFS(D_D[INV],D_D[MT],2,D_D[CAT],TA_23,D_D[EP],-1, D_D[LOC],$A28),0)","v":0},{"$f":"IFERROR(SUMIFS(D_D[BL],D_D[MT],2,D_D[CAT],TA_23,D_D[EP],-1, D_D[LOC],$A28),0)","v":0},"0%",{"$f":"IFERROR(SUMIFS(D_D[INV],D_D[MT],2,D_D[CAT],TA_24,D_D[EP],-1, D_D[LOC],$A28),0)","v":28},{"$f":"IFERROR(SUMIFS(D_D[BL],D_D[MT],2,D_D[CAT],TA_24,D_D[EP],-1, D_D[LOC],$A28),0)","v":21},0.75,{"$f":"IFERROR(SUMIFS(D_D[INV],D_D[MT],2,D_D[CAT],TA_25,D_D[EP],-1, D_D[LOC],$A28),0)","v":4},{"$f":"IFERROR(SUMIFS(D_D[INV],D_D[MT],2,D_D[CAT],TA_26,D_D[EP],-1, D_D[LOC],$A28),0)","v":3},{"$f":"IFERROR(SUMIFS(D_D[INV],D_D[MT],7,D_D[CAT],2,D_D[EP],TA_20, D_D[LOC],$A28),0)","v":0}]
["460","Wilmington",{"$f":"IFERROR(SUMIFS(D_D[INV],D_D[MT],1,D_D[CAT],TA_20,D_D[EP],-1, D_D[LOC],$A29),0)","v":54},{"$f":"IFERROR(SUMIFS(D_D[ADP],D_D[MT],1,D_D[CAT],D$1,D_D[EP],-1, D_D[LOC],$A29),0)","v":62.37},{"$f":"IFERROR(SUMIFS(D_D[INV],D_D[MT],2,D_D[CAT],TA_21,D_D[EP],-1, D_D[LOC],$A29),0)","v":855},{"$f":"IFERROR(SUMIFS(D_D[BL],D_D[MT],2,D_D[CAT],TA_21,D_D[EP],-1, D_D[LOC],$A29),0)","v":252},0.29473684210526313,{"$f":"IFERROR(SUMIFS(D_D[INV],D_D[MT],2,D_D[CAT],TA_22,D_D[EP],-1, D_D[LOC],$A29),0)","v":157},{"$f":"IFERROR(SUMIFS(D_D[BL],D_D[MT],2,D_D[CAT],TA_22,D_D[EP],-1, D_D[LOC],$A29),0)","v":35},0.22292993630573249,{"$f":"IFERROR(SUMIFS(D_D[INV],D_D[MT],2,D_D[CAT],TA_23,D_D[EP],-1, D_D[LOC],$A29),0)","v":5},{"$f":"IFERROR(SUMIFS(D_D[BL],D_D[MT],2,D_D[CAT],TA_23,D_D[EP],-1, D_D[LOC],$A29),0)","v":0},0,{"$f":"IFERROR(SUMIFS(D_D[INV],D_D[MT],2,D_D[CAT],TA_24,D_D[EP],-1, D_D[LOC],$A29),0)","v":39},{"$f":"IFERROR(SUMIFS(D_D[BL],D_D[MT],2,D_D[CAT],TA_24,D_D[EP],-1, D_D[LOC],$A29),0)","v":28},0.71794871794871795,{"$f":"IFERROR(SUMIFS(D_D[INV],D_D[MT],2,D_D[CAT],TA_25,D_D[EP],-1, D_D[LOC],$A29),0)","v":5},{"$f":"IFERROR(SUMIFS(D_D[INV],D_D[MT],2,D_D[CAT],TA_26,D_D[EP],-1, D_D[LOC],$A29),0)","v":0},{"$f":"IFERROR(SUMIFS(D_D[INV],D_D[MT],7,D_D[CAT],2,D_D[EP],TA_20, D_D[LOC],$A29),0)","v":0}]
[393,"Southeast",{"$f":"IFERROR(SUMIFS(D_D[INV],D_D[MT],1,D_D[CAT],TA_20,D_D[EP],-1, D_D[LOC],$A30),0)","v":12253},{"$f":"IFERROR(SUMIFS(D_D[ADP],D_D[MT],1,D_D[CAT],D$1,D_D[EP],-1, D_D[LOC],$A30),0)","v":79.569999999999993},{"$f":"IFERROR(SUMIFS(D_D[INV],D_D[MT],2,D_D[CAT],TA_21,D_D[EP],-1, D_D[LOC],$A30),0)","v":129495},{"$f":"IFERROR(SUMIFS(D_D[BL],D_D[MT],2,D_D[CAT],TA_21,D_D[EP],-1, D_D[LOC],$A30),0)","v":42290},0.32657631568786438,{"$f":"IFERROR(SUMIFS(D_D[INV],D_D[MT],2,D_D[CAT],TA_22,D_D[EP],-1, D_D[LOC],$A30),0)","v":38916},{"$f":"IFERROR(SUMIFS(D_D[BL],D_D[MT],2,D_D[CAT],TA_22,D_D[EP],-1, D_D[LOC],$A30),0)","v":7422},0.19071847055195806,{"$f":"IFERROR(SUMIFS(D_D[INV],D_D[MT],2,D_D[CAT],TA_23,D_D[EP],-1, D_D[LOC],$A30),0)","v":673},{"$f":"IFERROR(SUMIFS(D_D[BL],D_D[MT],2,D_D[CAT],TA_23,D_D[EP],-1, D_D[LOC],$A30),0)","v":206},0.30609212481426451,{"$f":"IFERROR(SUMIFS(D_D[INV],D_D[MT],2,D_D[CAT],TA_24,D_D[EP],-1, D_D[LOC],$A30),0)","v":15672},{"$f":"IFERROR(SUMIFS(D_D[BL],D_D[MT],2,D_D[CAT],TA_24,D_D[EP],-1, D_D[LOC],$A30),0)","v":9549},0.60930321592649306,{"$f":"IFERROR(SUMIFS(D_D[INV],D_D[MT],2,D_D[CAT],TA_25,D_D[EP],-1, D_D[LOC],$A30),0)","v":869},{"$f":"IFERROR(SUMIFS(D_D[INV],D_D[MT],2,D_D[CAT],TA_26,D_D[EP],-1, D_D[LOC],$A30),0)","v":554},{"$f":"IFERROR(SUMIFS(D_D[INV],D_D[MT],7,D_D[CAT],2,D_D[EP],TA_20, D_D[LOC],$A30),0)","v":492}]
["316","Atlanta",{"$f":"IFERROR(SUMIFS(D_D[INV],D_D[MT],1,D_D[CAT],TA_20,D_D[EP],-1, D_D[LOC],$A31),0)","v":716},{"$f":"IFERROR(SUMIFS(D_D[ADP],D_D[MT],1,D_D[CAT],D$1,D_D[EP],-1, D_D[LOC],$A31),0)","v":103.05},{"$f":"IFERROR(SUMIFS(D_D[INV],D_D[MT],2,D_D[CAT],TA_21,D_D[EP],-1, D_D[LOC],$A31),0)","v":17759},{"$f":"IFERROR(SUMIFS(D_D[BL],D_D[MT],2,D_D[CAT],TA_21,D_D[EP],-1, D_D[LOC],$A31),0)","v":5765},0.32462413424179287,{"$f":"IFERROR(SUMIFS(D_D[INV],D_D[MT],2,D_D[CAT],TA_22,D_D[EP],-1, D_D[LOC],$A31),0)","v":2557},{"$f":"IFERROR(SUMIFS(D_D[BL],D_D[MT],2,D_D[CAT],TA_22,D_D[EP],-1, D_D[LOC],$A31),0)","v":576},0.22526398122800156,{"$f":"IFERROR(SUMIFS(D_D[INV],D_D[MT],2,D_D[CAT],TA_23,D_D[EP],-1, D_D[LOC],$A31),0)","v":36},{"$f":"IFERROR(SUMIFS(D_D[BL],D_D[MT],2,D_D[CAT],TA_23,D_D[EP],-1, D_D[LOC],$A31),0)","v":1},2.7777777777777776E-2,{"$f":"IFERROR(SUMIFS(D_D[INV],D_D[MT],2,D_D[CAT],TA_24,D_D[EP],-1, D_D[LOC],$A31),0)","v":841},{"$f":"IFERROR(SUMIFS(D_D[BL],D_D[MT],2,D_D[CAT],TA_24,D_D[EP],-1, D_D[LOC],$A31),0)","v":548},0.65160523186682517,{"$f":"IFERROR(SUMIFS(D_D[INV],D_D[MT],2,D_D[CAT],TA_25,D_D[EP],-1, D_D[LOC],$A31),0)","v":100},{"$f":"IFERROR(SUMIFS(D_D[INV],D_D[MT],2,D_D[CAT],TA_26,D_D[EP],-1, D_D[LOC],$A31),0)","v":2},{"$f":"IFERROR(SUMIFS(D_D[INV],D_D[MT],7,D_D[CAT],2,D_D[EP],TA_20, D_D[LOC],$A31),0)","v":2}]
["319","Columbia",{"$f":"IFERROR(SUMIFS(D_D[INV],D_D[MT],1,D_D[CAT],TA_20,D_D[EP],-1, D_D[LOC],$A32),0)","v":2568},{"$f":"IFERROR(SUMIFS(D_D[ADP],D_D[MT],1,D_D[CAT],D$1,D_D[EP],-1, D_D[LOC],$A32),0)","v":100.35},{"$f":"IFERROR(SUMIFS(D_D[INV],D_D[MT],2,D_D[CAT],TA_21,D_D[EP],-1, D_D[LOC],$A32),0)","v":9034},{"$f":"IFERROR(SUMIFS(D_D[BL],D_D[MT],2,D_D[CAT],TA_21,D_D[EP],-1, D_D[LOC],$A32),0)","v":2791},{"$f":"IFERROR(F32/E32,\"0%\")","v":0.30894398937347795},{"$f":"IFERROR(SUMIFS(D_D[INV],D_D[MT],2,D_D[CAT],TA_22,D_D[EP],-1, D_D[LOC],$A32),0)","v":3898},{"$f":"IFERROR(SUMIFS(D_D[BL],D_D[MT],2,D_D[CAT],TA_22,D_D[EP],-1, D_D[LOC],$A32),0)","v":919},{"$f":"IFERROR(I32/H32,\"0%\")","v":0.23576192919445871},{"$f":"IFERROR(SUMIFS(D_D[INV],D_D[MT],2,D_D[CAT],TA_23,D_D[EP],-1, D_D[LOC],$A32),0)","v":32},{"$f":"IFERROR(SUMIFS(D_D[BL],D_D[MT],2,D_D[CAT],TA_23,D_D[EP],-1, D_D[LOC],$A32),0)","v":0},{"$f":"IFERROR(L32/K32,\"0%\")","v":0},{"$f":"IFERROR(SUMIFS(D_D[INV],D_D[MT],2,D_D[CAT],TA_24,D_D[EP],-1, D_D[LOC],$A32),0)","v":645},{"$f":"IFERROR(SUMIFS(D_D[BL],D_D[MT],2,D_D[CAT],TA_24,D_D[EP],-1, D_D[LOC],$A32),0)","v":407},{"$f":"IFERROR(O32/N32,\"0%\")","v":0.63100775193798453},{"$f":"IFERROR(SUMIFS(D_D[INV],D_D[MT],2,D_D[CAT],TA_25,D_D[EP],-1, D_D[LOC],$A32),0)","v":65},{"$f":"IFERROR(SUMIFS(D_D[INV],D_D[MT],2,D_D[CAT],TA_26,D_D[EP],-1, D_D[LOC],$A32),0)","v":5},{"$f":"IFERROR(SUMIFS(D_D[INV],D_D[MT],7,D_D[CAT],2,D_D[EP],TA_20, D_D[LOC],$A32),0)","v":1}]
[315,"Huntington",{"$f":"IFERROR(SUMIFS(D_D[INV],D_D[MT],1,D_D[CAT],TA_20,D_D[EP],-1, D_D[LOC],$A33),0)","v":96},{"$f":"IFERROR(SUMIFS(D_D[ADP],D_D[MT],1,D_D[CAT],D$1,D_D[EP],-1, D_D[LOC],$A33),0)","v":155.4},{"$f":"IFERROR(SUMIFS(D_D[INV],D_D[MT],2,D_D[CAT],TA_21,D_D[EP],-1, D_D[LOC],$A33),0)","v":2164},{"$f":"IFERROR(SUMIFS(D_D[BL],D_D[MT],2,D_D[CAT],TA_21,D_D[EP],-1, D_D[LOC],$A33),0)","v":748},0.34565619223659888,{"$f":"IFERROR(SUMIFS(D_D[INV],D_D[MT],2,D_D[CAT],TA_22,D_D[EP],-1, D_D[LOC],$A33),0)","v":421},{"$f":"IFERROR(SUMIFS(D_D[BL],D_D[MT],2,D_D[CAT],TA_22,D_D[EP],-1, D_D[LOC],$A33),0)","v":123},0.29216152019002373,{"$f":"IFERROR(SUMIFS(D_D[INV],D_D[MT],2,D_D[CAT],TA_23,D_D[EP],-1, D_D[LOC],$A33),0)","v":11},{"$f":"IFERROR(SUMIFS(D_D[BL],D_D[MT],2,D_D[CAT],TA_23,D_D[EP],-1, D_D[LOC],$A33),0)","v":1},9.0909090909090912E-2,{"$f":"IFERROR(SUMIFS(D_D[INV],D_D[MT],2,D_D[CAT],TA_24,D_D[EP],-1, D_D[LOC],$A33),0)","v":786},{"$f":"IFERROR(SUMIFS(D_D[BL],D_D[MT],2,D_D[CAT],TA_24,D_D[EP],-1, D_D[LOC],$A33),0)","v":705},0.89694656488549618,{"$f":"IFERROR(SUMIFS(D_D[INV],D_D[MT],2,D_D[CAT],TA_25,D_D[EP],-1, D_D[LOC],$A33),0)","v":51},{"$f":"IFERROR(SUMIFS(D_D[INV],D_D[MT],2,D_D[CAT],TA_26,D_D[EP],-1, D_D[LOC],$A33),0)","v":419},{"$f":"IFERROR(SUMIFS(D_D[INV],D_D[MT],7,D_D[CAT],2,D_D[EP],TA_20, D_D[LOC],$A33),0)","v":0}]
["323","Jackson",{"$f":"IFERROR(SUMIFS(D_D[INV],D_D[MT],1,D_D[CAT],TA_20,D_D[EP],-1, D_D[LOC],$A34),0)","v":249},{"$f":"IFERROR(SUMIFS(D_D[ADP],D_D[MT],1,D_D[CAT],D$1,D_D[EP],-1, D_D[LOC],$A34),0)","v":80.84},{"$f":"IFERROR(SUMIFS(D_D[INV],D_D[MT],2,D_D[CAT],TA_21,D_D[EP],-1, D_D[LOC],$A34),0)","v":4412},{"$f":"IFERROR(SUMIFS(D_D[BL],D_D[MT],2,D_D[CAT],TA_21,D_D[EP],-1, D_D[LOC],$A34),0)","v":1588},0.35992747053490481,{"$f":"IFERROR(SUMIFS(D_D[INV],D_D[MT],2,D_D[CAT],TA_22,D_D[EP],-1, D_D[LOC],$A34),0)","v":808},{"$f":"IFERROR(SUMIFS(D_D[BL],D_D[MT],2,D_D[CAT],TA_22,D_D[EP],-1, D_D[LOC],$A34),0)","v":188},0.23267326732673269,{"$f":"IFERROR(SUMIFS(D_D[INV],D_D[MT],2,D_D[CAT],TA_23,D_D[EP],-1, D_D[LOC],$A34),0)","v":30},{"$f":"IFERROR(SUMIFS(D_D[BL],D_D[MT],2,D_D[CAT],TA_23,D_D[EP],-1, D_D[LOC],$A34),0)","v":1},3.3333333333333333E-2,{"$f":"IFERROR(SUMIFS(D_D[INV],D_D[MT],2,D_D[CAT],TA_24,D_D[EP],-1, D_D[LOC],$A34),0)","v":594},{"$f":"IFERROR(SUMIFS(D_D[BL],D_D[MT],2,D_D[CAT],TA_24,D_D[EP],-1, D_D[LOC],$A34),0)","v":250},0.4208754208754209,{"$f":"IFERROR(SUMIFS(D_D[INV],D_D[MT],2,D_D[CAT],TA_25,D_D[EP],-1, D_D[LOC],$A34),0)","v":25},{"$f":"IFERROR(SUMIFS(D_D[INV],D_D[MT],2,D_D[CAT],TA_26,D_D[EP],-1, D_D[LOC],$A34),0)","v":3},{"$f":"IFERROR(SUMIFS(D_D[INV],D_D[MT],7,D_D[CAT],2,D_D[EP],TA_20, D_D[LOC],$A34),0)","v":148}]
["350","Little Rock",{"$f":"IFERROR(SUMIFS(D_D[INV],D_D[MT],1,D_D[CAT],TA_20,D_D[EP],-1, D_D[LOC],$A35),0)","v":532},{"$f":"IFERROR(SUMIFS(D_D[ADP],D_D[MT],1,D_D[CAT],D$1,D_D[EP],-1, D_D[LOC],$A35),0)","v":76.23},{"$f":"IFERROR(SUMIFS(D_D[INV],D_D[MT],2,D_D[CAT],TA_21,D_D[EP],-1, D_D[LOC],$A35),0)","v":4087},{"$f":"IFERROR(SUMIFS(D_D[BL],D_D[MT],2,D_D[CAT],TA_21,D_D[EP],-1, D_D[LOC],$A35),0)","v":1434},0.35086860778076828,{"$f":"IFERROR(SUMIFS(D_D[INV],D_D[MT],2,D_D[CAT],TA_22,D_D[EP],-1, D_D[LOC],$A35),0)","v":2891},{"$f":"IFERROR(SUMIFS(D_D[BL],D_D[MT],2,D_D[CAT],TA_22,D_D[EP],-1, D_D[LOC],$A35),0)","v":480},0.16603251470079558,{"$f":"IFERROR(SUMIFS(D_D[INV],D_D[MT],2,D_D[CAT],TA_23,D_D[EP],-1, D_D[LOC],$A35),0)","v":16},{"$f":"IFERROR(SUMIFS(D_D[BL],D_D[MT],2,D_D[CAT],TA_23,D_D[EP],-1, D_D[LOC],$A35),0)","v":0},0,{"$f":"IFERROR(SUMIFS(D_D[INV],D_D[MT],2,D_D[CAT],TA_24,D_D[EP],-1, D_D[LOC],$A35),0)","v":630},{"$f":"IFERROR(SUMIFS(D_D[BL],D_D[MT],2,D_D[CAT],TA_24,D_D[EP],-1, D_D[LOC],$A35),0)","v":319},0.50634920634920633,{"$f":"IFERROR(SUMIFS(D_D[INV],D_D[MT],2,D_D[CAT],TA_25,D_D[EP],-1, D_D[LOC],$A35),0)","v":38},{"$f":"IFERROR(SUMIFS(D_D[INV],D_D[MT],2,D_D[CAT],TA_26,D_D[EP],-1, D_D[LOC],$A35),0)","v":1},{"$f":"IFERROR(SUMIFS(D_D[INV],D_D[MT],7,D_D[CAT],2,D_D[EP],TA_20, D_D[LOC],$A35),0)","v":0}]
["327","Louisville",{"$f":"IFERROR(SUMIFS(D_D[INV],D_D[MT],1,D_D[CAT],TA_20,D_D[EP],-1, D_D[LOC],$A36),0)","v":2458},{"$f":"IFERROR(SUMIFS(D_D[ADP],D_D[MT],1,D_D[CAT],D$1,D_D[EP],-1, D_D[LOC],$A36),0)","v":64.41},{"$f":"IFERROR(SUMIFS(D_D[INV],D_D[MT],2,D_D[CAT],TA_21,D_D[EP],-1, D_D[LOC],$A36),0)","v":4586},{"$f":"IFERROR(SUMIFS(D_D[BL],D_D[MT],2,D_D[CAT],TA_21,D_D[EP],-1, D_D[LOC],$A36),0)","v":1589},0.34648931530745747,{"$f":"IFERROR(SUMIFS(D_D[INV],D_D[MT],2,D_D[CAT],TA_22,D_D[EP],-1, D_D[LOC],$A36),0)","v":3371},{"$f":"IFERROR(SUMIFS(D_D[BL],D_D[MT],2,D_D[CAT],TA_22,D_D[EP],-1, D_D[LOC],$A36),0)","v":557},0.16523286858498962,{"$f":"IFERROR(SUMIFS(D_D[INV],D_D[MT],2,D_D[CAT],TA_23,D_D[EP],-1, D_D[LOC],$A36),0)","v":281},{"$f":"IFERROR(SUMIFS(D_D[BL],D_D[MT],2,D_D[CAT],TA_23,D_D[EP],-1, D_D[LOC],$A36),0)","v":181},0.64412811387900359,{"$f":"IFERROR(SUMIFS(D_D[INV],D_D[MT],2,D_D[CAT],TA_24,D_D[EP],-1, D_D[LOC],$A36),0)","v":443},{"$f":"IFERROR(SUMIFS(D_D[BL],D_D[MT],2,D_D[CAT],TA_24,D_D[EP],-1, D_D[LOC],$A36),0)","v":323},0.72911963882618513,{"$f":"IFERROR(SUMIFS(D_D[INV],D_D[MT],2,D_D[CAT],TA_25,D_D[EP],-1, D_D[LOC],$A36),0)","v":36},{"$f":"IFERROR(SUMIFS(D_D[INV],D_D[MT],2,D_D[CAT],TA_26,D_D[EP],-1, D_D[LOC],$A36),0)","v":10},{"$f":"IFERROR(SUMIFS(D_D[INV],D_D[MT],7,D_D[CAT],2,D_D[EP],TA_20, D_D[LOC],$A36),0)","v":316}]
["322","Montgomery",{"$f":"IFERROR(SUMIFS(D_D[INV],D_D[MT],1,D_D[CAT],TA_20,D_D[EP],-1, D_D[LOC],$A37),0)","v":374},{"$f":"IFERROR(SUMIFS(D_D[ADP],D_D[MT],1,D_D[CAT],D$1,D_D[EP],-1, D_D[LOC],$A37),0)","v":66.290000000000006},{"$f":"IFERROR(SUMIFS(D_D[INV],D_D[MT],2,D_D[CAT],TA_21,D_D[EP],-1, D_D[LOC],$A37),0)","v":7754},{"$f":"IFERROR(SUMIFS(D_D[BL],D_D[MT],2,D_D[CAT],TA_21,D_D[EP],-1, D_D[LOC],$A37),0)","v":2472},0.31880319834923909,{"$f":"IFERROR(SUMIFS(D_D[INV],D_D[MT],2,D_D[CAT],TA_22,D_D[EP],-1, D_D[LOC],$A37),0)","v":1216},{"$f":"IFERROR(SUMIFS(D_D[BL],D_D[MT],2,D_D[CAT],TA_22,D_D[EP],-1, D_D[LOC],$A37),0)","v":233},0.19161184210526316,{"$f":"IFERROR(SUMIFS(D_D[INV],D_D[MT],2,D_D[CAT],TA_23,D_D[EP],-1, D_D[LOC],$A37),0)","v":22},{"$f":"IFERROR(SUMIFS(D_D[BL],D_D[MT],2,D_D[CAT],TA_23,D_D[EP],-1, D_D[LOC],$A37),0)","v":1},4.5454545454545456E-2,{"$f":"IFERROR(SUMIFS(D_D[INV],D_D[MT],2,D_D[CAT],TA_24,D_D[EP],-1, D_D[LOC],$A37),0)","v":813},{"$f":"IFERROR(SUMIFS(D_D[BL],D_D[MT],2,D_D[CAT],TA_24,D_D[EP],-1, D_D[LOC],$A37),0)","v":273},0.33579335793357934,{"$f":"IFERROR(SUMIFS(D_D[INV],D_D[MT],2,D_D[CAT],TA_25,D_D[EP],-1, D_D[LOC],$A37),0)","v":75},{"$f":"IFERROR(SUMIFS(D_D[INV],D_D[MT],2,D_D[CAT],TA_26,D_D[EP],-1, D_D[LOC],$A37),0)","v":4},{"$f":"IFERROR(SUMIFS(D_D[INV],D_D[MT],7,D_D[CAT],2,D_D[EP],TA_20, D_D[LOC],$A37),0)","v":2}]
["320","Nashville",{"$f":"IFERROR(SUMIFS(D_D[INV],D_D[MT],1,D_D[CAT],TA_20,D_D[EP],-1, D_D[LOC],$A38),0)","v":1208},{"$f":"IFERROR(SUMIFS(D_D[ADP],D_D[MT],1,D_D[CAT],D$1,D_D[EP],-1, D_D[LOC],$A38),0)","v":72.5},{"$f":"IFERROR(SUMIFS(D_D[INV],D_D[MT],2,D_D[CAT],TA_21,D_D[EP],-1, D_D[LOC],$A38),0)","v":9040},{"$f":"IFERROR(SUMIFS(D_D[BL],D_D[MT],2,D_D[CAT],TA_21,D_D[EP],-1, D_D[LOC],$A38),0)","v":2888},0.31946902654867254,{"$f":"IFERROR(SUMIFS(D_D[INV],D_D[MT],2,D_D[CAT],TA_22,D_D[EP],-1, D_D[LOC],$A38),0)","v":7023},{"$f":"IFERROR(SUMIFS(D_D[BL],D_D[MT],2,D_D[CAT],TA_22,D_D[EP],-1, D_D[LOC],$A38),0)","v":1160},0.16517157909725189,{"$f":"IFERROR(SUMIFS(D_D[INV],D_D[MT],2,D_D[CAT],TA_23,D_D[EP],-1, D_D[LOC],$A38),0)","v":47},{"$f":"IFERROR(SUMIFS(D_D[BL],D_D[MT],2,D_D[CAT],TA_23,D_D[EP],-1, D_D[LOC],$A38),0)","v":9},0.19148936170212766,{"$f":"IFERROR(SUMIFS(D_D[INV],D_D[MT],2,D_D[CAT],TA_24,D_D[EP],-1, D_D[LOC],$A38),0)","v":847},{"$f":"IFERROR(SUMIFS(D_D[BL],D_D[MT],2,D_D[CAT],TA_24,D_D[EP],-1, D_D[LOC],$A38),0)","v":492},0.58087367178276272,{"$f":"IFERROR(SUMIFS(D_D[INV],D_D[MT],2,D_D[CAT],TA_25,D_D[EP],-1, D_D[LOC],$A38),0)","v":60},{"$f":"IFERROR(SUMIFS(D_D[INV],D_D[MT],2,D_D[CAT],TA_26,D_D[EP],-1, D_D[LOC],$A38),0)","v":6},{"$f":"IFERROR(SUMIFS(D_D[INV],D_D[MT],7,D_D[CAT],2,D_D[EP],TA_20, D_D[LOC],$A38),0)","v":1}]
["321","New Orleans",{"$f":"IFERROR(SUMIFS(D_D[INV],D_D[MT],1,D_D[CAT],TA_20,D_D[EP],-1, D_D[LOC],$A39),0)","v":191},{"$f":"IFERROR(SUMIFS(D_D[ADP],D_D[MT],1,D_D[CAT],D$1,D_D[EP],-1, D_D[LOC],$A39),0)","v":65.89},{"$f":"IFERROR(SUMIFS(D_D[INV],D_D[MT],2,D_D[CAT],TA_21,D_D[EP],-1, D_D[LOC],$A39),0)","v":5869},{"$f":"IFERROR(SUMIFS(D_D[BL],D_D[MT],2,D_D[CAT],TA_21,D_D[EP],-1, D_D[LOC],$A39),0)","v":1814},0.30908161526665529,{"$f":"IFERROR(SUMIFS(D_D[INV],D_D[MT],2,D_D[CAT],TA_22,D_D[EP],-1, D_D[LOC],$A39),0)","v":866},{"$f":"IFERROR(SUMIFS(D_D[BL],D_D[MT],2,D_D[CAT],TA_22,D_D[EP],-1, D_D[LOC],$A39),0)","v":173},0.1997690531177829,{"$f":"IFERROR(SUMIFS(D_D[INV],D_D[MT],2,D_D[CAT],TA_23,D_D[EP],-1, D_D[LOC],$A39),0)","v":14},{"$f":"IFERROR(SUMIFS(D_D[BL],D_D[MT],2,D_D[CAT],TA_23,D_D[EP],-1, D_D[LOC],$A39),0)","v":0},0,{"$f":"IFERROR(SUMIFS(D_D[INV],D_D[MT],2,D_D[CAT],TA_24,D_D[EP],-1, D_D[LOC],$A39),0)","v":339},{"$f":"IFERROR(SUMIFS(D_D[BL],D_D[MT],2,D_D[CAT],TA_24,D_D[EP],-1, D_D[LOC],$A39),0)","v":158},0.46607669616519176,{"$f":"IFERROR(SUMIFS(D_D[INV],D_D[MT],2,D_D[CAT],TA_25,D_D[EP],-1, D_D[LOC],$A39),0)","v":21},{"$f":"IFERROR(SUMIFS(D_D[INV],D_D[MT],2,D_D[CAT],TA_26,D_D[EP],-1, D_D[LOC],$A39),0)","v":2},{"$f":"IFERROR(SUMIFS(D_D[INV],D_D[MT],7,D_D[CAT],2,D_D[EP],TA_20, D_D[LOC],$A39),0)","v":1}]
["314","Roanoke",{"$f":"IFERROR(SUMIFS(D_D[INV],D_D[MT],1,D_D[CAT],TA_20,D_D[EP],-1, D_D[LOC],$A40),0)","v":796},{"$f":"IFERROR(SUMIFS(D_D[ADP],D_D[MT],1,D_D[CAT],D$1,D_D[EP],-1, D_D[LOC],$A40),0)","v":66.52},{"$f":"IFERROR(SUMIFS(D_D[INV],D_D[MT],2,D_D[CAT],TA_21,D_D[EP],-1, D_D[LOC],$A40),0)","v":15799},{"$f":"IFERROR(SUMIFS(D_D[BL],D_D[MT],2,D_D[CAT],TA_21,D_D[EP],-1, D_D[LOC],$A40),0)","v":4894},0.30976644091398192,{"$f":"IFERROR(SUMIFS(D_D[INV],D_D[MT],2,D_D[CAT],TA_22,D_D[EP],-1, D_D[LOC],$A40),0)","v":2122},{"$f":"IFERROR(SUMIFS(D_D[BL],D_D[MT],2,D_D[CAT],TA_22,D_D[EP],-1, D_D[LOC],$A40),0)","v":457},0.21536286522148917,{"$f":"IFERROR(SUMIFS(D_D[INV],D_D[MT],2,D_D[CAT],TA_23,D_D[EP],-1, D_D[LOC],$A40),0)","v":29},{"$f":"IFERROR(SUMIFS(D_D[BL],D_D[MT],2,D_D[CAT],TA_23,D_D[EP],-1, D_D[LOC],$A40),0)","v":0},0,{"$f":"IFERROR(SUMIFS(D_D[INV],D_D[MT],2,D_D[CAT],TA_24,D_D[EP],-1, D_D[LOC],$A40),0)","v":1869},{"$f":"IFERROR(SUMIFS(D_D[BL],D_D[MT],2,D_D[CAT],TA_24,D_D[EP],-1, D_D[LOC],$A40),0)","v":1317},0.7046548956661316,{"$f":"IFERROR(SUMIFS(D_D[INV],D_D[MT],2,D_D[CAT],TA_25,D_D[EP],-1, D_D[LOC],$A40),0)","v":71},{"$f":"IFERROR(SUMIFS(D_D[INV],D_D[MT],2,D_D[CAT],TA_26,D_D[EP],-1, D_D[LOC],$A40),0)","v":7},{"$f":"IFERROR(SUMIFS(D_D[INV],D_D[MT],7,D_D[CAT],2,D_D[EP],TA_20, D_D[LOC],$A40),0)","v":2}]
["355","San Juan",{"$f":"IFERROR(SUMIFS(D_D[INV],D_D[MT],1,D_D[CAT],TA_20,D_D[EP],-1, D_D[LOC],$A41),0)","v":113},{"$f":"IFERROR(SUMIFS(D_D[ADP],D_D[MT],1,D_D[CAT],D$1,D_D[EP],-1, D_D[LOC],$A41),0)","v":57.35},{"$f":"IFERROR(SUMIFS(D_D[INV],D_D[MT],2,D_D[CAT],TA_21,D_D[EP],-1, D_D[LOC],$A41),0)","v":1940},{"$f":"IFERROR(SUMIFS(D_D[BL],D_D[MT],2,D_D[CAT],TA_21,D_D[EP],-1, D_D[LOC],$A41),0)","v":657},0.33865979381443301,{"$f":"IFERROR(SUMIFS(D_D[INV],D_D[MT],2,D_D[CAT],TA_22,D_D[EP],-1, D_D[LOC],$A41),0)","v":543},{"$f":"IFERROR(SUMIFS(D_D[BL],D_D[MT],2,D_D[CAT],TA_22,D_D[EP],-1, D_D[LOC],$A41),0)","v":92},0.1694290976058932,{"$f":"IFERROR(SUMIFS(D_D[INV],D_D[MT],2,D_D[CAT],TA_23,D_D[EP],-1, D_D[LOC],$A41),0)","v":7},{"$f":"IFERROR(SUMIFS(D_D[BL],D_D[MT],2,D_D[CAT],TA_23,D_D[EP],-1, D_D[LOC],$A41),0)","v":1},0.14285714285714285,{"$f":"IFERROR(SUMIFS(D_D[INV],D_D[MT],2,D_D[CAT],TA_24,D_D[EP],-1, D_D[LOC],$A41),0)","v":202},{"$f":"IFERROR(SUMIFS(D_D[BL],D_D[MT],2,D_D[CAT],TA_24,D_D[EP],-1, D_D[LOC],$A41),0)","v":111},0.54950495049504955,{"$f":"IFERROR(SUMIFS(D_D[INV],D_D[MT],2,D_D[CAT],TA_25,D_D[EP],-1, D_D[LOC],$A41),0)","v":9},{"$f":"IFERROR(SUMIFS(D_D[INV],D_D[MT],2,D_D[CAT],TA_26,D_D[EP],-1, D_D[LOC],$A41),0)","v":1},{"$f":"IFERROR(SUMIFS(D_D[INV],D_D[MT],7,D_D[CAT],2,D_D[EP],TA_20, D_D[LOC],$A41),0)","v":3}]
["317","St. Petersburg",{"$f":"IFERROR(SUMIFS(D_D[INV],D_D[MT],1,D_D[CAT],TA_20,D_D[EP],-1, D_D[LOC],$A42),0)","v":1235},{"$f":"IFERROR(SUMIFS(D_D[ADP],D_D[MT],1,D_D[CAT],D$1,D_D[EP],-1, D_D[LOC],$A42),0)","v":82.35},{"$f":"IFERROR(SUMIFS(D_D[INV],D_D[MT],2,D_D[CAT],TA_21,D_D[EP],-1, D_D[LOC],$A42),0)","v":29578},{"$f":"IFERROR(SUMIFS(D_D[BL],D_D[MT],2,D_D[CAT],TA_21,D_D[EP],-1, D_D[LOC],$A42),0)","v":10495},0.35482453174656842,{"$f":"IFERROR(SUMIFS(D_D[INV],D_D[MT],2,D_D[CAT],TA_22,D_D[EP],-1, D_D[LOC],$A42),0)","v":3797},{"$f":"IFERROR(SUMIFS(D_D[BL],D_D[MT],2,D_D[CAT],TA_22,D_D[EP],-1, D_D[LOC],$A42),0)","v":821},0.21622333421121939,{"$f":"IFERROR(SUMIFS(D_D[INV],D_D[MT],2,D_D[CAT],TA_23,D_D[EP],-1, D_D[LOC],$A42),0)","v":81},{"$f":"IFERROR(SUMIFS(D_D[BL],D_D[MT],2,D_D[CAT],TA_23,D_D[EP],-1, D_D[LOC],$A42),0)","v":7},8.6419753086419748E-2,{"$f":"IFERROR(SUMIFS(D_D[INV],D_D[MT],2,D_D[CAT],TA_24,D_D[EP],-1, D_D[LOC],$A42),0)","v":6545},{"$f":"IFERROR(SUMIFS(D_D[BL],D_D[MT],2,D_D[CAT],TA_24,D_D[EP],-1, D_D[LOC],$A42),0)","v":3975},0.60733384262796031,{"$f":"IFERROR(SUMIFS(D_D[INV],D_D[MT],2,D_D[CAT],TA_25,D_D[EP],-1, D_D[LOC],$A42),0)","v":207},{"$f":"IFERROR(SUMIFS(D_D[INV],D_D[MT],2,D_D[CAT],TA_26,D_D[EP],-1, D_D[LOC],$A42),0)","v":76},{"$f":"IFERROR(SUMIFS(D_D[INV],D_D[MT],7,D_D[CAT],2,D_D[EP],TA_20, D_D[LOC],$A42),0)","v":16}]
["318","Winston-Salem",{"$f":"IFERROR(SUMIFS(D_D[INV],D_D[MT],1,D_D[CAT],TA_20,D_D[EP],-1, D_D[LOC],$A43),0)","v":1717},{"$f":"IFERROR(SUMIFS(D_D[ADP],D_D[MT],1,D_D[CAT],D$1,D_D[EP],-1, D_D[LOC],$A43),0)","v":71.92},{"$f":"IFERROR(SUMIFS(D_D[INV],D_D[MT],2,D_D[CAT],TA_21,D_D[EP],-1, D_D[LOC],$A43),0)","v":17473},{"$f":"IFERROR(SUMIFS(D_D[BL],D_D[MT],2,D_D[CAT],TA_21,D_D[EP],-1, D_D[LOC],$A43),0)","v":5155},0.2950266124878384,{"$f":"IFERROR(SUMIFS(D_D[INV],D_D[MT],2,D_D[CAT],TA_22,D_D[EP],-1, D_D[LOC],$A43),0)","v":9403},{"$f":"IFERROR(SUMIFS(D_D[BL],D_D[MT],2,D_D[CAT],TA_22,D_D[EP],-1, D_D[LOC],$A43),0)","v":1643},0.17473146868020845,{"$f":"IFERROR(SUMIFS(D_D[INV],D_D[MT],2,D_D[CAT],TA_23,D_D[EP],-1, D_D[LOC],$A43),0)","v":67},{"$f":"IFERROR(SUMIFS(D_D[BL],D_D[MT],2,D_D[CAT],TA_23,D_D[EP],-1, D_D[LOC],$A43),0)","v":4},5.9701492537313432E-2,{"$f":"IFERROR(SUMIFS(D_D[INV],D_D[MT],2,D_D[CAT],TA_24,D_D[EP],-1, D_D[LOC],$A43),0)","v":1118},{"$f":"IFERROR(SUMIFS(D_D[BL],D_D[MT],2,D_D[CAT],TA_24,D_D[EP],-1, D_D[LOC],$A43),0)","v":671},0.60017889087656529,{"$f":"IFERROR(SUMIFS(D_D[INV],D_D[MT],2,D_D[CAT],TA_25,D_D[EP],-1, D_D[LOC],$A43),0)","v":111},{"$f":"IFERROR(SUMIFS(D_D[INV],D_D[MT],2,D_D[CAT],TA_26,D_D[EP],-1, D_D[LOC],$A43),0)","v":18},{"$f":"IFERROR(SUMIFS(D_D[INV],D_D[MT],7,D_D[CAT],2,D_D[EP],TA_20, D_D[LOC],$A43),0)","v":0}]
[384,"Continental",{"$f":"IFERROR(SUMIFS(D_D[INV],D_D[MT],1,D_D[CAT],TA_20,D_D[EP],-1, D_D[LOC],$A44),0)","v":7049},{"$f":"IFERROR(SUMIFS(D_D[ADP],D_D[MT],1,D_D[CAT],D$1,D_D[EP],-1, D_D[LOC],$A44),0)","v":74.11},{"$f":"IFERROR(SUMIFS(D_D[INV],D_D[MT],2,D_D[CAT],TA_21,D_D[EP],-1, D_D[LOC],$A44),0)","v":74311},{"$f":"IFERROR(SUMIFS(D_D[BL],D_D[MT],2,D_D[CAT],TA_21,D_D[EP],-1, D_D[LOC],$A44),0)","v":23646},0.31820322697850922,{"$f":"IFERROR(SUMIFS(D_D[INV],D_D[MT],2,D_D[CAT],TA_22,D_D[EP],-1, D_D[LOC],$A44),0)","v":35606},{"$f":"IFERROR(SUMIFS(D_D[BL],D_D[MT],2,D_D[CAT],TA_22,D_D[EP],-1, D_D[LOC],$A44),0)","v":5436},0.15267089816323093,{"$f":"IFERROR(SUMIFS(D_D[INV],D_D[MT],2,D_D[CAT],TA_23,D_D[EP],-1, D_D[LOC],$A44),0)","v":272},{"$f":"IFERROR(SUMIFS(D_D[BL],D_D[MT],2,D_D[CAT],TA_23,D_D[EP],-1, D_D[LOC],$A44),0)","v":14},5.1470588235294115E-2,{"$f":"IFERROR(SUMIFS(D_D[INV],D_D[MT],2,D_D[CAT],TA_24,D_D[EP],-1, D_D[LOC],$A44),0)","v":10955},{"$f":"IFERROR(SUMIFS(D_D[BL],D_D[MT],2,D_D[CAT],TA_24,D_D[EP],-1, D_D[LOC],$A44),0)","v":7700},0.70287539936102239,{"$f":"IFERROR(SUMIFS(D_D[INV],D_D[MT],2,D_D[CAT],TA_25,D_D[EP],-1, D_D[LOC],$A44),0)","v":1111},{"$f":"IFERROR(SUMIFS(D_D[INV],D_D[MT],2,D_D[CAT],TA_26,D_D[EP],-1, D_D[LOC],$A44),0)","v":2016},{"$f":"IFERROR(SUMIFS(D_D[INV],D_D[MT],7,D_D[CAT],2,D_D[EP],TA_20, D_D[LOC],$A44),0)","v":270}]
["442","Cheyenne ",{"$f":"IFERROR(SUMIFS(D_D[INV],D_D[MT],1,D_D[CAT],TA_20,D_D[EP],-1, D_D[LOC],$A45),0)","v":27},{"$f":"IFERROR(SUMIFS(D_D[ADP],D_D[MT],1,D_D[CAT],D$1,D_D[EP],-1, D_D[LOC],$A45),0)","v":81.78},{"$f":"IFERROR(SUMIFS(D_D[INV],D_D[MT],2,D_D[CAT],TA_21,D_D[EP],-1, D_D[LOC],$A45),0)","v":925},{"$f":"IFERROR(SUMIFS(D_D[BL],D_D[MT],2,D_D[CAT],TA_21,D_D[EP],-1, D_D[LOC],$A45),0)","v":357},0.38594594594594595,{"$f":"IFERROR(SUMIFS(D_D[INV],D_D[MT],2,D_D[CAT],TA_22,D_D[EP],-1, D_D[LOC],$A45),0)","v":155},{"$f":"IFERROR(SUMIFS(D_D[BL],D_D[MT],2,D_D[CAT],TA_22,D_D[EP],-1, D_D[LOC],$A45),0)","v":35},0.22580645161290322,{"$f":"IFERROR(SUMIFS(D_D[INV],D_D[MT],2,D_D[CAT],TA_23,D_D[EP],-1, D_D[LOC],$A45),0)","v":5},{"$f":"IFERROR(SUMIFS(D_D[BL],D_D[MT],2,D_D[CAT],TA_23,D_D[EP],-1, D_D[LOC],$A45),0)","v":0},0,{"$f":"IFERROR(SUMIFS(D_D[INV],D_D[MT],2,D_D[CAT],TA_24,D_D[EP],-1, D_D[LOC],$A45),0)","v":86},{"$f":"IFERROR(SUMIFS(D_D[BL],D_D[MT],2,D_D[CAT],TA_24,D_D[EP],-1, D_D[LOC],$A45),0)","v":63},0.73255813953488369,{"$f":"IFERROR(SUMIFS(D_D[INV],D_D[MT],2,D_D[CAT],TA_25,D_D[EP],-1, D_D[LOC],$A45),0)","v":7},{"$f":"IFERROR(SUMIFS(D_D[INV],D_D[MT],2,D_D[CAT],TA_26,D_D[EP],-1, D_D[LOC],$A45),0)","v":3},{"$f":"IFERROR(SUMIFS(D_D[INV],D_D[MT],7,D_D[CAT],2,D_D[EP],TA_20, D_D[LOC],$A45),0)","v":0}]
["339","Denver",{"$f":"IFERROR(SUMIFS(D_D[INV],D_D[MT],1,D_D[CAT],TA_20,D_D[EP],-1, D_D[LOC],$A46),0)","v":279},{"$f":"IFERROR(SUMIFS(D_D[ADP],D_D[MT],1,D_D[CAT],D$1,D_D[EP],-1, D_D[LOC],$A46),0)","v":63.11},{"$f":"IFERROR(SUMIFS(D_D[INV],D_D[MT],2,D_D[CAT],TA_21,D_D[EP],-1, D_D[LOC],$A46),0)","v":7143},{"$f":"IFERROR(SUMIFS(D_D[BL],D_D[MT],2,D_D[CAT],TA_21,D_D[EP],-1, D_D[LOC],$A46),0)","v":2007},0.28097438051238977,{"$f":"IFERROR(SUMIFS(D_D[INV],D_D[MT],2,D_D[CAT],TA_22,D_D[EP],-1, D_D[LOC],$A46),0)","v":1453},{"$f":"IFERROR(SUMIFS(D_D[BL],D_D[MT],2,D_D[CAT],TA_22,D_D[EP],-1, D_D[LOC],$A46),0)","v":288},0.19821059876118377,{"$f":"IFERROR(SUMIFS(D_D[INV],D_D[MT],2,D_D[CAT],TA_23,D_D[EP],-1, D_D[LOC],$A46),0)","v":20},{"$f":"IFERROR(SUMIFS(D_D[BL],D_D[MT],2,D_D[CAT],TA_23,D_D[EP],-1, D_D[LOC],$A46),0)","v":2},0.1,{"$f":"IFERROR(SUMIFS(D_D[INV],D_D[MT],2,D_D[CAT],TA_24,D_D[EP],-1, D_D[LOC],$A46),0)","v":389},{"$f":"IFERROR(SUMIFS(D_D[BL],D_D[MT],2,D_D[CAT],TA_24,D_D[EP],-1, D_D[LOC],$A46),0)","v":279},0.71722365038560409,{"$f":"IFERROR(SUMIFS(D_D[INV],D_D[MT],2,D_D[CAT],TA_25,D_D[EP],-1, D_D[LOC],$A46),0)","v":35},{"$f":"IFERROR(SUMIFS(D_D[INV],D_D[MT],2,D_D[CAT],TA_26,D_D[EP],-1, D_D[LOC],$A46),0)","v":1},{"$f":"IFERROR(SUMIFS(D_D[INV],D_D[MT],7,D_D[CAT],2,D_D[EP],TA_20, D_D[LOC],$A46),0)","v":14}]
["333","Des Moines",{"$f":"IFERROR(SUMIFS(D_D[INV],D_D[MT],1,D_D[CAT],TA_20,D_D[EP],-1, D_D[LOC],$A47),0)","v":143},{"$f":"IFERROR(SUMIFS(D_D[ADP],D_D[MT],1,D_D[CAT],D$1,D_D[EP],-1, D_D[LOC],$A47),0)","v":66.739999999999995},{"$f":"IFERROR(SUMIFS(D_D[INV],D_D[MT],2,D_D[CAT],TA_21,D_D[EP],-1, D_D[LOC],$A47),0)","v":2467},{"$f":"IFERROR(SUMIFS(D_D[BL],D_D[MT],2,D_D[CAT],TA_21,D_D[EP],-1, D_D[LOC],$A47),0)","v":808},0.32752330766112686,{"$f":"IFERROR(SUMIFS(D_D[INV],D_D[MT],2,D_D[CAT],TA_22,D_D[EP],-1, D_D[LOC],$A47),0)","v":614},{"$f":"IFERROR(SUMIFS(D_D[BL],D_D[MT],2,D_D[CAT],TA_22,D_D[EP],-1, D_D[LOC],$A47),0)","v":150},0.24429967426710097,{"$f":"IFERROR(SUMIFS(D_D[INV],D_D[MT],2,D_D[CAT],TA_23,D_D[EP],-1, D_D[LOC],$A47),0)","v":10},{"$f":"IFERROR(SUMIFS(D_D[BL],D_D[MT],2,D_D[CAT],TA_23,D_D[EP],-1, D_D[LOC],$A47),0)","v":0},0,{"$f":"IFERROR(SUMIFS(D_D[INV],D_D[MT],2,D_D[CAT],TA_24,D_D[EP],-1, D_D[LOC],$A47),0)","v":305},{"$f":"IFERROR(SUMIFS(D_D[BL],D_D[MT],2,D_D[CAT],TA_24,D_D[EP],-1, D_D[LOC],$A47),0)","v":194},0.63606557377049178,{"$f":"IFERROR(SUMIFS(D_D[INV],D_D[MT],2,D_D[CAT],TA_25,D_D[EP],-1, D_D[LOC],$A47),0)","v":22},{"$f":"IFERROR(SUMIFS(D_D[INV],D_D[MT],2,D_D[CAT],TA_26,D_D[EP],-1, D_D[LOC],$A47),0)","v":6},{"$f":"IFERROR(SUMIFS(D_D[INV],D_D[MT],7,D_D[CAT],2,D_D[EP],TA_20, D_D[LOC],$A47),0)","v":0}]
["437","Fargo",{"$f":"IFERROR(SUMIFS(D_D[INV],D_D[MT],1,D_D[CAT],TA_20,D_D[EP],-1, D_D[LOC],$A48),0)","v":64},{"$f":"IFERROR(SUMIFS(D_D[ADP],D_D[MT],1,D_D[CAT],D$1,D_D[EP],-1, D_D[LOC],$A48),0)","v":45.16},{"$f":"IFERROR(SUMIFS(D_D[INV],D_D[MT],2,D_D[CAT],TA_21,D_D[EP],-1, D_D[LOC],$A48),0)","v":1021},{"$f":"IFERROR(SUMIFS(D_D[BL],D_D[MT],2,D_D[CAT],TA_21,D_D[EP],-1, D_D[LOC],$A48),0)","v":351},0.3437806072477963,{"$f":"IFERROR(SUMIFS(D_D[INV],D_D[MT],2,D_D[CAT],TA_22,D_D[EP],-1, D_D[LOC],$A48),0)","v":302},{"$f":"IFERROR(SUMIFS(D_D[BL],D_D[MT],2,D_D[CAT],TA_22,D_D[EP],-1, D_D[LOC],$A48),0)","v":38},0.12582781456953643,{"$f":"IFERROR(SUMIFS(D_D[INV],D_D[MT],2,D_D[CAT],TA_23,D_D[EP],-1, D_D[LOC],$A48),0)","v":5},{"$f":"IFERROR(SUMIFS(D_D[BL],D_D[MT],2,D_D[CAT],TA_23,D_D[EP],-1, D_D[LOC],$A48),0)","v":0},0,{"$f":"IFERROR(SUMIFS(D_D[INV],D_D[MT],2,D_D[CAT],TA_24,D_D[EP],-1, D_D[LOC],$A48),0)","v":160},{"$f":"IFERROR(SUMIFS(D_D[BL],D_D[MT],2,D_D[CAT],TA_24,D_D[EP],-1, D_D[LOC],$A48),0)","v":110},0.6875,{"$f":"IFERROR(SUMIFS(D_D[INV],D_D[MT],2,D_D[CAT],TA_25,D_D[EP],-1, D_D[LOC],$A48),0)","v":8},{"$f":"IFERROR(SUMIFS(D_D[INV],D_D[MT],2,D_D[CAT],TA_26,D_D[EP],-1, D_D[LOC],$A48),0)","v":3},{"$f":"IFERROR(SUMIFS(D_D[INV],D_D[MT],7,D_D[CAT],2,D_D[EP],TA_20, D_D[LOC],$A48),0)","v":0}]
["436","Fort Harrison ",{"$f":"IFERROR(SUMIFS(D_D[INV],D_D[MT],1,D_D[CAT],TA_20,D_D[EP],-1, D_D[LOC],$A49),0)","v":92},{"$f":"IFERROR(SUMIFS(D_D[ADP],D_D[MT],1,D_D[CAT],D$1,D_D[EP],-1, D_D[LOC],$A49),0)","v":102.29},{"$f":"IFERROR(SUMIFS(D_D[INV],D_D[MT],2,D_D[CAT],TA_21,D_D[EP],-1, D_D[LOC],$A49),0)","v":1603},{"$f":"IFERROR(SUMIFS(D_D[BL],D_D[MT],2,D_D[CAT],TA_21,D_D[EP],-1, D_D[LOC],$A49),0)","v":605},0.37741734248284464,{"$f":"IFERROR(SUMIFS(D_D[INV],D_D[MT],2,D_D[CAT],TA_22,D_D[EP],-1, D_D[LOC],$A49),0)","v":320},{"$f":"IFERROR(SUMIFS(D_D[BL],D_D[MT],2,D_D[CAT],TA_22,D_D[EP],-1, D_D[LOC],$A49),0)","v":91},0.28437499999999999,{"$f":"IFERROR(SUMIFS(D_D[INV],D_D[MT],2,D_D[CAT],TA_23,D_D[EP],-1, D_D[LOC],$A49),0)","v":8},{"$f":"IFERROR(SUMIFS(D_D[BL],D_D[MT],2,D_D[CAT],TA_23,D_D[EP],-1, D_D[LOC],$A49),0)","v":1},0.125,{"$f":"IFERROR(SUMIFS(D_D[INV],D_D[MT],2,D_D[CAT],TA_24,D_D[EP],-1, D_D[LOC],$A49),0)","v":223},{"$f":"IFERROR(SUMIFS(D_D[BL],D_D[MT],2,D_D[CAT],TA_24,D_D[EP],-1, D_D[LOC],$A49),0)","v":159},0.71300448430493268,{"$f":"IFERROR(SUMIFS(D_D[INV],D_D[MT],2,D_D[CAT],TA_25,D_D[EP],-1, D_D[LOC],$A49),0)","v":13},{"$f":"IFERROR(SUMIFS(D_D[INV],D_D[MT],2,D_D[CAT],TA_26,D_D[EP],-1, D_D[LOC],$A49),0)","v":2},{"$f":"IFERROR(SUMIFS(D_D[INV],D_D[MT],7,D_D[CAT],2,D_D[EP],TA_20, D_D[LOC],$A49),0)","v":0}]
["362","Houston",{"$f":"IFERROR(SUMIFS(D_D[INV],D_D[MT],1,D_D[CAT],TA_20,D_D[EP],-1, D_D[LOC],$A50),0)","v":992},{"$f":"IFERROR(SUMIFS(D_D[ADP],D_D[MT],1,D_D[CAT],D$1,D_D[EP],-1, D_D[LOC],$A50),0)","v":75.739999999999995},{"$f":"IFERROR(SUMIFS(D_D[INV],D_D[MT],2,D_D[CAT],TA_21,D_D[EP],-1, D_D[LOC],$A50),0)","v":20016},{"$f":"IFERROR(SUMIFS(D_D[BL],D_D[MT],2,D_D[CAT],TA_21,D_D[EP],-1, D_D[LOC],$A50),0)","v":6028},0.30115907274180653,{"$f":"IFERROR(SUMIFS(D_D[INV],D_D[MT],2,D_D[CAT],TA_22,D_D[EP],-1, D_D[LOC],$A50),0)","v":2895},{"$f":"IFERROR(SUMIFS(D_D[BL],D_D[MT],2,D_D[CAT],TA_22,D_D[EP],-1, D_D[LOC],$A50),0)","v":570},0.19689119170984457,{"$f":"IFERROR(SUMIFS(D_D[INV],D_D[MT],2,D_D[CAT],TA_23,D_D[EP],-1, D_D[LOC],$A50),0)","v":35},{"$f":"IFERROR(SUMIFS(D_D[BL],D_D[MT],2,D_D[CAT],TA_23,D_D[EP],-1, D_D[LOC],$A50),0)","v":0},0,{"$f":"IFERROR(SUMIFS(D_D[INV],D_D[MT],2,D_D[CAT],TA_24,D_D[EP],-1, D_D[LOC],$A50),0)","v":1660},{"$f":"IFERROR(SUMIFS(D_D[BL],D_D[MT],2,D_D[CAT],TA_24,D_D[EP],-1, D_D[LOC],$A50),0)","v":881},0.53072289156626506,{"$f":"IFERROR(SUMIFS(D_D[INV],D_D[MT],2,D_D[CAT],TA_25,D_D[EP],-1, D_D[LOC],$A50),0)","v":92},{"$f":"IFERROR(SUMIFS(D_D[INV],D_D[MT],2,D_D[CAT],TA_26,D_D[EP],-1, D_D[LOC],$A50),0)","v":3},{"$f":"IFERROR(SUMIFS(D_D[INV],D_D[MT],7,D_D[CAT],2,D_D[EP],TA_20, D_D[LOC],$A50),0)","v":4}]
["334","Lincoln",{"$f":"IFERROR(SUMIFS(D_D[INV],D_D[MT],1,D_D[CAT],TA_20,D_D[EP],-1, D_D[LOC],$A51),0)","v":1309},{"$f":"IFERROR(SUMIFS(D_D[ADP],D_D[MT],1,D_D[CAT],D$1,D_D[EP],-1, D_D[LOC],$A51),0)","v":49.09},{"$f":"IFERROR(SUMIFS(D_D[INV],D_D[MT],2,D_D[CAT],TA_21,D_D[EP],-1, D_D[LOC],$A51),0)","v":2365},{"$f":"IFERROR(SUMIFS(D_D[BL],D_D[MT],2,D_D[CAT],TA_21,D_D[EP],-1, D_D[LOC],$A51),0)","v":759},0.32093023255813952,{"$f":"IFERROR(SUMIFS(D_D[INV],D_D[MT],2,D_D[CAT],TA_22,D_D[EP],-1, D_D[LOC],$A51),0)","v":1778},{"$f":"IFERROR(SUMIFS(D_D[BL],D_D[MT],2,D_D[CAT],TA_22,D_D[EP],-1, D_D[LOC],$A51),0)","v":209},0.11754780652418448,{"$f":"IFERROR(SUMIFS(D_D[INV],D_D[MT],2,D_D[CAT],TA_23,D_D[EP],-1, D_D[LOC],$A51),0)","v":8},{"$f":"IFERROR(SUMIFS(D_D[BL],D_D[MT],2,D_D[CAT],TA_23,D_D[EP],-1, D_D[LOC],$A51),0)","v":0},0,{"$f":"IFERROR(SUMIFS(D_D[INV],D_D[MT],2,D_D[CAT],TA_24,D_D[EP],-1, D_D[LOC],$A51),0)","v":1227},{"$f":"IFERROR(SUMIFS(D_D[BL],D_D[MT],2,D_D[CAT],TA_24,D_D[EP],-1, D_D[LOC],$A51),0)","v":871},0.70986145069274653,{"$f":"IFERROR(SUMIFS(D_D[INV],D_D[MT],2,D_D[CAT],TA_25,D_D[EP],-1, D_D[LOC],$A51),0)","v":16},{"$f":"IFERROR(SUMIFS(D_D[INV],D_D[MT],2,D_D[CAT],TA_26,D_D[EP],-1, D_D[LOC],$A51),0)","v":6},{"$f":"IFERROR(SUMIFS(D_D[INV],D_D[MT],7,D_D[CAT],2,D_D[EP],TA_20, D_D[LOC],$A51),0)","v":0}]
["351","Muskogee",{"$f":"IFERROR(SUMIFS(D_D[INV],D_D[MT],1,D_D[CAT],TA_20,D_D[EP],-1, D_D[LOC],$A52),0)","v":941},{"$f":"IFERROR(SUMIFS(D_D[ADP],D_D[MT],1,D_D[CAT],D$1,D_D[EP],-1, D_D[LOC],$A52),0)","v":89.48},{"$f":"IFERROR(SUMIFS(D_D[INV],D_D[MT],2,D_D[CAT],TA_21,D_D[EP],-1, D_D[LOC],$A52),0)","v":6267},{"$f":"IFERROR(SUMIFS(D_D[BL],D_D[MT],2,D_D[CAT],TA_21,D_D[EP],-1, D_D[LOC],$A52),0)","v":1924},0.30700494654539651,{"$f":"IFERROR(SUMIFS(D_D[INV],D_D[MT],2,D_D[CAT],TA_22,D_D[EP],-1, D_D[LOC],$A52),0)","v":6682},{"$f":"IFERROR(SUMIFS(D_D[BL],D_D[MT],2,D_D[CAT],TA_22,D_D[EP],-1, D_D[LOC],$A52),0)","v":1201},0.17973660580664472,{"$f":"IFERROR(SUMIFS(D_D[INV],D_D[MT],2,D_D[CAT],TA_23,D_D[EP],-1, D_D[LOC],$A52),0)","v":23},{"$f":"IFERROR(SUMIFS(D_D[BL],D_D[MT],2,D_D[CAT],TA_23,D_D[EP],-1, D_D[LOC],$A52),0)","v":1},4.3478260869565216E-2,{"$f":"IFERROR(SUMIFS(D_D[INV],D_D[MT],2,D_D[CAT],TA_24,D_D[EP],-1, D_D[LOC],$A52),0)","v":745},{"$f":"IFERROR(SUMIFS(D_D[BL],D_D[MT],2,D_D[CAT],TA_24,D_D[EP],-1, D_D[LOC],$A52),0)","v":459},0.61610738255033559,{"$f":"IFERROR(SUMIFS(D_D[INV],D_D[MT],2,D_D[CAT],TA_25,D_D[EP],-1, D_D[LOC],$A52),0)","v":71},{"$f":"IFERROR(SUMIFS(D_D[INV],D_D[MT],2,D_D[CAT],TA_26,D_D[EP],-1, D_D[LOC],$A52),0)","v":22},{"$f":"IFERROR(SUMIFS(D_D[INV],D_D[MT],7,D_D[CAT],2,D_D[EP],TA_20, D_D[LOC],$A52),0)","v":9}]
["438","Sioux Falls",{"$f":"IFERROR(SUMIFS(D_D[INV],D_D[MT],1,D_D[CAT],TA_20,D_D[EP],-1, D_D[LOC],$A53),0)","v":67},{"$f":"IFERROR(SUMIFS(D_D[ADP],D_D[MT],1,D_D[CAT],D$1,D_D[EP],-1, D_D[LOC],$A53),0)","v":106.06},{"$f":"IFERROR(SUMIFS(D_D[INV],D_D[MT],2,D_D[CAT],TA_21,D_D[EP],-1, D_D[LOC],$A53),0)","v":1479},{"$f":"IFERROR(SUMIFS(D_D[BL],D_D[MT],2,D_D[CAT],TA_21,D_D[EP],-1, D_D[LOC],$A53),0)","v":522},0.35294117647058826,{"$f":"IFERROR(SUMIFS(D_D[INV],D_D[MT],2,D_D[CAT],TA_22,D_D[EP],-1, D_D[LOC],$A53),0)","v":521},{"$f":"IFERROR(SUMIFS(D_D[BL],D_D[MT],2,D_D[CAT],TA_22,D_D[EP],-1, D_D[LOC],$A53),0)","v":124},0.23800383877159309,{"$f":"IFERROR(SUMIFS(D_D[INV],D_D[MT],2,D_D[CAT],TA_23,D_D[EP],-1, D_D[LOC],$A53),0)","v":4},{"$f":"IFERROR(SUMIFS(D_D[BL],D_D[MT],2,D_D[CAT],TA_23,D_D[EP],-1, D_D[LOC],$A53),0)","v":0},0,{"$f":"IFERROR(SUMIFS(D_D[INV],D_D[MT],2,D_D[CAT],TA_24,D_D[EP],-1, D_D[LOC],$A53),0)","v":171},{"$f":"IFERROR(SUMIFS(D_D[BL],D_D[MT],2,D_D[CAT],TA_24,D_D[EP],-1, D_D[LOC],$A53),0)","v":110},0.64327485380116955,{"$f":"IFERROR(SUMIFS(D_D[INV],D_D[MT],2,D_D[CAT],TA_25,D_D[EP],-1, D_D[LOC],$A53),0)","v":8},{"$f":"IFERROR(SUMIFS(D_D[INV],D_D[MT],2,D_D[CAT],TA_26,D_D[EP],-1, D_D[LOC],$A53),0)","v":1},{"$f":"IFERROR(SUMIFS(D_D[INV],D_D[MT],7,D_D[CAT],2,D_D[EP],TA_20, D_D[LOC],$A53),0)","v":0}]
["335","St. Paul",{"$f":"IFERROR(SUMIFS(D_D[INV],D_D[MT],1,D_D[CAT],TA_20,D_D[EP],-1, D_D[LOC],$A54),0)","v":1456},{"$f":"IFERROR(SUMIFS(D_D[ADP],D_D[MT],1,D_D[CAT],D$1,D_D[EP],-1, D_D[LOC],$A54),0)","v":90.89},{"$f":"IFERROR(SUMIFS(D_D[INV],D_D[MT],2,D_D[CAT],TA_21,D_D[EP],-1, D_D[LOC],$A54),0)","v":6860},{"$f":"IFERROR(SUMIFS(D_D[BL],D_D[MT],2,D_D[CAT],TA_21,D_D[EP],-1, D_D[LOC],$A54),0)","v":2637},0.38440233236151605,{"$f":"IFERROR(SUMIFS(D_D[INV],D_D[MT],2,D_D[CAT],TA_22,D_D[EP],-1, D_D[LOC],$A54),0)","v":16774},{"$f":"IFERROR(SUMIFS(D_D[BL],D_D[MT],2,D_D[CAT],TA_22,D_D[EP],-1, D_D[LOC],$A54),0)","v":1808},0.10778585906760463,{"$f":"IFERROR(SUMIFS(D_D[INV],D_D[MT],2,D_D[CAT],TA_23,D_D[EP],-1, D_D[LOC],$A54),0)","v":75},{"$f":"IFERROR(SUMIFS(D_D[BL],D_D[MT],2,D_D[CAT],TA_23,D_D[EP],-1, D_D[LOC],$A54),0)","v":6},0.08,{"$f":"IFERROR(SUMIFS(D_D[INV],D_D[MT],2,D_D[CAT],TA_24,D_D[EP],-1, D_D[LOC],$A54),0)","v":2810},{"$f":"IFERROR(SUMIFS(D_D[BL],D_D[MT],2,D_D[CAT],TA_24,D_D[EP],-1, D_D[LOC],$A54),0)","v":2116},0.75302491103202851,{"$f":"IFERROR(SUMIFS(D_D[INV],D_D[MT],2,D_D[CAT],TA_25,D_D[EP],-1, D_D[LOC],$A54),0)","v":605},{"$f":"IFERROR(SUMIFS(D_D[INV],D_D[MT],2,D_D[CAT],TA_26,D_D[EP],-1, D_D[LOC],$A54),0)","v":0},{"$f":"IFERROR(SUMIFS(D_D[INV],D_D[MT],7,D_D[CAT],2,D_D[EP],TA_20, D_D[LOC],$A54),0)","v":242}]
["349","Waco",{"$f":"IFERROR(SUMIFS(D_D[INV],D_D[MT],1,D_D[CAT],TA_20,D_D[EP],-1, D_D[LOC],$A55),0)","v":1585},{"$f":"IFERROR(SUMIFS(D_D[ADP],D_D[MT],1,D_D[CAT],D$1,D_D[EP],-1, D_D[LOC],$A55),0)","v":69.819999999999993},{"$f":"IFERROR(SUMIFS(D_D[INV],D_D[MT],2,D_D[CAT],TA_21,D_D[EP],-1, D_D[LOC],$A55),0)","v":21163},{"$f":"IFERROR(SUMIFS(D_D[BL],D_D[MT],2,D_D[CAT],TA_21,D_D[EP],-1, D_D[LOC],$A55),0)","v":6639},0.31370788640551905,{"$f":"IFERROR(SUMIFS(D_D[INV],D_D[MT],2,D_D[CAT],TA_22,D_D[EP],-1, D_D[LOC],$A55),0)","v":3608},{"$f":"IFERROR(SUMIFS(D_D[BL],D_D[MT],2,D_D[CAT],TA_22,D_D[EP],-1, D_D[LOC],$A55),0)","v":783},0.21701773835920177,{"$f":"IFERROR(SUMIFS(D_D[INV],D_D[MT],2,D_D[CAT],TA_23,D_D[EP],-1, D_D[LOC],$A55),0)","v":67},{"$f":"IFERROR(SUMIFS(D_D[BL],D_D[MT],2,D_D[CAT],TA_23,D_D[EP],-1, D_D[LOC],$A55),0)","v":3},4.4776119402985072E-2,{"$f":"IFERROR(SUMIFS(D_D[INV],D_D[MT],2,D_D[CAT],TA_24,D_D[EP],-1, D_D[LOC],$A55),0)","v":2959},{"$f":"IFERROR(SUMIFS(D_D[BL],D_D[MT],2,D_D[CAT],TA_24,D_D[EP],-1, D_D[LOC],$A55),0)","v":2301},0.77762757688408246,{"$f":"IFERROR(SUMIFS(D_D[INV],D_D[MT],2,D_D[CAT],TA_25,D_D[EP],-1, D_D[LOC],$A55),0)","v":216},{"$f":"IFERROR(SUMIFS(D_D[INV],D_D[MT],2,D_D[CAT],TA_26,D_D[EP],-1, D_D[LOC],$A55),0)","v":1966},{"$f":"IFERROR(SUMIFS(D_D[INV],D_D[MT],7,D_D[CAT],2,D_D[EP],TA_20, D_D[LOC],$A55),0)","v":1}]
["452","Wichita",{"$f":"IFERROR(SUMIFS(D_D[INV],D_D[MT],1,D_D[CAT],TA_20,D_D[EP],-1, D_D[LOC],$A56),0)","v":94},{"$f":"IFERROR(SUMIFS(D_D[ADP],D_D[MT],1,D_D[CAT],D$1,D_D[EP],-1, D_D[LOC],$A56),0)","v":74.55},{"$f":"IFERROR(SUMIFS(D_D[INV],D_D[MT],2,D_D[CAT],TA_21,D_D[EP],-1, D_D[LOC],$A56),0)","v":3002},{"$f":"IFERROR(SUMIFS(D_D[BL],D_D[MT],2,D_D[CAT],TA_21,D_D[EP],-1, D_D[LOC],$A56),0)","v":1009},0.33610926049300466,{"$f":"IFERROR(SUMIFS(D_D[INV],D_D[MT],2,D_D[CAT],TA_22,D_D[EP],-1, D_D[LOC],$A56),0)","v":504},{"$f":"IFERROR(SUMIFS(D_D[BL],D_D[MT],2,D_D[CAT],TA_22,D_D[EP],-1, D_D[LOC],$A56),0)","v":139},0.27579365079365081,{"$f":"IFERROR(SUMIFS(D_D[INV],D_D[MT],2,D_D[CAT],TA_23,D_D[EP],-1, D_D[LOC],$A56),0)","v":12},{"$f":"IFERROR(SUMIFS(D_D[BL],D_D[MT],2,D_D[CAT],TA_23,D_D[EP],-1, D_D[LOC],$A56),0)","v":1},8.3333333333333329E-2,{"$f":"IFERROR(SUMIFS(D_D[INV],D_D[MT],2,D_D[CAT],TA_24,D_D[EP],-1, D_D[LOC],$A56),0)","v":220},{"$f":"IFERROR(SUMIFS(D_D[BL],D_D[MT],2,D_D[CAT],TA_24,D_D[EP],-1, D_D[LOC],$A56),0)","v":157},0.71363636363636362,{"$f":"IFERROR(SUMIFS(D_D[INV],D_D[MT],2,D_D[CAT],TA_25,D_D[EP],-1, D_D[LOC],$A56),0)","v":18},{"$f":"IFERROR(SUMIFS(D_D[INV],D_D[MT],2,D_D[CAT],TA_26,D_D[EP],-1, D_D[LOC],$A56),0)","v":3},{"$f":"IFERROR(SUMIFS(D_D[INV],D_D[MT],7,D_D[CAT],2,D_D[EP],TA_20, D_D[LOC],$A56),0)","v":0}]
[395,"Pacific",{"$f":"IFERROR(SUMIFS(D_D[INV],D_D[MT],1,D_D[CAT],TA_20,D_D[EP],-1, D_D[LOC],$A57),0)","v":7139},{"$f":"IFERROR(SUMIFS(D_D[ADP],D_D[MT],1,D_D[CAT],D$1,D_D[EP],-1, D_D[LOC],$A57),0)","v":62.87},{"$f":"IFERROR(SUMIFS(D_D[INV],D_D[MT],2,D_D[CAT],TA_21,D_D[EP],-1, D_D[LOC],$A57),0)","v":71582},{"$f":"IFERROR(SUMIFS(D_D[BL],D_D[MT],2,D_D[CAT],TA_21,D_D[EP],-1, D_D[LOC],$A57),0)","v":24267},0.33900980693470423,{"$f":"IFERROR(SUMIFS(D_D[INV],D_D[MT],2,D_D[CAT],TA_22,D_D[EP],-1, D_D[LOC],$A57),0)","v":24455},{"$f":"IFERROR(SUMIFS(D_D[BL],D_D[MT],2,D_D[CAT],TA_22,D_D[EP],-1, D_D[LOC],$A57),0)","v":4278},0.1749335514209773,{"$f":"IFERROR(SUMIFS(D_D[INV],D_D[MT],2,D_D[CAT],TA_23,D_D[EP],-1, D_D[LOC],$A57),0)","v":311},{"$f":"IFERROR(SUMIFS(D_D[BL],D_D[MT],2,D_D[CAT],TA_23,D_D[EP],-1, D_D[LOC],$A57),0)","v":18},5.7877813504823149E-2,{"$f":"IFERROR(SUMIFS(D_D[INV],D_D[MT],2,D_D[CAT],TA_24,D_D[EP],-1, D_D[LOC],$A57),0)","v":11663},{"$f":"IFERROR(SUMIFS(D_D[BL],D_D[MT],2,D_D[CAT],TA_24,D_D[EP],-1, D_D[LOC],$A57),0)","v":7310},0.62676841292977792,{"$f":"IFERROR(SUMIFS(D_D[INV],D_D[MT],2,D_D[CAT],TA_25,D_D[EP],-1, D_D[LOC],$A57),0)","v":528},{"$f":"IFERROR(SUMIFS(D_D[INV],D_D[MT],2,D_D[CAT],TA_26,D_D[EP],-1, D_D[LOC],$A57),0)","v":10667},{"$f":"IFERROR(SUMIFS(D_D[INV],D_D[MT],7,D_D[CAT],2,D_D[EP],TA_20, D_D[LOC],$A57),0)","v":104}]
["340","Albuquerque",{"$f":"IFERROR(SUMIFS(D_D[INV],D_D[MT],1,D_D[CAT],TA_20,D_D[EP],-1, D_D[LOC],$A58),0)","v":93},{"$f":"IFERROR(SUMIFS(D_D[ADP],D_D[MT],1,D_D[CAT],D$1,D_D[EP],-1, D_D[LOC],$A58),0)","v":76.31},{"$f":"IFERROR(SUMIFS(D_D[INV],D_D[MT],2,D_D[CAT],TA_21,D_D[EP],-1, D_D[LOC],$A58),0)","v":2369},{"$f":"IFERROR(SUMIFS(D_D[BL],D_D[MT],2,D_D[CAT],TA_21,D_D[EP],-1, D_D[LOC],$A58),0)","v":873},0.36850991979738285,{"$f":"IFERROR(SUMIFS(D_D[INV],D_D[MT],2,D_D[CAT],TA_22,D_D[EP],-1, D_D[LOC],$A58),0)","v":383},{"$f":"IFERROR(SUMIFS(D_D[BL],D_D[MT],2,D_D[CAT],TA_22,D_D[EP],-1, D_D[LOC],$A58),0)","v":70},0.18276762402088773,{"$f":"IFERROR(SUMIFS(D_D[INV],D_D[MT],2,D_D[CAT],TA_23,D_D[EP],-1, D_D[LOC],$A58),0)","v":12},{"$f":"IFERROR(SUMIFS(D_D[BL],D_D[MT],2,D_D[CAT],TA_23,D_D[EP],-1, D_D[LOC],$A58),0)","v":0},0,{"$f":"IFERROR(SUMIFS(D_D[INV],D_D[MT],2,D_D[CAT],TA_24,D_D[EP],-1, D_D[LOC],$A58),0)","v":219},{"$f":"IFERROR(SUMIFS(D_D[BL],D_D[MT],2,D_D[CAT],TA_24,D_D[EP],-1, D_D[LOC],$A58),0)","v":180},0.82191780821917804,{"$f":"IFERROR(SUMIFS(D_D[INV],D_D[MT],2,D_D[CAT],TA_25,D_D[EP],-1, D_D[LOC],$A58),0)","v":19},{"$f":"IFERROR(SUMIFS(D_D[INV],D_D[MT],2,D_D[CAT],TA_26,D_D[EP],-1, D_D[LOC],$A58),0)","v":2},{"$f":"IFERROR(SUMIFS(D_D[INV],D_D[MT],7,D_D[CAT],2,D_D[EP],TA_20, D_D[LOC],$A58),0)","v":0}]
["463","Anchorage",{"$f":"IFERROR(SUMIFS(D_D[INV],D_D[MT],1,D_D[CAT],TA_20,D_D[EP],-1, D_D[LOC],$A59),0)","v":51},{"$f":"IFERROR(SUMIFS(D_D[ADP],D_D[MT],1,D_D[CAT],D$1,D_D[EP],-1, D_D[LOC],$A59),0)","v":56.29},{"$f":"IFERROR(SUMIFS(D_D[INV],D_D[MT],2,D_D[CAT],TA_21,D_D[EP],-1, D_D[LOC],$A59),0)","v":1289},{"$f":"IFERROR(SUMIFS(D_D[BL],D_D[MT],2,D_D[CAT],TA_21,D_D[EP],-1, D_D[LOC],$A59),0)","v":466},0.36152055857253684,{"$f":"IFERROR(SUMIFS(D_D[INV],D_D[MT],2,D_D[CAT],TA_22,D_D[EP],-1, D_D[LOC],$A59),0)","v":233},{"$f":"IFERROR(SUMIFS(D_D[BL],D_D[MT],2,D_D[CAT],TA_22,D_D[EP],-1, D_D[LOC],$A59),0)","v":49},0.21030042918454936,{"$f":"IFERROR(SUMIFS(D_D[INV],D_D[MT],2,D_D[CAT],TA_23,D_D[EP],-1, D_D[LOC],$A59),0)","v":3},{"$f":"IFERROR(SUMIFS(D_D[BL],D_D[MT],2,D_D[CAT],TA_23,D_D[EP],-1, D_D[LOC],$A59),0)","v":0},0,{"$f":"IFERROR(SUMIFS(D_D[INV],D_D[MT],2,D_D[CAT],TA_24,D_D[EP],-1, D_D[LOC],$A59),0)","v":100},{"$f":"IFERROR(SUMIFS(D_D[BL],D_D[MT],2,D_D[CAT],TA_24,D_D[EP],-1, D_D[LOC],$A59),0)","v":73},0.73,{"$f":"IFERROR(SUMIFS(D_D[INV],D_D[MT],2,D_D[CAT],TA_25,D_D[EP],-1, D_D[LOC],$A59),0)","v":2},{"$f":"IFERROR(SUMIFS(D_D[INV],D_D[MT],2,D_D[CAT],TA_26,D_D[EP],-1, D_D[LOC],$A59),0)","v":1},{"$f":"IFERROR(SUMIFS(D_D[INV],D_D[MT],7,D_D[CAT],2,D_D[EP],TA_20, D_D[LOC],$A59),0)","v":1}]
["347","Boise",{"$f":"IFERROR(SUMIFS(D_D[INV],D_D[MT],1,D_D[CAT],TA_20,D_D[EP],-1, D_D[LOC],$A60),0)","v":112},{"$f":"IFERROR(SUMIFS(D_D[ADP],D_D[MT],1,D_D[CAT],D$1,D_D[EP],-1, D_D[LOC],$A60),0)","v":69.010000000000005},{"$f":"IFERROR(SUMIFS(D_D[INV],D_D[MT],2,D_D[CAT],TA_21,D_D[EP],-1, D_D[LOC],$A60),0)","v":2146},{"$f":"IFERROR(SUMIFS(D_D[BL],D_D[MT],2,D_D[CAT],TA_21,D_D[EP],-1, D_D[LOC],$A60),0)","v":750},0.34948741845293568,{"$f":"IFERROR(SUMIFS(D_D[INV],D_D[MT],2,D_D[CAT],TA_22,D_D[EP],-1, D_D[LOC],$A60),0)","v":514},{"$f":"IFERROR(SUMIFS(D_D[BL],D_D[MT],2,D_D[CAT],TA_22,D_D[EP],-1, D_D[LOC],$A60),0)","v":107},0.20817120622568094,{"$f":"IFERROR(SUMIFS(D_D[INV],D_D[MT],2,D_D[CAT],TA_23,D_D[EP],-1, D_D[LOC],$A60),0)","v":10},{"$f":"IFERROR(SUMIFS(D_D[BL],D_D[MT],2,D_D[CAT],TA_23,D_D[EP],-1, D_D[LOC],$A60),0)","v":0},0,{"$f":"IFERROR(SUMIFS(D_D[INV],D_D[MT],2,D_D[CAT],TA_24,D_D[EP],-1, D_D[LOC],$A60),0)","v":259},{"$f":"IFERROR(SUMIFS(D_D[BL],D_D[MT],2,D_D[CAT],TA_24,D_D[EP],-1, D_D[LOC],$A60),0)","v":210},0.81081081081081086,{"$f":"IFERROR(SUMIFS(D_D[INV],D_D[MT],2,D_D[CAT],TA_25,D_D[EP],-1, D_D[LOC],$A60),0)","v":21},{"$f":"IFERROR(SUMIFS(D_D[INV],D_D[MT],2,D_D[CAT],TA_26,D_D[EP],-1, D_D[LOC],$A60),0)","v":7},{"$f":"IFERROR(SUMIFS(D_D[INV],D_D[MT],7,D_D[CAT],2,D_D[EP],TA_20, D_D[LOC],$A60),0)","v":0}]
["459","Honolulu",{"$f":"IFERROR(SUMIFS(D_D[INV],D_D[MT],1,D_D[CAT],TA_20,D_D[EP],-1, D_D[LOC],$A61),0)","v":116},{"$f":"IFERROR(SUMIFS(D_D[ADP],D_D[MT],1,D_D[CAT],D$1,D_D[EP],-1, D_D[LOC],$A61),0)","v":69.86},{"$f":"IFERROR(SUMIFS(D_D[INV],D_D[MT],2,D_D[CAT],TA_21,D_D[EP],-1, D_D[LOC],$A61),0)","v":3063},{"$f":"IFERROR(SUMIFS(D_D[BL],D_D[MT],2,D_D[CAT],TA_21,D_D[EP],-1, D_D[LOC],$A61),0)","v":1021},0.33333333333333331,{"$f":"IFERROR(SUMIFS(D_D[INV],D_D[MT],2,D_D[CAT],TA_22,D_D[EP],-1, D_D[LOC],$A61),0)","v":572},{"$f":"IFERROR(SUMIFS(D_D[BL],D_D[MT],2,D_D[CAT],TA_22,D_D[EP],-1, D_D[LOC],$A61),0)","v":122},0.21328671328671328,{"$f":"IFERROR(SUMIFS(D_D[INV],D_D[MT],2,D_D[CAT],TA_23,D_D[EP],-1, D_D[LOC],$A61),0)","v":6},{"$f":"IFERROR(SUMIFS(D_D[BL],D_D[MT],2,D_D[CAT],TA_23,D_D[EP],-1, D_D[LOC],$A61),0)","v":0},0,{"$f":"IFERROR(SUMIFS(D_D[INV],D_D[MT],2,D_D[CAT],TA_24,D_D[EP],-1, D_D[LOC],$A61),0)","v":170},{"$f":"IFERROR(SUMIFS(D_D[BL],D_D[MT],2,D_D[CAT],TA_24,D_D[EP],-1, D_D[LOC],$A61),0)","v":117},0.68823529411764706,{"$f":"IFERROR(SUMIFS(D_D[INV],D_D[MT],2,D_D[CAT],TA_25,D_D[EP],-1, D_D[LOC],$A61),0)","v":11},{"$f":"IFERROR(SUMIFS(D_D[INV],D_D[MT],2,D_D[CAT],TA_26,D_D[EP],-1, D_D[LOC],$A61),0)","v":1},{"$f":"IFERROR(SUMIFS(D_D[INV],D_D[MT],7,D_D[CAT],2,D_D[EP],TA_20, D_D[LOC],$A61),0)","v":1}]
["344","Los Angeles",{"$f":"IFERROR(SUMIFS(D_D[INV],D_D[MT],1,D_D[CAT],TA_20,D_D[EP],-1, D_D[LOC],$A62),0)","v":412},{"$f":"IFERROR(SUMIFS(D_D[ADP],D_D[MT],1,D_D[CAT],D$1,D_D[EP],-1, D_D[LOC],$A62),0)","v":60.62},{"$f":"IFERROR(SUMIFS(D_D[INV],D_D[MT],2,D_D[CAT],TA_21,D_D[EP],-1, D_D[LOC],$A62),0)","v":9617},{"$f":"IFERROR(SUMIFS(D_D[BL],D_D[MT],2,D_D[CAT],TA_21,D_D[EP],-1, D_D[LOC],$A62),0)","v":2859},0.29728605594260166,{"$f":"IFERROR(SUMIFS(D_D[INV],D_D[MT],2,D_D[CAT],TA_22,D_D[EP],-1, D_D[LOC],$A62),0)","v":1506},{"$f":"IFERROR(SUMIFS(D_D[BL],D_D[MT],2,D_D[CAT],TA_22,D_D[EP],-1, D_D[LOC],$A62),0)","v":271},0.17994687915006641,{"$f":"IFERROR(SUMIFS(D_D[INV],D_D[MT],2,D_D[CAT],TA_23,D_D[EP],-1, D_D[LOC],$A62),0)","v":36},{"$f":"IFERROR(SUMIFS(D_D[BL],D_D[MT],2,D_D[CAT],TA_23,D_D[EP],-1, D_D[LOC],$A62),0)","v":0},0,{"$f":"IFERROR(SUMIFS(D_D[INV],D_D[MT],2,D_D[CAT],TA_24,D_D[EP],-1, D_D[LOC],$A62),0)","v":807},{"$f":"IFERROR(SUMIFS(D_D[BL],D_D[MT],2,D_D[CAT],TA_24,D_D[EP],-1, D_D[LOC],$A62),0)","v":473},0.58612143742255263,{"$f":"IFERROR(SUMIFS(D_D[INV],D_D[MT],2,D_D[CAT],TA_25,D_D[EP],-1, D_D[LOC],$A62),0)","v":50},{"$f":"IFERROR(SUMIFS(D_D[INV],D_D[MT],2,D_D[CAT],TA_26,D_D[EP],-1, D_D[LOC],$A62),0)","v":3},{"$f":"IFERROR(SUMIFS(D_D[INV],D_D[MT],7,D_D[CAT],2,D_D[EP],TA_20, D_D[LOC],$A62),0)","v":5}]
["358","Manila",{"$f":"IFERROR(SUMIFS(D_D[INV],D_D[MT],1,D_D[CAT],TA_20,D_D[EP],-1, D_D[LOC],$A63),0)","v":271},{"$f":"IFERROR(SUMIFS(D_D[ADP],D_D[MT],1,D_D[CAT],D$1,D_D[EP],-1, D_D[LOC],$A63),0)","v":133.11000000000001},{"$f":"IFERROR(SUMIFS(D_D[INV],D_D[MT],2,D_D[CAT],TA_21,D_D[EP],-1, D_D[LOC],$A63),0)","v":422},{"$f":"IFERROR(SUMIFS(D_D[BL],D_D[MT],2,D_D[CAT],TA_21,D_D[EP],-1, D_D[LOC],$A63),0)","v":149},0.35308056872037913,{"$f":"IFERROR(SUMIFS(D_D[INV],D_D[MT],2,D_D[CAT],TA_22,D_D[EP],-1, D_D[LOC],$A63),0)","v":571},{"$f":"IFERROR(SUMIFS(D_D[BL],D_D[MT],2,D_D[CAT],TA_22,D_D[EP],-1, D_D[LOC],$A63),0)","v":212},0.37127845884413307,{"$f":"IFERROR(SUMIFS(D_D[INV],D_D[MT],2,D_D[CAT],TA_23,D_D[EP],-1, D_D[LOC],$A63),0)","v":5},{"$f":"IFERROR(SUMIFS(D_D[BL],D_D[MT],2,D_D[CAT],TA_23,D_D[EP],-1, D_D[LOC],$A63),0)","v":0},0,{"$f":"IFERROR(SUMIFS(D_D[INV],D_D[MT],2,D_D[CAT],TA_24,D_D[EP],-1, D_D[LOC],$A63),0)","v":95},{"$f":"IFERROR(SUMIFS(D_D[BL],D_D[MT],2,D_D[CAT],TA_24,D_D[EP],-1, D_D[LOC],$A63),0)","v":58},0.61052631578947369,{"$f":"IFERROR(SUMIFS(D_D[INV],D_D[MT],2,D_D[CAT],TA_25,D_D[EP],-1, D_D[LOC],$A63),0)","v":15},{"$f":"IFERROR(SUMIFS(D_D[INV],D_D[MT],2,D_D[CAT],TA_26,D_D[EP],-1, D_D[LOC],$A63),0)","v":5},{"$f":"IFERROR(SUMIFS(D_D[INV],D_D[MT],7,D_D[CAT],2,D_D[EP],TA_20, D_D[LOC],$A63),0)","v":83}]
["343","Oakland",{"$f":"IFERROR(SUMIFS(D_D[INV],D_D[MT],1,D_D[CAT],TA_20,D_D[EP],-1, D_D[LOC],$A64),0)","v":359},{"$f":"IFERROR(SUMIFS(D_D[ADP],D_D[MT],1,D_D[CAT],D$1,D_D[EP],-1, D_D[LOC],$A64),0)","v":82.39},{"$f":"IFERROR(SUMIFS(D_D[INV],D_D[MT],2,D_D[CAT],TA_21,D_D[EP],-1, D_D[LOC],$A64),0)","v":9974},{"$f":"IFERROR(SUMIFS(D_D[BL],D_D[MT],2,D_D[CAT],TA_21,D_D[EP],-1, D_D[LOC],$A64),0)","v":3425},0.34339282133547222,{"$f":"IFERROR(SUMIFS(D_D[INV],D_D[MT],2,D_D[CAT],TA_22,D_D[EP],-1, D_D[LOC],$A64),0)","v":1511},{"$f":"IFERROR(SUMIFS(D_D[BL],D_D[MT],2,D_D[CAT],TA_22,D_D[EP],-1, D_D[LOC],$A64),0)","v":306},0.20251489080079418,{"$f":"IFERROR(SUMIFS(D_D[INV],D_D[MT],2,D_D[CAT],TA_23,D_D[EP],-1, D_D[LOC],$A64),0)","v":33},{"$f":"IFERROR(SUMIFS(D_D[BL],D_D[MT],2,D_D[CAT],TA_23,D_D[EP],-1, D_D[LOC],$A64),0)","v":2},6.0606060606060608E-2,{"$f":"IFERROR(SUMIFS(D_D[INV],D_D[MT],2,D_D[CAT],TA_24,D_D[EP],-1, D_D[LOC],$A64),0)","v":1215},{"$f":"IFERROR(SUMIFS(D_D[BL],D_D[MT],2,D_D[CAT],TA_24,D_D[EP],-1, D_D[LOC],$A64),0)","v":811},0.6674897119341564,{"$f":"IFERROR(SUMIFS(D_D[INV],D_D[MT],2,D_D[CAT],TA_25,D_D[EP],-1, D_D[LOC],$A64),0)","v":68},{"$f":"IFERROR(SUMIFS(D_D[INV],D_D[MT],2,D_D[CAT],TA_26,D_D[EP],-1, D_D[LOC],$A64),0)","v":2},{"$f":"IFERROR(SUMIFS(D_D[INV],D_D[MT],7,D_D[CAT],2,D_D[EP],TA_20, D_D[LOC],$A64),0)","v":4}]
["345","Phoenix",{"$f":"IFERROR(SUMIFS(D_D[INV],D_D[MT],1,D_D[CAT],TA_20,D_D[EP],-1, D_D[LOC],$A65),0)","v":461},{"$f":"IFERROR(SUMIFS(D_D[ADP],D_D[MT],1,D_D[CAT],D$1,D_D[EP],-1, D_D[LOC],$A65),0)","v":60.36},{"$f":"IFERROR(SUMIFS(D_D[INV],D_D[MT],2,D_D[CAT],TA_21,D_D[EP],-1, D_D[LOC],$A65),0)","v":6679},{"$f":"IFERROR(SUMIFS(D_D[BL],D_D[MT],2,D_D[CAT],TA_21,D_D[EP],-1, D_D[LOC],$A65),0)","v":2098},0.31411888007186706,{"$f":"IFERROR(SUMIFS(D_D[INV],D_D[MT],2,D_D[CAT],TA_22,D_D[EP],-1, D_D[LOC],$A65),0)","v":1289},{"$f":"IFERROR(SUMIFS(D_D[BL],D_D[MT],2,D_D[CAT],TA_22,D_D[EP],-1, D_D[LOC],$A65),0)","v":254},0.19705197827773469,{"$f":"IFERROR(SUMIFS(D_D[INV],D_D[MT],2,D_D[CAT],TA_23,D_D[EP],-1, D_D[LOC],$A65),0)","v":15},{"$f":"IFERROR(SUMIFS(D_D[BL],D_D[MT],2,D_D[CAT],TA_23,D_D[EP],-1, D_D[LOC],$A65),0)","v":0},0,{"$f":"IFERROR(SUMIFS(D_D[INV],D_D[MT],2,D_D[CAT],TA_24,D_D[EP],-1, D_D[LOC],$A65),0)","v":1348},{"$f":"IFERROR(SUMIFS(D_D[BL],D_D[MT],2,D_D[CAT],TA_24,D_D[EP],-1, D_D[LOC],$A65),0)","v":1146},0.85014836795252224,{"$f":"IFERROR(SUMIFS(D_D[INV],D_D[MT],2,D_D[CAT],TA_25,D_D[EP],-1, D_D[LOC],$A65),0)","v":68},{"$f":"IFERROR(SUMIFS(D_D[INV],D_D[MT],2,D_D[CAT],TA_26,D_D[EP],-1, D_D[LOC],$A65),0)","v":1941},{"$f":"IFERROR(SUMIFS(D_D[INV],D_D[MT],7,D_D[CAT],2,D_D[EP],TA_20, D_D[LOC],$A65),0)","v":1}]
["348","Portland",{"$f":"IFERROR(SUMIFS(D_D[INV],D_D[MT],1,D_D[CAT],TA_20,D_D[EP],-1, D_D[LOC],$A66),0)","v":194},{"$f":"IFERROR(SUMIFS(D_D[ADP],D_D[MT],1,D_D[CAT],D$1,D_D[EP],-1, D_D[LOC],$A66),0)","v":68.900000000000006},{"$f":"IFERROR(SUMIFS(D_D[INV],D_D[MT],2,D_D[CAT],TA_21,D_D[EP],-1, D_D[LOC],$A66),0)","v":4030},{"$f":"IFERROR(SUMIFS(D_D[BL],D_D[MT],2,D_D[CAT],TA_21,D_D[EP],-1, D_D[LOC],$A66),0)","v":1512},0.37518610421836229,{"$f":"IFERROR(SUMIFS(D_D[INV],D_D[MT],2,D_D[CAT],TA_22,D_D[EP],-1, D_D[LOC],$A66),0)","v":985},{"$f":"IFERROR(SUMIFS(D_D[BL],D_D[MT],2,D_D[CAT],TA_22,D_D[EP],-1, D_D[LOC],$A66),0)","v":161},0.16345177664974619,{"$f":"IFERROR(SUMIFS(D_D[INV],D_D[MT],2,D_D[CAT],TA_23,D_D[EP],-1, D_D[LOC],$A66),0)","v":15},{"$f":"IFERROR(SUMIFS(D_D[BL],D_D[MT],2,D_D[CAT],TA_23,D_D[EP],-1, D_D[LOC],$A66),0)","v":1},6.6666666666666666E-2,{"$f":"IFERROR(SUMIFS(D_D[INV],D_D[MT],2,D_D[CAT],TA_24,D_D[EP],-1, D_D[LOC],$A66),0)","v":543},{"$f":"IFERROR(SUMIFS(D_D[BL],D_D[MT],2,D_D[CAT],TA_24,D_D[EP],-1, D_D[LOC],$A66),0)","v":440},0.81031307550644571,{"$f":"IFERROR(SUMIFS(D_D[INV],D_D[MT],2,D_D[CAT],TA_25,D_D[EP],-1, D_D[LOC],$A66),0)","v":41},{"$f":"IFERROR(SUMIFS(D_D[INV],D_D[MT],2,D_D[CAT],TA_26,D_D[EP],-1, D_D[LOC],$A66),0)","v":2},{"$f":"IFERROR(SUMIFS(D_D[INV],D_D[MT],7,D_D[CAT],2,D_D[EP],TA_20, D_D[LOC],$A66),0)","v":1}]
["354","Reno",{"$f":"IFERROR(SUMIFS(D_D[INV],D_D[MT],1,D_D[CAT],TA_20,D_D[EP],-1, D_D[LOC],$A67),0)","v":209},{"$f":"IFERROR(SUMIFS(D_D[ADP],D_D[MT],1,D_D[CAT],D$1,D_D[EP],-1, D_D[LOC],$A67),0)","v":42.28},{"$f":"IFERROR(SUMIFS(D_D[INV],D_D[MT],2,D_D[CAT],TA_21,D_D[EP],-1, D_D[LOC],$A67),0)","v":4616},{"$f":"IFERROR(SUMIFS(D_D[BL],D_D[MT],2,D_D[CAT],TA_21,D_D[EP],-1, D_D[LOC],$A67),0)","v":1459},0.31607452339688041,{"$f":"IFERROR(SUMIFS(D_D[INV],D_D[MT],2,D_D[CAT],TA_22,D_D[EP],-1, D_D[LOC],$A67),0)","v":650},{"$f":"IFERROR(SUMIFS(D_D[BL],D_D[MT],2,D_D[CAT],TA_22,D_D[EP],-1, D_D[LOC],$A67),0)","v":129},0.19846153846153847,{"$f":"IFERROR(SUMIFS(D_D[INV],D_D[MT],2,D_D[CAT],TA_23,D_D[EP],-1, D_D[LOC],$A67),0)","v":11},{"$f":"IFERROR(SUMIFS(D_D[BL],D_D[MT],2,D_D[CAT],TA_23,D_D[EP],-1, D_D[LOC],$A67),0)","v":0},0,{"$f":"IFERROR(SUMIFS(D_D[INV],D_D[MT],2,D_D[CAT],TA_24,D_D[EP],-1, D_D[LOC],$A67),0)","v":481},{"$f":"IFERROR(SUMIFS(D_D[BL],D_D[MT],2,D_D[CAT],TA_24,D_D[EP],-1, D_D[LOC],$A67),0)","v":356},0.74012474012474017,{"$f":"IFERROR(SUMIFS(D_D[INV],D_D[MT],2,D_D[CAT],TA_25,D_D[EP],-1, D_D[LOC],$A67),0)","v":23},{"$f":"IFERROR(SUMIFS(D_D[INV],D_D[MT],2,D_D[CAT],TA_26,D_D[EP],-1, D_D[LOC],$A67),0)","v":2},{"$f":"IFERROR(SUMIFS(D_D[INV],D_D[MT],7,D_D[CAT],2,D_D[EP],TA_20, D_D[LOC],$A67),0)","v":2}]
["341","Salt Lake City",{"$f":"IFERROR(SUMIFS(D_D[INV],D_D[MT],1,D_D[CAT],TA_20,D_D[EP],-1, D_D[LOC],$A68),0)","v":2423},{"$f":"IFERROR(SUMIFS(D_D[ADP],D_D[MT],1,D_D[CAT],D$1,D_D[EP],-1, D_D[LOC],$A68),0)","v":43.24},{"$f":"IFERROR(SUMIFS(D_D[INV],D_D[MT],2,D_D[CAT],TA_21,D_D[EP],-1, D_D[LOC],$A68),0)","v":2714},{"$f":"IFERROR(SUMIFS(D_D[BL],D_D[MT],2,D_D[CAT],TA_21,D_D[EP],-1, D_D[LOC],$A68),0)","v":896},0.33014001473839349,{"$f":"IFERROR(SUMIFS(D_D[INV],D_D[MT],2,D_D[CAT],TA_22,D_D[EP],-1, D_D[LOC],$A68),0)","v":2916},{"$f":"IFERROR(SUMIFS(D_D[BL],D_D[MT],2,D_D[CAT],TA_22,D_D[EP],-1, D_D[LOC],$A68),0)","v":264},9.0534979423868317E-2,{"$f":"IFERROR(SUMIFS(D_D[INV],D_D[MT],2,D_D[CAT],TA_23,D_D[EP],-1, D_D[LOC],$A68),0)","v":11},{"$f":"IFERROR(SUMIFS(D_D[BL],D_D[MT],2,D_D[CAT],TA_23,D_D[EP],-1, D_D[LOC],$A68),0)","v":1},9.0909090909090912E-2,{"$f":"IFERROR(SUMIFS(D_D[INV],D_D[MT],2,D_D[CAT],TA_24,D_D[EP],-1, D_D[LOC],$A68),0)","v":1604},{"$f":"IFERROR(SUMIFS(D_D[BL],D_D[MT],2,D_D[CAT],TA_24,D_D[EP],-1, D_D[LOC],$A68),0)","v":1485},0.92581047381546133,{"$f":"IFERROR(SUMIFS(D_D[INV],D_D[MT],2,D_D[CAT],TA_25,D_D[EP],-1, D_D[LOC],$A68),0)","v":124},{"$f":"IFERROR(SUMIFS(D_D[INV],D_D[MT],2,D_D[CAT],TA_26,D_D[EP],-1, D_D[LOC],$A68),0)","v":8680},{"$f":"IFERROR(SUMIFS(D_D[INV],D_D[MT],7,D_D[CAT],2,D_D[EP],TA_20, D_D[LOC],$A68),0)","v":0}]
["377","San Diego",{"$f":"IFERROR(SUMIFS(D_D[INV],D_D[MT],1,D_D[CAT],TA_20,D_D[EP],-1, D_D[LOC],$A69),0)","v":1416},{"$f":"IFERROR(SUMIFS(D_D[ADP],D_D[MT],1,D_D[CAT],D$1,D_D[EP],-1, D_D[LOC],$A69),0)","v":69.36},{"$f":"IFERROR(SUMIFS(D_D[INV],D_D[MT],2,D_D[CAT],TA_21,D_D[EP],-1, D_D[LOC],$A69),0)","v":12248},{"$f":"IFERROR(SUMIFS(D_D[BL],D_D[MT],2,D_D[CAT],TA_21,D_D[EP],-1, D_D[LOC],$A69),0)","v":3883},{"$f":"IFERROR(F69/E69,\"0%\")","v":0.31703135205747879},{"$f":"IFERROR(SUMIFS(D_D[INV],D_D[MT],2,D_D[CAT],TA_22,D_D[EP],-1, D_D[LOC],$A69),0)","v":10254},{"$f":"IFERROR(SUMIFS(D_D[BL],D_D[MT],2,D_D[CAT],TA_22,D_D[EP],-1, D_D[LOC],$A69),0)","v":1603},{"$f":"IFERROR(I69/H69,\"0%\")","v":0.15632923737078214},{"$f":"IFERROR(SUMIFS(D_D[INV],D_D[MT],2,D_D[CAT],TA_23,D_D[EP],-1, D_D[LOC],$A69),0)","v":107},{"$f":"IFERROR(SUMIFS(D_D[BL],D_D[MT],2,D_D[CAT],TA_23,D_D[EP],-1, D_D[LOC],$A69),0)","v":11},{"$f":"IFERROR(L69/K69,\"0%\")","v":0.10280373831775701},{"$f":"IFERROR(SUMIFS(D_D[INV],D_D[MT],2,D_D[CAT],TA_24,D_D[EP],-1, D_D[LOC],$A69),0)","v":1085},{"$f":"IFERROR(SUMIFS(D_D[BL],D_D[MT],2,D_D[CAT],TA_24,D_D[EP],-1, D_D[LOC],$A69),0)","v":688},{"$f":"IFERROR(O69/N69,\"0%\")","v":0.63410138248847925},{"$f":"IFERROR(SUMIFS(D_D[INV],D_D[MT],2,D_D[CAT],TA_25,D_D[EP],-1, D_D[LOC],$A69),0)","v":28},{"$f":"IFERROR(SUMIFS(D_D[INV],D_D[MT],2,D_D[CAT],TA_26,D_D[EP],-1, D_D[LOC],$A69),0)","v":3},{"$f":"IFERROR(SUMIFS(D_D[INV],D_D[MT],7,D_D[CAT],2,D_D[EP],TA_20, D_D[LOC],$A69),0)","v":1}]
["346","Seattle",{"$f":"IFERROR(SUMIFS(D_D[INV],D_D[MT],1,D_D[CAT],TA_20,D_D[EP],-1, D_D[LOC],$A70),0)","v":1022},{"$f":"IFERROR(SUMIFS(D_D[ADP],D_D[MT],1,D_D[CAT],D$1,D_D[EP],-1, D_D[LOC],$A70),0)","v":77.69},{"$f":"IFERROR(SUMIFS(D_D[INV],D_D[MT],2,D_D[CAT],TA_21,D_D[EP],-1, D_D[LOC],$A70),0)","v":12415},{"$f":"IFERROR(SUMIFS(D_D[BL],D_D[MT],2,D_D[CAT],TA_21,D_D[EP],-1, D_D[LOC],$A70),0)","v":4876},0.39275070479258961,{"$f":"IFERROR(SUMIFS(D_D[INV],D_D[MT],2,D_D[CAT],TA_22,D_D[EP],-1, D_D[LOC],$A70),0)","v":3071},{"$f":"IFERROR(SUMIFS(D_D[BL],D_D[MT],2,D_D[CAT],TA_22,D_D[EP],-1, D_D[LOC],$A70),0)","v":730},0.23770758710517748,{"$f":"IFERROR(SUMIFS(D_D[INV],D_D[MT],2,D_D[CAT],TA_23,D_D[EP],-1, D_D[LOC],$A70),0)","v":47},{"$f":"IFERROR(SUMIFS(D_D[BL],D_D[MT],2,D_D[CAT],TA_23,D_D[EP],-1, D_D[LOC],$A70),0)","v":3},6.3829787234042548E-2,{"$f":"IFERROR(SUMIFS(D_D[INV],D_D[MT],2,D_D[CAT],TA_24,D_D[EP],-1, D_D[LOC],$A70),0)","v":3737},{"$f":"IFERROR(SUMIFS(D_D[BL],D_D[MT],2,D_D[CAT],TA_24,D_D[EP],-1, D_D[LOC],$A70),0)","v":1273},0.34064757827134062,{"$f":"IFERROR(SUMIFS(D_D[INV],D_D[MT],2,D_D[CAT],TA_25,D_D[EP],-1, D_D[LOC],$A70),0)","v":58},{"$f":"IFERROR(SUMIFS(D_D[INV],D_D[MT],2,D_D[CAT],TA_26,D_D[EP],-1, D_D[LOC],$A70),0)","v":18},{"$f":"IFERROR(SUMIFS(D_D[INV],D_D[MT],7,D_D[CAT],2,D_D[EP],TA_20, D_D[LOC],$A70),0)","v":5}]
[35,"Other",{"$f":"IFERROR(SUMIFS(D_D[INV],D_D[MT],1,D_D[CAT],TA_20,D_D[EP],-1, D_D[LOC],$A71),0)","v":16901},{"$f":"IFERROR(SUMIFS(D_D[ADP],D_D[MT],1,D_D[CAT],D$1,D_D[EP],-1, D_D[LOC],$A71),0)","v":91.1},{"$f":"IFERROR(SUMIFS(D_D[INV],D_D[MT],2,D_D[CAT],TA_21,D_D[EP],-1, D_D[LOC],$A71),0)","v":149682},{"$f":"IFERROR(SUMIFS(D_D[BL],D_D[MT],2,D_D[CAT],TA_21,D_D[EP],-1, D_D[LOC],$A71),0)","v":44588},0.29788484921366631,{"$f":"IFERROR(SUMIFS(D_D[INV],D_D[MT],2,D_D[CAT],TA_22,D_D[EP],-1, D_D[LOC],$A71),0)","v":17716},{"$f":"IFERROR(SUMIFS(D_D[BL],D_D[MT],2,D_D[CAT],TA_22,D_D[EP],-1, D_D[LOC],$A71),0)","v":5192},0.29306841273425155,{"$f":"IFERROR(SUMIFS(D_D[INV],D_D[MT],2,D_D[CAT],TA_23,D_D[EP],-1, D_D[LOC],$A71),0)","v":60},{"$f":"IFERROR(SUMIFS(D_D[BL],D_D[MT],2,D_D[CAT],TA_23,D_D[EP],-1, D_D[LOC],$A71),0)","v":23},0.38333333333333336,{"$f":"IFERROR(SUMIFS(D_D[INV],D_D[MT],2,D_D[CAT],TA_24,D_D[EP],-1, D_D[LOC],$A71),0)","v":94518},{"$f":"IFERROR(SUMIFS(D_D[BL],D_D[MT],2,D_D[CAT],TA_24,D_D[EP],-1, D_D[LOC],$A71),0)","v":73344},0.77597917856916143,{"$f":"IFERROR(SUMIFS(D_D[INV],D_D[MT],2,D_D[CAT],TA_25,D_D[EP],-1, D_D[LOC],$A71),0)","v":2017},{"$f":"IFERROR(SUMIFS(D_D[INV],D_D[MT],2,D_D[CAT],TA_26,D_D[EP],-1, D_D[LOC],$A71),0)","v":709},{"$f":"IFERROR(SUMIFS(D_D[INV],D_D[MT],7,D_D[CAT],2,D_D[EP],TA_20, D_D[LOC],$A71),0)","v":27707}]
[]
[null,null,"Pension"]
[null,null,"Non-Rating",null,"Entitlement   ",null,null,"Award Adjustment ",null,null,"Program Review ",null,null,"Other",null,null,"Burial  ","Accrued  ","Appeals"]
[null,null,"Claims Pending","Avg. Days Pending","Claims Pending","Pending over 125 days","Percent Pending over 125 days","Claims Pending","Pending over 125 days","Percent Pending over 125 days","Claims Pending","Pending over 125 days","Percent Pending over 125 days","Claims Pending","Pending over 125 days","Percent Pending over 125 days","Claims Pending","Claims Pending","Appeals Pending"]
[100,"USA Pension",{"$f":"IFERROR(SUMIFS(D_D[INV],D_D[MT],1,D_D[CAT],TA_30,D_D[EP],-1, D_D[LOC],$A76),0)","v":2088},{"$f":"IFERROR(SUMIFS(D_D[ADP],D_D[MT],1,D_D[CAT],TA_30,D_D[EP],-1, D_D[LOC],$A76),0)","v":55.4},{"$f":"IFERROR(SUMIFS(D_D[INV],D_D[MT],2,D_D[CAT],TA_31,D_D[EP],-1, D_D[LOC],$A76),0)","v":10709},{"$f":"IFERROR(SUMIFS(D_D[BL],D_D[MT],2,D_D[CAT],TA_31,D_D[EP],-1, D_D[LOC],$A76),0)","v":1202},{"$f":"IFERROR(F76/E76,\"0%\")","v":0.11224203940610701},{"$f":"IFERROR(SUMIFS(D_D[INV],D_D[MT],2,D_D[CAT],TA_32,D_D[EP],-1, D_D[LOC],$A76),0)","v":2124},{"$f":"IFERROR(SUMIFS(D_D[BL],D_D[MT],2,D_D[CAT],TA_32,D_D[EP],-1, D_D[LOC],$A76),0)","v":203},{"$f":"IFERROR(I76/H76,\"0%\")","v":9.5574387947269301E-2},{"$f":"IFERROR(SUMIFS(D_D[INV],D_D[MT],2,D_D[CAT],TA_33,D_D[EP],-1, D_D[LOC],$A76),0)","v":2897},{"$f":"IFERROR(SUMIFS(D_D[BL],D_D[MT],2,D_D[CAT],TA_33,D_D[EP],-1, D_D[LOC],$A76),0)","v":3},{"$f":"IFERROR(L76/K76,\"0%\")","v":1.0355540214014498E-3},{"$f":"IFERROR(SUMIFS(D_D[INV],D_D[MT],2,D_D[CAT],TA_34,D_D[EP],-1, D_D[LOC],$A76),0)","v":107},{"$f":"IFERROR(SUMIFS(D_D[BL],D_D[MT],2,D_D[CAT],TA_34,D_D[EP],-1, D_D[LOC],$A76),0)","v":19},{"$f":"IFERROR(O76/N76,\"0%\")","v":0.17757009345794392},{"$f":"IFERROR(SUMIFS(D_D[INV],D_D[MT],2,D_D[CAT],TA_35,D_D[EP],-1, D_D[LOC],$A76),0)","v":1},{"$f":"IFERROR(SUMIFS(D_D[INV],D_D[MT],2,D_D[CAT],TA_36,D_D[EP],-1, D_D[LOC],$A76),0)","v":2758},{"$f":"IFERROR(SUMIFS(D_D[INV],D_D[MT],7,D_D[CAT],2,D_D[EP],TA_30, D_D[LOC],$A76),0)","v":375}]
["310","Philadelphia PMC",{"$f":"IFERROR(SUMIFS(D_D[INV],D_D[MT],1,D_D[CAT],TA_30,D_D[EP],-1, D_D[LOC],$A77),0)","v":113},{"$f":"IFERROR(SUMIFS(D_D[ADP],D_D[MT],1,D_D[CAT],TA_30,D_D[EP],-1, D_D[LOC],$A77),0)","v":63.27},{"$f":"IFERROR(SUMIFS(D_D[INV],D_D[MT],2,D_D[CAT],TA_31,D_D[EP],-1, D_D[LOC],$A77),0)","v":655},{"$f":"IFERROR(SUMIFS(D_D[BL],D_D[MT],2,D_D[CAT],TA_31,D_D[EP],-1, D_D[LOC],$A77),0)","v":116},{"$f":"IFERROR(F77/E77,\"0%\")","v":0.17709923664122137},{"$f":"IFERROR(SUMIFS(D_D[INV],D_D[MT],2,D_D[CAT],TA_32,D_D[EP],-1, D_D[LOC],$A77),0)","v":121},{"$f":"IFERROR(SUMIFS(D_D[BL],D_D[MT],2,D_D[CAT],TA_32,D_D[EP],-1, D_D[LOC],$A77),0)","v":14},{"$f":"IFERROR(I77/H77,\"0%\")","v":0.11570247933884298},{"$f":"IFERROR(SUMIFS(D_D[INV],D_D[MT],2,D_D[CAT],TA_33,D_D[EP],-1, D_D[LOC],$A77),0)","v":1036},{"$f":"IFERROR(SUMIFS(D_D[BL],D_D[MT],2,D_D[CAT],TA_33,D_D[EP],-1, D_D[LOC],$A77),0)","v":0},{"$f":"IFERROR(L77/K77,\"0%\")","v":0},{"$f":"IFERROR(SUMIFS(D_D[INV],D_D[MT],2,D_D[CAT],TA_34,D_D[EP],-1, D_D[LOC],$A77),0)","v":0},{"$f":"IFERROR(SUMIFS(D_D[BL],D_D[MT],2,D_D[CAT],TA_34,D_D[EP],-1, D_D[LOC],$A77),0)","v":0},{"$f":"IFERROR(O77/N77,\"0%\")","v":"0%"},{"$f":"IFERROR(SUMIFS(D_D[INV],D_D[MT],2,D_D[CAT],TA_35,D_D[EP],-1, D_D[LOC],$A77),0)","v":0},{"$f":"IFERROR(SUMIFS(D_D[INV],D_D[MT],2,D_D[CAT],TA_36,D_D[EP],-1, D_D[LOC],$A77),0)","v":1270},{"$f":"IFERROR(SUMIFS(D_D[INV],D_D[MT],7,D_D[CAT],2,D_D[EP],TA_30, D_D[LOC],$A77),0)","v":1}]
["330","Milwaukee PMC",{"$f":"IFERROR(SUMIFS(D_D[INV],D_D[MT],1,D_D[CAT],TA_30,D_D[EP],-1, D_D[LOC],$A78),0)","v":278},{"$f":"IFERROR(SUMIFS(D_D[ADP],D_D[MT],1,D_D[CAT],TA_30,D_D[EP],-1, D_D[LOC],$A78),0)","v":72.849999999999994},{"$f":"IFERROR(SUMIFS(D_D[INV],D_D[MT],2,D_D[CAT],TA_31,D_D[EP],-1, D_D[LOC],$A78),0)","v":791},{"$f":"IFERROR(SUMIFS(D_D[BL],D_D[MT],2,D_D[CAT],TA_31,D_D[EP],-1, D_D[LOC],$A78),0)","v":139},0.17572692793931732,{"$f":"IFERROR(SUMIFS(D_D[INV],D_D[MT],2,D_D[CAT],TA_32,D_D[EP],-1, D_D[LOC],$A78),0)","v":288},{"$f":"IFERROR(SUMIFS(D_D[BL],D_D[MT],2,D_D[CAT],TA_32,D_D[EP],-1, D_D[LOC],$A78),0)","v":46},0.15972222222222221,{"$f":"IFERROR(SUMIFS(D_D[INV],D_D[MT],2,D_D[CAT],TA_33,D_D[EP],-1, D_D[LOC],$A78),0)","v":930},{"$f":"IFERROR(SUMIFS(D_D[BL],D_D[MT],2,D_D[CAT],TA_33,D_D[EP],-1, D_D[LOC],$A78),0)","v":1},1.0752688172043011E-3,{"$f":"IFERROR(SUMIFS(D_D[INV],D_D[MT],2,D_D[CAT],TA_34,D_D[EP],-1, D_D[LOC],$A78),0)","v":0},{"$f":"IFERROR(SUMIFS(D_D[BL],D_D[MT],2,D_D[CAT],TA_34,D_D[EP],-1, D_D[LOC],$A78),0)","v":0},"0%",{"$f":"IFERROR(SUMIFS(D_D[INV],D_D[MT],2,D_D[CAT],TA_35,D_D[EP],-1, D_D[LOC],$A78),0)","v":1},{"$f":"IFERROR(SUMIFS(D_D[INV],D_D[MT],2,D_D[CAT],TA_36,D_D[EP],-1, D_D[LOC],$A78),0)","v":580},{"$f":"IFERROR(SUMIFS(D_D[INV],D_D[MT],7,D_D[CAT],2,D_D[EP],TA_30, D_D[LOC],$A78),0)","v":0}]
["335","St. Paul PMC",{"$f":"IFERROR(SUMIFS(D_D[INV],D_D[MT],1,D_D[CAT],TA_30,D_D[EP],-1, D_D[LOC],$A79),0)","v":290},{"$f":"IFERROR(SUMIFS(D_D[ADP],D_D[MT],1,D_D[CAT],TA_30,D_D[EP],-1, D_D[LOC],$A79),0)","v":68.849999999999994},{"$f":"IFERROR(SUMIFS(D_D[INV],D_D[MT],2,D_D[CAT],TA_31,D_D[EP],-1, D_D[LOC],$A79),0)","v":796},{"$f":"IFERROR(SUMIFS(D_D[BL],D_D[MT],2,D_D[CAT],TA_31,D_D[EP],-1, D_D[LOC],$A79),0)","v":106},0.13316582914572864,{"$f":"IFERROR(SUMIFS(D_D[INV],D_D[MT],2,D_D[CAT],TA_32,D_D[EP],-1, D_D[LOC],$A79),0)","v":305},{"$f":"IFERROR(SUMIFS(D_D[BL],D_D[MT],2,D_D[CAT],TA_32,D_D[EP],-1, D_D[LOC],$A79),0)","v":39},0.12786885245901639,{"$f":"IFERROR(SUMIFS(D_D[INV],D_D[MT],2,D_D[CAT],TA_33,D_D[EP],-1, D_D[LOC],$A79),0)","v":918},{"$f":"IFERROR(SUMIFS(D_D[BL],D_D[MT],2,D_D[CAT],TA_33,D_D[EP],-1, D_D[LOC],$A79),0)","v":2},2.1786492374727671E-3,{"$f":"IFERROR(SUMIFS(D_D[INV],D_D[MT],2,D_D[CAT],TA_34,D_D[EP],-1, D_D[LOC],$A79),0)","v":0},{"$f":"IFERROR(SUMIFS(D_D[BL],D_D[MT],2,D_D[CAT],TA_34,D_D[EP],-1, D_D[LOC],$A79),0)","v":0},"0%",{"$f":"IFERROR(SUMIFS(D_D[INV],D_D[MT],2,D_D[CAT],TA_35,D_D[EP],-1, D_D[LOC],$A79),0)","v":0},{"$f":"IFERROR(SUMIFS(D_D[INV],D_D[MT],2,D_D[CAT],TA_36,D_D[EP],-1, D_D[LOC],$A79),0)","v":908},{"$f":"IFERROR(SUMIFS(D_D[INV],D_D[MT],7,D_D[CAT],2,D_D[EP],TA_30, D_D[LOC],$A79),0)","v":0}]
[-1,"Pension Other",{"$f":"IFERROR(SUMIFS(D_D[INV],D_D[MT],1,D_D[CAT],TA_30,D_D[EP],-1, D_D[LOC],$A80),0)","v":1407},{"$f":"IFERROR(SUMIFS(D_D[ADP],D_D[MT],1,D_D[CAT],TA_30,D_D[EP],-1, D_D[LOC],$A80),0)","v":48.55},{"$f":"IFERROR(SUMIFS(D_D[INV],D_D[MT],2,D_D[CAT],TA_31,D_D[EP],-1, D_D[LOC],$A80),0)","v":8467},{"$f":"IFERROR(SUMIFS(D_D[BL],D_D[MT],2,D_D[CAT],TA_31,D_D[EP],-1, D_D[LOC],$A80),0)","v":841},9.9326798157552854E-2,{"$f":"IFERROR(SUMIFS(D_D[INV],D_D[MT],2,D_D[CAT],TA_32,D_D[EP],-1, D_D[LOC],$A80),0)","v":1410},{"$f":"IFERROR(SUMIFS(D_D[BL],D_D[MT],2,D_D[CAT],TA_32,D_D[EP],-1, D_D[LOC],$A80),0)","v":104},7.3758865248226946E-2,{"$f":"IFERROR(SUMIFS(D_D[INV],D_D[MT],2,D_D[CAT],TA_33,D_D[EP],-1, D_D[LOC],$A80),0)","v":13},{"$f":"IFERROR(SUMIFS(D_D[BL],D_D[MT],2,D_D[CAT],TA_33,D_D[EP],-1, D_D[LOC],$A80),0)","v":0},0,{"$f":"IFERROR(SUMIFS(D_D[INV],D_D[MT],2,D_D[CAT],TA_34,D_D[EP],-1, D_D[LOC],$A80),0)","v":107},{"$f":"IFERROR(SUMIFS(D_D[BL],D_D[MT],2,D_D[CAT],TA_34,D_D[EP],-1, D_D[LOC],$A80),0)","v":19},0.17757009345794392,{"$f":"IFERROR(SUMIFS(D_D[INV],D_D[MT],2,D_D[CAT],TA_35,D_D[EP],-1, D_D[LOC],$A80),0)","v":0},{"$f":"IFERROR(SUMIFS(D_D[INV],D_D[MT],2,D_D[CAT],TA_36,D_D[EP],-1, D_D[LOC],$A80),0)","v":0},{"$f":"IFERROR(SUMIFS(D_D[INV],D_D[MT],7,D_D[CAT],2,D_D[EP],TA_30, D_D[LOC],$A80),0)","v":374}]

{"sheet":"Sheet1","index":13,"n_rows":2215,"n_cols":16,"rows_kept":2215,"cut":false,"hidden":true,"merged":[]}
["MT","CAT","LOC","EP","INV","BL","ADP","PROD_MTD","PROD_FYTD","ADCM","ADCF","DEV","EVD","DEC","AWD","AUT"]
[5,12,"PR355",499,3,null,3,null,null,null,null,3]
[5,13,"PR355",499,4,2,101,null,null,null,null,null,2,2]
[5,0,"PR499",499,3748,1718,171.63,null,null,null,null,30,2917,801]
[5,11,"PR499",499,3538,1667,175.58,null,null,null,null,1,2753,784]
[5,12,"PR499",499,188,44,105.02,null,null,null,null,29,142,17]
[5,13,"PR499",499,22,7,106.41,null,null,null,null,null,22]
[5,0,"RI-1",499,205,91,176.44,null,null,null,null,13,128,46,14,4]
[5,11,"RI-1",499,199,89,179,null,null,null,null,13,124,46,13,3]
[5,12,"RI-1",499,5,1,79.599999999999994,null,null,null,null,null,4,null,null,1]
[5,13,"RI-1",499,1,1,152,null,null,null,null,null,null,null,1]
[5,0,"RI304",499,26,9,160.12,null,null,null,null,9,10,6,1]
[5,11,"RI304",499,23,9,180.65,null,null,null,null,6,10,6,1]
[5,12,"RI304",499,3,null,2.67,null,null,null,null,3]
[5,0,"RI499",499,1464,609,161.19999999999999,null,null,null,null,8,1041,415]
[5,11,"RI499",499,1417,595,162.69,null,null,null,null,1,1003,413]
[5,12,"RI499",499,38,11,104.47,null,null,null,null,7,29,2]
[5,13,"RI499",499,9,3,166.11,null,null,null,null,null,9]
[5,0,"SC-1",499,1869,826,182.87,null,null,null,null,185,1087,455,114,28]
[5,11,"SC-1",499,1799,813,186.34,null,null,null,null,176,1058,437,102,26]
[5,12,"SC-1",499,39,5,91.74,null,null,null,null,9,20,2,6,2]
[5,13,"SC-1",499,31,8,96.06,null,null,null,null,null,9,16,6]
[5,0,"SC319",499,270,43,72.040000000000006,null,null,null,null,89,117,55,3,6]
[5,11,"SC319",499,253,42,73.92,null,null,null,null,83,112,50,3,5]
[5,12,"SC319",499,6,null,3.5,null,null,null,null,6]
[5,13,"SC319",499,11,1,66.09,null,null,null,null,null,5,5,null,1]
[5,0,"SC499",499,14420,5564,143.41999999999999,null,null,null,null,44,9325,5046,5]
[5,11,"SC499",499,13903,5454,145.01,null,null,null,null,5,8910,4985,3]
[5,12,"SC499",499,406,74,91.26,null,null,null,null,39,314,51,2]
[5,13,"SC499",499,110,35,134.91,null,null,null,null,null,101,9]
[5,14,"SC499",499,1,1,164,null,null,null,null,null,null,1]
[5,0,"SD-1",499,238,106,175.71,null,null,null,null,20,156,45,16,1]
[5,11,"SD-1",499,234,105,177.44,null,null,null,null,20,153,44,16,1]
[5,12,"SD-1",499,2,null,39.5,null,null,null,null,null,2]
[5,13,"SD-1",499,2,1,109.5,null,null,null,null,null,1,1]
[5,0,"SD438",499,33,5,49.7,null,null,null,null,14,13,4,2]
[5,11,"SD438",499,31,5,52,null,null,null,null,13,12,4,2]
[5,12,"SD438",499,1,null,3,null,null,null,null,1]
[5,13,"SD438",499,1,null,25,null,null,null,null,null,1]
[5,0,"SD499",499,2111,923,160.13,null,null,null,null,4,1429,678]
[5,11,"SD499",499,2064,913,161.80000000000001,null,null,null,null,1,1393,670]
[5,12,"SD499",499,30,5,78.17,null,null,null,null,3,19,8]
[5,13,"SD499",499,17,5,101.65,null,null,null,null,null,17]
[5,0,"TN-1",499,2006,841,174.9,null,null,null,null,197,1169,502,111,27]
[5,11,"TN-1",499,1942,829,177.44,null,null,null,null,184,1139,490,105,24]
[5,12,"TN-1",499,47,8,101,null,null,null,null,13,23,2,6,3]
[5,13,"TN-1",499,17,4,89.41,null,null,null,null,null,7,10]
[5,0,"TN320",499,218,15,38.44,null,null,null,null,120,71,18,3,6]
[5,11,"TN320",499,197,13,38.9,null,null,null,null,108,69,13,3,4]
[5,12,"TN320",499,12,null,2.83,null,null,null,null,12]
[5,13,"TN320",499,9,2,75.78,null,null,null,null,null,2,5,null,2]
[5,0,"TN499",499,14507,6055,150.16,null,null,null,null,54,9150,5301,2]
[5,11,"TN499",499,13976,5952,152.44,null,null,null,null,8,8722,5245,1]
[5,12,"TN499",499,436,72,85.14,null,null,null,null,46,340,49,1]
[5,13,"TN499",499,95,31,113.44,null,null,null,null,null,88,7]
[5,0,"TX-1",499,6988,2592,158.9,null,null,null,null,696,3893,1875,409,115]
[5,11,"TX-1",499,6726,2546,161.41,null,null,null,null,664,3786,1796,377,103]
[5,12,"TX-1",499,147,25,103.64,null,null,null,null,31,75,7,26,8]
[5,13,"TX-1",499,115,21,83.07,null,null,null,null,1,32,72,6,4]
[5,0,"TX349",499,892,270,96.39,null,null,null,null,208,447,141,83,13]
[5,11,"TX349",499,846,267,99.87,null,null,null,null,182,436,135,81,12]
[5,12,"TX349",499,29,null,6.38,null,null,null,null,26,2,1]
[5,13,"TX349",499,17,3,76.53,null,null,null,null,null,9,5,2,1]
[5,0,"TX362",499,911,128,76.02,null,null,null,null,210,361,247,82,11]
[5,11,"TX362",499,854,124,78.14,null,null,null,null,192,350,222,79,11]
[5,12,"TX362",499,18,null,3.17,null,null,null,null,18]
[5,13,"TX362",499,39,4,63.21,null,null,null,null,null,11,25,3]
[5,0,"TX499",499,58779,20303,133.26,null,null,null,null,196,36789,21789,5]
[5,11,"TX499",499,56897,19917,134.56,null,null,null,null,20,35255,21617,5]
[5,12,"TX499",499,1359,244,89.53,null,null,null,null,176,1038,145]
[5,13,"TX499",499,522,141,105.79,null,null,null,null,null,496,26]
[5,14,"TX499",499,1,1,215,null,null,null,null,null,null,1]
[5,0,"UT-1",499,432,177,167.48,null,null,null,null,31,239,125,28,9]
[5,11,"UT-1",499,406,170,171.29,null,null,null,null,29,230,116,24,7]
[5,12,"UT-1",499,14,4,125.36,null,null,null,null,2,8,2,1,1]
[5,13,"UT-1",499,12,3,87.67,null,null,null,null,null,1,7,3,1]
[5,0,"UT341",499,40,5,42.88,null,null,null,null,15,14,9,1,1]
[5,11,"UT341",499,38,5,44.95,null,null,null,null,13,14,9,1,1]
[5,12,"UT341",499,2,null,3.5,null,null,null,null,2]
[5,0,"UT499",499,3135,1286,143.61000000000001,null,null,null,null,16,1985,1134]
[5,11,"UT499",499,3019,1260,145.08000000000001,null,null,null,null,2,1895,1122]
[5,12,"UT499",499,90,17,84.78,null,null,null,null,14,65,11]
[5,13,"UT499",499,26,9,176.54,null,null,null,null,null,25,1]
[5,0,"VA-1",499,2824,1049,150.65,null,null,null,null,260,1601,723,200,40]
[5,11,"VA-1",499,2686,1020,154.18,null,null,null,null,251,1534,677,189,35]
[5,12,"VA-1",499,40,11,81.849999999999994,null,null,null,null,9,25,1,5]
[5,13,"VA-1",499,98,18,82.15,null,null,null,null,null,42,45,6,5]
[5,0,"VA314",499,314,43,57.02,null,null,null,null,159,119,25,6,5]
[5,11,"VA314",499,275,41,58.77,null,null,null,null,145,108,17,3,2]
[5,12,"VA314",499,14,null,2.86,null,null,null,null,14]
[5,13,"VA314",499,25,2,68.08,null,null,null,null,null,11,8,3,3]
[5,0,"VA499",499,20849,7327,132.34,null,null,null,null,65,12516,8268]
[5,11,"VA499",499,20103,7162,133.38,null,null,null,null,10,11881,8212]
[5,12,"VA499",499,381,72,94.3,null,null,null,null,55,283,43]
[5,13,"VA499",499,365,93,114.56,null,null,null,null,null,352,13]
[5,0,"VT-1",499,91,48,215.64,null,null,null,null,9,63,17,2]
[5,11,"VT-1",499,88,48,221.77,null,null,null,null,9,60,17,2]
[5,12,"VT-1",499,2,null,53,null,null,null,null,null,2]
[5,13,"VT-1",499,1,null,1,null,null,null,null,null,1]
[5,0,"VT405",499,7,2,127,null,null,null,null,5,1,null,1]
[5,11,"VT405",499,7,2,127,null,null,null,null,5,1,null,1]
[5,0,"VT499",499,654,342,200.08,null,null,null,null,1,461,192]
[5,11,"VT499",499,642,337,201.23,null,null,null,null,null,451,191]
[5,12,"VT499",499,11,4,122.36,null,null,null,null,1,9,1]
[5,13,"VT499",499,1,1,321,null,null,null,null,null,1]
[5,0,"WA-1",499,1689,798,192.96,null,null,null,null,140,1062,382,90,15]
[5,11,"WA-1",499,1610,785,198.16,null,null,null,null,136,1013,362,86,13]
[5,12,"WA-1",499,37,5,95.41,null,null,null,null,4,28,3,2]
[5,13,"WA-1",499,42,8,79.930000000000007,null,null,null,null,null,21,17,2,2]
[5,0,"WA346",499,270,30,58.17,null,null,null,null,65,105,70,20,10]
[5,11,"WA346",499,257,29,58.15,null,null,null,null,62,100,66,19,10]
[5,12,"WA346",499,3,null,3,null,null,null,null,3]
[5,13,"WA346",499,10,1,75.2,null,null,null,null,null,5,4,1]
[5,0,"WA499",499,12197,5177,148.16999999999999,null,null,null,null,36,7740,4416,4,1]
[5,11,"WA499",499,11804,5094,149.96,null,null,null,null,8,7410,4383,2,1]
[5,12,"WA499",499,272,60,95.62,null,null,null,null,28,215,28,1]
[5,13,"WA499",499,121,23,90.98,null,null,null,null,null,115,5,1]
[5,0,"WI-1",499,986,462,189.17,null,null,null,null,101,598,219,53,15]
[5,11,"WI-1",499,964,456,190.77,null,null,null,null,98,589,212,50,15]
[5,12,"WI-1",499,12,2,112,null,null,null,null,3,6,1,2]
[5,13,"WI-1",499,10,4,127.5,null,null,null,null,null,3,6,1]
[5,0,"WI330",499,154,16,46.85,null,null,null,null,72,54,21,6,1]
[5,11,"WI330",499,134,15,49.54,null,null,null,null,62,47,18,6,1]
[5,12,"WI330",499,18,1,30,null,null,null,null,10,7,1]
[5,13,"WI330",499,2,null,18,null,null,null,null,null,null,2]
[5,0,"WI499",499,7946,3643,163.84,null,null,null,null,32,4958,2955,1]
[5,11,"WI499",499,7726,3591,165.72,null,null,null,null,9,4789,2927,1]
[5,12,"WI499",499,179,32,82.09,null,null,null,null,23,131,25]
[5,13,"WI499",499,41,20,166.44,null,null,null,null,null,38,3]
[5,0,"WV-1",499,532,267,178.23,null,null,null,null,56,314,131,25,6]
[5,11,"WV-1",499,523,264,179.19,null,null,null,null,53,309,130,25,6]
[5,12,"WV-1",499,8,2,82,null,null,null,null,3,4,1]
[5,13,"WV-1",499,1,1,444,null,null,null,null,null,1]
[5,0,"WV315",499,60,5,58.38,null,null,null,null,25,18,16,null,1]
[5,11,"WV315",499,57,5,61.3,null,null,null,null,22,18,16,null,1]
[5,12,"WV315",499,3,null,3,null,null,null,null,3]
[5,0,"WV499",499,3849,1868,168.02,null,null,null,null,19,2472,1358]
[5,11,"WV499",499,3734,1846,170.87,null,null,null,null,1,2388,1345]
[5,12,"WV499",499,106,18,72.19,null,null,null,null,18,75,13]
[5,13,"WV499",499,9,4,116,null,null,null,null,null,9]
[5,0,"WY-1",499,190,93,200.37,null,null,null,null,8,122,40,19,1]
[5,11,"WY-1",499,180,91,207.87,null,null,null,null,7,117,38,18]
[5,12,"WY-1",499,4,2,107.75,null,null,null,null,1,1,null,1,1]
[5,13,"WY-1",499,6,null,37.33,null,null,null,null,null,4,2]
[5,0,"WY442",499,27,11,212.07,null,null,null,null,13,11,2,1]
[5,11,"WY442",499,24,11,237.63,null,null,null,null,11,10,2,1]
[5,12,"WY442",499,2,null,2.5,null,null,null,null,2]
[5,13,"WY442",499,1,null,18,null,null,null,null,null,1]
[5,0,"WY499",499,1283,570,160.97999999999999,null,null,null,null,1,850,432]
[5,11,"WY499",499,1253,564,162.83000000000001,null,null,null,null,null,824,429]
[5,12,"WY499",499,19,4,90.95,null,null,null,null,1,15,3]
[5,13,"WY499",499,11,2,70.55,null,null,null,null,null,11]
[5,11,"AK100",499,1877,756,154.32,null,null,null,null,29,1397,428,18,5]
[5,12,"AK100",499,21,3,116.67,null,null,null,null,null,17,4]
[5,13,"AK100",499,59,20,102.71,null,null,null,null,null,48,8,1,2]
[5,0,"AK100",499,1957,779,152.36000000000001,null,null,null,null,29,1462,440,19,7]
[5,11,"AL100",499,14984,5881,148.88999999999999,null,null,null,null,264,9446,5123,123,28]
[5,12,"AL100",499,514,104,96.04,null,null,null,null,91,370,40,8,5]
[5,13,"AL100",499,120,34,125.88,null,null,null,null,null,90,22,7,1]
[5,0,"AL100",499,15618,6019,146.97999999999999,null,null,null,null,355,9906,5185,138,34]
[5,11,"AR100",499,6806,3083,164.01,null,null,null,null,127,4308,2296,68,7]
[5,12,"AR100",499,239,36,75.650000000000006,null,null,null,null,41,169,23,4,2]
[5,13,"AR100",499,49,11,123.69,null,null,null,null,null,41,7,1]
[5,0,"AR100",499,7094,3130,160.75,null,null,null,null,168,4518,2326,73,9]
[5,11,"AZ100",499,13705,5999,157.09,null,null,null,null,201,8492,4850,131,31]
[5,12,"AZ100",499,458,63,84.49,null,null,null,null,75,338,35,10]
[5,13,"AZ100",499,114,31,110.85,null,null,null,null,null,84,27,3]
[5,0,"AZ100",499,14277,6093,154.38999999999999,null,null,null,null,276,8914,4912,144,31]
[5,11,"CA100",499,48675,19105,152.78,null,null,null,null,766,31784,15702,338,85]
[5,12,"CA100",499,1268,244,96.69,null,null,null,null,217,946,83,16,6]
[5,13,"CA100",499,531,117,98.31,null,null,null,null,null,436,82,9,4]
[5,0,"CA100",499,50474,19466,150.79,null,null,null,null,983,33166,15867,363,95]
[5,11,"CO100",499,11638,4322,138.83000000000001,null,null,null,null,199,7041,4271,100,27]
[5,12,"CO100",499,251,41,83.65,null,null,null,null,54,166,27,3,1]
[5,13,"CO100",499,146,29,99.74,null,null,null,null,1,113,25,5,2]
[5,14,"CO100",499,1,1,2207,null,null,null,null,null,1]
[5,0,"CO100",499,12036,4393,137.38,null,null,null,null,254,7321,4323,108,30]
[5,11,"CT100",499,3467,1623,173.69,null,null,null,null,48,2368,1026,21,4]
[5,12,"CT100",499,138,27,87.56,null,null,null,null,31,97,8,null,2]
[5,13,"CT100",499,36,17,155.41999999999999,null,null,null,null,null,33,3]
[5,0,"CT100",499,3641,1667,170.25,null,null,null,null,79,2498,1037,21,6]
[5,11,"DC100",499,684,284,153.41,null,null,null,null,14,428,233,8,1]
[5,12,"DC100",499,10,2,81.900000000000006,null,null,null,null,2,7,1]
[5,13,"DC100",499,6,null,32.67,null,null,null,null,null,6]
[5,0,"DC100",499,700,286,151.35,null,null,null,null,16,441,234,8,1]
[5,11,"DE100",499,1719,681,149.74,null,null,null,null,23,1089,591,13,3]
[5,12,"DE100",499,42,12,105.5,null,null,null,null,4,33,5]
[5,13,"DE100",499,20,5,105.45,null,null,null,null,null,19,1]
[5,0,"DE100",499,1781,698,148.19999999999999,null,null,null,null,27,1141,597,13,3]
[5,11,"FL100",499,54938,22706,148.08000000000001,null,null,null,null,887,33189,20366,404,92]
[5,12,"FL100",499,1404,245,84.99,null,null,null,null,226,1031,116,22,9]
[5,13,"FL100",499,574,146,106.79,null,null,null,null,null,467,92,14,1]
[5,0,"FL100",499,56916,23097,146.11000000000001,null,null,null,null,1113,34687,20574,440,102]
[5,11,"GA100",499,28686,10277,139.01,null,null,null,null,454,18191,9779,209,53]
[5,12,"GA100",499,647,133,101.14,null,null,null,null,104,461,69,9,4]
[5,13,"GA100",499,225,61,136.21,null,null,null,null,null,178,41,6]
[5,0,"GA100",499,29558,10471,138.16,null,null,null,null,558,18830,9889,224,57]
[5,11,"HI100",499,3623,1532,159.72,null,null,null,null,52,2574,962,31,4]
[5,12,"HI100",499,61,13,101.03,null,null,null,null,8,47,6]
[5,13,"HI100",499,75,19,95.99,null,null,null,null,null,57,17,null,1]
[5,0,"HI100",499,3759,1564,157.5,null,null,null,null,60,2678,985,31,5]
[5,11,"IA100",499,5300,2532,168.59,null,null,null,null,103,3298,1855,35,9]
[5,12,"IA100",499,195,33,94.84,null,null,null,null,39,136,17,2,1]
[5,13,"IA100",499,26,10,140.38,null,null,null,null,null,22,3,1]
[5,0,"IA100",499,5521,2575,165.85,null,null,null,null,142,3456,1875,38,10]
[5,11,"ID100",499,3755,1648,159,null,null,null,null,58,2364,1302,23,8]
[5,12,"ID100",499,88,7,64.73,null,null,null,null,13,64,11]
[5,13,"ID100",499,40,8,116.53,null,null,null,null,null,30,9,null,1]
[5,0,"ID100",499,3883,1663,156.43,null,null,null,null,71,2458,1322,23,9]
[5,11,"IL100",499,14435,6275,157.57,null,null,null,null,221,9282,4801,102,29]
[5,12,"IL100",499,483,91,88.25,null,null,null,null,79,339,57,3,5]
[5,13,"IL100",499,93,32,121.16,null,null,null,null,null,78,10,5]
[5,0,"IL100",499,15011,6398,155.12,null,null,null,null,300,9699,4868,110,34]
[5,11,"IN100",499,10768,4874,161.82,null,null,null,null,183,6887,3604,71,23]
[5,12,"IN100",499,293,61,93.01,null,null,null,null,53,207,28,4,1]
[5,13,"IN100",499,57,18,112.81,null,null,null,null,null,49,7,1]
[5,0,"IN100",499,11118,4953,159.75,null,null,null,null,236,7143,3639,76,24]
[5,11,"KS100",499,4864,2180,164.37,null,null,null,null,63,3080,1680,35,6]
[5,12,"KS100",499,165,28,88.5,null,null,null,null,20,131,9,3,2]
[5,13,"KS100",499,62,19,119.95,null,null,null,null,null,52,8,2]
[5,0,"KS100",499,5091,2227,161.37,null,null,null,null,83,3263,1697,40,8]
[5,11,"KY100",499,8404,3892,156.91,null,null,null,null,127,5322,2881,62,12]
[5,12,"KY100",499,258,43,86.93,null,null,null,null,26,199,28,2,3]
[5,13,"KY100",499,69,14,93.45,null,null,null,null,null,57,11,1]
[5,0,"KY100",499,8731,3949,154.34,null,null,null,null,153,5578,2920,65,15]
[5,11,"LA100",499,10557,4340,154.44999999999999,null,null,null,null,202,6765,3489,76,25]
[5,12,"LA100",499,317,46,74.36,null,null,null,null,67,217,28,3,2]
[5,13,"LA100",499,77,16,88.4,null,null,null,null,null,59,17,1]
[5,0,"LA100",499,10951,4402,151.66999999999999,null,null,null,null,269,7041,3534,80,27]
[5,11,"MA100",499,6205,2792,167.6,null,null,null,null,114,4166,1882,34,9]
[5,12,"MA100",499,151,42,111.6,null,null,null,null,16,120,14,1]
[5,13,"MA100",499,42,19,158.38,null,null,null,null,null,41,1]
[5,0,"MA100",499,6398,2853,166.22,null,null,null,null,130,4327,1897,35,9]
[5,11,"MD100",499,11156,3689,130.99,null,null,null,null,208,6651,4194,77,26]
[5,12,"MD100",499,222,57,105.1,null,null,null,null,34,170,17,null,1]
[5,13,"MD100",499,232,47,102.6,null,null,null,null,null,195,33,3,1]
[5,0,"MD100",499,11610,3793,129.93,null,null,null,null,242,7016,4244,80,28]
[5,11,"ME100",499,2519,1294,179.77,null,null,null,null,46,1673,779,18,3]
[5,12,"ME100",499,62,16,99.15,null,null,null,null,9,43,9,1]
[5,13,"ME100",499,21,12,215.86,null,null,null,null,null,17,3,1]
[5,0,"ME100",499,2602,1322,178.14,null,null,null,null,55,1733,791,20,3]
[5,11,"MI100",499,12965,5894,162.32,null,null,null,null,234,7999,4618,96,18]
[5,12,"MI100",499,496,94,97.41,null,null,null,null,72,370,48,5,1]
[5,13,"MI100",499,71,21,124.31,null,null,null,null,null,59,11,1]
[5,0,"MI100",499,13532,6009,159.74,null,null,null,null,306,8428,4677,102,19]
[5,11,"MN100",499,7868,3666,173.73,null,null,null,null,121,4914,2771,46,16]
[5,12,"MN100",499,236,51,90.83,null,null,null,null,33,159,37,7]
[5,13,"MN100",499,32,13,140.75,null,null,null,null,null,29,3]
[5,0,"MN100",499,8136,3730,171.19,null,null,null,null,154,5102,2811,53,16]
[5,11,"MO100",499,11898,5324,165.29,null,null,null,null,181,7647,3968,77,25]
[5,12,"MO100",499,381,85,100.72,null,null,null,null,58,287,26,7,3]
[5,13,"MO100",499,93,23,119.09,null,null,null,null,null,80,11,2]
[5,0,"MO100",499,12372,5432,162.96,null,null,null,null,239,8014,4005,86,28]
[5,11,"MS100",499,7579,3112,149.96,null,null,null,null,119,4990,2397,58,15]
[5,12,"MS100",499,226,46,101.84,null,null,null,null,37,163,24,2]
[5,13,"MS100",499,59,17,128.16999999999999,null,null,null,null,null,52,7]
[5,0,"MS100",499,7864,3175,148.41,null,null,null,null,156,5205,2428,60,15]
[5,11,"MT100",499,2656,1267,173.82,null,null,null,null,33,1799,801,17,6]
[5,12,"MT100",499,51,10,103.31,null,null,null,null,6,34,10,1]
[5,13,"MT100",499,24,10,127.58,null,null,null,null,null,21,3]
[5,0,"MT100",499,2731,1287,172.09,null,null,null,null,39,1854,814,18,6]
[5,11,"NC100",499,26879,9854,136.93,null,null,null,null,516,16929,9164,214,56]
[5,12,"NC100",499,736,139,89.75,null,null,null,null,101,534,97,3,1]
[5,13,"NC100",499,295,62,87.45,null,null,null,null,1,230,53,9,2]
[5,0,"NC100",499,27910,10055,135.16,null,null,null,null,618,17693,9314,226,59]
[5,11,"ND100",499,1331,628,163.88,null,null,null,null,22,823,475,7,4]
[5,12,"ND100",499,29,5,81.28,null,null,null,null,2,25,2]
[5,13,"ND100",499,12,4,176.75,null,null,null,null,null,7,4,1]
[5,0,"ND100",499,1372,637,162.24,null,null,null,null,24,855,481,8,4]
[5,11,"NE100",499,3668,1563,150.27000000000001,null,null,null,null,83,2299,1250,30,6]
[5,12,"NE100",499,81,20,104.36,null,null,null,null,10,49,17,2,3]
[5,13,"NE100",499,36,9,96.14,null,null,null,null,null,30,6]
[5,0,"NE100",499,3785,1592,148.77000000000001,null,null,null,null,93,2378,1273,32,9]
[5,11,"NH100",499,1916,898,180.83,null,null,null,null,32,1287,580,13,4]
[5,12,"NH100",499,61,9,91.57,null,null,null,null,12,44,5]
[5,13,"NH100",499,21,8,181.62,null,null,null,null,null,19,1,1]
[5,0,"NH100",499,1998,915,178.11,null,null,null,null,44,1350,586,14,4]
[5,11,"NJ100",499,7630,3346,168.91,null,null,null,null,130,5122,2316,47,15]
[5,12,"NJ100",499,239,45,84.46,null,null,null,null,31,187,17,3,1]
[5,13,"NJ100",499,52,27,185.54,null,null,null,null,null,41,6,3,2]
[5,0,"NJ100",499,7921,3418,166.47,null,null,null,null,161,5350,2339,53,18]
[5,11,"NM100",499,4268,1930,157.34,null,null,null,null,46,2594,1589,30,9]
[5,12,"NM100",499,137,39,115.33,null,null,null,null,21,106,10]
[5,13,"NM100",499,51,19,145.06,null,null,null,null,null,42,6,3]
[5,0,"NM100",499,4456,1988,155.9,null,null,null,null,67,2742,1605,33,9]
[5,11,"NV100",499,8097,3283,149.47,null,null,null,null,101,5233,2693,63,7]
[5,12,"NV100",499,228,49,101.86,null,null,null,null,36,174,16,1,1]
[5,13,"NV100",499,60,8,91.2,null,null,null,null,null,47,10,1,2]
[5,0,"NV100",499,8385,3340,147.76,null,null,null,null,137,5454,2719,65,10]
[5,11,"NY100",499,15331,7092,168.66,null,null,null,null,265,10028,4890,125,23]
[5,12,"NY100",499,473,84,87.07,null,null,null,null,87,325,52,5,4]
[5,13,"NY100",499,113,39,120.98,null,null,null,null,null,94,16,3]
[5,0,"NY100",499,15917,7215,165.89,null,null,null,null,352,10447,4958,133,27]
[5,11,"OH100",499,18171,8363,162.13,null,null,null,null,321,11151,6539,130,30]
[5,12,"OH100",499,568,114,88.95,null,null,null,null,100,401,48,13,6]
[5,13,"OH100",499,102,26,118.18,null,null,null,null,null,87,14,null,1]
[5,0,"OH100",499,18841,8503,159.68,null,null,null,null,421,11639,6601,143,37]
[5,11,"OK100",499,10895,4461,150.07,null,null,null,null,158,6409,4236,79,13]
[5,12,"OK100",499,330,70,107.55,null,null,null,null,46,240,40,3,1]
[5,13,"OK100",499,69,16,97,null,null,null,null,null,47,21,null,1]
[5,0,"OK100",499,11294,4547,148.5,null,null,null,null,204,6696,4297,82,15]
[5,11,"OR100",499,7883,4030,182.62,null,null,null,null,98,4949,2787,41,8]
[5,12,"OR100",499,226,44,94.48,null,null,null,null,34,158,31,2,1]
[5,13,"OR100",499,43,12,132.69999999999999,null,null,null,null,null,37,6]
[5,0,"OR100",499,8152,4086,179.91,null,null,null,null,132,5144,2824,43,9]
[5,11,"OT100",499,8393,5499,196.04,null,null,null,null,111,5558,2653,61,10]
[5,12,"OT100",499,166,59,141.76,null,null,null,null,7,140,19]
[5,13,"OT100",499,219,67,147.43,null,null,null,null,null,197,21,1]
[5,0,"OT100",499,8778,5625,193.8,null,null,null,null,118,5895,2693,62,10]
[5,11,"PA100",499,16765,7849,171.84,null,null,null,null,234,10704,5693,109,25]
[5,12,"PA100",499,664,129,99.09,null,null,null,null,118,488,45,9,4]
[5,13,"PA100",499,85,33,165.42,null,null,null,null,null,73,10,2]
[5,0,"PA100",499,17514,8011,169.05,null,null,null,null,352,11265,5748,120,29]
[5,11,"PR100",499,4095,1895,176.63,null,null,null,null,90,3034,928,41,2]
[5,12,"PR100",499,207,47,100.34,null,null,null,null,35,149,17,4,2]
[5,13,"PR100",499,26,9,105.58,null,null,null,null,null,24,2]
[5,0,"PR100",499,4328,1951,172.56,null,null,null,null,125,3207,947,45,4]
[5,11,"RI100",499,1639,693,164.92,null,null,null,null,20,1137,465,14,3]
[5,12,"RI100",499,46,12,95.13,null,null,null,null,10,33,2,null,1]
[5,13,"RI100",499,10,4,164.7,null,null,null,null,null,9,null,1]
[5,0,"RI100",499,1695,709,163.03,null,null,null,null,30,1179,467,15,4]
[5,11,"SC100",499,15955,6309,148.54,null,null,null,null,264,10080,5472,108,31]
[5,12,"SC100",499,451,79,90.14,null,null,null,null,54,334,53,8,2]
[5,13,"SC100",499,152,44,122.01,null,null,null,null,null,115,30,6,1]
[5,14,"SC100",499,1,1,164,null,null,null,null,null,null,1]
[5,0,"SC100",499,16559,6433,146.71,null,null,null,null,318,10529,5556,122,34]
[5,11,"SD100",499,2329,1023,161.91,null,null,null,null,34,1558,718,18,1]
[5,12,"SD100",499,33,5,73.55,null,null,null,null,4,21,8]
[5,13,"SD100",499,20,6,98.6,null,null,null,null,null,19,1]
[5,0,"SD100",499,2382,1034,160.16,null,null,null,null,38,1598,727,18,1]
[5,11,"TN100",499,16115,6794,154.06,null,null,null,null,300,9930,5748,109,28]
[5,12,"TN100",499,495,80,84.65,null,null,null,null,71,363,51,7,3]
[5,13,"TN100",499,121,37,107.26,null,null,null,null,null,97,22,null,2]
[5,0,"TN100",499,16731,6911,151.66999999999999,null,null,null,null,371,10390,5821,116,33]
[5,11,"TX100",499,65323,22854,136.13999999999999,null,null,null,null,1058,39827,23770,542,126]
[5,12,"TX100",499,1553,269,88.31,null,null,null,null,251,1115,153,26,8]
[5,13,"TX100",499,693,169,98.91,null,null,null,null,1,548,128,11,5]
[5,14,"TX100",499,1,1,215,null,null,null,null,null,null,1]
[5,0,"TX100",499,67570,23293,134.66,null,null,null,null,1310,41490,24052,579,139]
[5,11,"UT100",499,3463,1435,147.05000000000001,null,null,null,null,44,2139,1247,25,8]
[5,12,"UT100",499,106,21,88.6,null,null,null,null,18,73,13,1,1]
[5,13,"UT100",499,38,12,148.47,null,null,null,null,null,26,8,3,1]
[5,0,"UT100",499,3607,1468,145.35,null,null,null,null,62,2238,1268,29,10]
[5,11,"VA100",499,23064,8223,134.91999999999999,null,null,null,null,406,13523,8906,192,37]
[5,12,"VA100",499,435,83,90.21,null,null,null,null,78,308,44,5]
[5,13,"VA100",499,488,113,105.67,null,null,null,null,null,405,66,9,8]
[5,0,"VA100",499,23987,8419,133.51,null,null,null,null,484,14236,9016,206,45]
[5,11,"VT100",499,737,387,202.97,null,null,null,null,14,512,208,3]
[5,12,"VT100",499,13,4,111.69,null,null,null,null,1,11,1]
[5,13,"VT100",499,2,1,161,null,null,null,null,null,2]
[5,0,"VT100",499,752,392,201.28,null,null,null,null,15,525,209,3]
[5,11,"WA100",499,13671,5908,153.91,null,null,null,null,206,8523,4811,107,24]
[5,12,"WA100",499,312,65,94.71,null,null,null,null,35,243,31,3]
[5,13,"WA100",499,173,32,87.39,null,null,null,null,null,141,26,4,2]
[5,0,"WA100",499,14156,6005,151.79,null,null,null,null,241,8907,4868,114,26]
[5,11,"WI100",499,8824,4062,166.69,null,null,null,null,169,5425,3157,57,16]
[5,12,"WI100",499,209,35,79.319999999999993,null,null,null,null,36,144,27,2]
[5,13,"WI100",499,53,24,153.49,null,null,null,null,null,41,11,1]
[5,0,"WI100",499,9086,4121,164.61,null,null,null,null,205,5610,3195,60,16]
[5,11,"WV100",499,4314,2115,170.43,null,null,null,null,76,2715,1491,25,7]
[5,12,"WV100",499,117,20,71.09,null,null,null,null,24,79,14]
[5,13,"WV100",499,10,5,148.80000000000001,null,null,null,null,null,10]
[5,0,"WV100",499,4441,2140,167.76,null,null,null,null,100,2804,1505,25,7]
[5,11,"WY100",499,1457,666,169.63,null,null,null,null,18,951,469,19]
[5,12,"WY100",499,25,6,86.56,null,null,null,null,4,16,3,1,1]
[5,13,"WY100",499,18,2,56.56,null,null,null,null,null,16,2]
[5,0,"WY100",499,1500,674,166.89,null,null,null,null,22,983,474,20,1]
[5,0,35,499,8778,5625,193.8,835,3607,173.71,166.73,118,5895,2693,62,10]
[5,0,384,499,121418,45989,143.69,17426,69081,118.52,119.09,2363,74996,42824,996,239]
[5,0,393,499,230688,90152,144.97999999999999,32392,128380,120.57,122.08,4788,144624,79015,1820,441]
[5,0,394,499,152489,66695,160.77000000000001,19576,77823,129.56,132.43,3210,97805,50092,1092,290]
[5,0,395,499,113106,46452,153.72,15043,59223,119.21,120.18,2058,73163,36810,864,211]
[5,11,35,499,8393,5499,196.04,776,3397,179.75,171.18,111,5558,2653,61,10]
[5,11,384,499,117329,45162,145.38999999999999,16558,65188,121.56,122.85,1892,71999,42296,928,214]
[5,11,393,499,222376,88481,146.87,30490,120252,124.12,126.41,3832,138422,78040,1689,393]
[5,11,394,499,146829,65420,163.08000000000001,18444,72877,133.88999999999999,137.51,2457,93556,49544,1015,257]
[5,11,395,499,109017,45626,155.84,14148,55295,123.16,124.72,1601,70049,36371,807,189]
[5,12,35,499,166,59,141.76,12,52,47.17,33.270000000000003,7,140,19]
[5,12,384,499,2949,538,91.16,354,1754,62.12,39.35,469,2092,323,48,17]
[5,12,393,499,6046,1101,89.01,840,3707,55.46,40.450000000000003,955,4377,604,77,33]
[5,12,394,499,4551,919,93.59,704,3082,46.38,40.57,753,3306,410,53,29]
[5,12,395,499,2905,548,94.64,370,1732,51.54,40.270000000000003,457,2166,240,33,9]
[5,13,35,499,219,67,147.43,47,158,106.3,114.83,null,197,21,1]
[5,13,384,499,1138,287,102.83,514,2139,59.57,69.91,2,904,204,20,8]
[5,13,393,499,2265,569,109.07,1062,4420,70.14,72.72,1,1825,370,54,15]
[5,13,394,499,1109,356,129.69999999999999,428,1863,79.900000000000006,85.75,null,943,138,24,4]
[5,13,395,499,1184,278,103.12,525,2196,60.57,68.84,null,948,199,24,13]
[5,14,384,499,2,2,1211,null,null,null,null,null,1,1]
[5,14,393,499,1,1,164,null,1,null,287,null,null,1]
[5,14,394,499,null,null,null,null,1,null,17]
[5,0,499,499,544838,222197,148.66999999999999,81,434,152.19,228.32,2229,350385,192146,75,3]
[5,0,499,499,null,null,null,3,14,61.67,42.86]
[5,11,499,499,525752,218029,150.43,77,420,141.13999999999999,228.69,301,334990,190406,53,2]
[5,12,499,499,14607,2892,94.4,4,14,364.75,217.21,1928,11144,1515,19,1]
[5,13,499,499,4476,1273,118.78,null,null,null,null,null,4250,223,3]
[5,13,499,499,null,null,null,3,14,61.67,42.86]
[5,14,499,499,3,3,862,null,null,null,null,null,1,2]
[7,1,100,7,1,null,33]
[7,1,100,8,16,null,993.25]
[7,1,100,3,27663,null,290.74]
[7,1,100,1,1259,null,1409.79]
[7,1,100,2,518,null,887.32]
[7,1,100,9,345,null,1619.29]
[7,1,100,10,7908,null,24.66]
[7,1,100,6,17,null,936.76]
[7,2,-1,2000,26303,null,284.08999999999997]
[7,2,307,2000,1,null,234]
[7,2,308,2000,1,null,1272]
[7,2,309,2000,2,null,116]
[7,2,310,2000,8,null,414.25]
[7,2,311,2000,152,null,651.79]
[7,2,313,2000,2,null,1831]
[7,2,314,2000,1,null,2]
[7,2,316,2000,6,null,2520.17]
[7,2,317,2000,11,null,505.64]
[7,2,320,2000,2,null,504.5]
[7,2,322,2000,1,null,569]
[7,2,323,2000,137,null,511.52]
[7,2,325,2000,1,null,1559]
[7,2,327,2000,315,null,509.9]
[7,2,328,2000,1,null,1093]
[7,2,329,2000,1,null,2518]
[7,2,330,2000,2,null,133.5]
[7,2,331,2000,2,null,174]
[7,2,335,2000,250,null,460.68]
[7,2,339,2000,15,null,1209.67]
[7,2,343,2000,5,null,282.39999999999998]
[7,2,344,2000,5,null,190]
[7,2,345,2000,1,null,9]
[7,2,346,2000,4,null,641.5]
[7,2,351,2000,13,null,643.08000000000004]
[7,2,354,2000,3,null,92]
[7,2,355,2000,2,null,681.5]
[7,2,358,2000,78,null,618.79]
[7,2,362,2000,3,null,364.33]
[7,2,373,2000,1,null,8]
[7,2,377,2000,1,null,46]
[7,2,397,2000,1727,null,1213.5]
[7,2,459,2000,1,null,39]
[7,2,463,2000,1,null,3]
[7,2,100,2000,29059,null,348.69]
[7,2,-1,3000,379,null,377.5]
[7,2,310,3000,1,null,1943]
[7,2,335,3000,1,null,5]
[7,2,100,3000,381,null,380.63]
[7,2,35,2000,28030,null,341.36]
[7,2,384,2000,281,null,508.07]
[7,2,393,2000,475,null,535.47]
[7,2,394,2000,174,null,652.75]
[7,2,395,2000,99,null,541.08000000000004]
[10,1,-1,-1,22160]
[8,11,318,"2021-11-23",0.98826999999999998,0.94626999999999994,0.89268999999999998,7.2840000000000002E-2,0.92628999999999995,6.2799999999999995E-2]
[8,11,319,"2021-11-23",0.99224000000000001,0.94547999999999999,0.90996999999999995,6.2149999999999997E-2,0.88019999999999998,0.12252]
[8,11,328,"2021-11-23",0.95025999999999999,0.92115999999999998,0.90693999999999997,8.6199999999999999E-2,0.88731000000000004,9.5619999999999997E-2]
[8,11,344,"2021-11-23",1,0.91417999999999999,0.89078999999999997,9.6790000000000001E-2,0.89790999999999999,7.5740000000000002E-2]
[8,11,345,"2021-11-23",1,1,0.97675000000000001,2.6890000000000001E-2,0.91212000000000004,8.2860000000000003E-2]
[8,11,1,"2021-11-23",0.96923000000000004,0.89990999999999999,0.89563000000000004,1.472E-2,0.91525999999999996,1.8419999999999999E-2]
[8,11,317,"2021-11-23",0.88783000000000001,0.78424000000000005,0.85733000000000004,9.8830000000000001E-2,0.90461999999999998,7.5190000000000007E-2]
[8,11,325,"2021-11-23",0.98109000000000002,0.90644999999999998,0.87536999999999998,9.7159999999999996E-2,0.90251000000000003,9.0260000000000007E-2]
[8,11,335,"2021-11-23",1,1,0.94388000000000005,4.5850000000000002E-2,0.97633999999999999,3.6240000000000001E-2]
[8,11,373,"2021-11-23",0.95553999999999994,0.7802,0.89171,7.4050000000000005E-2,0.81106,0.108]
[8,11,377,"2021-11-23",0.94857000000000002,0.82767000000000002,0.92618,6.5579999999999999E-2,0.91622999999999999,7.2010000000000005E-2]
[8,11,301,"2021-11-23",0.97545999999999999,0.91762999999999995,0.89585999999999999,9.554E-2,0.93111999999999995,6.8720000000000003E-2]
[8,11,304,"2021-11-23",0.97887999999999997,0.87753000000000003,0.90910000000000002,8.6050000000000001E-2,0.98223000000000005,2.6720000000000001E-2]
[8,11,306,"2021-11-23",0.92313000000000001,0.92029000000000005,0.86165000000000003,9.9790000000000004E-2,0.81376999999999999,0.10517]
[8,11,310,"2021-11-23",0.98899000000000004,0.93045,0.95125000000000004,5.3659999999999999E-2,0.92483000000000004,8.2589999999999997E-2]
[8,11,320,"2021-11-23",0.98062000000000005,1,0.89951999999999999,9.196E-2,0.91425999999999996,8.1559999999999994E-2]
[8,11,322,"2021-11-23",0.98782000000000003,1,0.89768999999999999,5.9650000000000002E-2,0.89714000000000005,9.2230000000000006E-2]
[8,11,343,"2021-11-23",0.99358999999999997,0.96955000000000002,0.89271999999999996,9.0270000000000003E-2,0.91585000000000005,7.102E-2]
[8,11,346,"2021-11-23",1,1,0.88604000000000005,0.11894,0.94472,6.8110000000000004E-2]
[8,11,351,"2021-11-23",0.99119000000000002,0.91710000000000003,0.94152999999999998,6.6500000000000004E-2,0.91717000000000004,9.0690000000000007E-2]
[8,11,354,"2021-11-23",1,1,0.91705000000000003,8.566E-2,0.92344000000000004,6.0999999999999999E-2]
[8,11,355,"2021-11-23",0.94005000000000005,0.82343999999999995,0.88212999999999997,8.1049999999999997E-2,0.76027999999999996,9.1789999999999997E-2]
[8,11,402,"2021-11-23",0.98157000000000005,0.95814999999999995,0.95545000000000002,5.0770000000000003E-2,0.93384999999999996,7.7420000000000003E-2]
[8,11,308,"2021-11-23",0.96106000000000003,0.76129000000000002,0.85946,7.4410000000000004E-2,0.85784000000000005,0.10222000000000001]
[8,11,309,"2021-11-23",0.97204000000000002,0.89070000000000005,0.88968999999999998,7.3190000000000005E-2,0.72609999999999997,0.17865]
[8,11,311,"2021-11-23",0.89961999999999998,0.73119000000000001,0.83750000000000002,0.10653,0.98441999999999996,2.3400000000000001E-2]
[8,11,313,"2021-11-23",0.98714000000000002,0.92991999999999997,0.87519999999999998,8.2400000000000001E-2,0.87331999999999999,8.0640000000000003E-2]
[8,11,329,"2021-11-23",0.95616999999999996,0.83645999999999998,0.81813999999999998,9.6170000000000005E-2,0.90788999999999997,8.2089999999999996E-2]
[8,11,340,"2021-11-23",0.96069000000000004,0.86960000000000004,0.87104000000000004,8.4239999999999995E-2,0.93776000000000004,5.2929999999999998E-2]
[8,11,323,"2021-11-23",0.90422999999999998,0.83333000000000002,0.78352999999999995,0.10163999999999999,0.88597000000000004,7.3260000000000006E-2]
[8,11,334,"2021-11-23",0.98843000000000003,0.91673000000000004,0.96896000000000004,3.8190000000000002E-2,0.93801999999999996,7.6350000000000001E-2]
[8,11,442,"2021-11-23",0.97816000000000003,0.94077,0.87344999999999995,7.7439999999999995E-2,0.83667000000000002,0.10009999999999999]
[8,11,452,"2021-11-23",0.97179000000000004,0.89219999999999999,0.90429000000000004,0.10018000000000001,0.87234999999999996,8.763E-2]
[8,11,307,"2021-11-23",0.97643000000000002,0.94216999999999995,0.91791,6.3560000000000005E-2,0.95165,5.2130000000000003E-2]
[8,11,315,"2021-11-23",0.95843,0.83165,0.94259000000000004,5.2380000000000003E-2,0.94881000000000004,6.2630000000000005E-2]
[8,11,316,"2021-11-23",0.94789000000000001,0.72819,0.83277999999999996,9.919E-2,0.78398999999999996,0.10423]
[8,11,326,"2021-11-23",0.98941999999999997,1,0.88029000000000002,7.5439999999999993E-2,0.8528,8.584E-2]
[8,11,327,"2021-11-23",0.98157000000000005,0.92974999999999997,0.89320999999999995,7.7799999999999994E-2,0.90303,0.10095999999999999]
[8,11,330,"2021-11-23",0.98133999999999999,0.93284999999999996,0.91478000000000004,7.8619999999999995E-2,0.94691999999999998,6.6449999999999995E-2]
[8,11,362,"2021-11-23",0.97338999999999998,0.83333000000000002,0.84482999999999997,9.4079999999999997E-2,0.8649,9.2480000000000007E-2]
[8,11,463,"2021-11-23",0.99078999999999995,1,0.91,7.109E-2,0.90705000000000002,6.9430000000000006E-2]
[8,11,384,"2021-11-23",0.97191000000000005,0.90312000000000003,0.90471999999999997,2.9049999999999999E-2,0.92710000000000004,4.0059999999999998E-2]
[8,11,null,"2021-11-23",0.97035000000000005,0.89678999999999998,0.89512999999999998,2.0750000000000001E-2,0.90752999999999995,3.3450000000000001E-2]
[8,11,331,"2021-11-23",1,1,0.92156000000000005,7.2550000000000003E-2,0.85706000000000004,0.10585]
[8,11,348,"2021-11-23",0.98811000000000004,1,0.91927000000000003,6.9150000000000003E-2,0.86012999999999995,0.12870999999999999]
[8,11,349,"2021-11-23",0.97324999999999995,0.92107000000000006,0.88202999999999998,8.3460000000000006E-2,0.87183999999999995,7.8289999999999998E-2]
[8,11,350,"2021-11-23",0.93520999999999999,0.79027999999999998,0.84218999999999999,7.8140000000000001E-2,0.92151000000000005,6.7360000000000003E-2]
[8,11,358,"2021-11-23",0.99292000000000002,0.95621,0.91591999999999996,6.0510000000000001E-2,0.97377999999999998,3.9419999999999997E-2]
[8,11,436,"2021-11-23",0.93862000000000001,0.74351,0.86229999999999996,0.10673000000000001,0.88992000000000004,0.11174000000000001]
[8,11,438,"2021-11-23",0.95809999999999995,0.88077000000000005,0.89268000000000003,9.443E-2,0.93530999999999997,5.6910000000000002E-2]
[8,11,459,"2021-11-23",0.98014999999999997,1,0.91900000000000004,7.288E-2,0.89437,8.7489999999999998E-2]
[8,11,460,"2021-11-23",0.99099000000000004,0.93601000000000001,0.91076999999999997,7.2959999999999997E-2,0.95548999999999995,5.398E-2]
[8,11,393,"2021-11-23",0.95382999999999996,0.88053000000000003,0.87988999999999995,2.7799999999999998E-2,0.91027000000000002,3.2009999999999997E-2]
[8,11,314,"2021-11-23",0.93371000000000004,0.73167000000000004,0.96465999999999996,3.8879999999999998E-2,0.95809999999999995,5.2479999999999999E-2]
[8,11,321,"2021-11-23",0.96936,0.90627000000000002,0.86055000000000004,7.0930000000000007E-2,0.86819999999999997,7.8210000000000002E-2]
[8,11,333,"2021-11-23",1,1,0.94310000000000005,6.1850000000000002E-2,0.91429000000000005,7.6319999999999999E-2]
[8,11,339,"2021-11-23",0.88283,0.91369999999999996,0.93298999999999999,7.17E-2,0.78993999999999998,0.12937000000000001]
[8,11,341,"2021-11-23",0.98338999999999999,0.97997999999999996,0.89032,9.1999999999999998E-2,0.93742000000000003,6.5159999999999996E-2]
[8,11,347,"2021-11-23",0.97187000000000001,0.83774999999999999,0.91076000000000001,8.1379999999999994E-2,0.91532999999999998,7.8020000000000006E-2]
[8,11,372,"2021-11-23",null,null,null,null,0.80537000000000003,6.1890000000000001E-2]
[8,11,405,"2021-11-23",0.97636999999999996,0.87016000000000004,0.86041999999999996,8.0479999999999996E-2,0.86795,9.2429999999999998E-2]
[8,11,437,"2021-11-23",0.95193000000000005,0.8,0.86626999999999998,9.5310000000000006E-2,0.90424000000000004,7.2830000000000006E-2]
[8,11,395,"2021-11-23",0.98621000000000003,0.93006999999999995,0.91098000000000001,3.6060000000000002E-2,0.91900000000000004,4.4310000000000002E-2]
[8,12,1,"2021-11-23",null,0.99429999999999996,0.96436999999999995,3.202E-2,0.95342000000000005,2.758E-2]
[8,12,310,"2021-11-23",null,0.97985,0.96216999999999997,3.006E-2,0.93145,4.8660000000000002E-2]
[8,12,330,"2021-11-23",null,1,0.97536,3.7100000000000001E-2,0.99119000000000002,1.3140000000000001E-2]
[8,12,335,"2021-11-23",null,1,0.95772999999999997,5.3359999999999998E-2,0.93645999999999996,6.5809999999999994E-2]
[9,1,307,"2021-12-17",1044,1261,-217]
[9,1,351,"2021-12-17",1116,1071,45]
[9,1,1,"2021-12-17",2160,2332,-172]
[9,2,307,"2021-12-17",16211,13697,2514]
[9,2,351,"2021-12-17",24056,23862,194]
[9,2,1,"2021-12-17",40267,37559,2708]
[1,2000,-1,-1,15098,2123,87.98]
[1,2000,100,-1,54547,7087,74.8]
[1,2000,301,-1,104,5,47.11]
[1,2000,304,-1,356,29,56.87]
[1,2000,306,-1,218,25,74.849999999999994]
[1,2000,307,-1,126,10,87.03]
[1,2000,308,-1,79,9,59.51]
[1,2000,309,-1,119,15,66.819999999999993]
[1,2000,310,-1,764,100,67.86]
[1,2000,311,-1,277,28,81.73]
[1,2000,313,-1,356,26,49.42]
[1,2000,314,-1,760,76,63.46]
[1,2000,315,-1,90,16,156.97]
[1,2000,316,-1,731,115,96.9]
[1,2000,317,-1,1247,175,81.13]
[1,2000,318,-1,1707,179,64.73]
[1,2000,319,-1,2707,557,99.61]
[1,2000,320,-1,1126,145,69.48]
[1,2000,321,-1,193,19,64.56]
[1,2000,322,-1,385,35,62.26]
[1,2000,323,-1,230,30,80.989999999999995]
[1,2000,325,-1,701,105,89.46]
[1,2000,326,-1,3991,762,73.14]
[1,2000,327,-1,2664,297,59.28]
[1,2000,328,-1,363,33,59.98]
[1,2000,329,-1,1780,120,53.99]
[1,2000,330,-1,2818,246,57.77]
[1,2000,331,-1,433,86,93.73]
[1,2000,333,-1,140,13,61.63]
[1,2000,334,-1,1322,98,47.67]
[1,2000,335,-1,1482,219,91.97]
[1,2000,339,-1,321,26,52.4]
[1,2000,340,-1,132,18,59.52]
[1,2000,341,-1,2258,104,43.73]
[1,2000,343,-1,382,37,58.35]
[1,2000,344,-1,411,39,56.47]
[1,2000,345,-1,426,47,55.84]
[1,2000,346,-1,1049,129,73.02]
[1,2000,347,-1,126,17,82.21]
[1,2000,348,-1,192,26,66.739999999999995]
[1,2000,349,-1,1496,166,69.400000000000006]
[1,2000,350,-1,479,81,77.2]
[1,2000,351,-1,891,140,83.34]
[1,2000,354,-1,152,9,65.489999999999995]
[1,2000,355,-1,129,10,52.8]
[1,2000,358,-1,329,111,110.25]
[1,2000,362,-1,1010,112,74.27]
[1,2000,372,-1,242,15,55.63]
[1,2000,373,-1,133,20,78.5]
[1,2000,376,-1,4,4,229.5]
[1,2000,377,-1,1308,169,66.209999999999994]
[1,2000,402,-1,88,22,123.88]
[1,2000,405,-1,26,8,110]
[1,2000,436,-1,87,22,106.67]
[1,2000,437,-1,62,2,40.869999999999997]
[1,2000,438,-1,66,16,131.18]
[1,2000,442,-1,26,3,76.19]
[1,2000,452,-1,102,14,69.69]
[1,2000,459,-1,142,16,63.01]
[1,2000,460,-1,58,5,56.22]
[1,2000,463,-1,53,3,47.38]
[1,3000,-1,-1,1372,78,45.54]
[1,3000,100,-1,2139,155,50.14]
[1,3000,310,-1,124,9,51.71]
[1,3000,330,-1,310,28,57.52]
[1,3000,335,-1,333,40,61.64]
[1,2000,35,-1,15098,2123,87.98]
[1,2000,384,-1,7005,831,72.44]
[1,2000,393,-1,12448,1735,76.28]
[1,2000,394,-1,13036,1673,67.11]
[1,2000,395,-1,6960,725,60.34]
[2,2100,-1,-1,148921,41624]
[2,2100,100,-1,505664,154963]
[2,2100,301,-1,2701,850]
[2,2100,304,-1,2129,582]
[2,2100,306,-1,5038,1640]
[2,2100,307,-1,3314,1052]
[2,2100,308,-1,1959,701]
[2,2100,309,-1,3197,1074]
[2,2100,310,-1,8326,2984]
[2,2100,311,-1,6050,2052]
[2,2100,313,-1,6616,1793]
[2,2100,314,-1,15433,4575]
[2,2100,315,-1,2148,701]
[2,2100,316,-1,17356,5399]
[2,2100,317,-1,29019,10017]
[2,2100,318,-1,17187,4815]
[2,2100,319,-1,8867,2567]
[2,2100,320,-1,8923,2692]
[2,2100,321,-1,5771,1702]
[2,2100,322,-1,7623,2286]
[2,2100,323,-1,4441,1474]
[2,2100,325,-1,9620,3463]
[2,2100,326,-1,5552,1835]
[2,2100,327,-1,4528,1463]
[2,2100,328,-1,7811,2368]
[2,2100,329,-1,6321,2109]
[2,2100,330,-1,6857,2661]
[2,2100,331,-1,6417,2099]
[2,2100,333,-1,2428,748]
[2,2100,334,-1,2292,730]
[2,2100,335,-1,6862,2496]
[2,2100,339,-1,7066,1821]
[2,2100,340,-1,2320,821]
[2,2100,341,-1,2669,818]
[2,2100,343,-1,9802,3186]
[2,2100,344,-1,9506,2571]
[2,2100,345,-1,6487,1942]
[2,2100,346,-1,12195,4695]
[2,2100,347,-1,2119,699]
[2,2100,348,-1,3997,1411]
[2,2100,349,-1,20678,6222]
[2,2100,350,-1,4046,1347]
[2,2100,351,-1,6189,1784]
[2,2100,354,-1,4500,1334]
[2,2100,355,-1,1892,626]
[2,2100,358,-1,413,134]
[2,2100,362,-1,19624,5597]
[2,2100,372,-1,224,69]
[2,2100,373,-1,988,320]
[2,2100,376,-1,510,507]
[2,2100,377,-1,11924,3629]
[2,2100,402,-1,1439,511]
[2,2100,405,-1,384,135]
[2,2100,436,-1,1540,552]
[2,2100,437,-1,1016,323]
[2,2100,438,-1,1452,486]
[2,2100,442,-1,927,330]
[2,2100,452,-1,2962,943]
[2,2100,459,-1,2984,949]
[2,2100,460,-1,851,215]
[2,2100,463,-1,1253,434]
[2,2200,-1,-1,15951,2748]
[2,2200,100,-1,165811,24172]
[2,2200,301,-1,633,110]
[2,2200,304,-1,883,166]
[2,2200,306,-1,1196,241]
[2,2200,307,-1,764,166]
[2,2200,308,-1,512,125]
[2,2200,309,-1,598,119]
[2,2200,310,-1,10761,958]
[2,2200,311,-1,1034,182]
[2,2200,313,-1,1000,133]
[2,2200,314,-1,2128,410]
[2,2200,315,-1,404,120]
[2,2200,316,-1,2641,541]
[2,2200,317,-1,3807,796]
[2,2200,318,-1,9231,1383]
[2,2200,319,-1,4069,896]
[2,2200,320,-1,6810,869]
[2,2200,321,-1,906,173]
[2,2200,322,-1,1200,210]
[2,2200,323,-1,786,156]
[2,2200,325,-1,1917,399]
[2,2200,326,-1,4945,1006]
[2,2200,327,-1,3561,519]
[2,2200,328,-1,1521,241]
[2,2200,329,-1,6245,872]
[2,2200,330,-1,16718,1282]
[2,2200,331,-1,1192,264]
[2,2200,333,-1,611,139]
[2,2200,334,-1,1800,208]
[2,2200,335,-1,16659,1457]
[2,2200,339,-1,1526,265]
[2,2200,340,-1,434,67]
[2,2200,341,-1,2767,257]
[2,2200,343,-1,1614,283]
[2,2200,344,-1,1561,247]
[2,2200,345,-1,1270,225]
[2,2200,346,-1,3154,641]
[2,2200,347,-1,521,108]
[2,2200,348,-1,1011,146]
[2,2200,349,-1,3593,719]
[2,2200,350,-1,2745,388]
[2,2200,351,-1,6449,904]
[2,2200,354,-1,606,117]
[2,2200,355,-1,559,88]
[2,2200,358,-1,623,175]
[2,2200,362,-1,2986,488]
[2,2200,372,-1,305,26]
[2,2200,373,-1,342,66]
[2,2200,376,-1,4,4]
[2,2200,377,-1,9904,1328]
[2,2200,402,-1,407,158]
[2,2200,405,-1,132,36]
[2,2200,436,-1,317,73]
[2,2200,437,-1,293,35]
[2,2200,438,-1,497,107]
[2,2200,442,-1,150,30]
[2,2200,452,-1,520,125]
[2,2200,459,-1,616,103]
[2,2200,460,-1,178,29]
[2,2200,463,-1,244,45]
[2,2300,-1,-1,50,21]
[2,2300,100,-1,1831,284]
[2,2300,301,-1,13]
[2,2300,304,-1,6]
[2,2300,306,-1,43,1]
[2,2300,307,-1,16]
[2,2300,308,-1,14,1]
[2,2300,309,-1,15]
[2,2300,310,-1,55,2]
[2,2300,311,-1,22,2]
[2,2300,313,-1,26,1]
[2,2300,314,-1,34]
[2,2300,315,-1,11,1]
[2,2300,316,-1,33,1]
[2,2300,317,-1,102,7]
[2,2300,318,-1,68,2]
[2,2300,319,-1,34]
[2,2300,320,-1,44,4]
[2,2300,321,-1,15]
[2,2300,322,-1,18,1]
[2,2300,323,-1,32,1]
[2,2300,325,-1,35,4]
[2,2300,326,-1,24,3]
[2,2300,327,-1,278,187]
[2,2300,328,-1,29]
[2,2300,329,-1,48,6]
[2,2300,330,-1,61,3]
[2,2300,331,-1,39]
[2,2300,333,-1,14]
[2,2300,334,-1,10,1]
[2,2300,335,-1,72,7]
[2,2300,339,-1,19,1]
[2,2300,340,-1,17]
[2,2300,341,-1,7,1]
[2,2300,343,-1,51,2]
[2,2300,344,-1,40]
[2,2300,345,-1,21]
[2,2300,346,-1,39,3]
[2,2300,347,-1,6]
[2,2300,348,-1,9,1]
[2,2300,349,-1,80,4]
[2,2300,350,-1,18]
[2,2300,351,-1,23]
[2,2300,354,-1,8]
[2,2300,355,-1,6,2]
[2,2300,358,-1,8]
[2,2300,362,-1,36]
[2,2300,372,-1,4]
[2,2300,373,-1,5]
[2,2300,377,-1,111,12]
[2,2300,402,-1,4]
[2,2300,405,-1,1]
[2,2300,436,-1,6,1]
[2,2300,437,-1,6]
[2,2300,438,-1,8]
[2,2300,442,-1,6]
[2,2300,452,-1,12,1]
[2,2300,459,-1,10]
[2,2300,460,-1,5]
[2,2300,463,-1,4]
[2,2400,-1,-1,101099,79148]
[2,2400,100,-1,163030,112786]
[2,2400,301,-1,169,115]
[2,2400,304,-1,244,157]
[2,2400,306,-1,286,174]
[2,2400,307,-1,260,182]
[2,2400,308,-1,231,132]
[2,2400,309,-1,220,128]
[2,2400,310,-1,1405,1148]
[2,2400,311,-1,376,210]
[2,2400,313,-1,574,165]
[2,2400,314,-1,1868,1317]
[2,2400,315,-1,762,685]
[2,2400,316,-1,871,555]
[2,2400,317,-1,6495,3716]
[2,2400,318,-1,1100,651]
[2,2400,319,-1,692,396]
[2,2400,320,-1,866,481]
[2,2400,321,-1,312,157]
[2,2400,322,-1,763,252]
[2,2400,323,-1,648,243]
[2,2400,325,-1,2114,1635]
[2,2400,326,-1,470,302]
[2,2400,327,-1,475,326]
[2,2400,328,-1,596,338]
[2,2400,329,-1,822,443]
[2,2400,330,-1,1301,935]
[2,2400,331,-1,1250,982]
[2,2400,333,-1,313,202]
[2,2400,334,-1,1213,782]
[2,2400,335,-1,2860,2058]
[2,2400,339,-1,404,273]
[2,2400,340,-1,231,190]
[2,2400,341,-1,1588,1467]
[2,2400,343,-1,1204,772]
[2,2400,344,-1,777,456]
[2,2400,345,-1,1329,1143]
[2,2400,346,-1,3490,1165]
[2,2400,347,-1,248,199]
[2,2400,348,-1,548,437]
[2,2400,349,-1,2893,2289]
[2,2400,350,-1,640,299]
[2,2400,351,-1,767,434]
[2,2400,354,-1,467,326]
[2,2400,355,-1,194,115]
[2,2400,358,-1,95,56]
[2,2400,362,-1,1671,885]
[2,2400,372,-1,21,6]
[2,2400,373,-1,125,73]
[2,2400,376,-1,12781,2109]
[2,2400,377,-1,1079,670]
[2,2400,402,-1,625,577]
[2,2400,405,-1,29,20]
[2,2400,436,-1,217,164]
[2,2400,437,-1,153,110]
[2,2400,438,-1,156,102]
[2,2400,442,-1,94,69]
[2,2400,452,-1,218,149]
[2,2400,459,-1,169,113]
[2,2400,460,-1,40,28]
[2,2400,463,-1,122,75]
[2,2500,-1,-1,1737,497]
[2,2500,100,-1,6521,2193]
[2,2500,301,-1,19,5]
[2,2500,304,-1,12,4]
[2,2500,306,-1,48,8]
[2,2500,307,-1,27]
[2,2500,308,-1,11,1]
[2,2500,309,-1,22,2]
[2,2500,310,-1,761,355]
[2,2500,311,-1,37,11]
[2,2500,313,-1,27,3]
[2,2500,314,-1,74,5]
[2,2500,315,-1,45,28]
[2,2500,316,-1,115,18]
[2,2500,317,-1,231,50]
[2,2500,318,-1,112,27]
[2,2500,319,-1,62,8]
[2,2500,320,-1,81,12]
[2,2500,321,-1,22,3]
[2,2500,322,-1,81,11]
[2,2500,323,-1,27,1]
[2,2500,325,-1,78,15]
[2,2500,326,-1,47,10]
[2,2500,327,-1,36,4]
[2,2500,328,-1,69,11]
[2,2500,329,-1,64,4]
[2,2500,330,-1,684,237]
[2,2500,331,-1,52,4]
[2,2500,333,-1,27,3]
[2,2500,334,-1,21,3]
[2,2500,335,-1,618,296]
[2,2500,339,-1,38,5]
[2,2500,340,-1,17,3]
[2,2500,341,-1,121,114]
[2,2500,343,-1,79,11]
[2,2500,344,-1,50,11]
[2,2500,345,-1,64,38]
[2,2500,346,-1,57,12]
[2,2500,347,-1,23,1]
[2,2500,348,-1,42,3]
[2,2500,349,-1,218,120]
[2,2500,350,-1,43,5]
[2,2500,351,-1,68,7]
[2,2500,354,-1,22,4]
[2,2500,355,-1,12,2]
[2,2500,358,-1,15,3]
[2,2500,362,-1,98,8]
[2,2500,373,-1,9,1]
[2,2500,376,-1,5,5]
[2,2500,377,-1,28,2]
[2,2500,402,-1,193,182]
[2,2500,405,-1,5,2]
[2,2500,436,-1,10,1]
[2,2500,437,-1,5]
[2,2500,438,-1,11,3]
[2,2500,442,-1,5]
[2,2500,452,-1,16,7]
[2,2500,459,-1,10,5]
[2,2500,460,-1,7,2]
[2,2500,463,-1,3]
[2,2600,-1,-1,733,379]
[2,2600,100,-1,15077,14472]
[2,2600,301,-1,1,1]
[2,2600,304,-1,3,3]
[2,2600,307,-1,1,1]
[2,2600,308,-1,1]
[2,2600,309,-1,3,2]
[2,2600,311,-1,1,1]
[2,2600,313,-1,5,3]
[2,2600,314,-1,7,2]
[2,2600,315,-1,402,398]
[2,2600,316,-1,5,1]
[2,2600,317,-1,83,46]
[2,2600,318,-1,18,12]
[2,2600,319,-1,4,3]
[2,2600,320,-1,5,3]
[2,2600,321,-1,2,2]
[2,2600,322,-1,4,4]
[2,2600,323,-1,2,2]
[2,2600,325,-1,11,4]
[2,2600,326,-1,11,6]
[2,2600,327,-1,8,5]
[2,2600,328,-1,4,3]
[2,2600,329,-1,5,3]
[2,2600,331,-1,4,3]
[2,2600,333,-1,5,2]
[2,2600,334,-1,3,3]
[2,2600,339,-1,1,1]
[2,2600,340,-1,2,2]
[2,2600,341,-1,9299,9270]
[2,2600,343,-1,2,1]
[2,2600,344,-1,4,3]
[2,2600,345,-1,1940,1875]
[2,2600,346,-1,18,14]
[2,2600,347,-1,7,7]
[2,2600,348,-1,2,1]
[2,2600,349,-1,2020,1984]
[2,2600,350,-1,1]
[2,2600,351,-1,21,13]
[2,2600,354,-1,2,1]
[2,2600,355,-1,1,1]
[2,2600,358,-1,4,2]
[2,2600,362,-1,2,1]
[2,2600,373,-1,2,2]
[2,2600,377,-1,3,2]
[2,2600,402,-1,399,390]
[2,2600,405,-1,4,3]
[2,2600,436,-1,2,2]
[2,2600,437,-1,2,2]
[2,2600,442,-1,3,1]
[2,2600,452,-1,3,1]
[2,2600,459,-1,1,1]
[2,2600,463,-1,1]
[2,3100,-1,-1,7989,588]
[2,3100,100,-1,10410,837]
[2,3100,310,-1,712,69]
[2,3100,330,-1,852,97]
[2,3100,335,-1,857,83]
[2,3200,-1,-1,1375,81]
[2,3200,100,-1,2182,161]
[2,3200,310,-1,128,9]
[2,3200,330,-1,332,29]
[2,3200,335,-1,347,42]
[2,3300,-1,-1,16]
[2,3300,100,-1,3461,3]
[2,3300,310,-1,1247]
[2,3300,330,-1,1089,1]
[2,3300,335,-1,1109,2]
[2,3400,-1,-1,97,14]
[2,3400,100,-1,97,14]
[2,3500,100,-1,1]
[2,3500,330,-1,1]
[2,3600,100,-1,2689,1606]
[2,3600,310,-1,1246,805]
[2,3600,330,-1,557,274]
[2,3600,335,-1,886,527]
[2,2100,35,-1,148921,41624]
[2,2100,384,-1,73036,22032]
[2,2100,393,-1,127234,39664]
[2,2100,394,-1,86304,29020]
[2,2100,395,-1,70169,22623]
[2,2200,35,-1,15951,2748]
[2,2200,384,-1,35401,4550]
[2,2200,393,-1,38847,6549]
[2,2200,394,-1,51287,6583]
[2,2200,395,-1,24325,3742]
[2,2300,35,-1,50,21]
[2,2300,384,-1,292,15]
[2,2300,393,-1,693,206]
[2,2300,394,-1,465,23]
[2,2300,395,-1,331,19]
[2,2400,35,-1,101099,79148]
[2,2400,384,-1,10959,7517]
[2,2400,393,-1,15686,9193]
[2,2400,394,-1,23939,9859]
[2,2400,395,-1,11347,7069]
[2,2500,35,-1,1737,497]
[2,2500,384,-1,1135,453]
[2,2500,393,-1,941,174]
[2,2500,394,-1,2177,862]
[2,2500,395,-1,531,207]
[2,2600,35,-1,733,379]
[2,2600,384,-1,2062,2010]
[2,2600,393,-1,542,479]
[2,2600,394,-1,455,425]
[2,2600,395,-1,11285,11179]
[3,2100,100,10,48217,20680]
[3,2100,100,20,246544,67823]
[3,2100,100,40,87277,26422]
[3,2100,100,95,5,2]
[3,2100,100,110,91590,36905]
[3,2100,100,140,11370,3052]
[3,2100,100,320,1336,55]
[3,2100,100,410,62,18]
[3,2100,100,420,10,6]
[3,2200,100,"130G",19033,2251]
[3,2200,100,133,14,3]
[3,2200,100,135,94,7]
[3,2200,100,"290G",35514,4836]
[3,2200,100,"310G",15986,4588]
[3,2200,100,450,7,7]
[3,2200,100,"600G",95163,12480]
[3,2300,100,330,1009,45]
[3,2300,100,"680G",21,19]
[3,2300,100,682,1,1]
[3,2300,100,684,2,1]
[3,2300,100,685,258,190]
[3,2300,100,690,2]
[3,2300,100,"690G",538,28]
[3,2400,100,293,5,1]
[3,2400,100,335,19963,18097]
[3,2400,100,"400G",13204,2605]
[3,2400,100,409,1]
[3,2400,100,"500G",318,26]
[3,2400,100,510,39644,7024]
[3,2400,100,681,999,700]
[3,2400,100,687,12209,12193]
[3,2400,100,688,65194,63864]
[3,2400,100,"930G",10738,8069]
[3,2400,100,"960G",755,207]
[3,2500,100,"160G",6521,2193]
[3,2600,100,165,15077,14472]
[3,3100,100,120,2141,168]
[3,3100,100,180,4399,366]
[3,3100,100,190,3870,303]
[3,3200,100,135,39,2]
[3,3200,100,137,6,1]
[3,3200,100,"150G",2131,152]
[3,3200,100,297,2,2]
[3,3200,100,607,4,4]
[3,3300,100,696,3461,3]
[3,3400,100,407,96,13]
[3,3400,100,937,1,1]
[3,3500,100,167,1]
[3,3600,100,165,2689,1606]
[3.1,2100,100,40,106530,26422]
[12,9000,100,1,7338,195,22.483646770237122]
[12,9000,100,1.1000000000000001,6762,33,17.013901212658975]
[12,9000,100,1.2,576,162,86.696180555555557]
[12,9000,100,2,16004,3317,104.79642589352662]
[12,9000,100,2.1,15757,3261,104.53423875103128]
[12,9000,100,2.2000000000000002,247,56,121.52226720647774]
[12,9000,100,3,3249,1187,156.74176669744537]
[12,9000,100,3.1,3167,1164,157.6716135143669]
[12,9000,100,3.2,82,23,120.82926829268293]
[12,9000,100,4,570,91,66.54912280701754]
[12,9000,100,4.0999999999999996,534,80,64.829588014981269]
[12,9000,100,4.2,36,11,92.055555555555557]
[11,2100,100,10,10511,1220]
[11,2100,100,20,541,53]
[11,2100,100,110,1944,159]
[11,2200,100,"130G",45]
[11,2200,100,"290G",3]
[11,2300,100,330,646,4]
[11,2400,100,"400G",44,1]
[11,2400,100,"930G",2]
[4,0,-1,-1,223023,113787,139.5,27326,105106,132.58000000000001,130.55000000000001,5181,109319,106319,1748,456]
[4,0,100,-1,626479,254913,150.83000000000001,85272,338114,122.5,123.99,12537,396483,211434,4834,1191]
[4,0,301,-1,2984,971,137.49,426,1771,95.44,106.71,61,2275,629,14,5]
[4,0,304,-1,2356,708,142.28,1123,4552,38.01,40.76,45,1586,614,85,26]
[4,0,306,-1,5472,1830,147.03,764,2829,118.77,129.1,121,4215,1083,48,5]
[4,0,307,-1,3813,1291,146.75,545,2199,123.37,142.55000000000001,82,2819,883,20,9]
[4,0,308,-1,2202,827,154.86000000000001,322,1210,131.22,124.73,44,1651,498,8,1]
[4,0,309,-1,3494,1210,151.69,477,1933,123.68,125.4,69,2632,764,24,5]
[4,0,310,-1,10095,4046,171.83,1251,5327,124.69,119.18,258,7551,2195,76,15]
[4,0,311,-1,6519,2266,147.83000000000001,834,3505,129.75,128.16,127,5054,1274,48,16]
[4,0,313,-1,7051,1962,128.87,1081,4178,113.87,110.39,140,4843,2008,51,9]
[4,0,314,-1,17555,5930,147.78,2511,9869,121.23,122.39,295,11624,5480,128,28]
[4,0,315,-1,2873,1313,172.45,314,1292,116.48,133.26,55,1941,864,10,3]
[4,0,316,-1,18599,5984,144.74,2715,10915,123.29,126.33,288,13267,4882,130,32]
[4,0,317,-1,33011,12735,173.75,4391,17110,128.30000000000001,136.85,536,22706,9481,223,65]
[4,0,318,-1,18680,5447,132.53,2884,11728,115.56,113.62,341,13213,4956,140,30]
[4,0,319,-1,9599,2912,140.28,1442,5671,116.92,114.96,157,6895,2464,58,25]
[4,0,320,-1,9754,3089,144.51,1342,5587,113.61,118.65,211,7138,2317,70,18]
[4,0,321,-1,6222,1857,124.95,808,3298,109.8,115.82,164,4454,1533,54,17]
[4,0,322,-1,8186,2533,144.16999999999999,1164,4591,120.69,127.26,175,5939,1992,63,17]
[4,0,323,-1,4781,1667,158.15,661,2535,145.87,144.51,61,3608,1078,30,4]
[4,0,325,-1,11732,4951,197.39,1530,6159,135.01,148.71,230,8200,3197,89,16]
[4,0,326,-1,6113,2111,153.87,887,3542,114.87,122.11,119,4588,1353,47,6]
[4,0,327,-1,4955,1669,145.63999999999999,688,2678,118.58,117.66,91,3709,1114,35,6]
[4,0,328,-1,8565,2679,133,1096,4490,118.88,119.81,147,6362,1989,54,13]
[4,0,329,-1,7105,2475,157.29,1027,4109,118.6,124.25,167,5193,1679,56,10]
[4,0,330,-1,8261,3396,199.47,1088,4846,144.32,134.94999999999999,237,6141,1787,69,27]
[4,0,331,-1,7713,2986,162.56,1007,4042,122.97,132.71,136,5492,2018,49,18]
[4,0,333,-1,2730,901,142.86000000000001,335,1396,128.62,120.4,62,2005,631,27,5]
[4,0,334,-1,3447,1460,167,459,1742,157.93,142.59,74,2076,1270,20,7]
[4,0,335,-1,9302,4088,207.83,1294,5368,130.27000000000001,128.32,282,6677,2248,75,20]
[4,0,339,-1,7632,2100,125.17,1088,4419,106.16,108.34,132,5164,2252,65,19]
[4,0,340,-1,2606,983,175.65,390,1442,140,147.6,40,1859,687,15,5]
[4,0,341,-1,4314,2253,210.31,468,1863,133.76,143.84,50,2554,1677,30,3]
[4,0,343,-1,11126,3937,148.66,1497,6069,115.22,118.95,205,8120,2718,67,16]
[4,0,344,-1,10324,2911,122.39,1439,5552,98.49,102.42,192,7522,2517,73,20]
[4,0,345,-1,8011,3037,157.15,1121,4412,106.97,120.66,152,5601,2181,61,16]
[4,0,346,-1,13435,5447,206.26,3103,12647,81.62,88.7,199,9022,3965,218,31]
[4,0,347,-1,2406,879,155.75,360,1356,111.11,118.55,37,1766,583,16,4]
[4,0,348,-1,4610,1775,177.99,568,2268,130.12,144.69999999999999,62,3474,1046,23,5]
[4,0,349,-1,23913,8430,156.69999999999999,3371,13466,119.03,124.32,368,16462,6860,171,52]
[4,0,350,-1,4458,1564,155.54,618,2467,127.65,128.41999999999999,112,3274,1023,41,8]
[4,0,351,-1,6814,2134,160.58000000000001,990,4097,119.4,123.1,94,4741,1908,59,12]
[4,0,354,-1,5068,1685,145.29,572,2469,121.99,119.03,71,3717,1245,34,1]
[4,0,355,-1,2055,703,173.55,345,1480,117.98,133.93,54,1774,207,18,2]
[4,0,358,-1,470,180,176.29,72,261,120.03,113.13,16,396,58]
[4,0,362,-1,20975,6255,148.16,3057,12187,119.96,121.4,335,14564,5877,161,38]
[4,0,372,-1,263,82,143.02000000000001,46,192,148.93,116.83,5,182,73,3]
[4,0,373,-1,1110,380,143.94999999999999,147,621,127.6,124.71,24,838,240,6,2]
[4,0,376,-1,560,557,229.67,63,382,220.73,185.99,null,371,187,2]
[4,0,377,-1,13288,4323,158.22,1974,8085,111.32,116.47,161,9351,3650,106,20]
[4,0,402,-1,2069,1063,165.46,217,891,147.44999999999999,140.63999999999999,29,1408,619,10,3]
[4,0,405,-1,426,158,155.80000000000001,43,223,137.86000000000001,137.21,10,344,69,2,1]
[4,0,436,-1,1735,678,163.62,207,822,129.94,143.22,21,1334,366,10,4]
[4,0,437,-1,1179,418,155.9,185,725,117.51,114.53,21,860,288,8,2]
[4,0,438,-1,1609,584,163.77000000000001,198,825,149.09,138.53,21,1228,348,12]
[4,0,442,-1,1022,396,179.77,129,519,139.79,129.91999999999999,21,745,246,9,1]
[4,0,452,-1,3273,1110,147.55000000000001,478,1778,132.59,122.99,45,2388,813,24,3]
[4,0,459,-1,3225,1058,137.26,445,1793,124.35,118.41,64,2465,666,25,5]
[4,0,460,-1,928,246,111.52,128,539,110.86,105.84,15,681,227,4,1]
[4,0,463,-1,1383,506,170.32,161,686,138.16,136.91999999999999,25,1105,238,12,3]
[4,11,-1,-1,217664,112640,140.78,25849,99594,136.81,134.88,4613,105260,105738,1638,415]
[4,11,301,-1,2889,955,139.18,394,1685,98.04,109.38,49,2199,623,13,5]
[4,11,304,-1,2302,700,144.04,1115,4492,37.729999999999997,40.5,36,1544,611,85,26]
[4,11,306,-1,5267,1792,149.68,725,2654,122.48,134.49,95,4061,1062,46,3]
[4,11,307,-1,3679,1277,149.88,511,2049,129.46,150.11000000000001,59,2735,858,18,9]
[4,11,308,-1,2099,805,158.71,306,1119,135.66,130.85,26,1577,487,8,1]
[4,11,309,-1,3377,1190,154.27000000000001,442,1786,130.62,132.86000000000001,55,2545,752,21,4]
[4,11,310,-1,9611,3978,176.19,1140,4806,129.63,125.88,135,7219,2180,65,12]
[4,11,311,-1,5931,2123,151.91,693,2930,139.82,136.81,93,4573,1211,43,11]
[4,11,313,-1,6741,1899,130.71,973,3780,118.39,114.43,117,4604,1965,46,9]
[4,11,314,-1,17003,5830,149.75,2314,9112,126.05,127.67,237,11203,5413,124,26]
[4,11,315,-1,2779,1295,175.54,297,1210,119.06,139.37,34,1873,859,10,3]
[4,11,316,-1,18038,5872,146.27000000000001,2552,10127,127.23,131.28,215,12882,4794,119,28]
[4,11,317,-1,31945,12575,177.03,4125,15965,131.97,143.06,388,21931,9359,211,56]
[4,11,318,-1,17955,5330,134.83000000000001,2636,10693,121.86,119.69,272,12696,4828,130,29]
[4,11,319,-1,9195,2846,142.97,1336,5188,121.68,120.89,116,6620,2386,50,23]
[4,11,320,-1,9375,3033,147.54,1256,5187,118.72,124.14,167,6865,2266,63,14]
[4,11,321,-1,5915,1812,127.85,756,3019,113.58,120.5,109,4253,1488,51,14]
[4,11,322,-1,7833,2486,147.37,1080,4229,125.69,133.04,113,5699,1953,54,14]
[4,11,323,-1,4596,1632,161.07,627,2363,150.25,149.84,37,3469,1058,28,4]
[4,11,325,-1,11388,4895,201.14,1443,5832,139.66999999999999,154.41,170,7960,3162,83,13]
[4,11,326,-1,5905,2069,156.54,838,3318,117.85,126.3,84,4444,1329,44,4]
[4,11,327,-1,4719,1643,149.63,630,2422,126.33,126.15,67,3536,1079,32,5]
[4,11,328,-1,8236,2627,135.47999999999999,1056,4225,121.36,124.43,96,6136,1942,51,11]
[4,11,329,-1,6789,2422,161.22,973,3830,123.14,129.84,115,4974,1641,49,10]
[4,11,330,-1,6795,2917,208.53,867,3669,153.68,154.81,138,4935,1655,52,15]
[4,11,331,-1,7398,2933,166.01,923,3660,130.07,140.87,97,5268,1976,43,14]
[4,11,333,-1,2618,885,145.91,310,1292,136.06,126.86,43,1926,618,26,5]
[4,11,334,-1,3339,1442,170.09,428,1616,163.53,147.83000000000001,61,2012,1244,17,5]
[4,11,335,-1,7862,3571,213.25,1068,4411,136.49,137.22999999999999,100,5604,2089,56,13]
[4,11,339,-1,7363,2060,126.91,994,4017,111.42,114.24,98,4978,2209,63,15]
[4,11,340,-1,2509,961,178.87,370,1324,142.69,155.24,21,1788,680,15,5]
[4,11,341,-1,4226,2240,212.96,436,1739,133.08000000000001,149.33000000000001,39,2494,1665,25,3]
[4,11,343,-1,10675,3844,151.21,1394,5592,118.17,122.58,147,7785,2666,63,14]
[4,11,344,-1,9940,2838,123.89,1346,5128,101.82,106.7,132,7247,2475,67,19]
[4,11,345,-1,7706,2999,160.74,1052,4135,110.9,126.02,96,5391,2149,54,16]
[4,11,346,-1,13134,5382,208.99,3012,12235,82.3,89.7,175,8793,3922,213,31]
[4,11,347,-1,2311,869,158.94999999999999,320,1220,119.91,126.9,25,1705,564,14,3]
[4,11,348,-1,4441,1753,182.06,537,2121,135.55000000000001,151.76,40,3357,1018,22,4]
[4,11,349,-1,23107,8281,159.35,3142,12452,123.82,130.07,257,15885,6765,156,44]
[4,11,350,-1,4249,1535,159.84,566,2263,133.66,136.13,78,3134,992,38,7]
[4,11,351,-1,6505,2088,164.6,893,3677,125.86,130.5,69,4521,1850,57,8]
[4,11,354,-1,4883,1657,148.02000000000001,531,2288,126.61,124.21,44,3585,1221,33]
[4,11,355,-1,1931,681,180.4,322,1390,123.16,139.63999999999999,25,1693,198,15]
[4,11,358,-1,439,173,182.78,67,234,122.46,119.49,16,367,56]
[4,11,362,-1,20326,6157,150.47999999999999,2875,11429,124.36,125.93,251,14122,5769,148,36]
[4,11,372,-1,250,75,134.27000000000001,42,168,144.88,112.37,5,171,72,2]
[4,11,373,-1,1072,372,146.30000000000001,135,575,133.24,129.85,16,813,236,5,2]
[4,11,376,-1,534,531,229.28,62,367,220.63,187.8,null,348,184,2]
[4,11,377,-1,12764,4236,161.25,1779,7200,117.38,123.18,127,8961,3564,94,18]
[4,11,402,-1,2009,1046,167.01,197,817,155.74,148.44,22,1361,614,9,3]
[4,11,405,-1,414,155,157.79,37,207,150.84,145.11000000000001,8,335,68,2,1]
[4,11,436,-1,1679,668,166.43,194,763,134.24,151.43,16,1294,356,9,4]
[4,11,437,-1,1130,406,158.91,174,684,121.41,118.82,19,823,280,7,1]
[4,11,438,-1,1568,577,166.22,192,771,151.22,143.86000000000001,18,1201,339,10]
[4,11,442,-1,992,390,181.97,119,489,149.51,135.44,18,725,242,7]
[4,11,452,-1,3151,1095,150.44,445,1625,138.18,130.46,33,2302,795,19,2]
[4,11,459,-1,3089,1033,139.77000000000001,388,1520,135.65,130.72999999999999,58,2354,650,23,4]
[4,11,460,-1,886,238,113.49,119,505,116.97,110.87,11,649,221,4,1]
[4,11,463,-1,1354,497,172.25,158,649,140.53,141.97999999999999,24,1084,234,10,2]
[4,11,100,-1,603880,250311,152.99,79561,313847,126.83,129.18,9825,379869,208680,4462,1044]
[4,12,-1,-1,13419,2037,69.67,2623,11028,48.7,36.69,2305,9300,1525,202,87]
[4,12,310,-1,419,43,76.08,83,401,76.569999999999993,53.31,123,273,11,11,1]
[4,12,330,-1,1430,460,156.80000000000001,215,1137,107.7,68.760000000000005,99,1175,127,17,12]
[4,12,335,-1,1413,502,177.73,214,923,98.91,84.9,182,1048,157,19,7]
[4,12,100,-1,16681,3042,86.45,3135,13489,56.91,43.19,2709,11796,1820,249,107]
[4,13,-1,-1,1379,245,79.75,631,2623,61.81,52.49,1,1116,233,24,5]
[4,13,301,-1,16,4,145.69,9,23,99.44,98.78,null,16]
[4,13,304,-1,9,2,72,4,19,80.75,129.94999999999999,null,9]
[4,13,306,-1,53,16,129.32,11,50,85.45,83.78,null,47,6]
[4,13,307,-1,22,7,143.41,4,32,45.25,83.63,null,19,2,1]
[4,13,308,-1,31,11,127.03,6,35,66.17,77.709999999999994,null,27,4]
[4,13,309,-1,28,12,153.75,7,27,74.709999999999994,83.93,null,22,3,2,1]
[4,13,310,-1,65,25,144.88999999999999,28,120,66.11,71.13,null,59,4,null,2]
[4,13,311,-1,427,124,123.93,113,455,92.81,98.77,null,367,52,5,3]
[4,13,313,-1,162,38,107.75,83,289,88.72,90.51,null,135,25,2]
[4,13,314,-1,264,66,113.91,127,498,78.010000000000005,74.209999999999994,null,225,33,4,2]
[4,13,315,-1,19,10,171.47,2,14,273.5,122.14,null,19]
[4,13,316,-1,178,62,164.47,86,411,81.47,94.71,null,133,36,7,2]
[4,13,317,-1,236,63,120.42,107,407,71.08,79.47,null,205,28,2,1]
[4,13,318,-1,278,66,104.46,176,667,50.22,64.180000000000007,null,219,52,7]
[4,13,319,-1,117,35,128.46,53,253,69.739999999999995,72.739999999999995,null,84,29,4]
[4,13,320,-1,69,21,120.58,34,161,40.06,67.2,null,56,11,null,2]
[4,13,321,-1,87,23,104.57,27,136,76.150000000000006,87.49,null,64,20,1,2]
[4,13,322,-1,54,19,174.96,20,102,97.3,133.29,null,40,9,4,1]
[4,13,323,-1,42,17,168.33,10,48,146.19999999999999,182.81,1,39,2]
[4,13,325,-1,30,13,197.27,18,61,102.94,121.87,null,28,2]
[4,13,326,-1,37,16,151.43,17,69,122.24,118.94,null,30,6,1]
[4,13,327,-1,71,9,80.11,14,89,37.86,60.73,null,54,15,2]
[4,13,328,-1,42,17,156.19,10,57,86.6,92.88,null,32,7,1,2]
[4,13,329,-1,34,19,181.97,6,34,45,107.68,null,26,6,2]
[4,13,330,-1,36,19,184.31,6,40,103.33,193.85,null,31,5]
[4,13,331,-1,90,25,125.21,34,163,54.26,85.53,null,69,19,2]
[4,13,333,-1,14,7,169,2,18,8,91.61,null,13,1]
[4,13,334,-1,43,7,83.44,20,86,59.65,84.34,null,33,8,1,1]
[4,13,335,-1,27,15,205.63,12,34,136.33000000000001,151.09,null,25,2]
[4,13,339,-1,120,27,103.17,68,268,55.06,61.09,null,94,21,2,3]
[4,13,340,-1,21,7,96.57,12,49,95.42,95.84,null,19,2]
[4,13,341,-1,24,6,141.41999999999999,17,49,82.94,72.88,null,17,3,4]
[4,13,343,-1,154,67,153.71,53,212,95.26,133.79,null,134,19,null,1]
[4,13,344,-1,134,44,126.8,56,229,56.84,69.91,null,113,16,4,1]
[4,13,345,-1,49,20,125.31,21,68,88.71,84.46,null,35,12,2]
[4,13,346,-1,131,44,118.74,60,234,70.62,84.39,1,108,18,4]
[4,13,347,-1,34,8,131.59,21,80,48.38,57.76,null,24,8,1,1]
[4,13,348,-1,24,8,154.91999999999999,2,21,166,152.9,null,19,5]
[4,13,349,-1,258,71,105.11,139,526,60.33,72.5,null,220,27,6,5]
[4,13,350,-1,21,7,155,13,45,155.91999999999999,106.98,null,13,8]
[4,13,351,-1,114,23,101.75,46,205,41.72,77.930000000000007,null,87,26,null,1]
[4,13,354,-1,41,10,103.93,22,101,78.55,66.95,null,32,8,null,1]
[4,13,355,-1,17,7,104.47,3,19,112,103.05,null,16,1]
[4,13,358,-1,3,null,61.33,1,10,97,108,null,3]
[4,13,362,-1,215,54,106.91,100,393,56.01,73.23,null,164,44,7]
[4,13,372,-1,13,7,311.38,4,24,191.5,148.04,null,11,1,1]
[4,13,373,-1,6,4,147.66999999999999,2,13,84,116.62,null,5,null,1]
[4,13,376,-1,null,null,null,null,3,null,17]
[4,13,377,-1,356,67,95.75,169,764,56.99,66.63,null,277,67,11,1]
[4,13,402,-1,17,10,231.71,6,18,170,164.22,null,16,null,1]
[4,13,405,-1,3,null,44,3,3,97.33,97.33,null,3]
[4,13,436,-1,24,8,110.58,2,18,87.5,63.33,null,21,3]
[4,13,437,-1,9,5,167.22,3,20,115,63.45,null,8,1]
[4,13,438,-1,16,5,88.44,3,28,113,101.5,null,13,1,2]
[4,13,442,-1,9,4,221.89,4,12,30.25,70.25,null,8,1]
[4,13,452,-1,30,6,107.33,22,81,73,61.05,null,19,9,2]
[4,13,459,-1,84,16,84.71,43,228,50.91,53.07,null,72,10,1,1]
[4,13,460,-1,12,2,55.83,1,3,45,90.67,null,11,1]
[4,13,463,-1,16,7,107.19,3,31,13.33,52.58,null,13,null,2,1]
[4,13,100,-1,5915,1557,111.97,2576,10776,68.36,74.239999999999995,3,4817,932,123,40]
[4,14,-1,-1,2,2,1185.5,null,2,null,152,null,1,1]
[4,14,318,-1]
[4,14,377,-1,1,1,215,null,null,null,null,null,null,1]
[4,14,100,-1,3,3,862,null,2,null,152,null,1,2]
[4,0,384,-1,83631,28554,157.85,11791,47344,122.59,123.42,1476,58244,23107,641,163]
[4,0,35,-1,223023,113787,139.5,27326,105106,132.58000000000001,130.55000000000001,5181,109319,106319,1748,456]
[4,0,395,-1,80266,28974,163.30000000000001,12170,48903,106.35,112.18,1274,56952,21231,680,129]
[4,0,393,-1,140728,47403,150.88999999999999,19883,79221,121.72,125.1,2540,99542,37391,1000,255]
[4,0,394,-1,98831,36195,160.28,14102,57540,117.92,121.01,2066,72426,23386,765,188]
[4,11,395,-1,77471,28482,166.26,11390,45385,109.52,116.41,944,54911,20864,633,119]
[4,13,384,-1,879,232,109.65,421,1689,59.57,73.62,null,705,144,20,10]
[4,13,393,-1,1453,405,123.71,672,2850,70.42,80.150000000000006,1,1167,244,31,10]
[4,11,394,-1,93572,34999,163.38,12991,52474,121.95,126.71,1427,68451,22849,691,154]
[4,11,35,-1,217664,112640,140.78,25849,99594,136.81,134.88,4613,105260,105738,1638,415]
[4,13,394,-1,1133,371,134.91999999999999,372,1538,88.13,98.28,null,963,143,19,8]
[4,13,35,-1,1379,245,79.75,631,2623,61.81,52.49,1,1116,233,24,5]
[4,11,393,-1,135533,46570,153.69,18497,73168,126.49,130.99,1858,95854,36673,925,223]
[4,11,384,-1,79640,27620,160.05000000000001,10834,43226,127.67,129.36000000000001,983,55393,22556,575,133]
[4,13,395,-1,1071,304,115.16,480,2076,66.5,76.319999999999993,1,866,168,29,7]
[5,0,-1,-1,1311,120,74.98,null,null,null,null,833,399,41,32,6]
[5,0,100,-1,626479,254913,150.83000000000001,85272,338114,122.5,123.99,12537,396483,211434,4834,1191]
[5,0,101,-1,3187,135,18.989999999999998,2,18,119.5,105.72,3021,93,36,34,3]
[5,0,301,-1,536,142,148.22999999999999,814,3156,114.41,126.1,52,259,158,54,13]
[5,0,304,-1,959,193,105.4,1996,7719,69.849999999999994,75.37,59,354,375,139,32]
[5,0,306,-1,755,277,156.72999999999999,978,4101,130.66999999999999,131.87,106,478,135,21,15]
[5,0,307,-1,581,210,166.5,756,2476,136.37,177.5,64,306,181,24,6]
[5,0,308,-1,437,175,170.03,696,2685,133.46,145.72999999999999,42,291,63,40,1]
[5,0,309,-1,312,91,141.43,650,2499,143.26,154.19,45,209,17,33,8]
[5,0,310,-1,3336,1211,130.28,2884,11460,108.05,101,315,1814,999,177,31]
[5,0,311,-1,785,233,132.36000000000001,1003,3847,163.44999999999999,170.28,126,391,193,49,26]
[5,0,313,-1,415,103,107.58,492,2195,142.91999999999999,134.78,108,188,96,13,10]
[5,0,314,-1,1362,550,150.16,1132,4033,173.94,175.7,228,775,284,61,14]
[5,0,315,-1,695,382,170.8,800,2799,163.01,176.57,50,317,297,24,7]
[5,0,316,-1,2955,1063,146.52000000000001,3793,15556,126.75,130.09,227,1731,777,189,31]
[5,0,317,-1,5033,2446,170.74,3870,14089,155.77000000000001,160.05000000000001,410,2138,2206,178,101]
[5,0,318,-1,2974,570,94.28,5610,22453,91.54,93.32,287,1251,1097,283,56]
[5,0,319,-1,2062,664,121.66,2528,9972,112.63,117.58,148,1353,490,40,31]
[5,0,320,-1,1334,339,112.28,2208,8394,93.44,98.72,176,786,279,36,57]
[5,0,321,-1,736,170,97.6,1024,4400,116.12,117.79,109,396,186,39,6]
[5,0,322,-1,828,192,101.03,1267,5288,102.48,108.94,144,379,207,82,16]
[5,0,323,-1,672,205,137.43,1277,4807,126.65,132.6,40,427,152,47,6]
[5,0,325,-1,1641,623,146.07,1371,5037,167.73,193.15,170,882,358,193,38]
[5,0,326,-1,846,256,133.53,1231,5489,126.41,117.23,113,481,216,30,6]
[5,0,327,-1,1031,324,152.9,1779,7186,125.15,131.07,83,663,192,76,17]
[5,0,328,-1,548,146,122.32,847,3201,124.38,122.07,79,252,164,41,12]
[5,0,329,-1,972,133,85.83,1851,7475,93.5,95.13,128,416,308,98,22]
[5,0,330,-1,1775,287,84.4,2217,9544,81.260000000000005,74.81,234,994,269,183,95]
[5,0,331,-1,2170,762,130.31,1202,4661,170.6,174.41,100,1566,437,54,13]
[5,0,333,-1,716,145,102.71,1177,4230,114.37,120.23,70,344,192,110]
[5,0,334,-1,958,379,148.26,1028,3686,166.26,178.01,88,557,246,54,13]
[5,0,335,-1,2541,717,112.44,2834,11561,109.86,102.14,408,1159,659,256,59]
[5,0,339,-1,1144,271,107.78,1797,7337,111.96,115.05,108,601,307,109,19]
[5,0,340,-1,439,113,103.45,554,2091,151.52000000000001,160.16,26,255,108,45,5]
[5,0,341,-1,1378,729,155.97,909,3447,213,226.32,57,810,317,190,4]
[5,0,343,-1,1035,537,126.84,730,2423,171.45,164.49,160,410,441,20,4]
[5,0,344,-1,1363,420,118.3,1408,6012,121.01,129.30000000000001,166,784,345,61,7]
[5,0,345,-1,1816,967,159.91,1604,5189,154.91999999999999,178.99,129,947,639,79,22]
[5,0,346,-1,3175,610,100.55,5117,21784,85.88,84.68,238,1279,1230,296,132]
[5,0,347,-1,437,97,111.24,770,2920,124.85,131.96,24,199,125,39,50]
[5,0,348,-1,1427,447,133.35,1267,4485,149.15,161.76,83,1083,205,48,8]
[5,0,349,-1,3409,1716,149.16,2847,10532,171.41,178.6,272,1858,897,350,32]
[5,0,350,-1,596,109,89.87,1194,4152,111.81,122.31,89,302,152,48,5]
[5,0,351,-1,1810,560,129.68,2618,10991,118.7,112.8,74,1043,557,113,23]
[5,0,354,-1,416,235,182.28,428,1780,180.21,173.23,38,217,133,24,4]
[5,0,355,-1,478,176,177.78,812,3239,131.54,138.75,40,285,115,38]
[5,0,358,-1,200,67,152.24,525,2004,142.87,145.22,24,114,36,25,1]
[5,0,362,-1,2163,435,95.69,3157,12975,103.15,102.98,274,990,674,209,16]
[5,0,372,-1,4,null,2,null,null,null,null,4]
[5,0,373,-1,188,70,141.55000000000001,359,1291,154.76,164.46,16,93,65,11,3]
[5,0,377,-1,2271,534,102.28,4046,17561,103.92,99.31,154,1237,726,126,28]
[5,0,383,-1,27,14,224.44,null,null,null,null,null,24,1,2]
[5,0,392,-1,10520,10302,445.91,2,11,206.5,467.55,2,10467,40,11]
[5,0,397,-1,null,null,null,17,46,332.88,422.54]
[5,0,402,-1,710,437,213.57,647,2526,191.72,180.09,35,414,214,42,5]
[5,0,405,-1,113,39,169.08,165,595,146.05000000000001,156.77000000000001,12,60,38,3]
[5,0,436,-1,429,155,144.18,501,2057,163.95,167.92,37,257,129,6]
[5,0,437,-1,246,59,105.64,445,1807,121.91,130.94999999999999,30,76,105,17,18]
[5,0,438,-1,446,81,89.22,929,3604,77.900000000000006,83.86,17,182,156,48,43]
[5,0,442,-1,146,49,149.58000000000001,168,650,97.35,129.38999999999999,18,80,31,15,2]
[5,0,452,-1,304,79,114.82,530,2092,148.25,160.63999999999999,39,171,43,49,2]
[5,0,459,-1,261,76,123.13,500,2117,130.33000000000001,140.32,46,110,72,29,4]
[5,0,460,-1,97,41,194.8,179,657,157.02000000000001,160.93,8,42,42,5]
[5,0,463,-1,130,48,138.76,177,564,156.19,150.51,25,59,35,11]
[5,0,499,-1,544838,222197,148.66999999999999,84,448,148.94999999999999,222.52,2229,350385,192146,75,3]
[5,0,-1,-1,null,null,null,1469,6710,138.69999999999999,116.45]
[5,11,-1,-1,14798,10459,324.63,918,3739,206.59,196.82,3731,10868,115,76,8]
[5,11,301,-1,529,140,148.52000000000001,803,3075,114.04,126.55,50,257,156,53,13]
[5,11,304,-1,947,190,105.63,1975,7627,69.69,75.11,55,350,371,139,32]
[5,11,306,-1,731,270,158.21,954,3969,131.34,133.46,100,467,130,19,15]
[5,11,307,-1,550,202,169.36,740,2393,137.08000000000001,180.36,55,298,168,23,6]
[5,11,308,-1,408,167,175.52,674,2579,134.80000000000001,147.5,34,281,54,38,1]
[5,11,309,-1,307,88,138.6,637,2411,144.28,156.25,45,205,17,32,8]
[5,11,310,-1,3239,1207,133,2858,11187,108.67,102.15,259,1798,978,173,31]
[5,11,311,-1,711,221,135.41,946,3635,166.06,172.93,117,349,175,46,24]
[5,11,313,-1,383,101,112.32,457,2021,144.77000000000001,137.43,103,175,85,11,9]
[5,11,314,-1,1283,544,156.24,1017,3689,185.86,185.56,213,741,262,57,10]
[5,11,315,-1,681,379,172.95,777,2683,165.41,180.07,46,312,293,24,6]
[5,11,316,-1,2808,1046,150.32,3634,14846,129.44,133.02000000000001,214,1663,723,178,30]
[5,11,317,-1,4962,2441,172.62,3828,13993,157.08000000000001,160.82,378,2119,2189,176,100]
[5,11,318,-1,2890,560,95.46,5361,21510,93.47,94.84,274,1233,1053,276,54]
[5,11,319,-1,1986,652,123.55,2377,9323,117.04,122.36,142,1324,452,38,30]
[5,11,320,-1,1266,329,115.01,2071,7876,97.55,102.59,163,763,254,35,51]
[5,11,321,-1,712,170,99.83,1003,4302,116.48,118.15,94,392,181,39,6]
[5,11,322,-1,795,186,102.32,1248,5195,102.28,108.08,131,375,194,79,16]
[5,11,323,-1,657,198,135.51,1249,4690,126.65,131.18,38,422,146,45,6]
[5,11,325,-1,1609,620,147.80000000000001,1343,4931,169.12,195.21,156,874,351,191,37]
[5,11,326,-1,799,249,136.72,1199,5378,127.14,117.35,102,472,190,29,6]
[5,11,327,-1,1009,317,153.69,1753,7066,125.51,131.54,77,651,188,76,17]
[5,11,328,-1,517,141,125.22,828,3096,124.99,122.41,67,248,152,39,11]
[5,11,329,-1,954,132,87.19,1839,7398,93.4,95.19,111,415,308,98,22]
[5,11,330,-1,1144,214,91.54,1364,5610,98.77,97.51,195,562,250,105,32]
[5,11,331,-1,2112,747,131.46,1162,4517,173.35,176.39,95,1548,405,51,13]
[5,11,333,-1,702,144,103.97,1160,4138,115.1,121.08,64,343,187,108]
[5,11,334,-1,939,375,149.07,1007,3541,167.83,181.74,85,551,239,52,12]
[5,11,335,-1,1853,639,127.81,1981,8281,130.9,122.23,287,783,602,146,35]
[5,11,339,-1,1122,266,108.12,1767,7203,111.71,115.22,104,593,298,109,18]
[5,11,340,-1,426,112,105.01,536,1994,150.80000000000001,162.36000000000001,24,252,102,43,5]
[5,11,341,-1,1364,726,156.81,889,3421,216.22,227.34,55,800,316,189,4]
[5,11,343,-1,1017,532,127.62,727,2413,171.71,164.82,150,402,441,20,4]
[5,11,344,-1,1314,405,118.38,1368,5802,121.56,130.84,154,773,324,56,7]
[5,11,345,-1,1784,963,161.94999999999999,1524,4898,161.13999999999999,187.74,123,938,626,75,22]
[5,11,346,-1,3148,602,100.49,5080,21598,85.87,84.59,234,1267,1223,293,131]
[5,11,347,-1,426,96,113.16,743,2818,125.45,132.38999999999999,18,198,122,38,50]
[5,11,348,-1,1394,440,134.1,1242,4354,149.77000000000001,163.57,77,1072,192,46,7]
[5,11,349,-1,3317,1704,151.68,2627,9725,181.89,188.76,246,1836,877,332,26]
[5,11,350,-1,567,105,91.48,1174,4084,111.72,122.72,80,295,140,47,5]
[5,11,351,-1,1725,550,133.38999999999999,2479,10456,122.2,116.08,70,1025,505,106,19]
[5,11,354,-1,406,233,184.37,410,1699,183.6,177.37,34,214,132,23,3]
[5,11,355,-1,469,174,179.98,797,3183,131.30000000000001,139.11000000000001,37,282,112,38]
[5,11,358,-1,189,66,156.21,518,1949,143.91999999999999,145.88999999999999,24,104,35,25,1]
[5,11,362,-1,2049,422,97.96,3020,12393,105.8,105.57,256,967,605,205,16]
[5,11,372,-1,4,null,2,null,null,null,null,4]
[5,11,373,-1,180,68,145.03,341,1203,157.63,169.66,14,93,59,11,3]
[5,11,377,-1,2208,523,102.87,3851,16816,106.8,101.3,150,1218,695,118,27]
[5,11,402,-1,699,433,214.37,624,2440,192.39,182.26,34,408,210,42,5]
[5,11,405,-1,105,36,171.53,147,517,150.5,164.13,12,57,33,3]
[5,11,436,-1,417,153,145.91,484,1966,166.54,170.92,35,256,120,6]
[5,11,437,-1,238,57,105.35,424,1719,122.03,132.41,29,75,100,17,17]
[5,11,438,-1,437,81,90.17,923,3561,78.010000000000005,83.73,16,178,154,47,42]
[5,11,442,-1,140,47,151.43,160,602,96.28,130.66999999999999,16,78,30,14,2]
[5,11,452,-1,295,77,113.5,514,1998,149.41,161.07,36,167,42,48,2]
[5,11,459,-1,253,73,123.41,481,1991,132.94999999999999,144.74,46,108,66,29,4]
[5,11,460,-1,92,40,200.43,168,607,160.63,166.66,8,42,38,4]
[5,11,463,-1,126,47,140.46,158,480,166.01,161.19,25,57,33,11]
[5,11,499,-1,525752,218029,150.43,77,420,141.13999999999999,228.69,301,334990,190406,53,2]
[5,11,100,-1,603944,250188,152.83000000000001,80416,317009,126.2,128.41,9893,379584,208904,4500,1063]
[5,12,-1,-1,642,126,92.33,586,3101,40.75,28.72,497,132,11,2]
[5,12,310,-1,66,1,22.94,16,160,20.309999999999999,22.51,56,2,5,3]
[5,12,330,-1,624,72,71.42,837,3848,52.72,40.78,39,429,15,78,63]
[5,12,335,-1,678,74,69.59,837,3204,61.02,50.82,121,374,50,109,24]
[5,12,499,-1,14607,2892,94.4,4,14,364.75,217.21,1928,11144,1515,19,1]
[5,12,100,-1,16617,3165,92.16,2280,10327,53.01,40.229999999999997,2641,12081,1596,211,88]
[5,13,-1,-1,7,3,152.86000000000001,4,18,46.5,49.5,1,null,2,3,1]
[5,13,301,-1,5,2,175.4,11,81,141.27000000000001,108.81,null,2,2,1]
[5,13,304,-1,7,3,137.29,21,92,85.33,97.32,null,3,4]
[5,13,306,-1,17,7,154.94,24,132,104.04,84.19,null,10,5,2]
[5,13,307,-1,22,8,162.05000000000001,16,83,103.19,95.01,null,8,13,1]
[5,13,308,-1,21,8,126.86,22,106,92.23,102.68,null,10,9,2]
[5,13,309,-1,4,3,369,13,88,93.08,97.63,null,3,null,1]
[5,13,310,-1,31,3,73.84,10,113,70.5,98.01,null,14,16,1]
[5,13,311,-1,65,12,116.91,57,212,120.04,124.76,null,42,18,3,2]
[5,13,313,-1,27,2,59.74,35,173,118.71,104.28,null,13,11,2,1]
[5,13,314,-1,64,5,58.27,115,344,68.489999999999995,70.040000000000006,null,34,22,4,4]
[5,13,315,-1,9,2,77.11,23,113,81.96,94.95,null,5,3,null,1]
[5,13,316,-1,134,17,81,159,710,65.06,68.87,null,68,54,11,1]
[5,13,317,-1,38,5,69.5,42,95,36.07,46.48,null,18,17,2,1]
[5,13,318,-1,71,10,62.3,249,943,49.95,58.78,null,18,44,7,2]
[5,13,319,-1,70,12,78.209999999999994,151,649,43.23,48.83,null,29,38,2,1]
[5,13,320,-1,55,10,74.87,137,515,31.43,40.119999999999997,null,23,25,1,6]
[5,13,321,-1,9,null,75.56,21,98,98.57,101.76,null,4,5]
[5,13,322,-1,20,6,113.25,19,93,115.47,157.11000000000001,null,4,13,3]
[5,13,323,-1,10,3,85,23,92,72,108.23,1,3,5,1]
[5,13,325,-1,18,3,102.72,28,106,100.89,97.28,null,8,7,2,1]
[5,13,326,-1,36,7,102.86,32,111,98.84,111.77,null,9,26,1]
[5,13,327,-1,12,3,117.25,22,111,90.82,97.15,null,9,3]
[5,13,328,-1,19,5,116.95,19,105,97.95,112,null,4,12,2,1]
[5,13,329,-1,1,1,201,12,77,108.75,89.12,null,1]
[5,13,330,-1,7,1,75.709999999999994,16,86,81.69,117.1,null,3,4]
[5,13,331,-1,53,15,96.75,40,144,90.9,112.33,null,18,32,3]
[5,13,333,-1,8,1,67.25,17,92,64.47,81.92,null,1,5,2]
[5,13,334,-1,16,4,128.19,21,145,90.57,87.02,null,6,7,2,1]
[5,13,335,-1,10,4,168.6,16,76,59.94,75.3,null,2,7,1]
[5,13,339,-1,18,5,109.94,30,134,126.6,106.38,null,8,9,null,1]
[5,13,340,-1,11,1,61.64,18,97,172.78,114.84,null,3,6,2]
[5,13,341,-1,11,2,77.180000000000007,17,21,47.47,64.86,null,10,null,1]
[5,13,343,-1,8,5,182.5,3,10,108,84.4,null,8]
[5,13,344,-1,37,14,137.49,40,210,102.08,86.55,null,11,21,5]
[5,13,345,-1,26,4,56.12,80,291,36.43,31.72,null,9,13,4]
[5,13,346,-1,24,8,120.42,37,185,87.32,95.82,1,12,7,3,1]
[5,13,347,-1,5,1,77.599999999999994,27,102,108.48,119.97,null,1,3,1]
[5,13,348,-1,26,7,124.42,25,131,118.64,101.49,null,11,12,2,1]
[5,13,349,-1,60,9,73.180000000000007,218,799,45.56,54.86,null,19,17,18,6]
[5,13,350,-1,20,4,83.2,20,68,117,98.07,null,7,12,1]
[5,13,351,-1,80,10,56.83,138,533,56,47.87,null,18,52,6,4]
[5,13,354,-1,6,2,160.66999999999999,18,81,103.06,86.49,null,3,1,1,1]
[5,13,355,-1,6,2,93.5,15,56,144.33000000000001,118.23,null,3,3]
[5,13,358,-1,11,1,84,7,55,64.569999999999993,121.58,null,10,1]
[5,13,362,-1,94,13,64.03,137,582,44.91,47.89,null,21,69,4]
[5,13,373,-1,6,2,83.5,18,87,100.33,94.41,null,null,6]
[5,13,377,-1,57,11,86.6,195,745,47.05,54.46,null,19,29,8,1]
[5,13,402,-1,7,2,167,23,84,173.52,117.27,null,3,4]
[5,13,405,-1,8,3,136.88,18,78,109.78,108.05,null,3,5]
[5,13,436,-1,10,2,100.4,17,91,90.29,103.02,null,1,9]
[5,13,437,-1,7,2,130.29,21,88,119.62,102.47,null,1,5,null,1]
[5,13,438,-1,8,null,48.13,6,43,60.5,94.12,null,4,2,1,1]
[5,13,442,-1,4,2,158.5,8,48,118.75,113.42,null,2,1,1]
[5,13,452,-1,6,2,235.67,16,94,110.88,151.47999999999999,null,4,1,1]
[5,13,459,-1,8,3,114.5,19,126,64,70.48,null,2,6]
[5,13,460,-1,5,1,91.2,11,50,101.82,91.44,null,null,4,1]
[5,13,463,-1,4,1,85.25,19,84,74.53,89.49,null,2,2]
[5,13,499,-1,4476,1273,118.78,null,null,null,null,null,4250,223,3]
[5,13,100,-1,5915,1557,111.97,2576,10776,68.36,74.239999999999995,3,4817,932,123,40]
[5,14,-1,-1,null,null,null,null,2,null,152]
[5,14,499,-1,3,3,862,null,null,null,null,null,1,2]
[5,14,100,-1,3,3,862,null,2,null,152,null,1,2]
[5,0,35,-1,559883,232768,153.35,1574,7233,141.41,125.48,6085,361368,192264,154,12]
[5,0,384,-1,14312,4646,122.91,18031,71522,124.57,125.15,1435,7318,3996,1336,227]
[5,0,393,-1,20756,7190,136.86000000000001,27294,106368,120.5,124.18,2031,10803,6434,1141,347]
[5,0,394,-1,17180,5429,130.91999999999999,20338,80614,121.76,123.51,1816,9490,4328,1210,336]
[5,0,395,-1,14348,4880,124.77,18035,72377,122.63,122.97,1170,7504,4412,993,269]
[5,11,35,-1,540550,228488,155.19,995,4159,201.52,200.04,4032,345858,190521,129,10]
[5,11,384,-1,13234,4515,127.33,16546,65583,130.31,131.22999999999999,1244,6852,3759,1190,189]
[5,11,393,-1,20085,7101,139.22999999999999,26289,102440,122.83,126.32,1887,10572,6187,1108,331]
[5,11,394,-1,16020,5266,134.91999999999999,19059,74594,125.21,128.5,1616,8899,4130,1107,268]
[5,11,395,-1,14055,4818,125.57,17527,70233,124.18,124.51,1114,7403,4307,966,265]
[5,13,35,-1,4483,1276,118.83,4,18,46.5,49.5,1,4250,225,6,1]
[5,13,384,-1,321,54,79.62,645,2725,60,65.86,null,87,184,36,14]
[5,13,393,-1,518,79,75.989999999999995,996,3887,57.54,65.48,1,225,244,32,16]
[5,13,394,-1,359,88,112.9,426,2008,106.63,104.81,null,154,178,22,5]
[5,13,395,-1,234,60,103.11,505,2138,68.27,72.34,1,101,101,27,4]
[6,0,100,-1,626479,254913,150.83000000000001,85272,338114,122.5,123.99]
[6,11,100,-1,603880,250311,152.99,79561,313847,126.83,129.18]
[6,11,"AK",-1,1872,753,154.56,216,933,135.63999999999999,131.94999999999999]
[6,11,"AL",-1,14984,5887,148.97999999999999,1998,7872,129.74,134.80000000000001]
[6,11,"AR",-1,6795,3081,164.28,887,3493,134.41999999999999,136.06]
[6,11,"AZ",-1,13703,5996,157.07,1916,7274,122.89,127.75]
[6,11,"CA",-1,48655,19099,152.83000000000001,6350,25071,120.15,121.76]
[6,11,"CO",-1,11642,4327,138.96,1635,6565,113.11,117.04]
[6,11,"CT",-1,3467,1627,174.37,478,1744,131.94999999999999,134.82]
[6,11,"DC",-1,683,284,153.66999999999999,105,389,117.44,132.33000000000001]
[6,11,"DE",-1,1717,681,149.86000000000001,224,894,125.32,126.29]
[6,11,"FL",-1,54920,22725,148.33000000000001,7117,27289,124.35,127.49]
[6,11,"GA",-1,28696,10293,139.4,4158,16503,125.3,124.64]
[6,11,"HI",-1,3619,1532,160,450,1811,123.82,129.05000000000001]
[6,11,"IA",-1,5293,2533,168.83,584,2342,147.77000000000001,142.61000000000001]
[6,11,"ID",-1,3749,1647,159.16,503,1883,130.15,128.80000000000001]
[6,11,"IL",-1,14432,6274,157.61000000000001,1775,6887,136.66999999999999,136.85]
[6,11,"IN",-1,10754,4871,161.94,1391,5401,136.25,137.03]
[6,11,"KS",-1,4861,2180,164.3,626,2449,135.91,137.77000000000001]
[6,11,"KY",-1,8400,3896,157.03,1047,4207,131.6,133.36000000000001]
[6,11,"LA",-1,10541,4329,154.29,1321,5329,131.59,136.27000000000001]
[6,11,"MA",-1,6202,2797,168.1,789,3188,126.18,133.97]
[6,11,"MD",-1,11155,3696,131.43,1612,6181,111.07,112.14]
[6,11,"ME",-1,2519,1296,180.02,294,1213,162.07,159.18]
[6,11,"MI",-1,12945,5879,162.15,1653,6502,132.51,138.35]
[6,11,"MN",-1,7855,3666,174.05,1151,4269,136.02000000000001,135.44999999999999]
[6,11,"MO",-1,11893,5327,165.5,1523,6004,136.74,140.76]
[6,11,"MS",-1,7574,3111,150.12,1020,3824,136.25,137.34]
[6,11,"MT",-1,2655,1266,173.73,300,1179,147.85,150.47999999999999]
[6,11,"NC",-1,26876,9872,137.4,3904,15442,113.14,114.62]
[6,11,"ND",-1,1330,629,164.07,189,744,121.44,128]
[6,11,"NE",-1,3665,1563,150.47999999999999,563,2091,132.9,128.12]
[6,11,"NH",-1,1922,900,181.13,217,976,142.62,135.76]
[6,11,"NJ",-1,7648,3351,168.86,864,3483,138.99,144.81]
[6,11,"NM",-1,4268,1930,157.38,591,2117,134.26,131.54]
[6,11,"NV",-1,8090,3282,149.57,910,3684,125.46,123.92]
[6,11,"NY",-1,15336,7099,169,1909,7399,143.44999999999999,151.77000000000001]
[6,11,"OH",-1,18155,8359,162.22999999999999,2214,9008,130.72,134.74]
[6,11,"OK",-1,10889,4467,150.34,1418,5869,121.61,123.06]
[6,11,"OR",-1,7873,4026,182.78,886,3504,136.05000000000001,146.81]
[6,11,"OT",-1,8405,5504,195.87,767,3369,180.84,172.23]
[6,11,"PA",-1,16884,7890,172.05,1866,7494,141.07,142.1]
[6,11,"PR",-1,4099,1898,177.21,659,2815,134.88999999999999,142.38999999999999]
[6,11,"RI",-1,1638,694,165.02,189,757,129.55000000000001,138.46]
[6,11,"SC",-1,15965,6320,148.93,2159,8640,126.63,130.46]
[6,11,"SD",-1,2328,1022,161.91,248,1077,145.13,143.63999999999999]
[6,11,"TN",-1,16117,6798,154.11000000000001,2068,8566,124.81,130.02000000000001]
[6,11,"TX",-1,65292,22853,136.19999999999999,9465,37165,117.05,118.86]
[6,11,"UT",-1,3463,1435,147.07,455,1805,116.21,123.78]
[6,11,"VA",-1,23066,8229,135.04,3289,12885,120.17,119]
[6,11,"VT",-1,737,387,202.97,79,365,175.1,166.7]
[6,11,"WA",-1,13669,5911,153.9,1727,6645,124.35,121.25]
[6,11,"WI",-1,8818,4059,166.61,1083,4364,139.93,146.76]
[6,11,"WV",-1,4308,2113,170.69,532,2131,135.72999999999999,148.44999999999999]
[6,11,"WY",-1,1458,667,169.69,187,756,156.29,155.84]
[6,12,100,-1,16681,3042,86.45,3135,13489,56.91,43.19]
[6,12,"AK",-1,26,6,106.92,4,19,34,75.84]
[6,12,"AL",-1,514,98,93.48,105,418,58.58,43.45]
[6,12,"AR",-1,250,38,72.040000000000006,63,224,51.27,53.13]
[6,12,"AZ",-1,460,66,85.28,87,386,38.020000000000003,41.1]
[6,12,"CA",-1,1288,250,95.49,216,969,71.33,49.23]
[6,12,"CO",-1,247,36,76.64,47,217,75.83,41.6]
[6,12,"CT",-1,138,23,70.680000000000007,29,102,56.34,40.69]
[6,12,"DC",-1,11,2,72.27,3,16,47.67,41.06]
[6,12,"DE",-1,44,12,102.73,11,48,28.45,29.52]
[6,12,"FL",-1,1422,226,76.09,259,1190,58.68,39.29]
[6,12,"GA",-1,637,117,82.65,123,560,53.84,38.49]
[6,12,"HI",-1,65,13,89,17,53,64.59,57.7]
[6,12,"IA",-1,202,32,91.09,47,143,52.26,44.64]
[6,12,"ID",-1,94,8,64.5,26,89,65.959999999999994,56.15]
[6,12,"IL",-1,486,92,87.74,66,338,77.39,52.44]
[6,12,"IN",-1,307,64,91.81,49,223,36.43,38.520000000000003]
[6,12,"KS",-1,168,28,91.93,19,115,26.47,32.9]
[6,12,"KY",-1,262,39,83.95,63,248,51.3,38.76]
[6,12,"LA",-1,333,57,83.38,48,228,62.25,49.05]
[6,12,"MA",-1,154,37,92.62,36,119,62.75,45.04]
[6,12,"MD",-1,223,50,83.29,40,177,27.75,32.159999999999997]
[6,12,"ME",-1,62,14,89.23,16,72,21.94,43.53]
[6,12,"MI",-1,516,109,104,102,418,45.75,45.29]
[6,12,"MN",-1,249,51,84.98,43,191,39.090000000000003,36.61]
[6,12,"MO",-1,386,82,95.26,83,351,43.65,41.44]
[6,12,"MS",-1,231,47,97.59,42,187,54.38,45.08]
[6,12,"MT",-1,52,11,109.29,13,51,32.770000000000003,21.49]
[6,12,"NC",-1,739,121,72.739999999999995,126,571,51.09,35.79]
[6,12,"ND",-1,30,4,75.2,5,20,9.4,14.2]
[6,12,"NE",-1,84,20,96.83,19,61,100,51.56]
[6,12,"NH",-1,55,7,71.25,14,55,165.93,65.349999999999994]
[6,12,"NJ",-1,221,40,79.349999999999994,59,239,43.12,38.82]
[6,12,"NM",-1,137,39,114.03,16,105,87.81,54.93]
[6,12,"NV",-1,235,50,99.76,28,127,38.21,41.7]
[6,12,"NY",-1,468,77,74.84,104,398,50.38,42.76]
[6,12,"OH",-1,584,118,87.83,109,463,50.6,47.55]
[6,12,"OK",-1,336,64,99.4,71,300,42.46,39.1]
[6,12,"OR",-1,236,48,92.71,43,183,24.79,42.17]
[6,12,"OT",-1,154,54,146.68,21,80,64,37.5]
[6,12,"PA",-1,545,88,76.69,102,425,47.82,39.700000000000003]
[6,12,"PR",-1,203,44,87.09,43,119,79.91,57.5]
[6,12,"RI",-1,47,11,93.23,11,40,72.73,40.78]
[6,12,"SC",-1,441,68,74.91,84,364,49.1,35.590000000000003]
[6,12,"SD",-1,34,6,76.44,6,40,43.5,24.55]
[6,12,"TN",-1,493,76,82.8,91,388,66.77,48.23]
[6,12,"TX",-1,1584,270,86.61,270,1276,75.02,49.43]
[6,12,"UT",-1,106,21,87.89,16,93,60.88,32.61]
[6,12,"VA",-1,433,77,83.5,100,366,54.24,39.22]
[6,12,"VT",-1,13,4,111.69,3,18,18.329999999999998,66.5]
[6,12,"WA",-1,314,62,95.59,61,276,77.67,41.82]
[6,12,"WI",-1,215,38,85.31,46,208,70.069999999999993,47.43]
[6,12,"WV",-1,123,22,66.62,24,100,48.08,36.76]
[6,12,"WY",-1,24,5,79.25,6,22,20,16.68]
[6,13,100,-1,5915,1557,111.97,2576,10776,68.36,74.239999999999995]
[6,13,"AK",-1,59,20,102.71,11,69,49.73,83.03]
[6,13,"AL",-1,120,34,125.88,49,231,101.27,72.86]
[6,13,"AR",-1,49,11,123.69,21,67,90.1,82.9]
[6,13,"AZ",-1,114,31,110.85,54,225,67.650000000000006,65.83]
[6,13,"CA",-1,531,117,98.31,225,931,57.28,69.599999999999994]
[6,13,"CO",-1,146,29,99.74,66,288,63,56.24]
[6,13,"CT",-1,36,17,155.41999999999999,4,35,69,82.14]
[6,13,"DC",-1,6,null,32.67,12,28,66.33,53.39]
[6,13,"DE",-1,20,5,105.45,7,29,74.86,105.59]
[6,13,"FL",-1,574,146,106.79,267,1119,63.42,74.72]
[6,13,"GA",-1,225,61,136.21,124,439,72.52,78.959999999999994]
[6,13,"HI",-1,75,19,95.99,33,152,53.79,54.85]
[6,13,"IA",-1,26,10,140.38,13,44,46.62,58.16]
[6,13,"ID",-1,40,8,116.53,18,94,62.61,74.61]
[6,13,"IL",-1,93,32,121.16,39,186,79.260000000000005,77.36]
[6,13,"IN",-1,57,18,112.81,24,111,94.5,92.78]
[6,13,"KS",-1,62,19,119.95,27,100,48.11,61.79]
[6,13,"KY",-1,69,14,93.45,22,97,100.09,63.97]
[6,13,"LA",-1,77,16,88.4,28,122,76.290000000000006,96.12]
[6,13,"MA",-1,42,19,158.38,15,67,103.47,91.24]
[6,13,"MD",-1,232,47,102.6,102,403,80.64,78.14]
[6,13,"ME",-1,21,12,215.86,8,25,145,140.80000000000001]
[6,13,"MI",-1,71,21,124.31,25,100,43.76,84.52]
[6,13,"MN",-1,32,13,140.75,15,61,131.66999999999999,82.89]
[6,13,"MO",-1,93,23,119.09,34,164,72.650000000000006,73.040000000000006]
[6,13,"MS",-1,59,17,128.16999999999999,18,76,113.72,113.07]
[6,13,"MT",-1,24,10,127.58,7,41,64.14,126.37]
[6,13,"NC",-1,295,62,87.45,167,669,60.44,62.43]
[6,13,"ND",-1,12,4,176.75,3,19,123,68.11]
[6,13,"NE",-1,36,9,96.14,15,66,32.33,92.94]
[6,13,"NH",-1,21,8,181.62,7,34,94.71,94.91]
[6,13,"NJ",-1,52,27,185.54,23,92,82.61,88.2]
[6,13,"NM",-1,51,19,145.06,18,67,82.5,76.36]
[6,13,"NV",-1,60,8,91.2,27,132,70.37,70.12]
[6,13,"NY",-1,113,39,120.98,34,161,70.209999999999994,91.75]
[6,13,"OH",-1,102,26,118.18,53,194,76.13,83.86]
[6,13,"OK",-1,69,16,97,38,143,32.840000000000003,48.5]
[6,13,"OR",-1,43,12,132.69999999999999,15,51,57.27,74.430000000000007]
[6,13,"OT",-1,219,67,147.43,47,158,106.3,114.83]
[6,13,"PA",-1,85,33,165.42,23,140,91,88.95]
[6,13,"PR",-1,26,9,105.58,4,18,233.75,132.88999999999999]
[6,13,"RI",-1,10,4,164.7,4,12,54,35]
[6,13,"SC",-1,152,44,122.01,49,276,48.8,67.540000000000006]
[6,13,"SD",-1,20,6,98.6,4,36,87.25,107.28]
[6,13,"TN",-1,121,37,107.26,55,265,60.71,72.459999999999994]
[6,13,"TX",-1,693,169,98.91,320,1317,60.32,71.84]
[6,13,"UT",-1,38,12,148.47,25,87,45.48,73.03]
[6,13,"VA",-1,488,113,105.67,251,1012,70.569999999999993,68.09]
[6,13,"VT",-1,2,1,161,4,8,114.25,206.63]
[6,13,"WA",-1,173,32,87.39,99,388,64.959999999999994,66.94]
[6,13,"WI",-1,53,24,153.49,10,74,98.9,123.99]
[6,13,"WV",-1,10,5,148.80000000000001,7,29,122.14,114.31]
[6,13,"WY",-1,18,2,56.56,6,24,63.67,64.13]
[6,14,100,-1,3,3,862,null,2,null,152]
[6,14,"CO",-1,1,1,2207]
[6,14,"GA",-1,null,null,null,null,1,null,287]
[6,14,"IL",-1,null,null,null,null,1,null,17]
[6,14,"NC",-1]
[6,14,"SC",-1,1,1,164]
[6,14,"TX",-1,1,1,215]
[6,0,"AK",-1,1957,779,152.36000000000001,231,1021,129.79,127.6]
[6,0,"AL",-1,15618,6019,146.97999999999999,2152,8521,125.62,128.63999999999999]
[6,0,"AR",-1,7094,3130,160.75,971,3784,128.07,130.21]
[6,0,"AZ",-1,14277,6093,154.38999999999999,2057,7885,117.85,121.74]
[6,0,"CA",-1,50474,19466,150.79,6791,26971,116.52,117.36]
[6,0,"CO",-1,12036,4393,137.38,1748,7070,110.21,112.24]
[6,0,"CT",-1,3641,1667,170.25,511,1881,127.17,128.74]
[6,0,"DC",-1,700,286,151.35,120,433,110.58,123.85]
[6,0,"DE",-1,1781,698,148.19999999999999,242,971,119.45,120.88]
[6,0,"FL",-1,56916,23097,146.11000000000001,7643,29598,120,121.95]
[6,0,"GA",-1,29558,10471,138.16,4405,17503,121.82,120.74]
[6,0,"HI",-1,3759,1564,157.5,500,2016,117.18,121.58]
[6,0,"IA",-1,5521,2575,165.85,644,2529,138.75,135.6]
[6,0,"ID",-1,3883,1663,156.43,547,2066,124.87,123.2]
[6,0,"IL",-1,15011,6398,155.12,1880,7412,133.4,131.49]
[6,0,"IN",-1,11118,4953,159.75,1464,5735,132.22999999999999,132.34]
[6,0,"KS",-1,5091,2227,161.37,672,2664,129.29,130.38999999999999]
[6,0,"KY",-1,8731,3949,154.34,1132,4552,126.52,126.73]
[6,0,"LA",-1,10951,4402,151.66999999999999,1397,5679,128.1,131.9]
[6,0,"MA",-1,6398,2853,166.22,840,3374,123.06,129.97999999999999]
[6,0,"MD",-1,11610,3793,129.93,1754,6761,107.4,108.02]
[6,0,"ME",-1,2602,1322,178.14,318,1310,154.59,152.47]
[6,0,"MI",-1,13532,6009,159.74,1780,7020,126.29,132.04]
[6,0,"MN",-1,8136,3730,171.19,1209,4521,132.51,130.57]
[6,0,"MO",-1,12372,5432,162.96,1640,6519,130.69999999999999,133.71]
[6,0,"MS",-1,7864,3175,148.41,1080,4087,132.69999999999999,132.66999999999999]
[6,0,"MT",-1,2731,1287,172.09,320,1271,141.34,144.52000000000001]
[6,0,"NC",-1,27910,10055,135.16,4197,16682,109.18,109.83]
[6,0,"ND",-1,1372,637,162.24,197,783,118.62,123.64]
[6,0,"NE",-1,3785,1592,148.77000000000001,597,2218,129.32,124.97]
[6,0,"NH",-1,1998,915,178.11,238,1065,142.58000000000001,130.82]
[6,0,"NJ",-1,7921,3418,166.47,946,3814,131.63999999999999,136.80000000000001]
[6,0,"NM",-1,4456,1988,155.9,625,2289,131.58000000000001,126.41]
[6,0,"NV",-1,8385,3340,147.76,965,3943,121.39,119.47]
[6,0,"NY",-1,15917,7215,165.89,2047,7958,137.51,145.1]
[6,0,"OH",-1,18841,8503,159.68,2376,9665,125.83,129.54]
[6,0,"OK",-1,11294,4547,148.5,1527,6312,115.72,117.38]
[6,0,"OR",-1,8152,4086,179.91,944,3738,129.72999999999999,140.69999999999999]
[6,0,"OT",-1,8778,5625,193.8,835,3607,173.71,166.73]
[6,0,"PA",-1,17514,8011,169.05,1991,8059,135.72,135.77000000000001]
[6,0,"PR",-1,4328,1951,172.56,706,2952,132.1,138.91]
[6,0,"RI",-1,1695,709,163.03,204,809,125,132.09]
[6,0,"SC",-1,16559,6433,146.71,2292,9280,122.13,124.87]
[6,0,"SD",-1,2382,1034,160.16,258,1153,141.87,138.37]
[6,0,"TN",-1,16731,6911,151.66999999999999,2214,9219,120.83,124.92]
[6,0,"TX",-1,67570,23293,134.66,10055,39758,114.12,115.07]
[6,0,"UT",-1,3607,1468,145.35,496,1985,110.86,117.29]
[6,0,"VA",-1,23987,8419,133.51,3640,14263,114.94,113.34]
[6,0,"VT",-1,752,392,201.28,86,391,166.8,162.9]
[6,0,"WA",-1,14156,6005,151.79,1887,7309,119.73,115.37]
[6,0,"WI",-1,9086,4121,164.61,1139,4646,136.75,141.94999999999999]
[6,0,"WV",-1,4441,2140,167.76,563,2260,131.83000000000001,143.07]
[6,0,"WY",-1,1500,674,166.89,199,802,149.38999999999999,149.28]
[6,0,35,-1,8778,5625,193.8,835,3607,173.71,166.73]
[6,0,384,-1,121418,45989,143.69,17426,69081,118.52,119.09]
[6,0,393,-1,230688,90152,144.97999999999999,32392,128380,120.57,122.08]
[6,0,394,-1,152489,66695,160.77000000000001,19576,77823,129.56,132.43]
[6,0,395,-1,113106,46452,153.72,15043,59223,119.21,120.18]
[6,11,35,-1,8405,5504,195.87,767,3369,180.84,172.23]
[6,11,384,-1,117268,45173,145.5,16366,64506,122.24,123.57]
[6,11,393,-1,222341,88552,147.11000000000001,30159,118996,124.83,127.28]
[6,11,394,-1,146905,65471,163.25,18265,72249,134.5,138.19999999999999]
[6,11,395,-1,108961,45611,155.9,14004,54727,123.58,125.35]
[6,12,35,-1,154,54,146.68,21,80,64,37.5]
[6,12,384,-1,3010,527,88.07,546,2436,62.69,43.87]
[6,12,393,-1,6081,1030,80.39,1171,4963,56.67,41.22]
[6,12,394,-1,4475,868,86.8,883,3710,51.61,43.58]
[6,12,395,-1,2961,563,93.59,514,2300,60.15,46.27]
[6,13,35,-1,219,67,147.43,47,158,106.3,114.83]
[6,13,384,-1,1138,287,102.83,514,2139,59.57,69.91]
[6,13,393,-1,2265,569,109.07,1062,4420,70.14,72.72]
[6,13,394,-1,1109,356,129.69999999999999,428,1863,79.900000000000006,85.75]
[6,13,395,-1,1184,278,103.12,525,2196,60.57,68.84]
[6,14,384,-1,2,2,1211]
[6,14,393,-1,1,1,164,null,1,null,287]
[6,14,394,-1,null,null,null,null,1,null,17]
[5,0,"AK-1",499,249,95,143.33000000000001,null,null,null,null,11,145,69,17,7]
[5,11,"AK-1",499,237,93,145.52000000000001,null,null,null,null,11,141,64,16,5]
[5,13,"AK-1",499,12,2,100,null,null,null,null,null,4,5,1,2]
[5,0,"AK463",499,24,5,42.79,null,null,null,null,18,1,3,2]
[5,11,"AK463",499,23,4,38.57,null,null,null,null,18,1,2,2]
[5,13,"AK463",499,1,1,140,null,null,null,null,null,null,1]
[5,0,"AK499",499,1684,679,155.26,null,null,null,null,null,1316,368]
[5,11,"AK499",499,1617,659,157.26,null,null,null,null,null,1255,362]
[5,12,"AK499",499,21,3,116.67,null,null,null,null,null,17,4]
[5,13,"AK499",499,46,17,102.61,null,null,null,null,null,44,2]
[5,0,"AL-1",499,1872,702,155.07,null,null,null,null,192,1025,498,126,31]
[5,11,"AL-1",499,1787,691,158.96,null,null,null,null,181,985,482,114,25]
[5,12,"AL-1",499,55,7,72.56,null,null,null,null,11,31,1,7,5]
[5,13,"AL-1",499,30,4,74.67,null,null,null,null,null,9,15,5,1]
[5,0,"AL322",499,196,26,72.84,null,null,null,null,92,63,28,10,3]
[5,11,"AL322",499,177,25,78.09,null,null,null,null,79,62,24,9,3]
[5,12,"AL322",499,13,null,3.31,null,null,null,null,13]
[5,13,"AL322",499,6,1,68.67,null,null,null,null,null,1,4,1]
[5,0,"AL499",499,13550,5291,146.93,null,null,null,null,71,8818,4659,2]
[5,11,"AL499",499,13020,5165,148.47999999999999,null,null,null,null,4,8399,4617]
[5,12,"AL499",499,446,97,101.64,null,null,null,null,67,339,39,1]
[5,13,"AL499",499,84,29,148.25,null,null,null,null,null,80,3,1]
[5,0,"AR-1",499,855,439,216.75,null,null,null,null,77,512,191,67,8]
[5,11,"AR-1",499,827,432,221.05,null,null,null,null,71,500,188,62,6]
[5,12,"AR-1",499,23,5,76.78,null,null,null,null,6,9,2,4,2]
[5,13,"AR-1",499,5,2,147.80000000000001,null,null,null,null,null,3,1,1]
[5,0,"AR350",499,119,15,55.26,null,null,null,null,59,44,11,4,1]
[5,11,"AR350",499,110,15,58.72,null,null,null,null,52,43,10,4,1]
[5,12,"AR350",499,7,null,2.86,null,null,null,null,7]
[5,13,"AR350",499,2,null,48.5,null,null,null,null,null,1,1]
[5,0,"AR499",499,6120,2676,154.97999999999999,null,null,null,null,32,3962,2124,2]
[5,11,"AR499",499,5869,2636,157.94,null,null,null,null,4,3765,2098,2]
[5,12,"AR499",499,209,31,77.959999999999994,null,null,null,null,28,160,21]
[5,13,"AR499",499,42,9,124.4,null,null,null,null,null,37,5]
[5,0,"AZ-1",499,1637,725,184.76,null,null,null,null,127,960,424,107,19]
[5,11,"AZ-1",499,1563,715,189.26,null,null,null,null,121,923,402,98,19]
[5,12,"AZ-1",499,46,6,87.35,null,null,null,null,6,30,2,8]
[5,13,"AZ-1",499,28,4,93.46,null,null,null,null,null,7,20,1]
[5,0,"AZ345",499,310,57,73.7,null,null,null,null,82,133,54,29,12]
[5,11,"AZ345",499,298,55,74.69,null,null,null,null,76,131,51,28,12]
[5,12,"AZ345",499,6,null,3.33,null,null,null,null,6]
[5,13,"AZ345",499,6,2,94.67,null,null,null,null,null,2,3,1]
[5,0,"AZ499",499,12330,5311,152.38,null,null,null,null,67,7821,4434,8]
[5,11,"AZ499",499,11844,5229,154.91,null,null,null,null,4,7438,4397,5]
[5,12,"AZ499",499,406,57,85.37,null,null,null,null,63,308,33,2]
[5,13,"AZ499",499,80,25,118.15,null,null,null,null,null,75,4,1]
[5,0,"CA-1",499,5483,2526,199.71,null,null,null,null,449,3383,1264,306,81]
[5,11,"CA-1",499,5249,2487,204.4,null,null,null,null,422,3266,1203,287,71]
[5,12,"CA-1",499,137,22,103.43,null,null,null,null,27,83,6,15,6]
[5,13,"CA-1",499,97,17,81.739999999999995,null,null,null,null,null,34,55,4,4]
[5,0,"CA343",499,292,64,71.41,null,null,null,null,129,100,59,2,2]
[5,11,"CA343",499,280,63,73.739999999999995,null,null,null,null,119,98,59,2,2]
[5,12,"CA343",499,10,null,2.8,null,null,null,null,10]
[5,13,"CA343",499,2,1,88,null,null,null,null,null,2]
[5,0,"CA344",499,453,94,81.48,null,null,null,null,122,222,83,19,7]
[5,11,"CA344",499,434,92,82.73,null,null,null,null,110,218,82,17,7]
[5,12,"CA344",499,12,1,50.58,null,null,null,null,12]
[5,13,"CA344",499,7,1,57.29,null,null,null,null,null,4,1,2]
[5,0,"CA377",499,522,79,71.81,null,null,null,null,87,249,152,29,5]
[5,11,"CA377",499,501,77,72.72,null,null,null,null,83,248,139,26,5]
[5,12,"CA377",499,5,null,20.2,null,null,null,null,4,null,1]
[5,13,"CA377",499,16,2,59.31,null,null,null,null,null,1,12,3]
[5,0,"CA499",499,43724,16703,146.85,null,null,null,null,196,29212,14309,7]
[5,11,"CA499",499,42211,16386,148.55000000000001,null,null,null,null,32,27954,14219,6]
[5,12,"CA499",499,1104,221,97.55,null,null,null,null,164,863,76,1]
[5,13,"CA499",499,409,96,104.52,null,null,null,null,null,395,14]
[5,0,"CO-1",499,1286,505,158.22,null,null,null,null,134,727,314,86,25]
[5,11,"CO-1",499,1225,499,163.16,null,null,null,null,125,702,296,79,23]
[5,12,"CO-1",499,26,2,56.35,null,null,null,null,8,13,2,2,1]
[5,13,"CO-1",499,35,4,60.77,null,null,null,null,1,12,16,5,1]
[5,0,"CO339",499,262,35,64.98,null,null,null,null,72,112,52,21,5]
[5,11,"CO339",499,250,35,66.52,null,null,null,null,68,109,48,21,4]
[5,12,"CO339",499,4,null,2.5,null,null,null,null,4]
[5,13,"CO339",499,8,null,48.25,null,null,null,null,null,3,4,null,1]
[5,0,"CO499",499,10488,3853,136.63999999999999,null,null,null,null,48,6482,3957,1]
[5,11,"CO499",499,10163,3788,137.68,null,null,null,null,6,6230,3927]
[5,12,"CO499",499,221,39,88.33,null,null,null,null,42,153,25,1]
[5,13,"CO499",499,103,25,116.98,null,null,null,null,null,98,5]
[5,14,"CO499",499,1,1,2207,null,null,null,null,null,1]
[5,0,"CT-1",499,426,213,203.5,null,null,null,null,33,287,82,18,6]
[5,11,"CT-1",499,408,209,206.93,null,null,null,null,32,272,82,18,4]
[5,12,"CT-1",499,15,3,113.53,null,null,null,null,1,12,null,null,2]
[5,13,"CT-1",499,3,1,186.33,null,null,null,null,null,3]
[5,0,"CT308",499,54,15,84.78,null,null,null,null,23,24,4,3]
[5,11,"CT308",499,46,15,98.91,null,null,null,null,15,24,4,3]
[5,12,"CT308",499,8,null,3.5,null,null,null,null,8]
[5,0,"CT499",499,3161,1439,167.23,null,null,null,null,23,2187,951]
[5,11,"CT499",499,3013,1399,170.34,null,null,null,null,1,2072,940]
[5,12,"CT499",499,115,24,90.02,null,null,null,null,22,85,8]
[5,13,"CT499",499,33,16,152.61000000000001,null,null,null,null,null,30,3]
[5,0,"DC-1",499,95,28,148.81,null,null,null,null,14,50,22,8,1]
[5,11,"DC-1",499,91,28,154.32,null,null,null,null,14,46,22,8,1]
[5,13,"DC-1",499,4,null,23.5,null,null,null,null,null,4]
[5,0,"DC499",499,605,258,151.75,null,null,null,null,2,391,212]
[5,11,"DC499",499,593,256,153.27000000000001,null,null,null,null,null,382,211]
[5,12,"DC499",499,10,2,81.900000000000006,null,null,null,null,2,7,1]
[5,13,"DC499",499,2,null,51,null,null,null,null,null,2]
[5,0,"DE-1",499,228,95,175.1,null,null,null,null,17,142,53,13,3]
[5,11,"DE-1",499,222,93,177.41,null,null,null,null,17,136,53,13,3]
[5,12,"DE-1",499,1,null,51,null,null,null,null,null,1]
[5,13,"DE-1",499,5,2,97.2,null,null,null,null,null,5]
[5,0,"DE460",499,11,2,94.82,null,null,null,null,4,3,4]
[5,11,"DE460",499,11,2,94.82,null,null,null,null,4,3,4]
[5,0,"DE499",499,1542,601,144.6,null,null,null,null,6,996,540]
[5,11,"DE499",499,1486,586,146.01,null,null,null,null,2,950,534]
[5,12,"DE499",499,41,12,106.83,null,null,null,null,4,32,5]
[5,13,"DE499",499,15,3,108.2,null,null,null,null,null,14,1]
[5,0,"FL-1",499,6122,2525,167.02,null,null,null,null,606,3601,1423,400,92]
[5,11,"FL-1",499,5857,2471,170.13,null,null,null,null,575,3474,1359,367,82]
[5,12,"FL-1",499,143,26,98.42,null,null,null,null,31,80,4,19,9]
[5,13,"FL-1",499,122,28,97.79,null,null,null,null,null,47,60,14,1]
[5,0,"FL317",499,1139,301,100.5,null,null,null,null,323,479,296,31,10]
[5,11,"FL317",499,1097,300,103.47,null,null,null,null,291,474,291,31,10]
[5,12,"FL317",499,32,null,2.97,null,null,null,null,32]
[5,13,"FL317",499,10,1,86.6,null,null,null,null,null,5,5]
[5,0,"FL499",499,49655,20271,144.58000000000001,null,null,null,null,184,30607,18855,9]
[5,11,"FL499",499,47984,19935,146.41,null,null,null,null,21,29241,18716,6]
[5,12,"FL499",499,1229,219,85.57,null,null,null,null,163,951,112,3]
[5,13,"FL499",499,442,117,109.73,null,null,null,null,null,415,27]
[5,0,"GA-1",499,2927,1107,165.43,null,null,null,null,290,1607,818,167,45]
[5,11,"GA-1",499,2838,1088,167.31,null,null,null,null,284,1562,795,156,41]
[5,12,"GA-1",499,51,8,87.41,null,null,null,null,6,30,4,7,4]
[5,13,"GA-1",499,38,11,129.26,null,null,null,null,null,15,19,4]
[5,0,"GA316",499,793,178,86.35,null,null,null,null,176,362,194,49,12]
[5,11,"GA316",499,756,177,88.91,null,null,null,null,163,349,185,47,12]
[5,12,"GA316",499,13,null,2.54,null,null,null,null,13]
[5,13,"GA316",499,24,1,51.17,null,null,null,null,null,13,9,2]
[5,0,"GA499",499,25838,9186,136.66,null,null,null,null,92,16861,8877,8]
[5,11,"GA499",499,25092,9012,137.32,null,null,null,null,7,16280,8799,6]
[5,12,"GA499",499,583,125,104.54,null,null,null,null,85,431,65,2]
[5,13,"GA499",499,163,49,150.36000000000001,null,null,null,null,null,150,13]
[5,0,"HI-1",499,443,178,170.13,null,null,null,null,30,269,110,29,5]
[5,11,"HI-1",499,420,174,174.29,null,null,null,null,30,259,98,29,4]
[5,12,"HI-1",499,4,1,98,null,null,null,null,null,4]
[5,13,"HI-1",499,19,3,93.37,null,null,null,null,null,6,12,null,1]
[5,0,"HI459",499,34,5,65.97,null,null,null,null,20,9,3,2]
[5,11,"HI459",499,34,5,65.97,null,null,null,null,20,9,3,2]
[5,0,"HI499",499,3282,1381,156.74,null,null,null,null,10,2400,872]
[5,11,"HI499",499,3169,1353,158.80000000000001,null,null,null,null,2,2306,861]
[5,12,"HI499",499,57,12,101.25,null,null,null,null,8,43,6]
[5,13,"HI499",499,56,16,96.88,null,null,null,null,null,51,5]
[5,0,"IA-1",499,635,303,198.53,null,null,null,null,77,375,143,30,10]
[5,11,"IA-1",499,595,297,206.76,null,null,null,null,67,354,137,28,9]
[5,12,"IA-1",499,35,4,63.17,null,null,null,null,10,18,4,2,1]
[5,13,"IA-1",499,5,2,166.2,null,null,null,null,null,3,2]
[5,0,"IA333",499,100,13,68.540000000000006,null,null,null,null,40,39,13,8]
[5,11,"IA333",499,93,13,73.349999999999994,null,null,null,null,34,39,13,7]
[5,12,"IA333",499,6,null,2.33,null,null,null,null,6]
[5,13,"IA333",499,1,null,18,null,null,null,null,null,null,null,1]
[5,0,"IA499",499,4786,2259,163.55000000000001,null,null,null,null,25,3042,1719]
[5,11,"IA499",499,4612,2222,165.59,null,null,null,null,2,2905,1705]
[5,12,"IA499",499,154,29,105.64,null,null,null,null,23,118,13]
[5,13,"IA499",499,20,8,140.05000000000001,null,null,null,null,null,19,1]
[5,0,"ID-1",499,480,227,184.39,null,null,null,null,41,286,124,23,6]
[5,11,"ID-1",499,464,225,188.26,null,null,null,null,40,279,117,23,5]
[5,12,"ID-1",499,6,null,53.17,null,null,null,null,1,5]
[5,13,"ID-1",499,10,2,83.5,null,null,null,null,null,2,7,null,1]
[5,0,"ID347",499,34,4,50.12,null,null,null,null,22,6,3,null,3]
[5,11,"ID347",499,27,4,60.33,null,null,null,null,16,6,2,null,3]
[5,12,"ID347",499,6,null,2.83,null,null,null,null,6]
[5,13,"ID347",499,1,null,58,null,null,null,null,null,null,1]
[5,0,"ID499",499,3369,1432,153.52000000000001,null,null,null,null,8,2166,1195]
[5,11,"ID499",499,3264,1419,155.66,null,null,null,null,2,2079,1183]
[5,12,"ID499",499,76,7,70.53,null,null,null,null,6,59,11]
[5,13,"ID499",499,29,6,129.93,null,null,null,null,null,28,1]
[5,0,"IL-1",499,1675,751,176.26,null,null,null,null,157,958,425,104,31]
[5,11,"IL-1",499,1618,741,178.84,null,null,null,null,151,928,416,97,26]
[5,12,"IL-1",499,39,4,93.49,null,null,null,null,6,24,1,3,5]
[5,13,"IL-1",499,18,6,123.28,null,null,null,null,null,6,8,4]
[5,0,"IL328",499,185,25,69.23,null,null,null,null,72,67,38,5,3]
[5,11,"IL328",499,169,25,74.66,null,null,null,null,60,65,37,4,3]
[5,12,"IL328",499,12,null,5.67,null,null,null,null,12]
[5,13,"IL328",499,4,null,30.25,null,null,null,null,null,2,1,1]
[5,0,"IL499",499,13151,5622,153.63,null,null,null,null,71,8674,4405,1]
[5,11,"IL499",499,12648,5509,155.96,null,null,null,null,10,8289,4348,1]
[5,12,"IL499",499,432,87,90.07,null,null,null,null,61,315,56]
[5,13,"IL499",499,71,26,125.75,null,null,null,null,null,70,1]
[5,0,"IN-1",499,1261,602,187.82,null,null,null,null,136,736,300,69,20]
[5,11,"IN-1",499,1218,594,191.92,null,null,null,null,125,712,296,65,20]
[5,12,"IN-1",499,33,5,62.82,null,null,null,null,11,17,1,4]
[5,13,"IN-1",499,10,3,100.1,null,null,null,null,null,7,3]
[5,0,"IN326",499,157,25,74.75,null,null,null,null,62,71,15,6,3]
[5,11,"IN326",499,143,24,78.31,null,null,null,null,52,71,12,5,3]
[5,12,"IN326",499,10,null,2.5,null,null,null,null,10]
[5,13,"IN326",499,4,1,128,null,null,null,null,null,null,3,1]
[5,0,"IN499",499,9700,4326,157.47999999999999,null,null,null,null,38,6336,3324,1,1]
[5,11,"IN499",499,9407,4256,159.19,null,null,null,null,6,6104,3296,1]
[5,12,"IN499",499,250,56,100.61,null,null,null,null,32,190,27,null,1]
[5,13,"IN499",499,43,14,114.35,null,null,null,null,null,42,1]
[5,0,"KS-1",499,576,282,196.18,null,null,null,null,43,342,148,35,8]
[5,11,"KS-1",499,545,279,203.06,null,null,null,null,41,326,142,30,6]
[5,12,"KS-1",499,23,3,81.430000000000007,null,null,null,null,2,15,1,3,2]
[5,13,"KS-1",499,8,null,57.38,null,null,null,null,null,1,5,2]
[5,0,"KS452",499,59,14,77.930000000000007,null,null,null,null,23,25,6,5]
[5,11,"KS452",499,54,13,74.760000000000005,null,null,null,null,20,23,6,5]
[5,12,"KS452",499,3,null,2.67,null,null,null,null,3]
[5,13,"KS452",499,2,1,276.5,null,null,null,null,null,2]
[5,0,"KS499",499,4456,1931,157.97,null,null,null,null,17,2896,1543]
[5,11,"KS499",499,4265,1888,160.56,null,null,null,null,2,2731,1532]
[5,12,"KS499",499,139,25,91.52,null,null,null,null,15,116,8]
[5,13,"KS499",499,52,18,123.56,null,null,null,null,null,49,3]
[5,0,"KY-1",499,923,452,174.99,null,null,null,null,80,492,283,54,14]
[5,11,"KY-1",499,895,449,178.63,null,null,null,null,77,478,277,52,11]
[5,12,"KY-1",499,15,null,52.47,null,null,null,null,3,8,null,1,3]
[5,13,"KY-1",499,13,3,65.77,null,null,null,null,null,6,6,1]
[5,0,"KY327",499,113,11,61.82,null,null,null,null,49,49,7,7,1]
[5,11,"KY327",499,104,11,65.39,null,null,null,null,43,47,6,7,1]
[5,12,"KY327",499,6,null,3.67,null,null,null,null,6]
[5,13,"KY327",499,3,null,54.33,null,null,null,null,null,2,1]
[5,0,"KY499",499,7695,3486,153.22,null,null,null,null,24,5037,2630,4]
[5,11,"KY499",499,7405,3432,155.57,null,null,null,null,7,4797,2598,3]
[5,12,"KY499",499,237,43,91.22,null,null,null,null,17,191,28,1]
[5,13,"KY499",499,53,11,102.45,null,null,null,null,null,49,4]
[5,0,"LA-1",499,1283,555,183.67,null,null,null,null,125,768,293,74,23]
[5,11,"LA-1",499,1234,545,187.23,null,null,null,null,119,740,284,70,21]
[5,12,"LA-1",499,31,7,95.77,null,null,null,null,6,19,1,3,2]
[5,13,"LA-1",499,18,3,91.06,null,null,null,null,null,9,8,1]
[5,0,"LA321",499,166,22,52.88,null,null,null,null,91,45,20,6,4]
[5,11,"LA321",499,147,22,57.41,null,null,null,null,76,44,17,6,4]
[5,12,"LA321",499,15,null,4.87,null,null,null,null,15]
[5,13,"LA321",499,4,null,66.5,null,null,null,null,null,1,3]
[5,0,"LA499",499,9502,3825,149.08000000000001,null,null,null,null,53,6228,3221]
[5,11,"LA499",499,9176,3773,151.6,null,null,null,null,7,5981,3188]
[5,12,"LA499",499,271,39,75.75,null,null,null,null,46,198,27]
[5,13,"LA499",499,55,13,89.13,null,null,null,null,null,49,6]
[5,0,"MA-1",499,727,309,182.74,null,null,null,null,78,453,156,32,8]
[5,11,"MA-1",499,705,302,185.05,null,null,null,null,77,434,155,31,8]
[5,12,"MA-1",499,15,4,113,null,null,null,null,1,13,null,1]
[5,13,"MA-1",499,7,3,98.71,null,null,null,null,null,6,1]
[5,0,"MA301",499,81,15,79.400000000000006,null,null,null,null,37,35,6,2,1]
[5,11,"MA301",499,79,15,81.349999999999994,null,null,null,null,35,35,6,2,1]
[5,12,"MA301",499,2,null,2,null,null,null,null,2]
[5,0,"MA499",499,5590,2529,165.33,null,null,null,null,15,3839,1735,1]
[5,11,"MA499",499,5421,2475,166.59,null,null,null,null,2,3697,1721,1]
[5,12,"MA499",499,134,38,113.08,null,null,null,null,13,107,14]
[5,13,"MA499",499,35,16,170.31,null,null,null,null,null,35]
[5,0,"MD-1",499,1412,474,142.84,null,null,null,null,128,803,385,72,24]
[5,11,"MD-1",499,1355,463,144.30000000000001,null,null,null,null,125,775,363,70,22]
[5,12,"MD-1",499,16,4,140.63,null,null,null,null,3,11,1,null,1]
[5,13,"MD-1",499,41,7,95.76,null,null,null,null,null,17,21,2,1]
[5,0,"MD313",499,169,18,63.66,null,null,null,null,84,47,27,7,4]
[5,11,"MD313",499,159,17,65.459999999999994,null,null,null,null,79,47,23,6,4]
[5,12,"MD313",499,5,null,3.2,null,null,null,null,5]
[5,13,"MD313",499,5,1,66.8,null,null,null,null,null,null,4,1]
[5,0,"MD499",499,10029,3301,129.22999999999999,null,null,null,null,30,6166,3832,1]
[5,11,"MD499",499,9642,3209,130.19999999999999,null,null,null,null,4,5829,3808,1]
[5,12,"MD499",499,201,53,104.81,null,null,null,null,26,159,16]
[5,13,"MD499",499,186,39,105.08,null,null,null,null,null,178,8]
[5,0,"ME-1",499,329,181,226.17,null,null,null,null,28,217,61,20,3]
[5,11,"ME-1",499,316,174,228.03,null,null,null,null,27,211,57,18,3]
[5,12,"ME-1",499,8,3,159.88,null,null,null,null,1,5,1,1]
[5,13,"ME-1",499,5,4,215.2,null,null,null,null,null,1,3,1]
[5,0,"ME402",499,30,7,59.2,null,null,null,null,19,8,3]
[5,11,"ME402",499,29,7,61.1,null,null,null,null,18,8,3]
[5,12,"ME402",499,1,null,4,null,null,null,null,1]
[5,0,"ME499",499,2243,1134,172.69,null,null,null,null,8,1508,727]
[5,11,"ME499",499,2174,1113,174.34,null,null,null,null,1,1454,719]
[5,12,"ME499",499,53,13,91.77,null,null,null,null,7,38,8]
[5,13,"ME499",499,16,8,216.06,null,null,null,null,null,16]
[5,0,"MI-1",499,1562,754,195.31,null,null,null,null,145,930,380,92,15]
[5,11,"MI-1",499,1508,748,199.98,null,null,null,null,138,902,367,87,14]
[5,12,"MI-1",499,41,4,60.78,null,null,null,null,7,25,4,4,1]
[5,13,"MI-1",499,13,2,77,null,null,null,null,null,3,9,1]
[5,0,"MI329",499,169,21,58.36,null,null,null,null,101,37,20,7,4]
[5,11,"MI329",499,152,21,64.59,null,null,null,null,84,37,20,7,4]
[5,12,"MI329",499,17,null,2.65,null,null,null,null,17]
[5,0,"MI499",499,11801,5234,156.47999999999999,null,null,null,null,60,7461,4277,3]
[5,11,"MI499",499,11305,5125,158.61000000000001,null,null,null,null,12,7060,4231,2]
[5,12,"MI499",499,438,90,104.51,null,null,null,null,48,345,44,1]
[5,13,"MI499",499,58,19,134.91,null,null,null,null,null,56,2]
[5,0,"MN-1",499,921,461,221.6,null,null,null,null,82,596,184,45,14]
[5,11,"MN-1",499,896,453,225.2,null,null,null,null,79,580,180,43,14]
[5,12,"MN-1",499,18,5,88.94,null,null,null,null,3,12,1,2]
[5,13,"MN-1",499,7,3,102.14,null,null,null,null,null,4,3]
[5,0,"MN335",499,172,22,67.25,null,null,null,null,47,91,25,7,2]
[5,11,"MN335",499,151,20,69.48,null,null,null,null,39,82,25,3,2]
[5,12,"MN335",499,21,2,51.24,null,null,null,null,8,9,null,4]
[5,0,"MN499",499,7043,3247,167.14,null,null,null,null,25,4415,2602,1]
[5,11,"MN499",499,6821,3193,169.27,null,null,null,null,3,4252,2566]
[5,12,"MN499",499,197,44,95.22,null,null,null,null,22,138,36,1]
[5,13,"MN499",499,25,10,151.56,null,null,null,null,null,25]
[5,0,"MO-1",499,1415,665,208.76,null,null,null,null,114,863,329,81,28]
[5,11,"MO-1",499,1360,657,213.86,null,null,null,null,109,833,321,72,25]
[5,12,"MO-1",499,40,6,89.83,null,null,null,null,5,23,2,7,3]
[5,13,"MO-1",499,15,2,63.67,null,null,null,null,null,7,6,2]
[5,0,"MO331",499,167,30,76.25,null,null,null,null,71,70,21,5]
[5,11,"MO331",499,157,29,78.760000000000005,null,null,null,null,66,68,18,5]
[5,12,"MO331",499,5,null,2.8,null,null,null,null,5]
[5,13,"MO331",499,5,1,71,null,null,null,null,null,2,3]
[5,0,"MO499",499,10790,4737,158.29,null,null,null,null,54,7081,3655]
[5,11,"MO499",499,10381,4638,160.24,null,null,null,null,6,6746,3629]
[5,12,"MO499",499,336,79,103.48,null,null,null,null,48,264,24]
[5,13,"MO499",499,73,20,133.77000000000001,null,null,null,null,null,71,2]
[5,0,"MS-1",499,880,387,182.1,null,null,null,null,103,495,217,52,13]
[5,11,"MS-1",499,847,382,185.48,null,null,null,null,92,482,210,50,13]
[5,12,"MS-1",499,25,2,69.48,null,null,null,null,11,11,1,2]
[5,13,"MS-1",499,8,3,175.88,null,null,null,null,null,2,6]
[5,0,"MS323",499,126,27,69.66,null,null,null,null,25,69,25,5,2]
[5,11,"MS323",499,125,27,70.209999999999994,null,null,null,null,24,69,25,5,2]
[5,12,"MS323",499,1,null,1,null,null,null,null,1]
[5,0,"MS499",499,6858,2761,145.54,null,null,null,null,28,4641,2186,3]
[5,11,"MS499",499,6607,2703,146.91,null,null,null,null,3,4439,2162,3]
[5,12,"MS499",499,200,44,106.39,null,null,null,null,25,152,23]
[5,13,"MS499",499,51,14,120.69,null,null,null,null,null,50,1]
[5,0,"MT-1",499,331,169,201.5,null,null,null,null,23,215,69,18,6]
[5,11,"MT-1",499,320,167,205.29,null,null,null,null,22,209,66,17,6]
[5,12,"MT-1",499,7,1,89.71,null,null,null,null,1,4,1,1]
[5,13,"MT-1",499,4,1,93.75,null,null,null,null,null,2,2]
[5,0,"MT436",499,24,4,58.88,null,null,null,null,12,9,3]
[5,11,"MT436",499,21,4,61.81,null,null,null,null,10,8,3]
[5,12,"MT436",499,2,null,3,null,null,null,null,2]
[5,13,"MT436",499,1,null,109,null,null,null,null,null,1]
[5,0,"MT499",499,2376,1114,169.14,null,null,null,null,4,1630,742]
[5,11,"MT499",499,2315,1096,170.48,null,null,null,null,1,1582,732]
[5,12,"MT499",499,42,9,110.36,null,null,null,null,3,30,9]
[5,13,"MT499",499,19,9,135.68,null,null,null,null,null,18,1]
[5,0,"NC-1",499,3044,1167,155.65,null,null,null,null,331,1762,733,172,46]
[5,11,"NC-1",499,2920,1143,157.74,null,null,null,null,314,1696,703,164,43]
[5,12,"NC-1",499,64,14,128.66,null,null,null,null,16,40,4,3,1]
[5,13,"NC-1",499,60,10,82.52,null,null,null,null,1,26,26,5,2]
[5,0,"NC318",499,697,100,67.010000000000005,null,null,null,null,198,249,185,52,13]
[5,11,"NC318",499,659,98,69.41,null,null,null,null,186,241,171,48,13]
[5,12,"NC318",499,12,null,2.67,null,null,null,null,12]
[5,13,"NC318",499,26,2,35.65,null,null,null,null,null,8,14,4]
[5,0,"NC499",499,24169,8788,134.55000000000001,null,null,null,null,89,15682,8396,2]
[5,11,"NC499",499,23300,8613,136.22999999999999,null,null,null,null,16,14992,8290,2]
[5,12,"NC499",499,660,125,87.56,null,null,null,null,73,494,93]
[5,13,"NC499",499,209,50,95.31,null,null,null,null,null,196,13]
[5,0,"ND-1",499,175,83,196.62,null,null,null,null,8,110,48,7,2]
[5,11,"ND-1",499,169,82,201.97,null,null,null,null,8,106,47,6,2]
[5,12,"ND-1",499,4,1,59.75,null,null,null,null,null,4]
[5,13,"ND-1",499,2,null,18,null,null,null,null,null,null,1,1]
[5,0,"ND437",499,33,3,41.79,null,null,null,null,13,10,7,1,2]
[5,11,"ND437",499,31,3,43.84,null,null,null,null,12,10,6,1,2]
[5,12,"ND437",499,1,null,3,null,null,null,null,1]
[5,13,"ND437",499,1,null,17,null,null,null,null,null,null,1]
[5,0,"ND499",499,1164,551,160.49,null,null,null,null,3,735,426]
[5,11,"ND499",499,1131,543,161.47,null,null,null,null,2,707,422]
[5,12,"ND499",499,24,4,88.13,null,null,null,null,1,21,2]
[5,13,"ND499",499,9,4,229.78,null,null,null,null,null,7,2]
[5,0,"NE-1",499,421,189,190.72,null,null,null,null,38,254,96,24,9]
[5,11,"NE-1",499,401,187,197.58,null,null,null,null,37,245,91,22,6]
[5,12,"NE-1",499,11,null,42.27,null,null,null,null,1,5,null,2,3]
[5,13,"NE-1",499,9,2,66.89,null,null,null,null,null,4,5]
[5,0,"NE334",499,91,13,51.54,null,null,null,null,47,26,10,8]
[5,11,"NE334",499,86,12,48.41,null,null,null,null,45,24,9,8]
[5,12,"NE334",499,2,null,2.5,null,null,null,null,2]
[5,13,"NE334",499,3,1,174,null,null,null,null,null,2,1]
[5,0,"NE499",499,3273,1390,146.08000000000001,null,null,null,null,8,2098,1167]
[5,11,"NE499",499,3181,1364,147.06,null,null,null,null,1,2030,1150]
[5,12,"NE499",499,68,20,117.4,null,null,null,null,7,44,17]
[5,13,"NE499",499,24,6,97.38,null,null,null,null,null,24]
[5,0,"NH-1",499,231,122,215.27,null,null,null,null,21,156,37,14,3]
[5,11,"NH-1",499,222,120,218.96,null,null,null,null,20,151,35,13,3]
[5,12,"NH-1",499,5,null,38.200000000000003,null,null,null,null,1,3,1]
[5,13,"NH-1",499,4,2,232,null,null,null,null,null,2,1,1]
[5,0,"NH373",499,18,1,45,null,null,null,null,10,6,1,null,1]
[5,11,"NH373",499,16,1,50.31,null,null,null,null,8,6,1,null,1]
[5,12,"NH373",499,2,null,2.5,null,null,null,null,2]
[5,0,"NH499",499,1749,792,174.57,null,null,null,null,13,1188,548]
[5,11,"NH499",499,1678,777,177.03,null,null,null,null,4,1130,544]
[5,12,"NH499",499,54,9,99.81,null,null,null,null,9,41,4]
[5,13,"NH499",499,17,6,169.76,null,null,null,null,null,17]
[5,0,"NJ-1",499,976,408,173.3,null,null,null,null,103,568,238,49,18]
[5,11,"NJ-1",499,931,396,176.88,null,null,null,null,94,548,231,43,15]
[5,12,"NJ-1",499,28,6,78.86,null,null,null,null,9,13,2,3,1]
[5,13,"NJ-1",499,17,6,132.71,null,null,null,null,null,7,5,3,2]
[5,0,"NJ309",499,57,8,75.209999999999994,null,null,null,null,32,18,3,4]
[5,11,"NJ309",499,57,8,75.209999999999994,null,null,null,null,32,18,3,4]
[5,0,"NJ499",499,6888,3002,166.26,null,null,null,null,26,4764,2098]
[5,11,"NJ499",499,6642,2942,168.59,null,null,null,null,4,4556,2082]
[5,12,"NJ499",499,211,39,85.2,null,null,null,null,22,174,15]
[5,13,"NJ499",499,35,21,211.2,null,null,null,null,null,34,1]
[5,0,"NM-1",499,513,249,198.02,null,null,null,null,29,327,118,31,8]
[5,11,"NM-1",499,492,243,200.26,null,null,null,null,26,317,113,28,8]
[5,12,"NM-1",499,9,2,125.33,null,null,null,null,3,6]
[5,13,"NM-1",499,12,4,160.5,null,null,null,null,null,4,5,3]
[5,0,"NM340",499,53,4,38.72,null,null,null,null,19,24,7,2,1]
[5,11,"NM340",499,51,4,40.14,null,null,null,null,17,24,7,2,1]
[5,12,"NM340",499,2,null,2.5,null,null,null,null,2]
[5,0,"NM499",499,3890,1735,151.94999999999999,null,null,null,null,19,2391,1480]
[5,11,"NM499",499,3725,1683,153.27000000000001,null,null,null,null,3,2253,1469]
[5,12,"NM499",499,126,37,116.4,null,null,null,null,16,100,10]
[5,13,"NM499",499,39,15,140.31,null,null,null,null,null,38,1]
[5,0,"NV-1",499,1030,451,175.3,null,null,null,null,79,617,264,60,10]
[5,11,"NV-1",499,993,447,178.75,null,null,null,null,75,598,255,58,7]
[5,12,"NV-1",499,20,4,111.45,null,null,null,null,4,12,2,1,1]
[5,13,"NV-1",499,17,null,49.06,null,null,null,null,null,7,7,1,2]
[5,0,"NV354",499,81,19,77.95,null,null,null,null,28,35,13,5]
[5,11,"NV354",499,76,18,78.5,null,null,null,null,25,34,12,5]
[5,12,"NV354",499,3,null,3,null,null,null,null,3]
[5,13,"NV354",499,2,1,169.5,null,null,null,null,null,1,1]
[5,0,"NV499",499,7274,2870,144.63999999999999,null,null,null,null,30,4802,2442]
[5,11,"NV499",499,7028,2818,146.1,null,null,null,null,1,4601,2426]
[5,12,"NV499",499,205,45,102.37,null,null,null,null,29,162,14]
[5,13,"NV499",499,41,7,104.85,null,null,null,null,null,39,2]
[5,0,"NY-1",499,1777,847,194.61,null,null,null,null,154,1063,408,127,25]
[5,11,"NY-1",499,1711,831,196.76,null,null,null,null,143,1031,397,119,21]
[5,12,"NY-1",499,49,11,139.31,null,null,null,null,11,27,2,5,4]
[5,13,"NY-1",499,17,5,138.24,null,null,null,null,null,5,9,3]
[5,0,"NY306",499,123,16,55.61,null,null,null,null,68,38,13,2,2]
[5,11,"NY306",499,116,16,58.35,null,null,null,null,62,37,13,2,2]
[5,12,"NY306",499,6,null,3.83,null,null,null,null,6]
[5,13,"NY306",499,1,null,48,null,null,null,null,null,1]
[5,0,"NY307",499,109,17,66.3,null,null,null,null,54,40,12,3]
[5,11,"NY307",499,97,16,68.400000000000006,null,null,null,null,45,38,11,3]
[5,12,"NY307",499,9,null,2.67,null,null,null,null,9]
[5,13,"NY307",499,3,1,189.33,null,null,null,null,null,2,1]
[5,0,"NY499",499,13908,6335,163.98,null,null,null,null,76,9306,4525,1]
[5,11,"NY499",499,13407,6229,166.75,null,null,null,null,15,8922,4469,1]
[5,12,"NY499",499,409,73,83.89,null,null,null,null,61,298,50]
[5,13,"NY499",499,92,33,116.36,null,null,null,null,null,86,6]
[5,0,"OH-1",499,2124,974,194.31,null,null,null,null,225,1278,471,117,33]
[5,11,"OH-1",499,2030,953,198.86,null,null,null,null,208,1232,459,105,26]
[5,12,"OH-1",499,74,15,94.15,null,null,null,null,17,37,2,12,6]
[5,13,"OH-1",499,20,6,103.45,null,null,null,null,null,9,10,null,1]
[5,0,"OH325",499,285,58,79.8,null,null,null,null,117,97,43,24,4]
[5,11,"OH325",499,268,57,83.38,null,null,null,null,103,95,42,24,4]
[5,12,"OH325",499,14,null,2.79,null,null,null,null,14]
[5,13,"OH325",499,3,1,119.33,null,null,null,null,null,2,1]
[5,0,"OH499",499,16432,7471,156.59,null,null,null,null,79,10264,6087,2]
[5,11,"OH499",499,15873,7353,158.76,null,null,null,null,10,9824,6038,1]
[5,12,"OH499",499,480,99,90.66,null,null,null,null,69,364,46,1]
[5,13,"OH499",499,79,19,121.86,null,null,null,null,null,76,3]
[5,0,"OK-1",499,1261,579,197.82,null,null,null,null,119,753,308,69,12]
[5,11,"OK-1",499,1228,573,200.3,null,null,null,null,113,740,298,67,10]
[5,12,"OK-1",499,18,2,109.39,null,null,null,null,6,7,2,2,1]
[5,13,"OK-1",499,15,4,100.47,null,null,null,null,null,6,8,null,1]
[5,0,"OK351",499,226,30,62.67,null,null,null,null,44,99,69,12,2]
[5,11,"OK351",499,214,30,64.7,null,null,null,null,40,97,63,12,2]
[5,12,"OK351",499,4,null,2.75,null,null,null,null,4]
[5,13,"OK351",499,8,null,38.5,null,null,null,null,null,2,6]
[5,0,"OK499",499,9807,3938,144.13999999999999,null,null,null,null,41,5844,3920,1,1]
[5,11,"OK499",499,9453,3858,145.47,null,null,null,null,5,5572,3875,null,1]
[5,12,"OK499",499,308,68,108.81,null,null,null,null,36,233,38,1]
[5,13,"OK499",499,46,12,106.04,null,null,null,null,null,39,7]
[5,0,"OR-1",499,878,505,224.74,null,null,null,null,67,562,201,39,9]
[5,11,"OR-1",499,851,497,227.9,null,null,null,null,64,544,198,37,8]
[5,12,"OR-1",499,20,5,94.7,null,null,null,null,3,14,null,2,1]
[5,13,"OR-1",499,7,3,212.57,null,null,null,null,null,4,3]
[5,0,"OR348",499,107,21,104.6,null,null,null,null,35,53,15,4]
[5,11,"OR348",499,99,20,106.34,null,null,null,null,29,52,14,4]
[5,12,"OR348",499,6,null,3.17,null,null,null,null,6]
[5,13,"OR348",499,2,1,322.5,null,null,null,null,null,1,1]
[5,0,"OR499",499,7167,3560,175.54,null,null,null,null,30,4529,2608]
[5,11,"OR499",499,6933,3513,178.15,null,null,null,null,5,4353,2575]
[5,12,"OR499",499,200,39,97.2,null,null,null,null,25,144,31]
[5,13,"OR499",499,34,8,105.09,null,null,null,null,null,32,2]
[5,0,"OT-1",499,1197,796,208.95,null,null,null,null,98,811,216,62,10]
[5,11,"OT-1",499,1147,782,211.53,null,null,null,null,98,777,201,61,10]
[5,12,"OT-1",499,8,4,166.25,null,null,null,null,null,8]
[5,13,"OT-1",499,42,10,146.43,null,null,null,null,null,26,15,1]
[5,0,"OT499",499,7581,4829,191.41,null,null,null,null,20,5084,2477]
[5,11,"OT499",499,7246,4717,193.58,null,null,null,null,13,4781,2452]
[5,12,"OT499",499,158,55,140.52000000000001,null,null,null,null,7,132,19]
[5,13,"OT499",499,177,57,147.66999999999999,null,null,null,null,null,171,6]
[5,0,"PA-1",499,1920,983,213.03,null,null,null,null,126,1221,439,107,27]
[5,11,"PA-1",499,1841,973,218.7,null,null,null,null,118,1176,428,96,23]
[5,12,"PA-1",499,60,5,65.13,null,null,null,null,8,35,4,9,4]
[5,13,"PA-1",499,19,5,130.63,null,null,null,null,null,10,7,2]
[5,0,"PA310",499,252,53,84.07,null,null,null,null,76,124,41,9,2]
[5,11,"PA310",499,243,53,86.66,null,null,null,null,68,123,41,9,2]
[5,12,"PA310",499,8,null,6.13,null,null,null,null,8]
[5,13,"PA310",499,1,null,78,null,null,null,null,null,1]
[5,0,"PA311",499,116,11,48.34,null,null,null,null,52,28,32,4]
[5,11,"PA311",499,106,11,52.51,null,null,null,null,43,27,32,4]
[5,12,"PA311",499,9,null,2.67,null,null,null,null,9]
[5,13,"PA311",499,1,null,18,null,null,null,null,null,1]
[5,0,"PA499",499,15226,6964,165.83,null,null,null,null,98,9892,5236]
[5,11,"PA499",499,14575,6812,168.21,null,null,null,null,5,9378,5192]
[5,12,"PA499",499,587,124,105.3,null,null,null,null,93,453,41]
[5,13,"PA499",499,64,28,179.42,null,null,null,null,null,61,3]
[5,0,"PR-1",499,222,98,147.91999999999999,null,null,null,null,61,75,65,17,4]
[5,11,"PR-1",499,206,95,154.47,null,null,null,null,58,68,65,13,2]
[5,12,"PR-1",499,16,3,63.63,null,null,null,null,3,7,null,4,2]
[5,0,"PR355",499,358,135,197.53,null,null,null,null,34,215,81,28]
[5,11,"PR355",499,351,133,200.29,null,null,null,null,31,213,79,28]