{"text_format":"1","workbook":"xlsx","n_sheets":13,"sheets":["Legend","Transformation","Rating Bundle - SOJ","Rating Bundle - SOO","Rating Bundle - State","Rating Bundle - SOJ - NWQ","Rating Bundle - NWQ - State","Traditional Aggregate (TA)","Diarys and Future Claims","TA-Regional Office","Data","Driver","DT"],"not_rendered":{"charts":0,"images":1,"macros":0,"external_links":0,"defined_names":66,"comments":1,"pivot_tables":0},"unopened":[],"bounds":{"document_bytes":16777216,"sheet_cells":100000,"rows_first":2000,"rows_last":500,"rows_between":2000,"halvings":0,"cell_chars":16384,"cell_head_chars":4096},"cells_cut":0,"cells_raw":0,"read":"whole","date_system":"1900"}

{"sheet":"Legend","index":0,"n_rows":35,"n_cols":5,"rows_kept":35,"cut":false,"hidden":false,"merged":[[34,1,35,1],[34,2,35,2],[1,4,12,4],[26,1,27,1],[26,2,27,2],[28,1,29,1],[28,2,29,2],[14,4,21,4],[7,5,7,6],[30,1,31,1],[30,2,31,2],[32,1,33,1],[32,2,33,2]]}
[null,"METRIC","DEFINITION","Line","COMMENT"]
[null,"010 Series","Initial entitlement for service-connected disability (=>8 issues)","Comp","Rating Bundle: Claims for disability compensation, dependency and indemnity compensation, and Veterans’ pension benefits, including both original and supplemental claims. Rating Bundle claims normally require a rating decision during processing.  The Rating Bundle Group is made up of 7 series and 1 group of End Products, plus 4 Agent Orange End Products, which are used to define VA Priority goals for Accuracy and reduction of claims over 125 days old"]
[null,"110 Series","Initial entitlement for service-connected disability (<=7 issues)","Comp"]
[null,"020 Series","Increased evaluation and/or additional claimed conditions","Comp"]
[null,"140 Series","Initial claims from surviving spouses, children or parents","Comp"]
[null,"180 Series","Initial entitlement for Pension - Veteran ","Pension"]
[null,"120 Series","Increased entitlement and/or reconsideration for Pension","Pension"]
[null,"310 Group","Future examination for disabilities (excludes EP 314)","Comp"]
[null,"320 Series","Increased entitlement due to hospitalization or surgery","Comp"]
[null,"EP 405","Reopened or new Agent Orange claims between 9/01/10 and 10/24/2011","Comp"]
[null,"EP 409","Agent Orange claims where an interim decision was provided; No longer used as of 10/24/2011","Comp"]
[null,"EP 681","Used to control claims under the Nehmer Agent Orange stipulation","Comp"]
[null,"EP 687","Previously used for Nehmer Agent Orange presumptive issues","Comp"]
[null,"EP 040","Decision Review Request - AMA Supplemental Claims","Comp"]
[null,"EP 335","Blue Water Navy Agent Orange (effective 1/1/2010)","Comp","Not-Rating: Claims for disability compensation, dependency and indemnity compensation, and Veterans’ pension benefits, which can but normally do not require a rating decision (i.e. claim to add dependent to award)."]
[]
[]
[null,"ADP","Average Days Pending, or total number of days pending divided by total number of claims pending"]
[null,"ADC","Average Days to Complete or total number of days to complete divided by total number of claims completed"]
[]
[null,"MTD","Month to Date. Captures claim activity from the first day of the reporting month through the report date"]
[null,"FYTD","Fiscal Year to Date. Captures claim activity from the first day of the current fiscal year through the report date"]
[]
[null,"SOJ","Station of Jurisdiction, or the Regional Office assigned to work the claim"]
[null,"SOO","Station of Origin, or the Regional Office with geographic oversight of the claim"]
[]
[null,"Pending Development","Claims that are awaiting development initiation, which may involve gathering supporting evidence, medical exams, and military documentation."]
[]
[null,"Pending Evidence","Claims that are in the process of gathering supporting evidence and possibly medical exams."]
[]
[null,"Pending Decision","Claims that are awaiting an evidence review and decision by a rating specialist"]
[]
[null,"Pending Award","Claims that are awaiting a first-level review of the evidence gathered and the decision."]
[]
[null,"Pending Authorization","Claims that are awaiting a final review of all aspects of the claim, which results in a notification to the claimant on the outcome of their claim."]

{"sheet":"Transformation","index":1,"n_rows":38,"n_cols":10,"rows_kept":38,"cut":false,"hidden":false,"merged":[[13,1,13,5],[14,1,14,5],[36,1,36,9],[15,1,15,5],[16,1,16,5],[18,1,18,5],[20,1,20,5],[25,1,25,5],[32,1,32,5],[33,1,33,5],[34,1,34,5],[19,1,19,5],[21,1,21,5],[22,1,22,5],[17,1,17,5],[12,1,12,5],[1,1,1,5],[6,1,6,5],[7,1,7,5],[8,1,8,5],[9,1,9,5],[37,1,37,9],[2,9,3,9],[31,1,31,5],[26,1,26,5],[27,1,27,5],[28,1,28,5],[29,1,29,5],[30,1,30,5],[24,1,24,5],[2,8,3,8],[2,7,3,7],[5,1,5,5],[4,1,4,5],[2,1,2,5],[10,1,10,5],[11,1,11,5]]}
[null," "]
[null,"Compensation and Pension Rating Bundle Metrics"]
[null,"National View",null,null,null,null,null,"# Pending","# Pending > 125","% Pending > 125 days"]
[null,{"$f":"\"Reporting through \"&TEXT(D_DT[],\"MMMM DD, YYYY\")","v":"Reporting through August 21, 2021"}]
[null,"Compensation and Pension Rating Bundle",null,null,null,null,"Total",{"$f":"SUM(H6,H11,H22)","v":591099},{"$f":"SUM(I6,I11,I22)","v":181570},{"$f":"IF(H5=0, 0,I5/H5)","v":0.30717358682724888}]
[null,"Original Entitlement",null,null,null,null,"Total",{"$f":"SUM(H7:H10)","v":152246},{"$f":"SUM(I7:I10)","v":67259},{"$f":"IF(H6=0, 0,I6/H6)","v":0.44177843752873641}]
["010","Initial entitlement for service-connected disability (>=8 issues)",null,null,null,null,"EP 010",{"$f":"IFERROR(SUMIFS(D_D[INV],D_D[MT],3,D_D[EP],$A7),0)","v":50226},{"$f":"IFERROR(SUMIFS(D_D[BL],D_D[MT],3,D_D[EP],$A7),0)","v":23890},0.47565006172102098]
["110","Initial entitlement for service-connected disability (<=7 issues)",null,null,null,null,"EP 110",{"$f":"IFERROR(SUMIFS(D_D[INV],D_D[MT],3,D_D[EP],$A8),0)","v":91940},{"$f":"IFERROR(SUMIFS(D_D[BL],D_D[MT],3,D_D[EP],$A8),0)","v":40516},0.44067870350228411]
["180","Initial entitlement - Veteran's Pension",null,null,null,null,"EP 180",{"$f":"IFERROR(SUMIFS(D_D[INV],D_D[MT],3,D_D[EP],$A9),0)","v":2152},{"$f":"IFERROR(SUMIFS(D_D[BL],D_D[MT],3,D_D[EP],$A9),0)","v":203},9.4330855018587359E-2]
["140","Initial claims from surviving spouses, children or parents",null,null,null,null,"EP 140",{"$f":"IFERROR(SUMIFS(D_D[INV],D_D[MT],3,D_D[EP],$A10),0)","v":7928},{"$f":"IFERROR(SUMIFS(D_D[BL],D_D[MT],3,D_D[EP],$A10),0)","v":2650},0.33425832492431889]
[null,"Supplemental Entitlement",null,null,null,null,"Total",{"$f":"SUM(H12:H21)","v":421168},{"$f":"SUM(I12:I21)","v":97687},0.23194307259810812]
["120","Increased entitlement and/or reconsideration for Pension",null,null,null,null,"EP 120",{"$f":"IFERROR(SUMIFS(D_D[INV],D_D[MT],3,D_D[EP],$A12),0)","v":954},{"$f":"IFERROR(SUMIFS(D_D[BL],D_D[MT],3,D_D[EP],$A12),0)","v":59},6.1844863731656187E-2]
["020","Increased evaluation and/or additional claimed conditions",null,null,null,null,"EP 020",{"$f":"IFERROR(SUMIFS(D_D[INV],D_D[MT],3,D_D[EP],$A13),0)","v":211444},{"$f":"IFERROR(SUMIFS(D_D[BL],D_D[MT],3,D_D[EP],$A13),0)","v":66630},0.3151188967291576]
["310G","Future examination for disabilities",null,null,null,null,"EP 310",{"$f":"IFERROR(SUMIFS(D_D[INV],D_D[MT],3,D_D[EP],$A14),0)","v":15758},{"$f":"IFERROR(SUMIFS(D_D[BL],D_D[MT],3,D_D[EP],$A14),0)","v":4985},0.31634725218936416]
["320","Increased entitlement due to hospitalization or surgery",null,null,null,null,"EP 320",{"$f":"IFERROR(SUMIFS(D_D[INV],D_D[MT],3,D_D[EP],$A15),0)","v":469},{"$f":"IFERROR(SUMIFS(D_D[BL],D_D[MT],3,D_D[EP],$A15),0)","v":35},7.4626865671641784E-2]
["681","Used to control claims under the Nehmer Agent Orange stipulation",null,null,null,null,"EP 681",{"$f":"IFERROR(SUMIFS(D_D[INV],D_D[MT],3,D_D[EP],$A16),0)","v":619},{"$f":"IFERROR(SUMIFS(D_D[BL],D_D[MT],3,D_D[EP],$A16),0)","v":212},0.34248788368336025]
["687","Blue Water Navy Agent Orange Nehmer Reviews",null,null,null,null,"EP 687",{"$f":"IFERROR(SUMIFS(D_D[INV],D_D[MT],3,D_D[EP],$A17),0)","v":42999},{"$f":"IFERROR(SUMIFS(D_D[BL],D_D[MT],3,D_D[EP],$A17),0)","v":71},{"$f":"IF(H17=0, 0,I17/H17)","v":1.6512011907253658E-3}]
["688","NDAA Agent Orange Nehmer Reviews (3 new authorized disabilities)",null,null,null,null,"EP 688",{"$f":"IFERROR(SUMIFS(D_D[INV],D_D[MT],3,D_D[EP],$A18),0)","v":71522},{"$f":"IFERROR(SUMIFS(D_D[BL],D_D[MT],3,D_D[EP],$A18),0)","v":1473},{"$f":"IF(H18=0, 0,I18/H18)","v":2.0595061659349569E-2}]
["405","Reopened or new Agent Orange claims between 9/01/10 and 10/24/2011",null,null,null,null,"EP 405",{"$f":"IFERROR(SUMIFS(D_D[INV],D_D[MT],3,D_D[EP],$A19),0)","v":0},{"$f":"IFERROR(SUMIFS(D_D[BL],D_D[MT],3,D_D[EP],$A19),0)","v":0},{"$f":"IF(H19=0, 0,I19/H19)","v":0}]
["040","Decision Review Request - AMA Supplemental Claims",null,null,null,null,"EP 040",{"$f":"IFERROR(SUMIFS(D_D[INV],D_D[MT],3.1,D_D[EP],$A20),0)","v":77395},{"$f":"IFERROR(SUMIFS(D_D[BL],D_D[MT],3.1,D_D[EP],$A20),0)","v":24216},{"$f":"IF(H20=0, 0,I20/H20)","v":0.31288842948510887}]
["409","Agent Orange claims where an interim decision was provided; No longer used as of 10/24/2011",null,null,null,null,"EP 409",{"$f":"IFERROR(SUMIFS(D_D[INV],D_D[MT],3,D_D[EP],$A21),0)","v":8},{"$f":"IFERROR(SUMIFS(D_D[BL],D_D[MT],3,D_D[EP],$A21),0)","v":6},{"$f":"IF(H21=0, 0,I21/H21)","v":0.75}]
[null,"Compensation Other – Diary – Becomes Part of Rating Bundle on 1/1/2020",null,null,null,null,"Total",{"$f":"SUM(H23)","v":17685},{"$f":"SUM(I23)","v":16624},{"$f":"IF(H22=0, 0,I22/H22)","v":0.94000565450947127}]
["335","Blue Water Navy - Agent Orange",null,null,null,null,"EP 335",{"$f":"IFERROR(SUMIFS(D_D[INV],D_D[MT],3,D_D[EP],$A23),0)","v":17685},{"$f":"IFERROR(SUMIFS(D_D[BL],D_D[MT],3,D_D[EP],$A23),0)","v":16624},0.94000565450947127]
[]
[null,"Education Metrics ",null,null,null,null,{"$f":"\"Pending on \" &TEXT(D_DT[]-1,\"MM/DD/YY\")","v":"Pending on 08/20/21"},{"$f":"\"Pending on \" &TEXT(D_DT[]-8,\"MM/DD/YY\")","v":"Pending on 08/13/21"},"# Change","% Change"]
[1,"Total Chapter 33 Original Claims *",null,null,null,null,{"$f":"IFERROR(SUMIFS(D_D[INV],D_D[MT],9,D_D[CAT],1,D_D[LOC],$A26),0)","v":9404},{"$f":"IFERROR(SUMIFS(D_D[BL],D_D[MT],9,D_D[CAT],1,D_D[LOC],$A26),0)","v":8933},{"$f":"IFERROR(SUMIFS(D_D[ADP],D_D[MT],9,D_D[CAT],1,D_D[LOC],$A26),0)","v":471},{"$f":"IFERROR(I26/H26,0)","v":5.2725847979402218E-2}]
[307,"Buffalo",null,null,null,null,{"$f":"IFERROR(SUMIFS(D_D[INV],D_D[MT],9,D_D[CAT],1,D_D[LOC],$A27),0)","v":4392},{"$f":"IFERROR(SUMIFS(D_D[BL],D_D[MT],9,D_D[CAT],1,D_D[LOC],$A27),0)","v":4095},{"$f":"IFERROR(SUMIFS(D_D[ADP],D_D[MT],9,D_D[CAT],1,D_D[LOC],$A27),0)","v":297},{"$f":"IFERROR(I27/H27,0)","v":7.2527472527472533E-2}]
[316,"Atlanta",null,null,null,null,{"$f":"IFERROR(SUMIFS(D_D[INV],D_D[MT],9,D_D[CAT],1,D_D[LOC],$A28),0)","v":0},{"$f":"IFERROR(SUMIFS(D_D[BL],D_D[MT],9,D_D[CAT],1,D_D[LOC],$A28),0)","v":0},{"$f":"IFERROR(SUMIFS(D_D[ADP],D_D[MT],9,D_D[CAT],1,D_D[LOC],$A28),0)","v":0},{"$f":"IF(H28=0, 0,I28/H28)","v":0}]
[331,"St Louis",null,null,null,null,{"$f":"IFERROR(SUMIFS(D_D[INV],D_D[MT],9,D_D[CAT],1,D_D[LOC],$A29),0)","v":0},{"$f":"IFERROR(SUMIFS(D_D[BL],D_D[MT],9,D_D[CAT],1,D_D[LOC],$A29),0)","v":0},{"$f":"IFERROR(SUMIFS(D_D[ADP],D_D[MT],9,D_D[CAT],1,D_D[LOC],$A29),0)","v":0},{"$f":"IFERROR(I29/H29,0)","v":0}]
[351,"Muskogee",null,null,null,null,{"$f":"IFERROR(SUMIFS(D_D[INV],D_D[MT],9,D_D[CAT],1,D_D[LOC],$A30),0)","v":5012},{"$f":"IFERROR(SUMIFS(D_D[BL],D_D[MT],9,D_D[CAT],1,D_D[LOC],$A30),0)","v":4838},{"$f":"IFERROR(SUMIFS(D_D[ADP],D_D[MT],9,D_D[CAT],1,D_D[LOC],$A30),0)","v":174},{"$f":"IFERROR(I30/H30,0)","v":3.5965274906986359E-2}]
[1,"Total Education Claims - All Education Programs **",null,null,null,null,{"$f":"IFERROR(SUMIFS(D_D[INV],D_D[MT],9,D_D[CAT],2,D_D[LOC],$A31),0)","v":92334},{"$f":"IFERROR(SUMIFS(D_D[BL],D_D[MT],9,D_D[CAT],2,D_D[LOC],$A31),0)","v":78853},{"$f":"IFERROR(SUMIFS(D_D[ADP],D_D[MT],9,D_D[CAT],2,D_D[LOC],$A31),0)","v":13481},{"$f":"IFERROR(I31/H31,0)","v":0.17096369193309069}]
[307,"Buffalo",null,null,null,null,{"$f":"IFERROR(SUMIFS(D_D[INV],D_D[MT],9,D_D[CAT],2,D_D[LOC],$A32),0)","v":36235},{"$f":"IFERROR(SUMIFS(D_D[BL],D_D[MT],9,D_D[CAT],2,D_D[LOC],$A32),0)","v":29639},{"$f":"IFERROR(SUMIFS(D_D[ADP],D_D[MT],9,D_D[CAT],2,D_D[LOC],$A32),0)","v":6596},{"$f":"IFERROR(I32/H32,0)","v":0.22254462026384156}]
[316,"Atlanta",null,null,null,null,{"$f":"IFERROR(SUMIFS(D_D[INV],D_D[MT],9,D_D[CAT],2,D_D[LOC],$A33),0)","v":0},{"$f":"IFERROR(SUMIFS(D_D[BL],D_D[MT],9,D_D[CAT],2,D_D[LOC],$A33),0)","v":0},{"$f":"IFERROR(SUMIFS(D_D[ADP],D_D[MT],9,D_D[CAT],2,D_D[LOC],$A33),0)","v":0},{"$f":"IF(H33=0, 0,I33/H33)","v":0}]
[331,"St Louis",null,null,null,null,{"$f":"IFERROR(SUMIFS(D_D[INV],D_D[MT],9,D_D[CAT],2,D_D[LOC],$A34),0)","v":0},{"$f":"IFERROR(SUMIFS(D_D[BL],D_D[MT],9,D_D[CAT],2,D_D[LOC],$A34),0)","v":0},{"$f":"IFERROR(SUMIFS(D_D[ADP],D_D[MT],9,D_D[CAT],2,D_D[LOC],$A34),0)","v":0},{"$f":"IFERROR(I34/H34,0)","v":0}]
[351,"Muskogee",null,null,null,null,{"$f":"IFERROR(SUMIFS(D_D[INV],D_D[MT],9,D_D[CAT],2,D_D[LOC],$A35),0)","v":56099},{"$f":"IFERROR(SUMIFS(D_D[BL],D_D[MT],9,D_D[CAT],2,D_D[LOC],$A35),0)","v":49214},{"$f":"IFERROR(SUMIFS(D_D[ADP],D_D[MT],9,D_D[CAT],2,D_D[LOC],$A35),0)","v":6885},{"$f":"IFERROR(I35/H35,0)","v":0.1398992156703377}]
[]
[null,"*Chapter 33 is the Post-9/11GI Bill. "]
[null,"**Represents all Education Benefit Programs, including  Chapter 33 claims."]

{"sheet":"Rating Bundle - SOJ","index":2,"n_rows":35,"n_cols":17,"rows_kept":35,"cut":false,"hidden":false,"merged":[[8,12,10,12],[8,13,8,14],[9,14,10,14],[8,15,8,16],[6,11,6,16],[8,8,10,8],[8,9,10,9],[8,10,10,10],[8,11,10,11],[1,3,1,10],[1,11,1,16],[2,3,2,10],[2,11,2,16],[8,3,10,3],[8,4,10,4],[8,5,10,5],[8,6,10,6],[8,7,10,7],[9,16,10,16],[7,3,7,10],[7,11,7,16]]}
[]
[null,null,"DISTRICT SELECTOR","Compensation and Pension Rating Bundle Metrics",null,null,null,null,null,null,null,"Report through"]
[null,null,null,"Station of Jurisdiction View",null,null,null,null,null,null,null,{"$f":"D_DT[]","v":"2021-08-21"}]
[null,null,null,"The Station of Jurisdiction (SOJ)  is the regional office assigned to work the claim",null,null,null,null,null,null,null,"ADP = Average Days Pending",null,null,"MTD = Month to Date"]
[null,null,null,"Each Special Mission has distinct claim counts",null,null,null,null,null,null,null,"ADC = Average Days to Complete",null,null,"FYTD = Fiscal Year to Date"]
[null,null,null,"When Special Mission is set to Pension, BDD, or Quickstart, the District Selector has no impact"]
[null,null,null,null,null,null,null,null,null,null,null,"Accuracy is available in Compensation and Pension Special Missions"]
[null,null,null,"CLAIM METRICS",null,null,null,null,null,null,null,"ACCURACY METRICS"]
[null,null,"SPECIAL MISSION SELECTOR","#\nPending","#\nPending\n> 125 Days","%\nPending\n> 125 Days","ADP","#\nCompleted\nMTD","ADC\nMTD","#\nCompleted\nFYTD","ADC\nFYTD","Rating\n3 Month Issue","Rating\n3 Month\nClaim","Rating 12 Month",null,"Authorization 12 Month"]
[null,null,null,null,null,null,null,null,null,null,null,null,null,"%","Margin of Error +/-","%","Margin of Error +/-"]
[null,null,null,null,null,null,null,null,null,null,null,null,null,"Correct",null,"Correct"]
[100,null,{"$f":"Driver!$C$20& \" Total\"","v":"USA - All Missions Total"},{"$f":"IF(ISNA($A12),\"\",IFERROR(SUMIFS(D_D[INV],D_D[MT],5,D_D[CAT],SMS, D_D[EP],-1,D_D[LOC],$A12),0))","v":591099},{"$f":"IF(ISNA($A12),\"\",IFERROR(SUMIFS(D_D[BL],D_D[MT],5,D_D[CAT],SMS, D_D[EP],-1,D_D[LOC],$A12),0))","v":181570},{"$f":"IF(ISNA($A12),\"\",IFERROR(E12/D12,0))","v":0.30717358682724888},{"$f":"IF(ISNA($A12),\"\",IFERROR(SUMIFS(D_D[ADP],D_D[MT],5,D_D[CAT],SMS, D_D[EP],-1,D_D[LOC],$A12),0))","v":141.08000000000001},{"$f":"IF(ISNA($A12),\"\",IFERROR(SUMIFS(D_D[PROD_MTD],D_D[MT],5,D_D[CAT],SMS, D_D[EP],-1,D_D[LOC],$A12),0))","v":98255},{"$f":"IF(ISNA($A12),\"\",IFERROR(SUMIFS(D_D[ADCM],D_D[MT],5,D_D[CAT],SMS, D_D[EP],-1,D_D[LOC],$A12),0))","v":114.08},{"$f":"IF(ISNA($A12),\"\",IFERROR(SUMIFS(D_D[PROD_FYTD],D_D[MT],5,D_D[CAT],SMS, D_D[EP],-1,D_D[LOC],$A12),0))","v":1344665},{"$f":"IF(ISNA($A12),\"\",IFERROR(SUMIFS(D_D[ADCF],D_D[MT],5,D_D[CAT],SMS, D_D[EP],-1,D_D[LOC],$A12),0))","v":111.45},{"$f":"IF(ISNA($A12-99),\"\",IFERROR(SUMIFS(D_D[INV],D_D[MT],8,D_D[CAT],SMS,D_D[LOC],$A12-99),0))","v":0},{"$f":"IF(ISNA($A12-99),\"\",IFERROR(SUMIFS(D_D[BL],D_D[MT],8,D_D[CAT],SMS,D_D[LOC],$A12-99),0))","v":0},{"$f":"IF(ISNA($A12-99),\"\",IFERROR(SUMIFS(D_D[ADP],D_D[MT],8,D_D[CAT],SMS,D_D[LOC],$A12-99),0))","v":0},{"$f":"IF(ISNA($A12-99),\"\",IFERROR(SUMIFS(D_D[PROD_MTD],D_D[MT],8,D_D[CAT],SMS,D_D[LOC],$A12-99),0))","v":0},{"$f":"IF(ISNA($A12-99),\"\",IFERROR(SUMIFS(D_D[PROD_FYTD],D_D[MT],8,D_D[CAT],SMS,D_D[LOC],$A12-99),0))","v":0},{"$f":"IF(ISNA($A12-99),\"\",IFERROR(SUMIFS(D_D[ADCM],D_D[MT],8,D_D[CAT],SMS,D_D[LOC],$A12-99),0))","v":0}]
[{"$f":"INDEX(RO,(MATCH($C13,RO_D,0)))","v":394},1,{"$f":"IFERROR(INDEX(INDIRECT(DS_RO_N),B13),\"\")","v":"Northeast District"},{"$f":"IF(ISNA($A13),\"\",IFERROR(SUMIFS(D_D[INV],D_D[MT],5,D_D[CAT],SMS, D_D[EP],-1,D_D[LOC],$A13),0))","v":19088},{"$f":"IF(ISNA($A13),\"\",IFERROR(SUMIFS(D_D[BL],D_D[MT],5,D_D[CAT],SMS, D_D[EP],-1,D_D[LOC],$A13),0))","v":6514},{"$f":"IF(ISNA($A13),\"\",IFERROR(E13/D13,0))","v":0.34126152556580053},{"$f":"IF(ISNA($A13),\"\",IFERROR(SUMIFS(D_D[ADP],D_D[MT],5,D_D[CAT],SMS, D_D[EP],-1,D_D[LOC],$A13),0))","v":129.83000000000001},{"$f":"IF(ISNA($A13),\"\",IFERROR(SUMIFS(D_D[PROD_MTD],D_D[MT],5,D_D[CAT],SMS, D_D[EP],-1,D_D[LOC],$A13),0))","v":23100},{"$f":"IF(ISNA($A13),\"\",IFERROR(SUMIFS(D_D[ADCM],D_D[MT],5,D_D[CAT],SMS, D_D[EP],-1,D_D[LOC],$A13),0))","v":121.08},{"$f":"IF(ISNA($A13),\"\",IFERROR(SUMIFS(D_D[PROD_FYTD],D_D[MT],5,D_D[CAT],SMS, D_D[EP],-1,D_D[LOC],$A13),0))","v":320548},{"$f":"IF(ISNA($A13),\"\",IFERROR(SUMIFS(D_D[ADCF],D_D[MT],5,D_D[CAT],SMS, D_D[EP],-1,D_D[LOC],$A13),0))","v":107.25},{"$f":"IF(ISNA($A13),\"\",IFERROR(SUMIFS(D_D[INV],D_D[MT],8,D_D[CAT],SMS,D_D[LOC],$A13),0))","v":0},{"$f":"IF(ISNA($A13),\"\",IFERROR(SUMIFS(D_D[BL],D_D[MT],8,D_D[CAT],SMS,D_D[LOC],$A13),0))","v":0},{"$f":"IF(ISNA($A13),\"\",IFERROR(SUMIFS(D_D[ADP],D_D[MT],8,D_D[CAT],SMS,D_D[LOC],$A13),0))","v":0},{"$f":"IF(ISNA($A13),\"\",IFERROR(SUMIFS(D_D[PROD_MTD],D_D[MT],8,D_D[CAT],SMS,D_D[LOC],$A13),0))","v":0},{"$f":"IF(ISNA($A13),\"\",IFERROR(SUMIFS(D_D[PROD_FYTD],D_D[MT],8,D_D[CAT],SMS,D_D[LOC],$A13),0))","v":0},{"$f":"IF(ISNA($A13),\"\",IFERROR(SUMIFS(D_D[ADCM],D_D[MT],8,D_D[CAT],SMS,D_D[LOC],$A13),0))","v":0}]
["313",2,{"$f":"IFERROR(INDEX(INDIRECT(DS_RO_N),B14),\"\")","v":"Baltimore"},{"$f":"IF(ISNA($A14),\"\",IFERROR(SUMIFS(D_D[INV],D_D[MT],5,D_D[CAT],SMS, D_D[EP],-1,D_D[LOC],$A14),0))","v":434},{"$f":"IF(ISNA($A14),\"\",IFERROR(SUMIFS(D_D[BL],D_D[MT],5,D_D[CAT],SMS, D_D[EP],-1,D_D[LOC],$A14),0))","v":108},{"$f":"IF(ISNA($A14),\"\",IFERROR(E14/D14,0))","v":0.24884792626728111},{"$f":"IF(ISNA($A14),\"\",IFERROR(SUMIFS(D_D[ADP],D_D[MT],5,D_D[CAT],SMS, D_D[EP],-1,D_D[LOC],$A14),0))","v":94.66},{"$f":"IF(ISNA($A14),\"\",IFERROR(SUMIFS(D_D[PROD_MTD],D_D[MT],5,D_D[CAT],SMS, D_D[EP],-1,D_D[LOC],$A14),0))","v":661},{"$f":"IF(ISNA($A14),\"\",IFERROR(SUMIFS(D_D[ADCM],D_D[MT],5,D_D[CAT],SMS, D_D[EP],-1,D_D[LOC],$A14),0))","v":151.08000000000001},{"$f":"IF(ISNA($A14),\"\",IFERROR(SUMIFS(D_D[PROD_FYTD],D_D[MT],5,D_D[CAT],SMS, D_D[EP],-1,D_D[LOC],$A14),0))","v":7023},{"$f":"IF(ISNA($A14),\"\",IFERROR(SUMIFS(D_D[ADCF],D_D[MT],5,D_D[CAT],SMS, D_D[EP],-1,D_D[LOC],$A14),0))","v":107.96},{"$f":"IF(ISNA($A14),\"\",IFERROR(SUMIFS(D_D[INV],D_D[MT],8,D_D[CAT],SMS,D_D[LOC],$A14),0))","v":0},{"$f":"IF(ISNA($A14),\"\",IFERROR(SUMIFS(D_D[BL],D_D[MT],8,D_D[CAT],SMS,D_D[LOC],$A14),0))","v":0},{"$f":"IF(ISNA($A14),\"\",IFERROR(SUMIFS(D_D[ADP],D_D[MT],8,D_D[CAT],SMS,D_D[LOC],$A14),0))","v":0},{"$f":"IF(ISNA($A14),\"\",IFERROR(SUMIFS(D_D[PROD_MTD],D_D[MT],8,D_D[CAT],SMS,D_D[LOC],$A14),0))","v":0},{"$f":"IF(ISNA($A14),\"\",IFERROR(SUMIFS(D_D[PROD_FYTD],D_D[MT],8,D_D[CAT],SMS,D_D[LOC],$A14),0))","v":0},{"$f":"IF(ISNA($A14),\"\",IFERROR(SUMIFS(D_D[ADCM],D_D[MT],8,D_D[CAT],SMS,D_D[LOC],$A14),0))","v":0}]
["301",3,"Boston",{"$f":"IF(ISNA($A15),\"\",IFERROR(SUMIFS(D_D[INV],D_D[MT],5,D_D[CAT],SMS, D_D[EP],-1,D_D[LOC],$A15),0))","v":484},{"$f":"IF(ISNA($A15),\"\",IFERROR(SUMIFS(D_D[BL],D_D[MT],5,D_D[CAT],SMS, D_D[EP],-1,D_D[LOC],$A15),0))","v":135},0.27892561983471076,{"$f":"IF(ISNA($A15),\"\",IFERROR(SUMIFS(D_D[ADP],D_D[MT],5,D_D[CAT],SMS, D_D[EP],-1,D_D[LOC],$A15),0))","v":118.96},{"$f":"IF(ISNA($A15),\"\",IFERROR(SUMIFS(D_D[PROD_MTD],D_D[MT],5,D_D[CAT],SMS, D_D[EP],-1,D_D[LOC],$A15),0))","v":977},{"$f":"IF(ISNA($A15),\"\",IFERROR(SUMIFS(D_D[ADCM],D_D[MT],5,D_D[CAT],SMS, D_D[EP],-1,D_D[LOC],$A15),0))","v":134.56},{"$f":"IF(ISNA($A15),\"\",IFERROR(SUMIFS(D_D[PROD_FYTD],D_D[MT],5,D_D[CAT],SMS, D_D[EP],-1,D_D[LOC],$A15),0))","v":11724},{"$f":"IF(ISNA($A15),\"\",IFERROR(SUMIFS(D_D[ADCF],D_D[MT],5,D_D[CAT],SMS, D_D[EP],-1,D_D[LOC],$A15),0))","v":106.22},{"$f":"IF(ISNA($A15),\"\",IFERROR(SUMIFS(D_D[INV],D_D[MT],8,D_D[CAT],SMS,D_D[LOC],$A15),0))","v":0},{"$f":"IF(ISNA($A15),\"\",IFERROR(SUMIFS(D_D[BL],D_D[MT],8,D_D[CAT],SMS,D_D[LOC],$A15),0))","v":0},{"$f":"IF(ISNA($A15),\"\",IFERROR(SUMIFS(D_D[ADP],D_D[MT],8,D_D[CAT],SMS,D_D[LOC],$A15),0))","v":0},{"$f":"IF(ISNA($A15),\"\",IFERROR(SUMIFS(D_D[PROD_MTD],D_D[MT],8,D_D[CAT],SMS,D_D[LOC],$A15),0))","v":0},{"$f":"IF(ISNA($A15),\"\",IFERROR(SUMIFS(D_D[PROD_FYTD],D_D[MT],8,D_D[CAT],SMS,D_D[LOC],$A15),0))","v":0},{"$f":"IF(ISNA($A15),\"\",IFERROR(SUMIFS(D_D[ADCM],D_D[MT],8,D_D[CAT],SMS,D_D[LOC],$A15),0))","v":0}]
["307",4,"Buffalo",{"$f":"IF(ISNA($A16),\"\",IFERROR(SUMIFS(D_D[INV],D_D[MT],5,D_D[CAT],SMS, D_D[EP],-1,D_D[LOC],$A16),0))","v":627},{"$f":"IF(ISNA($A16),\"\",IFERROR(SUMIFS(D_D[BL],D_D[MT],5,D_D[CAT],SMS, D_D[EP],-1,D_D[LOC],$A16),0))","v":234},0.37320574162679426,{"$f":"IF(ISNA($A16),\"\",IFERROR(SUMIFS(D_D[ADP],D_D[MT],5,D_D[CAT],SMS, D_D[EP],-1,D_D[LOC],$A16),0))","v":134.76},{"$f":"IF(ISNA($A16),\"\",IFERROR(SUMIFS(D_D[PROD_MTD],D_D[MT],5,D_D[CAT],SMS, D_D[EP],-1,D_D[LOC],$A16),0))","v":696},{"$f":"IF(ISNA($A16),\"\",IFERROR(SUMIFS(D_D[ADCM],D_D[MT],5,D_D[CAT],SMS, D_D[EP],-1,D_D[LOC],$A16),0))","v":185.99},{"$f":"IF(ISNA($A16),\"\",IFERROR(SUMIFS(D_D[PROD_FYTD],D_D[MT],5,D_D[CAT],SMS, D_D[EP],-1,D_D[LOC],$A16),0))","v":8092},{"$f":"IF(ISNA($A16),\"\",IFERROR(SUMIFS(D_D[ADCF],D_D[MT],5,D_D[CAT],SMS, D_D[EP],-1,D_D[LOC],$A16),0))","v":136.25},{"$f":"IF(ISNA($A16),\"\",IFERROR(SUMIFS(D_D[INV],D_D[MT],8,D_D[CAT],SMS,D_D[LOC],$A16),0))","v":0},{"$f":"IF(ISNA($A16),\"\",IFERROR(SUMIFS(D_D[BL],D_D[MT],8,D_D[CAT],SMS,D_D[LOC],$A16),0))","v":0},{"$f":"IF(ISNA($A16),\"\",IFERROR(SUMIFS(D_D[ADP],D_D[MT],8,D_D[CAT],SMS,D_D[LOC],$A16),0))","v":0},{"$f":"IF(ISNA($A16),\"\",IFERROR(SUMIFS(D_D[PROD_MTD],D_D[MT],8,D_D[CAT],SMS,D_D[LOC],$A16),0))","v":0},{"$f":"IF(ISNA($A16),\"\",IFERROR(SUMIFS(D_D[PROD_FYTD],D_D[MT],8,D_D[CAT],SMS,D_D[LOC],$A16),0))","v":0},{"$f":"IF(ISNA($A16),\"\",IFERROR(SUMIFS(D_D[ADCM],D_D[MT],8,D_D[CAT],SMS,D_D[LOC],$A16),0))","v":0}]
["328",5,"Chicago",{"$f":"IF(ISNA($A17),\"\",IFERROR(SUMIFS(D_D[INV],D_D[MT],5,D_D[CAT],SMS, D_D[EP],-1,D_D[LOC],$A17),0))","v":527},{"$f":"IF(ISNA($A17),\"\",IFERROR(SUMIFS(D_D[BL],D_D[MT],5,D_D[CAT],SMS, D_D[EP],-1,D_D[LOC],$A17),0))","v":167},0.31688804554079697,{"$f":"IF(ISNA($A17),\"\",IFERROR(SUMIFS(D_D[ADP],D_D[MT],5,D_D[CAT],SMS, D_D[EP],-1,D_D[LOC],$A17),0))","v":121.9},{"$f":"IF(ISNA($A17),\"\",IFERROR(SUMIFS(D_D[PROD_MTD],D_D[MT],5,D_D[CAT],SMS, D_D[EP],-1,D_D[LOC],$A17),0))","v":768},{"$f":"IF(ISNA($A17),\"\",IFERROR(SUMIFS(D_D[ADCM],D_D[MT],5,D_D[CAT],SMS, D_D[EP],-1,D_D[LOC],$A17),0))","v":128.13999999999999},{"$f":"IF(ISNA($A17),\"\",IFERROR(SUMIFS(D_D[PROD_FYTD],D_D[MT],5,D_D[CAT],SMS, D_D[EP],-1,D_D[LOC],$A17),0))","v":10305},{"$f":"IF(ISNA($A17),\"\",IFERROR(SUMIFS(D_D[ADCF],D_D[MT],5,D_D[CAT],SMS, D_D[EP],-1,D_D[LOC],$A17),0))","v":88.58},{"$f":"IF(ISNA($A17),\"\",IFERROR(SUMIFS(D_D[INV],D_D[MT],8,D_D[CAT],SMS,D_D[LOC],$A17),0))","v":0},{"$f":"IF(ISNA($A17),\"\",IFERROR(SUMIFS(D_D[BL],D_D[MT],8,D_D[CAT],SMS,D_D[LOC],$A17),0))","v":0},{"$f":"IF(ISNA($A17),\"\",IFERROR(SUMIFS(D_D[ADP],D_D[MT],8,D_D[CAT],SMS,D_D[LOC],$A17),0))","v":0},{"$f":"IF(ISNA($A17),\"\",IFERROR(SUMIFS(D_D[PROD_MTD],D_D[MT],8,D_D[CAT],SMS,D_D[LOC],$A17),0))","v":0},{"$f":"IF(ISNA($A17),\"\",IFERROR(SUMIFS(D_D[PROD_FYTD],D_D[MT],8,D_D[CAT],SMS,D_D[LOC],$A17),0))","v":0},{"$f":"IF(ISNA($A17),\"\",IFERROR(SUMIFS(D_D[ADCM],D_D[MT],8,D_D[CAT],SMS,D_D[LOC],$A17),0))","v":0}]
["325",6,"Cleveland",{"$f":"IF(ISNA($A18),\"\",IFERROR(SUMIFS(D_D[INV],D_D[MT],5,D_D[CAT],SMS, D_D[EP],-1,D_D[LOC],$A18),0))","v":2264},{"$f":"IF(ISNA($A18),\"\",IFERROR(SUMIFS(D_D[BL],D_D[MT],5,D_D[CAT],SMS, D_D[EP],-1,D_D[LOC],$A18),0))","v":1105},0.48807420494699649,{"$f":"IF(ISNA($A18),\"\",IFERROR(SUMIFS(D_D[ADP],D_D[MT],5,D_D[CAT],SMS, D_D[EP],-1,D_D[LOC],$A18),0))","v":159.28},{"$f":"IF(ISNA($A18),\"\",IFERROR(SUMIFS(D_D[PROD_MTD],D_D[MT],5,D_D[CAT],SMS, D_D[EP],-1,D_D[LOC],$A18),0))","v":1475},{"$f":"IF(ISNA($A18),\"\",IFERROR(SUMIFS(D_D[ADCM],D_D[MT],5,D_D[CAT],SMS, D_D[EP],-1,D_D[LOC],$A18),0))","v":176.36},{"$f":"IF(ISNA($A18),\"\",IFERROR(SUMIFS(D_D[PROD_FYTD],D_D[MT],5,D_D[CAT],SMS, D_D[EP],-1,D_D[LOC],$A18),0))","v":18414},{"$f":"IF(ISNA($A18),\"\",IFERROR(SUMIFS(D_D[ADCF],D_D[MT],5,D_D[CAT],SMS, D_D[EP],-1,D_D[LOC],$A18),0))","v":169.24},{"$f":"IF(ISNA($A18),\"\",IFERROR(SUMIFS(D_D[INV],D_D[MT],8,D_D[CAT],SMS,D_D[LOC],$A18),0))","v":0},{"$f":"IF(ISNA($A18),\"\",IFERROR(SUMIFS(D_D[BL],D_D[MT],8,D_D[CAT],SMS,D_D[LOC],$A18),0))","v":0},{"$f":"IF(ISNA($A18),\"\",IFERROR(SUMIFS(D_D[ADP],D_D[MT],8,D_D[CAT],SMS,D_D[LOC],$A18),0))","v":0},{"$f":"IF(ISNA($A18),\"\",IFERROR(SUMIFS(D_D[PROD_MTD],D_D[MT],8,D_D[CAT],SMS,D_D[LOC],$A18),0))","v":0},{"$f":"IF(ISNA($A18),\"\",IFERROR(SUMIFS(D_D[PROD_FYTD],D_D[MT],8,D_D[CAT],SMS,D_D[LOC],$A18),0))","v":0},{"$f":"IF(ISNA($A18),\"\",IFERROR(SUMIFS(D_D[ADCM],D_D[MT],8,D_D[CAT],SMS,D_D[LOC],$A18),0))","v":0}]
["329",7,"Detroit",{"$f":"IF(ISNA($A19),\"\",IFERROR(SUMIFS(D_D[INV],D_D[MT],5,D_D[CAT],SMS, D_D[EP],-1,D_D[LOC],$A19),0))","v":1025},{"$f":"IF(ISNA($A19),\"\",IFERROR(SUMIFS(D_D[BL],D_D[MT],5,D_D[CAT],SMS, D_D[EP],-1,D_D[LOC],$A19),0))","v":235},0.22926829268292684,{"$f":"IF(ISNA($A19),\"\",IFERROR(SUMIFS(D_D[ADP],D_D[MT],5,D_D[CAT],SMS, D_D[EP],-1,D_D[LOC],$A19),0))","v":95.06},{"$f":"IF(ISNA($A19),\"\",IFERROR(SUMIFS(D_D[PROD_MTD],D_D[MT],5,D_D[CAT],SMS, D_D[EP],-1,D_D[LOC],$A19),0))","v":1851},{"$f":"IF(ISNA($A19),\"\",IFERROR(SUMIFS(D_D[ADCM],D_D[MT],5,D_D[CAT],SMS, D_D[EP],-1,D_D[LOC],$A19),0))","v":94.77},{"$f":"IF(ISNA($A19),\"\",IFERROR(SUMIFS(D_D[PROD_FYTD],D_D[MT],5,D_D[CAT],SMS, D_D[EP],-1,D_D[LOC],$A19),0))","v":23059},{"$f":"IF(ISNA($A19),\"\",IFERROR(SUMIFS(D_D[ADCF],D_D[MT],5,D_D[CAT],SMS, D_D[EP],-1,D_D[LOC],$A19),0))","v":98.75},{"$f":"IF(ISNA($A19),\"\",IFERROR(SUMIFS(D_D[INV],D_D[MT],8,D_D[CAT],SMS,D_D[LOC],$A19),0))","v":0},{"$f":"IF(ISNA($A19),\"\",IFERROR(SUMIFS(D_D[BL],D_D[MT],8,D_D[CAT],SMS,D_D[LOC],$A19),0))","v":0},{"$f":"IF(ISNA($A19),\"\",IFERROR(SUMIFS(D_D[ADP],D_D[MT],8,D_D[CAT],SMS,D_D[LOC],$A19),0))","v":0},{"$f":"IF(ISNA($A19),\"\",IFERROR(SUMIFS(D_D[PROD_MTD],D_D[MT],8,D_D[CAT],SMS,D_D[LOC],$A19),0))","v":0},{"$f":"IF(ISNA($A19),\"\",IFERROR(SUMIFS(D_D[PROD_FYTD],D_D[MT],8,D_D[CAT],SMS,D_D[LOC],$A19),0))","v":0},{"$f":"IF(ISNA($A19),\"\",IFERROR(SUMIFS(D_D[ADCM],D_D[MT],8,D_D[CAT],SMS,D_D[LOC],$A19),0))","v":0}]
["308",8,"Hartford",{"$f":"IF(ISNA($A20),\"\",IFERROR(SUMIFS(D_D[INV],D_D[MT],5,D_D[CAT],SMS, D_D[EP],-1,D_D[LOC],$A20),0))","v":588},{"$f":"IF(ISNA($A20),\"\",IFERROR(SUMIFS(D_D[BL],D_D[MT],5,D_D[CAT],SMS, D_D[EP],-1,D_D[LOC],$A20),0))","v":295},0.50170068027210879,{"$f":"IF(ISNA($A20),\"\",IFERROR(SUMIFS(D_D[ADP],D_D[MT],5,D_D[CAT],SMS, D_D[EP],-1,D_D[LOC],$A20),0))","v":181.54},{"$f":"IF(ISNA($A20),\"\",IFERROR(SUMIFS(D_D[PROD_MTD],D_D[MT],5,D_D[CAT],SMS, D_D[EP],-1,D_D[LOC],$A20),0))","v":719},{"$f":"IF(ISNA($A20),\"\",IFERROR(SUMIFS(D_D[ADCM],D_D[MT],5,D_D[CAT],SMS, D_D[EP],-1,D_D[LOC],$A20),0))","v":176.73},{"$f":"IF(ISNA($A20),\"\",IFERROR(SUMIFS(D_D[PROD_FYTD],D_D[MT],5,D_D[CAT],SMS, D_D[EP],-1,D_D[LOC],$A20),0))","v":9622},{"$f":"IF(ISNA($A20),\"\",IFERROR(SUMIFS(D_D[ADCF],D_D[MT],5,D_D[CAT],SMS, D_D[EP],-1,D_D[LOC],$A20),0))","v":108.93},{"$f":"IF(ISNA($A20),\"\",IFERROR(SUMIFS(D_D[INV],D_D[MT],8,D_D[CAT],SMS,D_D[LOC],$A20),0))","v":0},{"$f":"IF(ISNA($A20),\"\",IFERROR(SUMIFS(D_D[BL],D_D[MT],8,D_D[CAT],SMS,D_D[LOC],$A20),0))","v":0},{"$f":"IF(ISNA($A20),\"\",IFERROR(SUMIFS(D_D[ADP],D_D[MT],8,D_D[CAT],SMS,D_D[LOC],$A20),0))","v":0},{"$f":"IF(ISNA($A20),\"\",IFERROR(SUMIFS(D_D[PROD_MTD],D_D[MT],8,D_D[CAT],SMS,D_D[LOC],$A20),0))","v":0},{"$f":"IF(ISNA($A20),\"\",IFERROR(SUMIFS(D_D[PROD_FYTD],D_D[MT],8,D_D[CAT],SMS,D_D[LOC],$A20),0))","v":0},{"$f":"IF(ISNA($A20),\"\",IFERROR(SUMIFS(D_D[ADCM],D_D[MT],8,D_D[CAT],SMS,D_D[LOC],$A20),0))","v":0}]
["326",9,"Indianapolis",{"$f":"IF(ISNA($A21),\"\",IFERROR(SUMIFS(D_D[INV],D_D[MT],5,D_D[CAT],SMS, D_D[EP],-1,D_D[LOC],$A21),0))","v":745},{"$f":"IF(ISNA($A21),\"\",IFERROR(SUMIFS(D_D[BL],D_D[MT],5,D_D[CAT],SMS, D_D[EP],-1,D_D[LOC],$A21),0))","v":230},0.3087248322147651,{"$f":"IF(ISNA($A21),\"\",IFERROR(SUMIFS(D_D[ADP],D_D[MT],5,D_D[CAT],SMS, D_D[EP],-1,D_D[LOC],$A21),0))","v":131.78},{"$f":"IF(ISNA($A21),\"\",IFERROR(SUMIFS(D_D[PROD_MTD],D_D[MT],5,D_D[CAT],SMS, D_D[EP],-1,D_D[LOC],$A21),0))","v":1554},{"$f":"IF(ISNA($A21),\"\",IFERROR(SUMIFS(D_D[ADCM],D_D[MT],5,D_D[CAT],SMS, D_D[EP],-1,D_D[LOC],$A21),0))","v":115.96},{"$f":"IF(ISNA($A21),\"\",IFERROR(SUMIFS(D_D[PROD_FYTD],D_D[MT],5,D_D[CAT],SMS, D_D[EP],-1,D_D[LOC],$A21),0))","v":18058},{"$f":"IF(ISNA($A21),\"\",IFERROR(SUMIFS(D_D[ADCF],D_D[MT],5,D_D[CAT],SMS, D_D[EP],-1,D_D[LOC],$A21),0))","v":124.59},{"$f":"IF(ISNA($A21),\"\",IFERROR(SUMIFS(D_D[INV],D_D[MT],8,D_D[CAT],SMS,D_D[LOC],$A21),0))","v":0},{"$f":"IF(ISNA($A21),\"\",IFERROR(SUMIFS(D_D[BL],D_D[MT],8,D_D[CAT],SMS,D_D[LOC],$A21),0))","v":0},{"$f":"IF(ISNA($A21),\"\",IFERROR(SUMIFS(D_D[ADP],D_D[MT],8,D_D[CAT],SMS,D_D[LOC],$A21),0))","v":0},{"$f":"IF(ISNA($A21),\"\",IFERROR(SUMIFS(D_D[PROD_MTD],D_D[MT],8,D_D[CAT],SMS,D_D[LOC],$A21),0))","v":0},{"$f":"IF(ISNA($A21),\"\",IFERROR(SUMIFS(D_D[PROD_FYTD],D_D[MT],8,D_D[CAT],SMS,D_D[LOC],$A21),0))","v":0},{"$f":"IF(ISNA($A21),\"\",IFERROR(SUMIFS(D_D[ADCM],D_D[MT],8,D_D[CAT],SMS,D_D[LOC],$A21),0))","v":0}]
["373",10,"Manchester",{"$f":"IF(ISNA($A22),\"\",IFERROR(SUMIFS(D_D[INV],D_D[MT],5,D_D[CAT],SMS, D_D[EP],-1,D_D[LOC],$A22),0))","v":234},{"$f":"IF(ISNA($A22),\"\",IFERROR(SUMIFS(D_D[BL],D_D[MT],5,D_D[CAT],SMS, D_D[EP],-1,D_D[LOC],$A22),0))","v":101},0.43162393162393164,{"$f":"IF(ISNA($A22),\"\",IFERROR(SUMIFS(D_D[ADP],D_D[MT],5,D_D[CAT],SMS, D_D[EP],-1,D_D[LOC],$A22),0))","v":152.72},{"$f":"IF(ISNA($A22),\"\",IFERROR(SUMIFS(D_D[PROD_MTD],D_D[MT],5,D_D[CAT],SMS, D_D[EP],-1,D_D[LOC],$A22),0))","v":397},{"$f":"IF(ISNA($A22),\"\",IFERROR(SUMIFS(D_D[ADCM],D_D[MT],5,D_D[CAT],SMS, D_D[EP],-1,D_D[LOC],$A22),0))","v":191.27},{"$f":"IF(ISNA($A22),\"\",IFERROR(SUMIFS(D_D[PROD_FYTD],D_D[MT],5,D_D[CAT],SMS, D_D[EP],-1,D_D[LOC],$A22),0))","v":3891},{"$f":"IF(ISNA($A22),\"\",IFERROR(SUMIFS(D_D[ADCF],D_D[MT],5,D_D[CAT],SMS, D_D[EP],-1,D_D[LOC],$A22),0))","v":126.3},{"$f":"IF(ISNA($A22),\"\",IFERROR(SUMIFS(D_D[INV],D_D[MT],8,D_D[CAT],SMS,D_D[LOC],$A22),0))","v":0},{"$f":"IF(ISNA($A22),\"\",IFERROR(SUMIFS(D_D[BL],D_D[MT],8,D_D[CAT],SMS,D_D[LOC],$A22),0))","v":0},{"$f":"IF(ISNA($A22),\"\",IFERROR(SUMIFS(D_D[ADP],D_D[MT],8,D_D[CAT],SMS,D_D[LOC],$A22),0))","v":0},{"$f":"IF(ISNA($A22),\"\",IFERROR(SUMIFS(D_D[PROD_MTD],D_D[MT],8,D_D[CAT],SMS,D_D[LOC],$A22),0))","v":0},{"$f":"IF(ISNA($A22),\"\",IFERROR(SUMIFS(D_D[PROD_FYTD],D_D[MT],8,D_D[CAT],SMS,D_D[LOC],$A22),0))","v":0},{"$f":"IF(ISNA($A22),\"\",IFERROR(SUMIFS(D_D[ADCM],D_D[MT],8,D_D[CAT],SMS,D_D[LOC],$A22),0))","v":0}]
["330",11,"Milwaukee",{"$f":"IF(ISNA($A23),\"\",IFERROR(SUMIFS(D_D[INV],D_D[MT],5,D_D[CAT],SMS, D_D[EP],-1,D_D[LOC],$A23),0))","v":1610},{"$f":"IF(ISNA($A23),\"\",IFERROR(SUMIFS(D_D[BL],D_D[MT],5,D_D[CAT],SMS, D_D[EP],-1,D_D[LOC],$A23),0))","v":238},0.14782608695652175,{"$f":"IF(ISNA($A23),\"\",IFERROR(SUMIFS(D_D[ADP],D_D[MT],5,D_D[CAT],SMS, D_D[EP],-1,D_D[LOC],$A23),0))","v":78.16},{"$f":"IF(ISNA($A23),\"\",IFERROR(SUMIFS(D_D[PROD_MTD],D_D[MT],5,D_D[CAT],SMS, D_D[EP],-1,D_D[LOC],$A23),0))","v":3232},{"$f":"IF(ISNA($A23),\"\",IFERROR(SUMIFS(D_D[ADCM],D_D[MT],5,D_D[CAT],SMS, D_D[EP],-1,D_D[LOC],$A23),0))","v":74.180000000000007},{"$f":"IF(ISNA($A23),\"\",IFERROR(SUMIFS(D_D[PROD_FYTD],D_D[MT],5,D_D[CAT],SMS, D_D[EP],-1,D_D[LOC],$A23),0))","v":46117},{"$f":"IF(ISNA($A23),\"\",IFERROR(SUMIFS(D_D[ADCF],D_D[MT],5,D_D[CAT],SMS, D_D[EP],-1,D_D[LOC],$A23),0))","v":75.19},{"$f":"IF(ISNA($A23),\"\",IFERROR(SUMIFS(D_D[INV],D_D[MT],8,D_D[CAT],SMS,D_D[LOC],$A23),0))","v":0},{"$f":"IF(ISNA($A23),\"\",IFERROR(SUMIFS(D_D[BL],D_D[MT],8,D_D[CAT],SMS,D_D[LOC],$A23),0))","v":0},{"$f":"IF(ISNA($A23),\"\",IFERROR(SUMIFS(D_D[ADP],D_D[MT],8,D_D[CAT],SMS,D_D[LOC],$A23),0))","v":0},{"$f":"IF(ISNA($A23),\"\",IFERROR(SUMIFS(D_D[PROD_MTD],D_D[MT],8,D_D[CAT],SMS,D_D[LOC],$A23),0))","v":0},{"$f":"IF(ISNA($A23),\"\",IFERROR(SUMIFS(D_D[PROD_FYTD],D_D[MT],8,D_D[CAT],SMS,D_D[LOC],$A23),0))","v":0},{"$f":"IF(ISNA($A23),\"\",IFERROR(SUMIFS(D_D[ADCM],D_D[MT],8,D_D[CAT],SMS,D_D[LOC],$A23),0))","v":0}]
["306",12,"New York",{"$f":"IF(ISNA($A24),\"\",IFERROR(SUMIFS(D_D[INV],D_D[MT],5,D_D[CAT],SMS, D_D[EP],-1,D_D[LOC],$A24),0))","v":828},{"$f":"IF(ISNA($A24),\"\",IFERROR(SUMIFS(D_D[BL],D_D[MT],5,D_D[CAT],SMS, D_D[EP],-1,D_D[LOC],$A24),0))","v":318},0.38405797101449274,{"$f":"IF(ISNA($A24),\"\",IFERROR(SUMIFS(D_D[ADP],D_D[MT],5,D_D[CAT],SMS, D_D[EP],-1,D_D[LOC],$A24),0))","v":153.77000000000001},{"$f":"IF(ISNA($A24),\"\",IFERROR(SUMIFS(D_D[PROD_MTD],D_D[MT],5,D_D[CAT],SMS, D_D[EP],-1,D_D[LOC],$A24),0))","v":1034},{"$f":"IF(ISNA($A24),\"\",IFERROR(SUMIFS(D_D[ADCM],D_D[MT],5,D_D[CAT],SMS, D_D[EP],-1,D_D[LOC],$A24),0))","v":149.5},{"$f":"IF(ISNA($A24),\"\",IFERROR(SUMIFS(D_D[PROD_FYTD],D_D[MT],5,D_D[CAT],SMS, D_D[EP],-1,D_D[LOC],$A24),0))","v":15871},{"$f":"IF(ISNA($A24),\"\",IFERROR(SUMIFS(D_D[ADCF],D_D[MT],5,D_D[CAT],SMS, D_D[EP],-1,D_D[LOC],$A24),0))","v":103.78},{"$f":"IF(ISNA($A24),\"\",IFERROR(SUMIFS(D_D[INV],D_D[MT],8,D_D[CAT],SMS,D_D[LOC],$A24),0))","v":0},{"$f":"IF(ISNA($A24),\"\",IFERROR(SUMIFS(D_D[BL],D_D[MT],8,D_D[CAT],SMS,D_D[LOC],$A24),0))","v":0},{"$f":"IF(ISNA($A24),\"\",IFERROR(SUMIFS(D_D[ADP],D_D[MT],8,D_D[CAT],SMS,D_D[LOC],$A24),0))","v":0},{"$f":"IF(ISNA($A24),\"\",IFERROR(SUMIFS(D_D[PROD_MTD],D_D[MT],8,D_D[CAT],SMS,D_D[LOC],$A24),0))","v":0},{"$f":"IF(ISNA($A24),\"\",IFERROR(SUMIFS(D_D[PROD_FYTD],D_D[MT],8,D_D[CAT],SMS,D_D[LOC],$A24),0))","v":0},{"$f":"IF(ISNA($A24),\"\",IFERROR(SUMIFS(D_D[ADCM],D_D[MT],8,D_D[CAT],SMS,D_D[LOC],$A24),0))","v":0}]
["309",13,"Newark",{"$f":"IF(ISNA($A25),\"\",IFERROR(SUMIFS(D_D[INV],D_D[MT],5,D_D[CAT],SMS, D_D[EP],-1,D_D[LOC],$A25),0))","v":412},{"$f":"IF(ISNA($A25),\"\",IFERROR(SUMIFS(D_D[BL],D_D[MT],5,D_D[CAT],SMS, D_D[EP],-1,D_D[LOC],$A25),0))","v":139},0.33737864077669905,{"$f":"IF(ISNA($A25),\"\",IFERROR(SUMIFS(D_D[ADP],D_D[MT],5,D_D[CAT],SMS, D_D[EP],-1,D_D[LOC],$A25),0))","v":121.27},{"$f":"IF(ISNA($A25),\"\",IFERROR(SUMIFS(D_D[PROD_MTD],D_D[MT],5,D_D[CAT],SMS, D_D[EP],-1,D_D[LOC],$A25),0))","v":742},{"$f":"IF(ISNA($A25),\"\",IFERROR(SUMIFS(D_D[ADCM],D_D[MT],5,D_D[CAT],SMS, D_D[EP],-1,D_D[LOC],$A25),0))","v":155.22999999999999},{"$f":"IF(ISNA($A25),\"\",IFERROR(SUMIFS(D_D[PROD_FYTD],D_D[MT],5,D_D[CAT],SMS, D_D[EP],-1,D_D[LOC],$A25),0))","v":8215},{"$f":"IF(ISNA($A25),\"\",IFERROR(SUMIFS(D_D[ADCF],D_D[MT],5,D_D[CAT],SMS, D_D[EP],-1,D_D[LOC],$A25),0))","v":107.94},{"$f":"IF(ISNA($A25),\"\",IFERROR(SUMIFS(D_D[INV],D_D[MT],8,D_D[CAT],SMS,D_D[LOC],$A25),0))","v":0},{"$f":"IF(ISNA($A25),\"\",IFERROR(SUMIFS(D_D[BL],D_D[MT],8,D_D[CAT],SMS,D_D[LOC],$A25),0))","v":0},{"$f":"IF(ISNA($A25),\"\",IFERROR(SUMIFS(D_D[ADP],D_D[MT],8,D_D[CAT],SMS,D_D[LOC],$A25),0))","v":0},{"$f":"IF(ISNA($A25),\"\",IFERROR(SUMIFS(D_D[PROD_MTD],D_D[MT],8,D_D[CAT],SMS,D_D[LOC],$A25),0))","v":0},{"$f":"IF(ISNA($A25),\"\",IFERROR(SUMIFS(D_D[PROD_FYTD],D_D[MT],8,D_D[CAT],SMS,D_D[LOC],$A25),0))","v":0},{"$f":"IF(ISNA($A25),\"\",IFERROR(SUMIFS(D_D[ADCM],D_D[MT],8,D_D[CAT],SMS,D_D[LOC],$A25),0))","v":0}]
["310",14,"Philadelphia",{"$f":"IF(ISNA($A26),\"\",IFERROR(SUMIFS(D_D[INV],D_D[MT],5,D_D[CAT],SMS, D_D[EP],-1,D_D[LOC],$A26),0))","v":2753},{"$f":"IF(ISNA($A26),\"\",IFERROR(SUMIFS(D_D[BL],D_D[MT],5,D_D[CAT],SMS, D_D[EP],-1,D_D[LOC],$A26),0))","v":750},0.27243007628042137,{"$f":"IF(ISNA($A26),\"\",IFERROR(SUMIFS(D_D[ADP],D_D[MT],5,D_D[CAT],SMS, D_D[EP],-1,D_D[LOC],$A26),0))","v":123.53},{"$f":"IF(ISNA($A26),\"\",IFERROR(SUMIFS(D_D[PROD_MTD],D_D[MT],5,D_D[CAT],SMS, D_D[EP],-1,D_D[LOC],$A26),0))","v":3517},{"$f":"IF(ISNA($A26),\"\",IFERROR(SUMIFS(D_D[ADCM],D_D[MT],5,D_D[CAT],SMS, D_D[EP],-1,D_D[LOC],$A26),0))","v":97.17},{"$f":"IF(ISNA($A26),\"\",IFERROR(SUMIFS(D_D[PROD_FYTD],D_D[MT],5,D_D[CAT],SMS, D_D[EP],-1,D_D[LOC],$A26),0))","v":57524},{"$f":"IF(ISNA($A26),\"\",IFERROR(SUMIFS(D_D[ADCF],D_D[MT],5,D_D[CAT],SMS, D_D[EP],-1,D_D[LOC],$A26),0))","v":98.2},{"$f":"IF(ISNA($A26),\"\",IFERROR(SUMIFS(D_D[INV],D_D[MT],8,D_D[CAT],SMS,D_D[LOC],$A26),0))","v":0},{"$f":"IF(ISNA($A26),\"\",IFERROR(SUMIFS(D_D[BL],D_D[MT],8,D_D[CAT],SMS,D_D[LOC],$A26),0))","v":0},{"$f":"IF(ISNA($A26),\"\",IFERROR(SUMIFS(D_D[ADP],D_D[MT],8,D_D[CAT],SMS,D_D[LOC],$A26),0))","v":0},{"$f":"IF(ISNA($A26),\"\",IFERROR(SUMIFS(D_D[PROD_MTD],D_D[MT],8,D_D[CAT],SMS,D_D[LOC],$A26),0))","v":0},{"$f":"IF(ISNA($A26),\"\",IFERROR(SUMIFS(D_D[PROD_FYTD],D_D[MT],8,D_D[CAT],SMS,D_D[LOC],$A26),0))","v":0},{"$f":"IF(ISNA($A26),\"\",IFERROR(SUMIFS(D_D[ADCM],D_D[MT],8,D_D[CAT],SMS,D_D[LOC],$A26),0))","v":0}]
["311",15,"Pittsburgh",{"$f":"IF(ISNA($A27),\"\",IFERROR(SUMIFS(D_D[INV],D_D[MT],5,D_D[CAT],SMS, D_D[EP],-1,D_D[LOC],$A27),0))","v":715},{"$f":"IF(ISNA($A27),\"\",IFERROR(SUMIFS(D_D[BL],D_D[MT],5,D_D[CAT],SMS, D_D[EP],-1,D_D[LOC],$A27),0))","v":327},0.45734265734265733,{"$f":"IF(ISNA($A27),\"\",IFERROR(SUMIFS(D_D[ADP],D_D[MT],5,D_D[CAT],SMS, D_D[EP],-1,D_D[LOC],$A27),0))","v":173.23},{"$f":"IF(ISNA($A27),\"\",IFERROR(SUMIFS(D_D[PROD_MTD],D_D[MT],5,D_D[CAT],SMS, D_D[EP],-1,D_D[LOC],$A27),0))","v":1071},{"$f":"IF(ISNA($A27),\"\",IFERROR(SUMIFS(D_D[ADCM],D_D[MT],5,D_D[CAT],SMS, D_D[EP],-1,D_D[LOC],$A27),0))","v":170.76},{"$f":"IF(ISNA($A27),\"\",IFERROR(SUMIFS(D_D[PROD_FYTD],D_D[MT],5,D_D[CAT],SMS, D_D[EP],-1,D_D[LOC],$A27),0))","v":12319},{"$f":"IF(ISNA($A27),\"\",IFERROR(SUMIFS(D_D[ADCF],D_D[MT],5,D_D[CAT],SMS, D_D[EP],-1,D_D[LOC],$A27),0))","v":130.96},{"$f":"IF(ISNA($A27),\"\",IFERROR(SUMIFS(D_D[INV],D_D[MT],8,D_D[CAT],SMS,D_D[LOC],$A27),0))","v":0},{"$f":"IF(ISNA($A27),\"\",IFERROR(SUMIFS(D_D[BL],D_D[MT],8,D_D[CAT],SMS,D_D[LOC],$A27),0))","v":0},{"$f":"IF(ISNA($A27),\"\",IFERROR(SUMIFS(D_D[ADP],D_D[MT],8,D_D[CAT],SMS,D_D[LOC],$A27),0))","v":0},{"$f":"IF(ISNA($A27),\"\",IFERROR(SUMIFS(D_D[PROD_MTD],D_D[MT],8,D_D[CAT],SMS,D_D[LOC],$A27),0))","v":0},{"$f":"IF(ISNA($A27),\"\",IFERROR(SUMIFS(D_D[PROD_FYTD],D_D[MT],8,D_D[CAT],SMS,D_D[LOC],$A27),0))","v":0},{"$f":"IF(ISNA($A27),\"\",IFERROR(SUMIFS(D_D[ADCM],D_D[MT],8,D_D[CAT],SMS,D_D[LOC],$A27),0))","v":0}]
["304",16,"Providence",{"$f":"IF(ISNA($A28),\"\",IFERROR(SUMIFS(D_D[INV],D_D[MT],5,D_D[CAT],SMS, D_D[EP],-1,D_D[LOC],$A28),0))","v":1267},{"$f":"IF(ISNA($A28),\"\",IFERROR(SUMIFS(D_D[BL],D_D[MT],5,D_D[CAT],SMS, D_D[EP],-1,D_D[LOC],$A28),0))","v":245},0.19337016574585636,{"$f":"IF(ISNA($A28),\"\",IFERROR(SUMIFS(D_D[ADP],D_D[MT],5,D_D[CAT],SMS, D_D[EP],-1,D_D[LOC],$A28),0))","v":93.55},{"$f":"IF(ISNA($A28),\"\",IFERROR(SUMIFS(D_D[PROD_MTD],D_D[MT],5,D_D[CAT],SMS, D_D[EP],-1,D_D[LOC],$A28),0))","v":2181},{"$f":"IF(ISNA($A28),\"\",IFERROR(SUMIFS(D_D[ADCM],D_D[MT],5,D_D[CAT],SMS, D_D[EP],-1,D_D[LOC],$A28),0))","v":84.25},{"$f":"IF(ISNA($A28),\"\",IFERROR(SUMIFS(D_D[PROD_FYTD],D_D[MT],5,D_D[CAT],SMS, D_D[EP],-1,D_D[LOC],$A28),0))","v":26784},{"$f":"IF(ISNA($A28),\"\",IFERROR(SUMIFS(D_D[ADCF],D_D[MT],5,D_D[CAT],SMS, D_D[EP],-1,D_D[LOC],$A28),0))","v":72.53},{"$f":"IF(ISNA($A28),\"\",IFERROR(SUMIFS(D_D[INV],D_D[MT],8,D_D[CAT],SMS,D_D[LOC],$A28),0))","v":0},{"$f":"IF(ISNA($A28),\"\",IFERROR(SUMIFS(D_D[BL],D_D[MT],8,D_D[CAT],SMS,D_D[LOC],$A28),0))","v":0},{"$f":"IF(ISNA($A28),\"\",IFERROR(SUMIFS(D_D[ADP],D_D[MT],8,D_D[CAT],SMS,D_D[LOC],$A28),0))","v":0},{"$f":"IF(ISNA($A28),\"\",IFERROR(SUMIFS(D_D[PROD_MTD],D_D[MT],8,D_D[CAT],SMS,D_D[LOC],$A28),0))","v":0},{"$f":"IF(ISNA($A28),\"\",IFERROR(SUMIFS(D_D[PROD_FYTD],D_D[MT],8,D_D[CAT],SMS,D_D[LOC],$A28),0))","v":0},{"$f":"IF(ISNA($A28),\"\",IFERROR(SUMIFS(D_D[ADCM],D_D[MT],8,D_D[CAT],SMS,D_D[LOC],$A28),0))","v":0}]
["376",17,"St. Louis RMC",{"$f":"IF(ISNA($A29),\"\",IFERROR(SUMIFS(D_D[INV],D_D[MT],5,D_D[CAT],SMS, D_D[EP],-1,D_D[LOC],$A29),0))","v":0},{"$f":"IF(ISNA($A29),\"\",IFERROR(SUMIFS(D_D[BL],D_D[MT],5,D_D[CAT],SMS, D_D[EP],-1,D_D[LOC],$A29),0))","v":0},0,{"$f":"IF(ISNA($A29),\"\",IFERROR(SUMIFS(D_D[ADP],D_D[MT],5,D_D[CAT],SMS, D_D[EP],-1,D_D[LOC],$A29),0))","v":0},{"$f":"IF(ISNA($A29),\"\",IFERROR(SUMIFS(D_D[PROD_MTD],D_D[MT],5,D_D[CAT],SMS, D_D[EP],-1,D_D[LOC],$A29),0))","v":0},{"$f":"IF(ISNA($A29),\"\",IFERROR(SUMIFS(D_D[ADCM],D_D[MT],5,D_D[CAT],SMS, D_D[EP],-1,D_D[LOC],$A29),0))","v":0},{"$f":"IF(ISNA($A29),\"\",IFERROR(SUMIFS(D_D[PROD_FYTD],D_D[MT],5,D_D[CAT],SMS, D_D[EP],-1,D_D[LOC],$A29),0))","v":0},{"$f":"IF(ISNA($A29),\"\",IFERROR(SUMIFS(D_D[ADCF],D_D[MT],5,D_D[CAT],SMS, D_D[EP],-1,D_D[LOC],$A29),0))","v":0},{"$f":"IF(ISNA($A29),\"\",IFERROR(SUMIFS(D_D[INV],D_D[MT],8,D_D[CAT],SMS,D_D[LOC],$A29),0))","v":0},{"$f":"IF(ISNA($A29),\"\",IFERROR(SUMIFS(D_D[BL],D_D[MT],8,D_D[CAT],SMS,D_D[LOC],$A29),0))","v":0},{"$f":"IF(ISNA($A29),\"\",IFERROR(SUMIFS(D_D[ADP],D_D[MT],8,D_D[CAT],SMS,D_D[LOC],$A29),0))","v":0},{"$f":"IF(ISNA($A29),\"\",IFERROR(SUMIFS(D_D[PROD_MTD],D_D[MT],8,D_D[CAT],SMS,D_D[LOC],$A29),0))","v":0},{"$f":"IF(ISNA($A29),\"\",IFERROR(SUMIFS(D_D[PROD_FYTD],D_D[MT],8,D_D[CAT],SMS,D_D[LOC],$A29),0))","v":0},{"$f":"IF(ISNA($A29),\"\",IFERROR(SUMIFS(D_D[ADCM],D_D[MT],8,D_D[CAT],SMS,D_D[LOC],$A29),0))","v":0}]
["331",18,"St. Louis",{"$f":"IF(ISNA($A30),\"\",IFERROR(SUMIFS(D_D[INV],D_D[MT],5,D_D[CAT],SMS, D_D[EP],-1,D_D[LOC],$A30),0))","v":3405},{"$f":"IF(ISNA($A30),\"\",IFERROR(SUMIFS(D_D[BL],D_D[MT],5,D_D[CAT],SMS, D_D[EP],-1,D_D[LOC],$A30),0))","v":1614},0.47400881057268723,{"$f":"IF(ISNA($A30),\"\",IFERROR(SUMIFS(D_D[ADP],D_D[MT],5,D_D[CAT],SMS, D_D[EP],-1,D_D[LOC],$A30),0))","v":147.32},{"$f":"IF(ISNA($A30),\"\",IFERROR(SUMIFS(D_D[PROD_MTD],D_D[MT],5,D_D[CAT],SMS, D_D[EP],-1,D_D[LOC],$A30),0))","v":1060},{"$f":"IF(ISNA($A30),\"\",IFERROR(SUMIFS(D_D[ADCM],D_D[MT],5,D_D[CAT],SMS, D_D[EP],-1,D_D[LOC],$A30),0))","v":115},{"$f":"IF(ISNA($A30),\"\",IFERROR(SUMIFS(D_D[PROD_FYTD],D_D[MT],5,D_D[CAT],SMS, D_D[EP],-1,D_D[LOC],$A30),0))","v":21668},{"$f":"IF(ISNA($A30),\"\",IFERROR(SUMIFS(D_D[ADCF],D_D[MT],5,D_D[CAT],SMS, D_D[EP],-1,D_D[LOC],$A30),0))","v":151.4},{"$f":"IF(ISNA($A30),\"\",IFERROR(SUMIFS(D_D[INV],D_D[MT],8,D_D[CAT],SMS,D_D[LOC],$A30),0))","v":0},{"$f":"IF(ISNA($A30),\"\",IFERROR(SUMIFS(D_D[BL],D_D[MT],8,D_D[CAT],SMS,D_D[LOC],$A30),0))","v":0},{"$f":"IF(ISNA($A30),\"\",IFERROR(SUMIFS(D_D[ADP],D_D[MT],8,D_D[CAT],SMS,D_D[LOC],$A30),0))","v":0},{"$f":"IF(ISNA($A30),\"\",IFERROR(SUMIFS(D_D[PROD_MTD],D_D[MT],8,D_D[CAT],SMS,D_D[LOC],$A30),0))","v":0},{"$f":"IF(ISNA($A30),\"\",IFERROR(SUMIFS(D_D[PROD_FYTD],D_D[MT],8,D_D[CAT],SMS,D_D[LOC],$A30),0))","v":0},{"$f":"IF(ISNA($A30),\"\",IFERROR(SUMIFS(D_D[ADCM],D_D[MT],8,D_D[CAT],SMS,D_D[LOC],$A30),0))","v":0}]
["402",19,"Togus",{"$f":"IF(ISNA($A31),\"\",IFERROR(SUMIFS(D_D[INV],D_D[MT],5,D_D[CAT],SMS, D_D[EP],-1,D_D[LOC],$A31),0))","v":938},{"$f":"IF(ISNA($A31),\"\",IFERROR(SUMIFS(D_D[BL],D_D[MT],5,D_D[CAT],SMS, D_D[EP],-1,D_D[LOC],$A31),0))","v":176},0.18763326226012794,{"$f":"IF(ISNA($A31),\"\",IFERROR(SUMIFS(D_D[ADP],D_D[MT],5,D_D[CAT],SMS, D_D[EP],-1,D_D[LOC],$A31),0))","v":115.58},{"$f":"IF(ISNA($A31),\"\",IFERROR(SUMIFS(D_D[PROD_MTD],D_D[MT],5,D_D[CAT],SMS, D_D[EP],-1,D_D[LOC],$A31),0))","v":789},{"$f":"IF(ISNA($A31),\"\",IFERROR(SUMIFS(D_D[ADCM],D_D[MT],5,D_D[CAT],SMS, D_D[EP],-1,D_D[LOC],$A31),0))","v":148.22999999999999},{"$f":"IF(ISNA($A31),\"\",IFERROR(SUMIFS(D_D[PROD_FYTD],D_D[MT],5,D_D[CAT],SMS, D_D[EP],-1,D_D[LOC],$A31),0))","v":17149},{"$f":"IF(ISNA($A31),\"\",IFERROR(SUMIFS(D_D[ADCF],D_D[MT],5,D_D[CAT],SMS, D_D[EP],-1,D_D[LOC],$A31),0))","v":124.86},{"$f":"IF(ISNA($A31),\"\",IFERROR(SUMIFS(D_D[INV],D_D[MT],8,D_D[CAT],SMS,D_D[LOC],$A31),0))","v":0},{"$f":"IF(ISNA($A31),\"\",IFERROR(SUMIFS(D_D[BL],D_D[MT],8,D_D[CAT],SMS,D_D[LOC],$A31),0))","v":0},{"$f":"IF(ISNA($A31),\"\",IFERROR(SUMIFS(D_D[ADP],D_D[MT],8,D_D[CAT],SMS,D_D[LOC],$A31),0))","v":0},{"$f":"IF(ISNA($A31),\"\",IFERROR(SUMIFS(D_D[PROD_MTD],D_D[MT],8,D_D[CAT],SMS,D_D[LOC],$A31),0))","v":0},{"$f":"IF(ISNA($A31),\"\",IFERROR(SUMIFS(D_D[PROD_FYTD],D_D[MT],8,D_D[CAT],SMS,D_D[LOC],$A31),0))","v":0},{"$f":"IF(ISNA($A31),\"\",IFERROR(SUMIFS(D_D[ADCM],D_D[MT],8,D_D[CAT],SMS,D_D[LOC],$A31),0))","v":0}]
["372",20,"Washington",{"$f":"IF(ISNA($A32),\"\",IFERROR(SUMIFS(D_D[INV],D_D[MT],5,D_D[CAT],SMS, D_D[EP],-1,D_D[LOC],$A32),0))","v":3},{"$f":"IF(ISNA($A32),\"\",IFERROR(SUMIFS(D_D[BL],D_D[MT],5,D_D[CAT],SMS, D_D[EP],-1,D_D[LOC],$A32),0))","v":0},0,{"$f":"IF(ISNA($A32),\"\",IFERROR(SUMIFS(D_D[ADP],D_D[MT],5,D_D[CAT],SMS, D_D[EP],-1,D_D[LOC],$A32),0))","v":40.33},{"$f":"IF(ISNA($A32),\"\",IFERROR(SUMIFS(D_D[PROD_MTD],D_D[MT],5,D_D[CAT],SMS, D_D[EP],-1,D_D[LOC],$A32),0))","v":0},{"$f":"IF(ISNA($A32),\"\",IFERROR(SUMIFS(D_D[ADCM],D_D[MT],5,D_D[CAT],SMS, D_D[EP],-1,D_D[LOC],$A32),0))","v":0},{"$f":"IF(ISNA($A32),\"\",IFERROR(SUMIFS(D_D[PROD_FYTD],D_D[MT],5,D_D[CAT],SMS, D_D[EP],-1,D_D[LOC],$A32),0))","v":3},{"$f":"IF(ISNA($A32),\"\",IFERROR(SUMIFS(D_D[ADCF],D_D[MT],5,D_D[CAT],SMS, D_D[EP],-1,D_D[LOC],$A32),0))","v":121.67},{"$f":"IF(ISNA($A32),\"\",IFERROR(SUMIFS(D_D[INV],D_D[MT],8,D_D[CAT],SMS,D_D[LOC],$A32),0))","v":0},{"$f":"IF(ISNA($A32),\"\",IFERROR(SUMIFS(D_D[BL],D_D[MT],8,D_D[CAT],SMS,D_D[LOC],$A32),0))","v":0},{"$f":"IF(ISNA($A32),\"\",IFERROR(SUMIFS(D_D[ADP],D_D[MT],8,D_D[CAT],SMS,D_D[LOC],$A32),0))","v":0},{"$f":"IF(ISNA($A32),\"\",IFERROR(SUMIFS(D_D[PROD_MTD],D_D[MT],8,D_D[CAT],SMS,D_D[LOC],$A32),0))","v":0},{"$f":"IF(ISNA($A32),\"\",IFERROR(SUMIFS(D_D[PROD_FYTD],D_D[MT],8,D_D[CAT],SMS,D_D[LOC],$A32),0))","v":0},{"$f":"IF(ISNA($A32),\"\",IFERROR(SUMIFS(D_D[ADCM],D_D[MT],8,D_D[CAT],SMS,D_D[LOC],$A32),0))","v":0}]
["405",21,"White River Junction",{"$f":"IF(ISNA($A33),\"\",IFERROR(SUMIFS(D_D[INV],D_D[MT],5,D_D[CAT],SMS, D_D[EP],-1,D_D[LOC],$A33),0))","v":126},{"$f":"IF(ISNA($A33),\"\",IFERROR(SUMIFS(D_D[BL],D_D[MT],5,D_D[CAT],SMS, D_D[EP],-1,D_D[LOC],$A33),0))","v":54},0.42857142857142855,{"$f":"IF(ISNA($A33),\"\",IFERROR(SUMIFS(D_D[ADP],D_D[MT],5,D_D[CAT],SMS, D_D[EP],-1,D_D[LOC],$A33),0))","v":169.87},{"$f":"IF(ISNA($A33),\"\",IFERROR(SUMIFS(D_D[PROD_MTD],D_D[MT],5,D_D[CAT],SMS, D_D[EP],-1,D_D[LOC],$A33),0))","v":173},{"$f":"IF(ISNA($A33),\"\",IFERROR(SUMIFS(D_D[ADCM],D_D[MT],5,D_D[CAT],SMS, D_D[EP],-1,D_D[LOC],$A33),0))","v":158.76},{"$f":"IF(ISNA($A33),\"\",IFERROR(SUMIFS(D_D[PROD_FYTD],D_D[MT],5,D_D[CAT],SMS, D_D[EP],-1,D_D[LOC],$A33),0))","v":2287},{"$f":"IF(ISNA($A33),\"\",IFERROR(SUMIFS(D_D[ADCF],D_D[MT],5,D_D[CAT],SMS, D_D[EP],-1,D_D[LOC],$A33),0))","v":115.18},{"$f":"IF(ISNA($A33),\"\",IFERROR(SUMIFS(D_D[INV],D_D[MT],8,D_D[CAT],SMS,D_D[LOC],$A33),0))","v":0},{"$f":"IF(ISNA($A33),\"\",IFERROR(SUMIFS(D_D[BL],D_D[MT],8,D_D[CAT],SMS,D_D[LOC],$A33),0))","v":0},{"$f":"IF(ISNA($A33),\"\",IFERROR(SUMIFS(D_D[ADP],D_D[MT],8,D_D[CAT],SMS,D_D[LOC],$A33),0))","v":0},{"$f":"IF(ISNA($A33),\"\",IFERROR(SUMIFS(D_D[PROD_MTD],D_D[MT],8,D_D[CAT],SMS,D_D[LOC],$A33),0))","v":0},{"$f":"IF(ISNA($A33),\"\",IFERROR(SUMIFS(D_D[PROD_FYTD],D_D[MT],8,D_D[CAT],SMS,D_D[LOC],$A33),0))","v":0},{"$f":"IF(ISNA($A33),\"\",IFERROR(SUMIFS(D_D[ADCM],D_D[MT],8,D_D[CAT],SMS,D_D[LOC],$A33),0))","v":0}]
["460",22,"Wilmington",{"$f":"IF(ISNA($A34),\"\",IFERROR(SUMIFS(D_D[INV],D_D[MT],5,D_D[CAT],SMS, D_D[EP],-1,D_D[LOC],$A34),0))","v":103},{"$f":"IF(ISNA($A34),\"\",IFERROR(SUMIFS(D_D[BL],D_D[MT],5,D_D[CAT],SMS, D_D[EP],-1,D_D[LOC],$A34),0))","v":43},0.41747572815533979,{"$f":"IF(ISNA($A34),\"\",IFERROR(SUMIFS(D_D[ADP],D_D[MT],5,D_D[CAT],SMS, D_D[EP],-1,D_D[LOC],$A34),0))","v":144.27000000000001},{"$f":"IF(ISNA($A34),\"\",IFERROR(SUMIFS(D_D[PROD_MTD],D_D[MT],5,D_D[CAT],SMS, D_D[EP],-1,D_D[LOC],$A34),0))","v":203},{"$f":"IF(ISNA($A34),\"\",IFERROR(SUMIFS(D_D[ADCM],D_D[MT],5,D_D[CAT],SMS, D_D[EP],-1,D_D[LOC],$A34),0))","v":171.89},{"$f":"IF(ISNA($A34),\"\",IFERROR(SUMIFS(D_D[PROD_FYTD],D_D[MT],5,D_D[CAT],SMS, D_D[EP],-1,D_D[LOC],$A34),0))","v":2423},{"$f":"IF(ISNA($A34),\"\",IFERROR(SUMIFS(D_D[ADCF],D_D[MT],5,D_D[CAT],SMS, D_D[EP],-1,D_D[LOC],$A34),0))","v":118.4},{"$f":"IF(ISNA($A34),\"\",IFERROR(SUMIFS(D_D[INV],D_D[MT],8,D_D[CAT],SMS,D_D[LOC],$A34),0))","v":0},{"$f":"IF(ISNA($A34),\"\",IFERROR(SUMIFS(D_D[BL],D_D[MT],8,D_D[CAT],SMS,D_D[LOC],$A34),0))","v":0},{"$f":"IF(ISNA($A34),\"\",IFERROR(SUMIFS(D_D[ADP],D_D[MT],8,D_D[CAT],SMS,D_D[LOC],$A34),0))","v":0},{"$f":"IF(ISNA($A34),\"\",IFERROR(SUMIFS(D_D[PROD_MTD],D_D[MT],8,D_D[CAT],SMS,D_D[LOC],$A34),0))","v":0},{"$f":"IF(ISNA($A34),\"\",IFERROR(SUMIFS(D_D[PROD_FYTD],D_D[MT],8,D_D[CAT],SMS,D_D[LOC],$A34),0))","v":0},{"$f":"IF(ISNA($A34),\"\",IFERROR(SUMIFS(D_D[ADCM],D_D[MT],8,D_D[CAT],SMS,D_D[LOC],$A34),0))","v":0}]
[{"$error":"#N/A"},23,"",{"$f":"IF(ISNA($A35),\"\",IFERROR(SUMIFS(D_D[INV],D_D[MT],5,D_D[CAT],SMS, D_D[EP],-1,D_D[LOC],$A35),0))","v":""},{"$f":"IF(ISNA($A35),\"\",IFERROR(SUMIFS(D_D[BL],D_D[MT],5,D_D[CAT],SMS, D_D[EP],-1,D_D[LOC],$A35),0))","v":""},"",{"$f":"IF(ISNA($A35),\"\",IFERROR(SUMIFS(D_D[ADP],D_D[MT],5,D_D[CAT],SMS, D_D[EP],-1,D_D[LOC],$A35),0))","v":""},{"$f":"IF(ISNA($A35),\"\",IFERROR(SUMIFS(D_D[PROD_MTD],D_D[MT],5,D_D[CAT],SMS, D_D[EP],-1,D_D[LOC],$A35),0))","v":""},{"$f":"IF(ISNA($A35),\"\",IFERROR(SUMIFS(D_D[ADCM],D_D[MT],5,D_D[CAT],SMS, D_D[EP],-1,D_D[LOC],$A35),0))","v":""},{"$f":"IF(ISNA($A35),\"\",IFERROR(SUMIFS(D_D[PROD_FYTD],D_D[MT],5,D_D[CAT],SMS, D_D[EP],-1,D_D[LOC],$A35),0))","v":""},{"$f":"IF(ISNA($A35),\"\",IFERROR(SUMIFS(D_D[ADCF],D_D[MT],5,D_D[CAT],SMS, D_D[EP],-1,D_D[LOC],$A35),0))","v":""},{"$f":"IF(ISNA($A35),\"\",IFERROR(SUMIFS(D_D[INV],D_D[MT],8,D_D[CAT],SMS,D_D[LOC],$A35),0))","v":""},{"$f":"IF(ISNA($A35),\"\",IFERROR(SUMIFS(D_D[BL],D_D[MT],8,D_D[CAT],SMS,D_D[LOC],$A35),0))","v":""},{"$f":"IF(ISNA($A35),\"\",IFERROR(SUMIFS(D_D[ADP],D_D[MT],8,D_D[CAT],SMS,D_D[LOC],$A35),0))","v":""},{"$f":"IF(ISNA($A35),\"\",IFERROR(SUMIFS(D_D[PROD_MTD],D_D[MT],8,D_D[CAT],SMS,D_D[LOC],$A35),0))","v":""},{"$f":"IF(ISNA($A35),\"\",IFERROR(SUMIFS(D_D[PROD_FYTD],D_D[MT],8,D_D[CAT],SMS,D_D[LOC],$A35),0))","v":""},{"$f":"IF(ISNA($A35),\"\",IFERROR(SUMIFS(D_D[ADCM],D_D[MT],8,D_D[CAT],SMS,D_D[LOC],$A35),0))","v":""}]

{"sheet":"Rating Bundle - SOO","index":3,"n_rows":35,"n_cols":15,"rows_kept":35,"cut":false,"hidden":false,"merged":[[1,3,1,10],[1,11,1,16],[2,3,2,10],[2,11,2,16],[8,3,10,3],[8,4,10,4],[8,5,10,5],[8,6,10,6],[8,7,10,7],[8,8,10,8],[8,9,10,9],[8,10,10,10],[8,11,10,16],[7,3,7,10],[7,11,7,16],[6,11,6,16]]}
[]
[null,null,"DISTRICT SELECTOR","Compensation and Pension Rating Bundle Metrics",null,null,null,null,null,null,null,"Report through"]
[null,null,null,"Station of Origin View",null,null,null,null,null,null,null,{"$f":"D_DT[]","v":"2021-08-21"}]
[null,null,null,"The Station of Origination (SOO) primarily represents pending claims based on geographic boundaries",null,null,null,null,null,null,null,"ADP = Average Days Pending",null,null,"MTD = Month to Date"]
[null,null,null,"Each Special Mission has distinct claim counts",null,null,null,null,null,null,null,"ADC = Average Days to Complete",null,null,"FYTD = Fiscal Year to Date"]
[null,null,null,"When Special Mission is set to Pension, BDD, or Quickstart, the District Selector has no impact."]
[null,null,null,null,null,null,null,null,null,null,null,"Accuracy metrics are available on Rating Bundle - SOJ tab"]
[null,null,null,"CLAIM METRICS",null,null,null,null,null,null,null,"ACCURACY METRICS"]
[null,null,"SPECIAL MISSION SELECTOR","#\nPending","#\nPending\n> 125 Days","%\nPending\n> 125 Days","ADP","#\nCompleted\nMTD","ADC\nMTD","#\nCompleted\nFYTD","ADC\nFYTD","Accuracy measurement is available on the Rating Bundle SOJ tab"]
[]
[]
[100,null,{"$f":"Driver!$C$20& \" Total\"","v":"USA - All Missions Total"},{"$f":"IF(ISNA($A12),\"\",IFERROR(SUMIFS(D_D[INV],D_D[MT],4,D_D[CAT],SMS,D_D[LOC],$A12),0))","v":591099},{"$f":"IF(ISNA($A12),\"\",IFERROR(SUMIFS(D_D[BL],D_D[MT],4,D_D[CAT],SMS,D_D[LOC],$A12),0))","v":181570},{"$f":"IF(ISNA($A12),\"\",IFERROR(E12/D12,0))","v":0.30717358682724888},{"$f":"IF(ISNA($A12),\"\",IFERROR(SUMIFS(D_D[ADP],D_D[MT],4,D_D[CAT],SMS,D_D[LOC],$A12),0))","v":141.08000000000001},{"$f":"IF(ISNA($A12),\"\",IFERROR(SUMIFS(D_D[PROD_MTD],D_D[MT],4,D_D[CAT],SMS,D_D[LOC],$A12),0))","v":98255},{"$f":"IF(ISNA($A12),\"\",IFERROR(SUMIFS(D_D[ADCM],D_D[MT],4,D_D[CAT],SMS,D_D[LOC],$A12),0))","v":114.08},{"$f":"IF(ISNA($A12),\"\",IFERROR(SUMIFS(D_D[PROD_FYTD],D_D[MT],4,D_D[CAT],SMS,D_D[LOC],$A12),0))","v":1344665},{"$f":"IF(ISNA($A12),\"\",IFERROR(SUMIFS(D_D[ADCF],D_D[MT],4,D_D[CAT],SMS,D_D[LOC],$A12),0))","v":111.45}]
[{"$f":"INDEX(RO,(MATCH($C13,RO_D,0)))","v":394},1,{"$f":"IFERROR(INDEX(INDIRECT(DS_RO),B13),\"\")","v":"Northeast District"},{"$f":"IF(ISNA($A13),\"\",IFERROR(SUMIFS(D_D[INV],D_D[MT],4,D_D[CAT],SMS,D_D[LOC],$A13),0))","v":89087},{"$f":"IF(ISNA($A13),\"\",IFERROR(SUMIFS(D_D[BL],D_D[MT],4,D_D[CAT],SMS,D_D[LOC],$A13),0))","v":33499},{"$f":"IF(ISNA($A13),\"\",IFERROR(E13/D13,0))","v":0.37602568275954967},{"$f":"IF(ISNA($A13),\"\",IFERROR(SUMIFS(D_D[ADP],D_D[MT],4,D_D[CAT],SMS,D_D[LOC],$A13),0))","v":167.33},{"$f":"IF(ISNA($A13),\"\",IFERROR(SUMIFS(D_D[PROD_MTD],D_D[MT],4,D_D[CAT],SMS,D_D[LOC],$A13),0))","v":16553},{"$f":"IF(ISNA($A13),\"\",IFERROR(SUMIFS(D_D[ADCM],D_D[MT],4,D_D[CAT],SMS,D_D[LOC],$A13),0))","v":122.75},{"$f":"IF(ISNA($A13),\"\",IFERROR(SUMIFS(D_D[PROD_FYTD],D_D[MT],4,D_D[CAT],SMS,D_D[LOC],$A13),0))","v":236760},{"$f":"IF(ISNA($A13),\"\",IFERROR(SUMIFS(D_D[ADCF],D_D[MT],4,D_D[CAT],SMS,D_D[LOC],$A13),0))","v":123.74}]
["313",2,"Baltimore",{"$f":"IF(ISNA($A14),\"\",IFERROR(SUMIFS(D_D[INV],D_D[MT],4,D_D[CAT],SMS,D_D[LOC],$A14),0))","v":5883},{"$f":"IF(ISNA($A14),\"\",IFERROR(SUMIFS(D_D[BL],D_D[MT],4,D_D[CAT],SMS,D_D[LOC],$A14),0))","v":1982},{"$f":"IF(ISNA($A14),\"\",IFERROR(E14/D14,0))","v":0.3369029406765256},{"$f":"IF(ISNA($A14),\"\",IFERROR(SUMIFS(D_D[ADP],D_D[MT],4,D_D[CAT],SMS,D_D[LOC],$A14),0))","v":137.01},{"$f":"IF(ISNA($A14),\"\",IFERROR(SUMIFS(D_D[PROD_MTD],D_D[MT],4,D_D[CAT],SMS,D_D[LOC],$A14),0))","v":1257},{"$f":"IF(ISNA($A14),\"\",IFERROR(SUMIFS(D_D[ADCM],D_D[MT],4,D_D[CAT],SMS,D_D[LOC],$A14),0))","v":111.91},{"$f":"IF(ISNA($A14),\"\",IFERROR(SUMIFS(D_D[PROD_FYTD],D_D[MT],4,D_D[CAT],SMS,D_D[LOC],$A14),0))","v":16892},{"$f":"IF(ISNA($A14),\"\",IFERROR(SUMIFS(D_D[ADCF],D_D[MT],4,D_D[CAT],SMS,D_D[LOC],$A14),0))","v":120.35}]
["301",3,{"$f":"IFERROR(INDEX(INDIRECT(DS_RO),B15),\"\")","v":"Boston"},{"$f":"IF(ISNA($A15),\"\",IFERROR(SUMIFS(D_D[INV],D_D[MT],4,D_D[CAT],SMS,D_D[LOC],$A15),0))","v":2579},{"$f":"IF(ISNA($A15),\"\",IFERROR(SUMIFS(D_D[BL],D_D[MT],4,D_D[CAT],SMS,D_D[LOC],$A15),0))","v":875},{"$f":"IF(ISNA($A15),\"\",IFERROR(E15/D15,0))","v":0.33927879022877083},{"$f":"IF(ISNA($A15),\"\",IFERROR(SUMIFS(D_D[ADP],D_D[MT],4,D_D[CAT],SMS,D_D[LOC],$A15),0))","v":143.74},{"$f":"IF(ISNA($A15),\"\",IFERROR(SUMIFS(D_D[PROD_MTD],D_D[MT],4,D_D[CAT],SMS,D_D[LOC],$A15),0))","v":445},{"$f":"IF(ISNA($A15),\"\",IFERROR(SUMIFS(D_D[ADCM],D_D[MT],4,D_D[CAT],SMS,D_D[LOC],$A15),0))","v":121.36},{"$f":"IF(ISNA($A15),\"\",IFERROR(SUMIFS(D_D[PROD_FYTD],D_D[MT],4,D_D[CAT],SMS,D_D[LOC],$A15),0))","v":5978},{"$f":"IF(ISNA($A15),\"\",IFERROR(SUMIFS(D_D[ADCF],D_D[MT],4,D_D[CAT],SMS,D_D[LOC],$A15),0))","v":117.25}]
["307",4,"Buffalo",{"$f":"IF(ISNA($A16),\"\",IFERROR(SUMIFS(D_D[INV],D_D[MT],4,D_D[CAT],SMS,D_D[LOC],$A16),0))","v":3336},{"$f":"IF(ISNA($A16),\"\",IFERROR(SUMIFS(D_D[BL],D_D[MT],4,D_D[CAT],SMS,D_D[LOC],$A16),0))","v":1116},0.3345323741007194,{"$f":"IF(ISNA($A16),\"\",IFERROR(SUMIFS(D_D[ADP],D_D[MT],4,D_D[CAT],SMS,D_D[LOC],$A16),0))","v":152.32},{"$f":"IF(ISNA($A16),\"\",IFERROR(SUMIFS(D_D[PROD_MTD],D_D[MT],4,D_D[CAT],SMS,D_D[LOC],$A16),0))","v":490},{"$f":"IF(ISNA($A16),\"\",IFERROR(SUMIFS(D_D[ADCM],D_D[MT],4,D_D[CAT],SMS,D_D[LOC],$A16),0))","v":132.28},{"$f":"IF(ISNA($A16),\"\",IFERROR(SUMIFS(D_D[PROD_FYTD],D_D[MT],4,D_D[CAT],SMS,D_D[LOC],$A16),0))","v":6794},{"$f":"IF(ISNA($A16),\"\",IFERROR(SUMIFS(D_D[ADCF],D_D[MT],4,D_D[CAT],SMS,D_D[LOC],$A16),0))","v":142.74}]
["328",5,"Chicago",{"$f":"IF(ISNA($A17),\"\",IFERROR(SUMIFS(D_D[INV],D_D[MT],4,D_D[CAT],SMS,D_D[LOC],$A17),0))","v":7205},{"$f":"IF(ISNA($A17),\"\",IFERROR(SUMIFS(D_D[BL],D_D[MT],4,D_D[CAT],SMS,D_D[LOC],$A17),0))","v":2359},0.32741151977793198,{"$f":"IF(ISNA($A17),\"\",IFERROR(SUMIFS(D_D[ADP],D_D[MT],4,D_D[CAT],SMS,D_D[LOC],$A17),0))","v":139.35},{"$f":"IF(ISNA($A17),\"\",IFERROR(SUMIFS(D_D[PROD_MTD],D_D[MT],4,D_D[CAT],SMS,D_D[LOC],$A17),0))","v":1154},{"$f":"IF(ISNA($A17),\"\",IFERROR(SUMIFS(D_D[ADCM],D_D[MT],4,D_D[CAT],SMS,D_D[LOC],$A17),0))","v":115.67},{"$f":"IF(ISNA($A17),\"\",IFERROR(SUMIFS(D_D[PROD_FYTD],D_D[MT],4,D_D[CAT],SMS,D_D[LOC],$A17),0))","v":15603},{"$f":"IF(ISNA($A17),\"\",IFERROR(SUMIFS(D_D[ADCF],D_D[MT],4,D_D[CAT],SMS,D_D[LOC],$A17),0))","v":125.7}]
["325",6,"Cleveland",{"$f":"IF(ISNA($A18),\"\",IFERROR(SUMIFS(D_D[INV],D_D[MT],4,D_D[CAT],SMS,D_D[LOC],$A18),0))","v":11072},{"$f":"IF(ISNA($A18),\"\",IFERROR(SUMIFS(D_D[BL],D_D[MT],4,D_D[CAT],SMS,D_D[LOC],$A18),0))","v":4785},0.43217124277456648,{"$f":"IF(ISNA($A18),\"\",IFERROR(SUMIFS(D_D[ADP],D_D[MT],4,D_D[CAT],SMS,D_D[LOC],$A18),0))","v":207.23},{"$f":"IF(ISNA($A18),\"\",IFERROR(SUMIFS(D_D[PROD_MTD],D_D[MT],4,D_D[CAT],SMS,D_D[LOC],$A18),0))","v":1709},{"$f":"IF(ISNA($A18),\"\",IFERROR(SUMIFS(D_D[ADCM],D_D[MT],4,D_D[CAT],SMS,D_D[LOC],$A18),0))","v":141.66999999999999},{"$f":"IF(ISNA($A18),\"\",IFERROR(SUMIFS(D_D[PROD_FYTD],D_D[MT],4,D_D[CAT],SMS,D_D[LOC],$A18),0))","v":26312},{"$f":"IF(ISNA($A18),\"\",IFERROR(SUMIFS(D_D[ADCF],D_D[MT],4,D_D[CAT],SMS,D_D[LOC],$A18),0))","v":155.49}]
["329",7,"Detroit",{"$f":"IF(ISNA($A19),\"\",IFERROR(SUMIFS(D_D[INV],D_D[MT],4,D_D[CAT],SMS,D_D[LOC],$A19),0))","v":6453},{"$f":"IF(ISNA($A19),\"\",IFERROR(SUMIFS(D_D[BL],D_D[MT],4,D_D[CAT],SMS,D_D[LOC],$A19),0))","v":2308},0.35766310243297689,{"$f":"IF(ISNA($A19),\"\",IFERROR(SUMIFS(D_D[ADP],D_D[MT],4,D_D[CAT],SMS,D_D[LOC],$A19),0))","v":166.31},{"$f":"IF(ISNA($A19),\"\",IFERROR(SUMIFS(D_D[PROD_MTD],D_D[MT],4,D_D[CAT],SMS,D_D[LOC],$A19),0))","v":1065},{"$f":"IF(ISNA($A19),\"\",IFERROR(SUMIFS(D_D[ADCM],D_D[MT],4,D_D[CAT],SMS,D_D[LOC],$A19),0))","v":136.41},{"$f":"IF(ISNA($A19),\"\",IFERROR(SUMIFS(D_D[PROD_FYTD],D_D[MT],4,D_D[CAT],SMS,D_D[LOC],$A19),0))","v":15063},{"$f":"IF(ISNA($A19),\"\",IFERROR(SUMIFS(D_D[ADCF],D_D[MT],4,D_D[CAT],SMS,D_D[LOC],$A19),0))","v":143.54}]
["308",8,"Hartford",{"$f":"IF(ISNA($A20),\"\",IFERROR(SUMIFS(D_D[INV],D_D[MT],4,D_D[CAT],SMS,D_D[LOC],$A20),0))","v":1950},{"$f":"IF(ISNA($A20),\"\",IFERROR(SUMIFS(D_D[BL],D_D[MT],4,D_D[CAT],SMS,D_D[LOC],$A20),0))","v":743},0.38102564102564102,{"$f":"IF(ISNA($A20),\"\",IFERROR(SUMIFS(D_D[ADP],D_D[MT],4,D_D[CAT],SMS,D_D[LOC],$A20),0))","v":159.44},{"$f":"IF(ISNA($A20),\"\",IFERROR(SUMIFS(D_D[PROD_MTD],D_D[MT],4,D_D[CAT],SMS,D_D[LOC],$A20),0))","v":344},{"$f":"IF(ISNA($A20),\"\",IFERROR(SUMIFS(D_D[ADCM],D_D[MT],4,D_D[CAT],SMS,D_D[LOC],$A20),0))","v":122.4},{"$f":"IF(ISNA($A20),\"\",IFERROR(SUMIFS(D_D[PROD_FYTD],D_D[MT],4,D_D[CAT],SMS,D_D[LOC],$A20),0))","v":4040},{"$f":"IF(ISNA($A20),\"\",IFERROR(SUMIFS(D_D[ADCF],D_D[MT],4,D_D[CAT],SMS,D_D[LOC],$A20),0))","v":132.22999999999999}]
["326",9,"Indianapolis",{"$f":"IF(ISNA($A21),\"\",IFERROR(SUMIFS(D_D[INV],D_D[MT],4,D_D[CAT],SMS,D_D[LOC],$A21),0))","v":5612},{"$f":"IF(ISNA($A21),\"\",IFERROR(SUMIFS(D_D[BL],D_D[MT],4,D_D[CAT],SMS,D_D[LOC],$A21),0))","v":1999},0.35620099786172488,{"$f":"IF(ISNA($A21),\"\",IFERROR(SUMIFS(D_D[ADP],D_D[MT],4,D_D[CAT],SMS,D_D[LOC],$A21),0))","v":161.88999999999999},{"$f":"IF(ISNA($A21),\"\",IFERROR(SUMIFS(D_D[PROD_MTD],D_D[MT],4,D_D[CAT],SMS,D_D[LOC],$A21),0))","v":959},{"$f":"IF(ISNA($A21),\"\",IFERROR(SUMIFS(D_D[ADCM],D_D[MT],4,D_D[CAT],SMS,D_D[LOC],$A21),0))","v":130.75},{"$f":"IF(ISNA($A21),\"\",IFERROR(SUMIFS(D_D[PROD_FYTD],D_D[MT],4,D_D[CAT],SMS,D_D[LOC],$A21),0))","v":12214},{"$f":"IF(ISNA($A21),\"\",IFERROR(SUMIFS(D_D[ADCF],D_D[MT],4,D_D[CAT],SMS,D_D[LOC],$A21),0))","v":141.47999999999999}]
["373",10,"Manchester",{"$f":"IF(ISNA($A22),\"\",IFERROR(SUMIFS(D_D[INV],D_D[MT],4,D_D[CAT],SMS,D_D[LOC],$A22),0))","v":972},{"$f":"IF(ISNA($A22),\"\",IFERROR(SUMIFS(D_D[BL],D_D[MT],4,D_D[CAT],SMS,D_D[LOC],$A22),0))","v":363},0.37345679012345678,{"$f":"IF(ISNA($A22),\"\",IFERROR(SUMIFS(D_D[ADP],D_D[MT],4,D_D[CAT],SMS,D_D[LOC],$A22),0))","v":154.88999999999999},{"$f":"IF(ISNA($A22),\"\",IFERROR(SUMIFS(D_D[PROD_MTD],D_D[MT],4,D_D[CAT],SMS,D_D[LOC],$A22),0))","v":175},{"$f":"IF(ISNA($A22),\"\",IFERROR(SUMIFS(D_D[ADCM],D_D[MT],4,D_D[CAT],SMS,D_D[LOC],$A22),0))","v":127.77},{"$f":"IF(ISNA($A22),\"\",IFERROR(SUMIFS(D_D[PROD_FYTD],D_D[MT],4,D_D[CAT],SMS,D_D[LOC],$A22),0))","v":2021},{"$f":"IF(ISNA($A22),\"\",IFERROR(SUMIFS(D_D[ADCF],D_D[MT],4,D_D[CAT],SMS,D_D[LOC],$A22),0))","v":142.24}]
["330",11,"Milwaukee",{"$f":"IF(ISNA($A23),\"\",IFERROR(SUMIFS(D_D[INV],D_D[MT],4,D_D[CAT],SMS,D_D[LOC],$A23),0))","v":7829},{"$f":"IF(ISNA($A23),\"\",IFERROR(SUMIFS(D_D[BL],D_D[MT],4,D_D[CAT],SMS,D_D[LOC],$A23),0))","v":3816},0.4874185719759867,{"$f":"IF(ISNA($A23),\"\",IFERROR(SUMIFS(D_D[ADP],D_D[MT],4,D_D[CAT],SMS,D_D[LOC],$A23),0))","v":221.65},{"$f":"IF(ISNA($A23),\"\",IFERROR(SUMIFS(D_D[PROD_MTD],D_D[MT],4,D_D[CAT],SMS,D_D[LOC],$A23),0))","v":1552},{"$f":"IF(ISNA($A23),\"\",IFERROR(SUMIFS(D_D[ADCM],D_D[MT],4,D_D[CAT],SMS,D_D[LOC],$A23),0))","v":148.63},{"$f":"IF(ISNA($A23),\"\",IFERROR(SUMIFS(D_D[PROD_FYTD],D_D[MT],4,D_D[CAT],SMS,D_D[LOC],$A23),0))","v":30606},{"$f":"IF(ISNA($A23),\"\",IFERROR(SUMIFS(D_D[ADCF],D_D[MT],4,D_D[CAT],SMS,D_D[LOC],$A23),0))","v":126.83}]
["306",12,"New York",{"$f":"IF(ISNA($A24),\"\",IFERROR(SUMIFS(D_D[INV],D_D[MT],4,D_D[CAT],SMS,D_D[LOC],$A24),0))","v":4626},{"$f":"IF(ISNA($A24),\"\",IFERROR(SUMIFS(D_D[BL],D_D[MT],4,D_D[CAT],SMS,D_D[LOC],$A24),0))","v":1813},0.39191526156506701,{"$f":"IF(ISNA($A24),\"\",IFERROR(SUMIFS(D_D[ADP],D_D[MT],4,D_D[CAT],SMS,D_D[LOC],$A24),0))","v":162.34},{"$f":"IF(ISNA($A24),\"\",IFERROR(SUMIFS(D_D[PROD_MTD],D_D[MT],4,D_D[CAT],SMS,D_D[LOC],$A24),0))","v":806},{"$f":"IF(ISNA($A24),\"\",IFERROR(SUMIFS(D_D[ADCM],D_D[MT],4,D_D[CAT],SMS,D_D[LOC],$A24),0))","v":138.57},{"$f":"IF(ISNA($A24),\"\",IFERROR(SUMIFS(D_D[PROD_FYTD],D_D[MT],4,D_D[CAT],SMS,D_D[LOC],$A24),0))","v":10277},{"$f":"IF(ISNA($A24),\"\",IFERROR(SUMIFS(D_D[ADCF],D_D[MT],4,D_D[CAT],SMS,D_D[LOC],$A24),0))","v":138.82}]
["309",13,"Newark",{"$f":"IF(ISNA($A25),\"\",IFERROR(SUMIFS(D_D[INV],D_D[MT],4,D_D[CAT],SMS,D_D[LOC],$A25),0))","v":3090},{"$f":"IF(ISNA($A25),\"\",IFERROR(SUMIFS(D_D[BL],D_D[MT],4,D_D[CAT],SMS,D_D[LOC],$A25),0))","v":1235},0.39967637540453077,{"$f":"IF(ISNA($A25),\"\",IFERROR(SUMIFS(D_D[ADP],D_D[MT],4,D_D[CAT],SMS,D_D[LOC],$A25),0))","v":164.2},{"$f":"IF(ISNA($A25),\"\",IFERROR(SUMIFS(D_D[PROD_MTD],D_D[MT],4,D_D[CAT],SMS,D_D[LOC],$A25),0))","v":504},{"$f":"IF(ISNA($A25),\"\",IFERROR(SUMIFS(D_D[ADCM],D_D[MT],4,D_D[CAT],SMS,D_D[LOC],$A25),0))","v":140.26},{"$f":"IF(ISNA($A25),\"\",IFERROR(SUMIFS(D_D[PROD_FYTD],D_D[MT],4,D_D[CAT],SMS,D_D[LOC],$A25),0))","v":6997},{"$f":"IF(ISNA($A25),\"\",IFERROR(SUMIFS(D_D[ADCF],D_D[MT],4,D_D[CAT],SMS,D_D[LOC],$A25),0))","v":143.29}]
["310",14,"Philadelphia",{"$f":"IF(ISNA($A26),\"\",IFERROR(SUMIFS(D_D[INV],D_D[MT],4,D_D[CAT],SMS,D_D[LOC],$A26),0))","v":8941},{"$f":"IF(ISNA($A26),\"\",IFERROR(SUMIFS(D_D[BL],D_D[MT],4,D_D[CAT],SMS,D_D[LOC],$A26),0))","v":3597},0.402303992841964,{"$f":"IF(ISNA($A26),\"\",IFERROR(SUMIFS(D_D[ADP],D_D[MT],4,D_D[CAT],SMS,D_D[LOC],$A26),0))","v":175.18},{"$f":"IF(ISNA($A26),\"\",IFERROR(SUMIFS(D_D[PROD_MTD],D_D[MT],4,D_D[CAT],SMS,D_D[LOC],$A26),0))","v":1755},{"$f":"IF(ISNA($A26),\"\",IFERROR(SUMIFS(D_D[ADCM],D_D[MT],4,D_D[CAT],SMS,D_D[LOC],$A26),0))","v":122.24},{"$f":"IF(ISNA($A26),\"\",IFERROR(SUMIFS(D_D[PROD_FYTD],D_D[MT],4,D_D[CAT],SMS,D_D[LOC],$A26),0))","v":30422},{"$f":"IF(ISNA($A26),\"\",IFERROR(SUMIFS(D_D[ADCF],D_D[MT],4,D_D[CAT],SMS,D_D[LOC],$A26),0))","v":110.2}]
["311",15,"Pittsburgh",{"$f":"IF(ISNA($A27),\"\",IFERROR(SUMIFS(D_D[INV],D_D[MT],4,D_D[CAT],SMS,D_D[LOC],$A27),0))","v":5822},{"$f":"IF(ISNA($A27),\"\",IFERROR(SUMIFS(D_D[BL],D_D[MT],4,D_D[CAT],SMS,D_D[LOC],$A27),0))","v":2263},0.38869804190999657,{"$f":"IF(ISNA($A27),\"\",IFERROR(SUMIFS(D_D[ADP],D_D[MT],4,D_D[CAT],SMS,D_D[LOC],$A27),0))","v":155.5},{"$f":"IF(ISNA($A27),\"\",IFERROR(SUMIFS(D_D[PROD_MTD],D_D[MT],4,D_D[CAT],SMS,D_D[LOC],$A27),0))","v":937},{"$f":"IF(ISNA($A27),\"\",IFERROR(SUMIFS(D_D[ADCM],D_D[MT],4,D_D[CAT],SMS,D_D[LOC],$A27),0))","v":133.72999999999999},{"$f":"IF(ISNA($A27),\"\",IFERROR(SUMIFS(D_D[PROD_FYTD],D_D[MT],4,D_D[CAT],SMS,D_D[LOC],$A27),0))","v":11688},{"$f":"IF(ISNA($A27),\"\",IFERROR(SUMIFS(D_D[ADCF],D_D[MT],4,D_D[CAT],SMS,D_D[LOC],$A27),0))","v":136.21}]
["304",16,"Providence",{"$f":"IF(ISNA($A28),\"\",IFERROR(SUMIFS(D_D[INV],D_D[MT],4,D_D[CAT],SMS,D_D[LOC],$A28),0))","v":2234},{"$f":"IF(ISNA($A28),\"\",IFERROR(SUMIFS(D_D[BL],D_D[MT],4,D_D[CAT],SMS,D_D[LOC],$A28),0))","v":700},0.31333930170098478,{"$f":"IF(ISNA($A28),\"\",IFERROR(SUMIFS(D_D[ADP],D_D[MT],4,D_D[CAT],SMS,D_D[LOC],$A28),0))","v":140.37},{"$f":"IF(ISNA($A28),\"\",IFERROR(SUMIFS(D_D[PROD_MTD],D_D[MT],4,D_D[CAT],SMS,D_D[LOC],$A28),0))","v":1434},{"$f":"IF(ISNA($A28),\"\",IFERROR(SUMIFS(D_D[ADCM],D_D[MT],4,D_D[CAT],SMS,D_D[LOC],$A28),0))","v":47.42},{"$f":"IF(ISNA($A28),\"\",IFERROR(SUMIFS(D_D[PROD_FYTD],D_D[MT],4,D_D[CAT],SMS,D_D[LOC],$A28),0))","v":18340},{"$f":"IF(ISNA($A28),\"\",IFERROR(SUMIFS(D_D[ADCF],D_D[MT],4,D_D[CAT],SMS,D_D[LOC],$A28),0))","v":41.34}]
["376",17,"St. Louis RMC",{"$f":"IF(ISNA($A29),\"\",IFERROR(SUMIFS(D_D[INV],D_D[MT],4,D_D[CAT],SMS,D_D[LOC],$A29),0))","v":1424},{"$f":"IF(ISNA($A29),\"\",IFERROR(SUMIFS(D_D[BL],D_D[MT],4,D_D[CAT],SMS,D_D[LOC],$A29),0))","v":92},6.4606741573033713E-2,{"$f":"IF(ISNA($A29),\"\",IFERROR(SUMIFS(D_D[ADP],D_D[MT],4,D_D[CAT],SMS,D_D[LOC],$A29),0))","v":112.6},{"$f":"IF(ISNA($A29),\"\",IFERROR(SUMIFS(D_D[PROD_MTD],D_D[MT],4,D_D[CAT],SMS,D_D[LOC],$A29),0))","v":342},{"$f":"IF(ISNA($A29),\"\",IFERROR(SUMIFS(D_D[ADCM],D_D[MT],4,D_D[CAT],SMS,D_D[LOC],$A29),0))","v":117.43},{"$f":"IF(ISNA($A29),\"\",IFERROR(SUMIFS(D_D[PROD_FYTD],D_D[MT],4,D_D[CAT],SMS,D_D[LOC],$A29),0))","v":2986},{"$f":"IF(ISNA($A29),\"\",IFERROR(SUMIFS(D_D[ADCF],D_D[MT],4,D_D[CAT],SMS,D_D[LOC],$A29),0))","v":51.48}]
["331",18,"St. Louis",{"$f":"IF(ISNA($A30),\"\",IFERROR(SUMIFS(D_D[INV],D_D[MT],4,D_D[CAT],SMS,D_D[LOC],$A30),0))","v":6987},{"$f":"IF(ISNA($A30),\"\",IFERROR(SUMIFS(D_D[BL],D_D[MT],4,D_D[CAT],SMS,D_D[LOC],$A30),0))","v":2410},0.34492629168455702,{"$f":"IF(ISNA($A30),\"\",IFERROR(SUMIFS(D_D[ADP],D_D[MT],4,D_D[CAT],SMS,D_D[LOC],$A30),0))","v":155.22},{"$f":"IF(ISNA($A30),\"\",IFERROR(SUMIFS(D_D[PROD_MTD],D_D[MT],4,D_D[CAT],SMS,D_D[LOC],$A30),0))","v":1122},{"$f":"IF(ISNA($A30),\"\",IFERROR(SUMIFS(D_D[ADCM],D_D[MT],4,D_D[CAT],SMS,D_D[LOC],$A30),0))","v":120.19},{"$f":"IF(ISNA($A30),\"\",IFERROR(SUMIFS(D_D[PROD_FYTD],D_D[MT],4,D_D[CAT],SMS,D_D[LOC],$A30),0))","v":13835},{"$f":"IF(ISNA($A30),\"\",IFERROR(SUMIFS(D_D[ADCF],D_D[MT],4,D_D[CAT],SMS,D_D[LOC],$A30),0))","v":128.47}]
["402",19,"Togus",{"$f":"IF(ISNA($A31),\"\",IFERROR(SUMIFS(D_D[INV],D_D[MT],4,D_D[CAT],SMS,D_D[LOC],$A31),0))","v":1681},{"$f":"IF(ISNA($A31),\"\",IFERROR(SUMIFS(D_D[BL],D_D[MT],4,D_D[CAT],SMS,D_D[LOC],$A31),0))","v":585},0.34800713860797144,{"$f":"IF(ISNA($A31),\"\",IFERROR(SUMIFS(D_D[ADP],D_D[MT],4,D_D[CAT],SMS,D_D[LOC],$A31),0))","v":161.54},{"$f":"IF(ISNA($A31),\"\",IFERROR(SUMIFS(D_D[PROD_MTD],D_D[MT],4,D_D[CAT],SMS,D_D[LOC],$A31),0))","v":250},{"$f":"IF(ISNA($A31),\"\",IFERROR(SUMIFS(D_D[ADCM],D_D[MT],4,D_D[CAT],SMS,D_D[LOC],$A31),0))","v":121.76},{"$f":"IF(ISNA($A31),\"\",IFERROR(SUMIFS(D_D[PROD_FYTD],D_D[MT],4,D_D[CAT],SMS,D_D[LOC],$A31),0))","v":3295},{"$f":"IF(ISNA($A31),\"\",IFERROR(SUMIFS(D_D[ADCF],D_D[MT],4,D_D[CAT],SMS,D_D[LOC],$A31),0))","v":139.93}]
["372",20,"Washington",{"$f":"IF(ISNA($A32),\"\",IFERROR(SUMIFS(D_D[INV],D_D[MT],4,D_D[CAT],SMS,D_D[LOC],$A32),0))","v":258},{"$f":"IF(ISNA($A32),\"\",IFERROR(SUMIFS(D_D[BL],D_D[MT],4,D_D[CAT],SMS,D_D[LOC],$A32),0))","v":108},0.41860465116279072,{"$f":"IF(ISNA($A32),\"\",IFERROR(SUMIFS(D_D[ADP],D_D[MT],4,D_D[CAT],SMS,D_D[LOC],$A32),0))","v":157.09},{"$f":"IF(ISNA($A32),\"\",IFERROR(SUMIFS(D_D[PROD_MTD],D_D[MT],4,D_D[CAT],SMS,D_D[LOC],$A32),0))","v":61},{"$f":"IF(ISNA($A32),\"\",IFERROR(SUMIFS(D_D[ADCM],D_D[MT],4,D_D[CAT],SMS,D_D[LOC],$A32),0))","v":142.38},{"$f":"IF(ISNA($A32),\"\",IFERROR(SUMIFS(D_D[PROD_FYTD],D_D[MT],4,D_D[CAT],SMS,D_D[LOC],$A32),0))","v":1081},{"$f":"IF(ISNA($A32),\"\",IFERROR(SUMIFS(D_D[ADCF],D_D[MT],4,D_D[CAT],SMS,D_D[LOC],$A32),0))","v":125.19}]
["405",21,"White River Junction",{"$f":"IF(ISNA($A33),\"\",IFERROR(SUMIFS(D_D[INV],D_D[MT],4,D_D[CAT],SMS,D_D[LOC],$A33),0))","v":376},{"$f":"IF(ISNA($A33),\"\",IFERROR(SUMIFS(D_D[BL],D_D[MT],4,D_D[CAT],SMS,D_D[LOC],$A33),0))","v":146},0.38829787234042551,{"$f":"IF(ISNA($A33),\"\",IFERROR(SUMIFS(D_D[ADP],D_D[MT],4,D_D[CAT],SMS,D_D[LOC],$A33),0))","v":152.27000000000001},{"$f":"IF(ISNA($A33),\"\",IFERROR(SUMIFS(D_D[PROD_MTD],D_D[MT],4,D_D[CAT],SMS,D_D[LOC],$A33),0))","v":47},{"$f":"IF(ISNA($A33),\"\",IFERROR(SUMIFS(D_D[ADCM],D_D[MT],4,D_D[CAT],SMS,D_D[LOC],$A33),0))","v":162.43},{"$f":"IF(ISNA($A33),\"\",IFERROR(SUMIFS(D_D[PROD_FYTD],D_D[MT],4,D_D[CAT],SMS,D_D[LOC],$A33),0))","v":699},{"$f":"IF(ISNA($A33),\"\",IFERROR(SUMIFS(D_D[ADCF],D_D[MT],4,D_D[CAT],SMS,D_D[LOC],$A33),0))","v":131.04}]
["460",22,"Wilmington",{"$f":"IF(ISNA($A34),\"\",IFERROR(SUMIFS(D_D[INV],D_D[MT],4,D_D[CAT],SMS,D_D[LOC],$A34),0))","v":757},{"$f":"IF(ISNA($A34),\"\",IFERROR(SUMIFS(D_D[BL],D_D[MT],4,D_D[CAT],SMS,D_D[LOC],$A34),0))","v":204},0.26948480845442535,{"$f":"IF(ISNA($A34),\"\",IFERROR(SUMIFS(D_D[ADP],D_D[MT],4,D_D[CAT],SMS,D_D[LOC],$A34),0))","v":115.21},{"$f":"IF(ISNA($A34),\"\",IFERROR(SUMIFS(D_D[PROD_MTD],D_D[MT],4,D_D[CAT],SMS,D_D[LOC],$A34),0))","v":145},{"$f":"IF(ISNA($A34),\"\",IFERROR(SUMIFS(D_D[ADCM],D_D[MT],4,D_D[CAT],SMS,D_D[LOC],$A34),0))","v":131.30000000000001},{"$f":"IF(ISNA($A34),\"\",IFERROR(SUMIFS(D_D[PROD_FYTD],D_D[MT],4,D_D[CAT],SMS,D_D[LOC],$A34),0))","v":1617},{"$f":"IF(ISNA($A34),\"\",IFERROR(SUMIFS(D_D[ADCF],D_D[MT],4,D_D[CAT],SMS,D_D[LOC],$A34),0))","v":121.77}]
[{"$error":"#N/A"},23,"",{"$f":"IF(ISNA($A35),\"\",IFERROR(SUMIFS(D_D[INV],D_D[MT],4,D_D[CAT],SMS,D_D[LOC],$A35),0))","v":""},{"$f":"IF(ISNA($A35),\"\",IFERROR(SUMIFS(D_D[BL],D_D[MT],4,D_D[CAT],SMS,D_D[LOC],$A35),0))","v":""},"",{"$f":"IF(ISNA($A35),\"\",IFERROR(SUMIFS(D_D[ADP],D_D[MT],4,D_D[CAT],SMS,D_D[LOC],$A35),0))","v":""},{"$f":"IF(ISNA($A35),\"\",IFERROR(SUMIFS(D_D[PROD_MTD],D_D[MT],4,D_D[CAT],SMS,D_D[LOC],$A35),0))","v":""},{"$f":"IF(ISNA($A35),\"\",IFERROR(SUMIFS(D_D[ADCM],D_D[MT],4,D_D[CAT],SMS,D_D[LOC],$A35),0))","v":""},{"$f":"IF(ISNA($A35),\"\",IFERROR(SUMIFS(D_D[PROD_FYTD],D_D[MT],4,D_D[CAT],SMS,D_D[LOC],$A35),0))","v":""},{"$f":"IF(ISNA($A35),\"\",IFERROR(SUMIFS(D_D[ADCF],D_D[MT],4,D_D[CAT],SMS,D_D[LOC],$A35),0))","v":""}]

{"sheet":"Rating Bundle - State","index":4,"n_rows":35,"n_cols":15,"rows_kept":35,"cut":false,"hidden":false,"merged":[[8,9,10,9],[8,10,10,10],[8,11,10,16],[8,6,10,6],[1,11,1,16],[2,11,2,16],[1,3,1,10],[2,3,2,10],[7,3,7,10],[7,11,7,16],[8,3,10,3],[8,4,10,4],[8,5,10,5],[8,7,10,7],[8,8,10,8],[6,11,6,16]]}
[]
[null,null,"DISTRICT SELECTOR","Compensation and Pension Rating Bundle Metrics",null,null,null,null,null,null,null,"Report through"]
[null,null,null,"State View",null,null,null,null,null,null,null,{"$f":"D_DT[]","v":"2021-08-21"}]
[null,null,null,"The State listed is based on the address associated with the claim, not payment address",null,null,null,null,null,null,null,"ADP = Average Days Pending",null,null,"MTD = Month to Date"]
[null,null,null,"Each Special Mission has distinct claim counts",null,null,null,null,null,null,null,"ADC = Average Days to Complete",null,null,"FYTD = Fiscal Year to Date"]
[null,null,null,"When Special Mission is set to Pension, BDD, or Quickstart, the District Selector has no impact."]
[null,null,null,null,null,null,null,null,null,null,null,"Accuracy metrics are available on Rating Bundle - SOJ tab"]
[null,null,null,"CLAIM METRICS",null,null,null,null,null,null,null,"ACCURACY METRICS"]
[null,null,"SPECIAL MISSION SELECTOR","#\nPending","#\nPending\n> 125 Days","%\nPending\n> 125 Days","ADP","#\nCompleted\nMTD","ADC\nMTD","#\nCompleted\nFYTD","ADC\nFYTD","Accuracy measurement is available on the Rating Bundle SOJ tab"]
[]
[]
[100,null,{"$f":"Driver!$C$20& \" Total\"","v":"USA - All Missions Total"},{"$f":"IF(ISNA($A12),\"\",IFERROR(SUMIFS(D_D[INV],D_D[MT],6,D_D[CAT],SMS,D_D[LOC],$A12),0))","v":591099},{"$f":"IF(ISNA($A12),\"\",IFERROR(SUMIFS(D_D[BL],D_D[MT],6,D_D[CAT],SMS,D_D[LOC],$A12),0))","v":181570},{"$f":"IF(ISNA($A12),\"\",IFERROR(E12/D12,0))","v":0.30717358682724888},{"$f":"IF(ISNA($A12),\"\",IFERROR(SUMIFS(D_D[ADP],D_D[MT],6,D_D[CAT],SMS,D_D[LOC],$A12),0))","v":141.08000000000001},{"$f":"IF(ISNA($A12),\"\",IFERROR(SUMIFS(D_D[PROD_MTD],D_D[MT],6,D_D[CAT],SMS,D_D[LOC],$A12),0))","v":98255},{"$f":"IF(ISNA($A12),\"\",IFERROR(SUMIFS(D_D[ADCM],D_D[MT],6,D_D[CAT],SMS,D_D[LOC],$A12),0))","v":114.08},{"$f":"IF(ISNA($A12),\"\",IFERROR(SUMIFS(D_D[PROD_FYTD],D_D[MT],6,D_D[CAT],SMS,D_D[LOC],$A12),0))","v":1344665},{"$f":"IF(ISNA($A12),\"\",IFERROR(SUMIFS(D_D[ADCF],D_D[MT],6,D_D[CAT],SMS,D_D[LOC],$A12),0))","v":111.45}]
[{"$f":"INDEX(STATE,(MATCH($C13,STATE_D,0)))","v":"394"},1,{"$f":"IFERROR(INDEX(INDIRECT(DS_ST),B13),\"\")","v":"Northeast District"},{"$f":"IF(ISNA($A13),\"\",IFERROR(SUMIFS(D_D[INV],D_D[MT],6,D_D[CAT],SMS,D_D[LOC],$A13),0))","v":146652},{"$f":"IF(ISNA($A13),\"\",IFERROR(SUMIFS(D_D[BL],D_D[MT],6,D_D[CAT],SMS,D_D[LOC],$A13),0))","v":48732},{"$f":"IF(ISNA($A13),\"\",IFERROR(E13/D13,0))","v":0.33229686605024139},{"$f":"IF(ISNA($A13),\"\",IFERROR(SUMIFS(D_D[ADP],D_D[MT],6,D_D[CAT],SMS,D_D[LOC],$A13),0))","v":149.5},{"$f":"IF(ISNA($A13),\"\",IFERROR(SUMIFS(D_D[PROD_MTD],D_D[MT],6,D_D[CAT],SMS,D_D[LOC],$A13),0))","v":22284},{"$f":"IF(ISNA($A13),\"\",IFERROR(SUMIFS(D_D[ADCM],D_D[MT],6,D_D[CAT],SMS,D_D[LOC],$A13),0))","v":124.67},{"$f":"IF(ISNA($A13),\"\",IFERROR(SUMIFS(D_D[PROD_FYTD],D_D[MT],6,D_D[CAT],SMS,D_D[LOC],$A13),0))","v":302281},{"$f":"IF(ISNA($A13),\"\",IFERROR(SUMIFS(D_D[ADCF],D_D[MT],6,D_D[CAT],SMS,D_D[LOC],$A13),0))","v":120.4}]
["CT",2,"Connecticut",{"$f":"IF(ISNA($A14),\"\",IFERROR(SUMIFS(D_D[INV],D_D[MT],6,D_D[CAT],SMS,D_D[LOC],$A14),0))","v":3524},{"$f":"IF(ISNA($A14),\"\",IFERROR(SUMIFS(D_D[BL],D_D[MT],6,D_D[CAT],SMS,D_D[LOC],$A14),0))","v":1298},{"$f":"IF(ISNA($A14),\"\",IFERROR(E14/D14,0))","v":0.36833144154370034},{"$f":"IF(ISNA($A14),\"\",IFERROR(SUMIFS(D_D[ADP],D_D[MT],6,D_D[CAT],SMS,D_D[LOC],$A14),0))","v":160.66999999999999},{"$f":"IF(ISNA($A14),\"\",IFERROR(SUMIFS(D_D[PROD_MTD],D_D[MT],6,D_D[CAT],SMS,D_D[LOC],$A14),0))","v":539},{"$f":"IF(ISNA($A14),\"\",IFERROR(SUMIFS(D_D[ADCM],D_D[MT],6,D_D[CAT],SMS,D_D[LOC],$A14),0))","v":129.18},{"$f":"IF(ISNA($A14),\"\",IFERROR(SUMIFS(D_D[PROD_FYTD],D_D[MT],6,D_D[CAT],SMS,D_D[LOC],$A14),0))","v":6743},{"$f":"IF(ISNA($A14),\"\",IFERROR(SUMIFS(D_D[ADCF],D_D[MT],6,D_D[CAT],SMS,D_D[LOC],$A14),0))","v":129.12}]
["DE",3,{"$f":"IFERROR(INDEX(INDIRECT(DS_ST),B15),\"\")","v":"Delaware"},{"$f":"IF(ISNA($A15),\"\",IFERROR(SUMIFS(D_D[INV],D_D[MT],6,D_D[CAT],SMS,D_D[LOC],$A15),0))","v":1627},{"$f":"IF(ISNA($A15),\"\",IFERROR(SUMIFS(D_D[BL],D_D[MT],6,D_D[CAT],SMS,D_D[LOC],$A15),0))","v":511},{"$f":"IF(ISNA($A15),\"\",IFERROR(E15/D15,0))","v":0.31407498463429623},{"$f":"IF(ISNA($A15),\"\",IFERROR(SUMIFS(D_D[ADP],D_D[MT],6,D_D[CAT],SMS,D_D[LOC],$A15),0))","v":138.36000000000001},{"$f":"IF(ISNA($A15),\"\",IFERROR(SUMIFS(D_D[PROD_MTD],D_D[MT],6,D_D[CAT],SMS,D_D[LOC],$A15),0))","v":296},{"$f":"IF(ISNA($A15),\"\",IFERROR(SUMIFS(D_D[ADCM],D_D[MT],6,D_D[CAT],SMS,D_D[LOC],$A15),0))","v":110.52},{"$f":"IF(ISNA($A15),\"\",IFERROR(SUMIFS(D_D[PROD_FYTD],D_D[MT],6,D_D[CAT],SMS,D_D[LOC],$A15),0))","v":3833},{"$f":"IF(ISNA($A15),\"\",IFERROR(SUMIFS(D_D[ADCF],D_D[MT],6,D_D[CAT],SMS,D_D[LOC],$A15),0))","v":112.47}]
["DC",4,"District of Columbia",{"$f":"IF(ISNA($A16),\"\",IFERROR(SUMIFS(D_D[INV],D_D[MT],6,D_D[CAT],SMS,D_D[LOC],$A16),0))","v":665},{"$f":"IF(ISNA($A16),\"\",IFERROR(SUMIFS(D_D[BL],D_D[MT],6,D_D[CAT],SMS,D_D[LOC],$A16),0))","v":214},0.32180451127819548,{"$f":"IF(ISNA($A16),\"\",IFERROR(SUMIFS(D_D[ADP],D_D[MT],6,D_D[CAT],SMS,D_D[LOC],$A16),0))","v":147.77000000000001},{"$f":"IF(ISNA($A16),\"\",IFERROR(SUMIFS(D_D[PROD_MTD],D_D[MT],6,D_D[CAT],SMS,D_D[LOC],$A16),0))","v":122},{"$f":"IF(ISNA($A16),\"\",IFERROR(SUMIFS(D_D[ADCM],D_D[MT],6,D_D[CAT],SMS,D_D[LOC],$A16),0))","v":116.63},{"$f":"IF(ISNA($A16),\"\",IFERROR(SUMIFS(D_D[PROD_FYTD],D_D[MT],6,D_D[CAT],SMS,D_D[LOC],$A16),0))","v":1736},{"$f":"IF(ISNA($A16),\"\",IFERROR(SUMIFS(D_D[ADCF],D_D[MT],6,D_D[CAT],SMS,D_D[LOC],$A16),0))","v":119.32}]
["IL",5,"Illinois",{"$f":"IF(ISNA($A17),\"\",IFERROR(SUMIFS(D_D[INV],D_D[MT],6,D_D[CAT],SMS,D_D[LOC],$A17),0))","v":14083},{"$f":"IF(ISNA($A17),\"\",IFERROR(SUMIFS(D_D[BL],D_D[MT],6,D_D[CAT],SMS,D_D[LOC],$A17),0))","v":4478},0.31797202300646171,{"$f":"IF(ISNA($A17),\"\",IFERROR(SUMIFS(D_D[ADP],D_D[MT],6,D_D[CAT],SMS,D_D[LOC],$A17),0))","v":143.80000000000001},{"$f":"IF(ISNA($A17),\"\",IFERROR(SUMIFS(D_D[PROD_MTD],D_D[MT],6,D_D[CAT],SMS,D_D[LOC],$A17),0))","v":1954},{"$f":"IF(ISNA($A17),\"\",IFERROR(SUMIFS(D_D[ADCM],D_D[MT],6,D_D[CAT],SMS,D_D[LOC],$A17),0))","v":119.97},{"$f":"IF(ISNA($A17),\"\",IFERROR(SUMIFS(D_D[PROD_FYTD],D_D[MT],6,D_D[CAT],SMS,D_D[LOC],$A17),0))","v":28451},{"$f":"IF(ISNA($A17),\"\",IFERROR(SUMIFS(D_D[ADCF],D_D[MT],6,D_D[CAT],SMS,D_D[LOC],$A17),0))","v":117.73}]
["IN",6,"Indiana",{"$f":"IF(ISNA($A18),\"\",IFERROR(SUMIFS(D_D[INV],D_D[MT],6,D_D[CAT],SMS,D_D[LOC],$A18),0))","v":11035},{"$f":"IF(ISNA($A18),\"\",IFERROR(SUMIFS(D_D[BL],D_D[MT],6,D_D[CAT],SMS,D_D[LOC],$A18),0))","v":3517},0.31871318531943815,{"$f":"IF(ISNA($A18),\"\",IFERROR(SUMIFS(D_D[ADP],D_D[MT],6,D_D[CAT],SMS,D_D[LOC],$A18),0))","v":145.19},{"$f":"IF(ISNA($A18),\"\",IFERROR(SUMIFS(D_D[PROD_MTD],D_D[MT],6,D_D[CAT],SMS,D_D[LOC],$A18),0))","v":1613},{"$f":"IF(ISNA($A18),\"\",IFERROR(SUMIFS(D_D[ADCM],D_D[MT],6,D_D[CAT],SMS,D_D[LOC],$A18),0))","v":125.7},{"$f":"IF(ISNA($A18),\"\",IFERROR(SUMIFS(D_D[PROD_FYTD],D_D[MT],6,D_D[CAT],SMS,D_D[LOC],$A18),0))","v":21321},{"$f":"IF(ISNA($A18),\"\",IFERROR(SUMIFS(D_D[ADCF],D_D[MT],6,D_D[CAT],SMS,D_D[LOC],$A18),0))","v":122.3}]
["ME",7,"Maine",{"$f":"IF(ISNA($A19),\"\",IFERROR(SUMIFS(D_D[INV],D_D[MT],6,D_D[CAT],SMS,D_D[LOC],$A19),0))","v":2742},{"$f":"IF(ISNA($A19),\"\",IFERROR(SUMIFS(D_D[BL],D_D[MT],6,D_D[CAT],SMS,D_D[LOC],$A19),0))","v":1000},0.36469730123997085,{"$f":"IF(ISNA($A19),\"\",IFERROR(SUMIFS(D_D[ADP],D_D[MT],6,D_D[CAT],SMS,D_D[LOC],$A19),0))","v":166.27},{"$f":"IF(ISNA($A19),\"\",IFERROR(SUMIFS(D_D[PROD_MTD],D_D[MT],6,D_D[CAT],SMS,D_D[LOC],$A19),0))","v":387},{"$f":"IF(ISNA($A19),\"\",IFERROR(SUMIFS(D_D[ADCM],D_D[MT],6,D_D[CAT],SMS,D_D[LOC],$A19),0))","v":140.75},{"$f":"IF(ISNA($A19),\"\",IFERROR(SUMIFS(D_D[PROD_FYTD],D_D[MT],6,D_D[CAT],SMS,D_D[LOC],$A19),0))","v":5133},{"$f":"IF(ISNA($A19),\"\",IFERROR(SUMIFS(D_D[ADCF],D_D[MT],6,D_D[CAT],SMS,D_D[LOC],$A19),0))","v":135.69}]
["MD",8,"Maryland",{"$f":"IF(ISNA($A20),\"\",IFERROR(SUMIFS(D_D[INV],D_D[MT],6,D_D[CAT],SMS,D_D[LOC],$A20),0))","v":9952},{"$f":"IF(ISNA($A20),\"\",IFERROR(SUMIFS(D_D[BL],D_D[MT],6,D_D[CAT],SMS,D_D[LOC],$A20),0))","v":2956},0.29702572347266881,{"$f":"IF(ISNA($A20),\"\",IFERROR(SUMIFS(D_D[ADP],D_D[MT],6,D_D[CAT],SMS,D_D[LOC],$A20),0))","v":128.34},{"$f":"IF(ISNA($A20),\"\",IFERROR(SUMIFS(D_D[PROD_MTD],D_D[MT],6,D_D[CAT],SMS,D_D[LOC],$A20),0))","v":2124},{"$f":"IF(ISNA($A20),\"\",IFERROR(SUMIFS(D_D[ADCM],D_D[MT],6,D_D[CAT],SMS,D_D[LOC],$A20),0))","v":98.87},{"$f":"IF(ISNA($A20),\"\",IFERROR(SUMIFS(D_D[PROD_FYTD],D_D[MT],6,D_D[CAT],SMS,D_D[LOC],$A20),0))","v":29170},{"$f":"IF(ISNA($A20),\"\",IFERROR(SUMIFS(D_D[ADCF],D_D[MT],6,D_D[CAT],SMS,D_D[LOC],$A20),0))","v":106.86}]
["MA",9,"Massachusetts",{"$f":"IF(ISNA($A21),\"\",IFERROR(SUMIFS(D_D[INV],D_D[MT],6,D_D[CAT],SMS,D_D[LOC],$A21),0))","v":6239},{"$f":"IF(ISNA($A21),\"\",IFERROR(SUMIFS(D_D[BL],D_D[MT],6,D_D[CAT],SMS,D_D[LOC],$A21),0))","v":2264},0.36287866645295719,{"$f":"IF(ISNA($A21),\"\",IFERROR(SUMIFS(D_D[ADP],D_D[MT],6,D_D[CAT],SMS,D_D[LOC],$A21),0))","v":157.65},{"$f":"IF(ISNA($A21),\"\",IFERROR(SUMIFS(D_D[PROD_MTD],D_D[MT],6,D_D[CAT],SMS,D_D[LOC],$A21),0))","v":970},{"$f":"IF(ISNA($A21),\"\",IFERROR(SUMIFS(D_D[ADCM],D_D[MT],6,D_D[CAT],SMS,D_D[LOC],$A21),0))","v":129.72999999999999},{"$f":"IF(ISNA($A21),\"\",IFERROR(SUMIFS(D_D[PROD_FYTD],D_D[MT],6,D_D[CAT],SMS,D_D[LOC],$A21),0))","v":13723},{"$f":"IF(ISNA($A21),\"\",IFERROR(SUMIFS(D_D[ADCF],D_D[MT],6,D_D[CAT],SMS,D_D[LOC],$A21),0))","v":124.49}]
["MI",10,"Michigan",{"$f":"IF(ISNA($A22),\"\",IFERROR(SUMIFS(D_D[INV],D_D[MT],6,D_D[CAT],SMS,D_D[LOC],$A22),0))","v":13155},{"$f":"IF(ISNA($A22),\"\",IFERROR(SUMIFS(D_D[BL],D_D[MT],6,D_D[CAT],SMS,D_D[LOC],$A22),0))","v":4058},0.30847586469023186,{"$f":"IF(ISNA($A22),\"\",IFERROR(SUMIFS(D_D[ADP],D_D[MT],6,D_D[CAT],SMS,D_D[LOC],$A22),0))","v":144.74},{"$f":"IF(ISNA($A22),\"\",IFERROR(SUMIFS(D_D[PROD_MTD],D_D[MT],6,D_D[CAT],SMS,D_D[LOC],$A22),0))","v":1870},{"$f":"IF(ISNA($A22),\"\",IFERROR(SUMIFS(D_D[ADCM],D_D[MT],6,D_D[CAT],SMS,D_D[LOC],$A22),0))","v":122.54},{"$f":"IF(ISNA($A22),\"\",IFERROR(SUMIFS(D_D[PROD_FYTD],D_D[MT],6,D_D[CAT],SMS,D_D[LOC],$A22),0))","v":26627},{"$f":"IF(ISNA($A22),\"\",IFERROR(SUMIFS(D_D[ADCF],D_D[MT],6,D_D[CAT],SMS,D_D[LOC],$A22),0))","v":112.91}]
["MO",11,"Missouri",{"$f":"IF(ISNA($A23),\"\",IFERROR(SUMIFS(D_D[INV],D_D[MT],6,D_D[CAT],SMS,D_D[LOC],$A23),0))","v":12197},{"$f":"IF(ISNA($A23),\"\",IFERROR(SUMIFS(D_D[BL],D_D[MT],6,D_D[CAT],SMS,D_D[LOC],$A23),0))","v":3842},0.31499549069443306,{"$f":"IF(ISNA($A23),\"\",IFERROR(SUMIFS(D_D[ADP],D_D[MT],6,D_D[CAT],SMS,D_D[LOC],$A23),0))","v":146.62},{"$f":"IF(ISNA($A23),\"\",IFERROR(SUMIFS(D_D[PROD_MTD],D_D[MT],6,D_D[CAT],SMS,D_D[LOC],$A23),0))","v":1824},{"$f":"IF(ISNA($A23),\"\",IFERROR(SUMIFS(D_D[ADCM],D_D[MT],6,D_D[CAT],SMS,D_D[LOC],$A23),0))","v":121.87},{"$f":"IF(ISNA($A23),\"\",IFERROR(SUMIFS(D_D[PROD_FYTD],D_D[MT],6,D_D[CAT],SMS,D_D[LOC],$A23),0))","v":24155},{"$f":"IF(ISNA($A23),\"\",IFERROR(SUMIFS(D_D[ADCF],D_D[MT],6,D_D[CAT],SMS,D_D[LOC],$A23),0))","v":114.78}]
["NH",12,"New Hampshire",{"$f":"IF(ISNA($A24),\"\",IFERROR(SUMIFS(D_D[INV],D_D[MT],6,D_D[CAT],SMS,D_D[LOC],$A24),0))","v":2000},{"$f":"IF(ISNA($A24),\"\",IFERROR(SUMIFS(D_D[BL],D_D[MT],6,D_D[CAT],SMS,D_D[LOC],$A24),0))","v":768},0.38400000000000001,{"$f":"IF(ISNA($A24),\"\",IFERROR(SUMIFS(D_D[ADP],D_D[MT],6,D_D[CAT],SMS,D_D[LOC],$A24),0))","v":170.22},{"$f":"IF(ISNA($A24),\"\",IFERROR(SUMIFS(D_D[PROD_MTD],D_D[MT],6,D_D[CAT],SMS,D_D[LOC],$A24),0))","v":290},{"$f":"IF(ISNA($A24),\"\",IFERROR(SUMIFS(D_D[ADCM],D_D[MT],6,D_D[CAT],SMS,D_D[LOC],$A24),0))","v":149.24},{"$f":"IF(ISNA($A24),\"\",IFERROR(SUMIFS(D_D[PROD_FYTD],D_D[MT],6,D_D[CAT],SMS,D_D[LOC],$A24),0))","v":3975},{"$f":"IF(ISNA($A24),\"\",IFERROR(SUMIFS(D_D[ADCF],D_D[MT],6,D_D[CAT],SMS,D_D[LOC],$A24),0))","v":141.28}]
["NJ",13,"New Jersey",{"$f":"IF(ISNA($A25),\"\",IFERROR(SUMIFS(D_D[INV],D_D[MT],6,D_D[CAT],SMS,D_D[LOC],$A25),0))","v":7365},{"$f":"IF(ISNA($A25),\"\",IFERROR(SUMIFS(D_D[BL],D_D[MT],6,D_D[CAT],SMS,D_D[LOC],$A25),0))","v":2789},0.37868295994568907,{"$f":"IF(ISNA($A25),\"\",IFERROR(SUMIFS(D_D[ADP],D_D[MT],6,D_D[CAT],SMS,D_D[LOC],$A25),0))","v":162.16999999999999},{"$f":"IF(ISNA($A25),\"\",IFERROR(SUMIFS(D_D[PROD_MTD],D_D[MT],6,D_D[CAT],SMS,D_D[LOC],$A25),0))","v":1123},{"$f":"IF(ISNA($A25),\"\",IFERROR(SUMIFS(D_D[ADCM],D_D[MT],6,D_D[CAT],SMS,D_D[LOC],$A25),0))","v":130.72},{"$f":"IF(ISNA($A25),\"\",IFERROR(SUMIFS(D_D[PROD_FYTD],D_D[MT],6,D_D[CAT],SMS,D_D[LOC],$A25),0))","v":15756},{"$f":"IF(ISNA($A25),\"\",IFERROR(SUMIFS(D_D[ADCF],D_D[MT],6,D_D[CAT],SMS,D_D[LOC],$A25),0))","v":127.91}]
["NY",14,"New York",{"$f":"IF(ISNA($A26),\"\",IFERROR(SUMIFS(D_D[INV],D_D[MT],6,D_D[CAT],SMS,D_D[LOC],$A26),0))","v":15474},{"$f":"IF(ISNA($A26),\"\",IFERROR(SUMIFS(D_D[BL],D_D[MT],6,D_D[CAT],SMS,D_D[LOC],$A26),0))","v":5580},0.36060488561457932,{"$f":"IF(ISNA($A26),\"\",IFERROR(SUMIFS(D_D[ADP],D_D[MT],6,D_D[CAT],SMS,D_D[LOC],$A26),0))","v":156.49},{"$f":"IF(ISNA($A26),\"\",IFERROR(SUMIFS(D_D[PROD_MTD],D_D[MT],6,D_D[CAT],SMS,D_D[LOC],$A26),0))","v":2237},{"$f":"IF(ISNA($A26),\"\",IFERROR(SUMIFS(D_D[ADCM],D_D[MT],6,D_D[CAT],SMS,D_D[LOC],$A26),0))","v":139.83000000000001},{"$f":"IF(ISNA($A26),\"\",IFERROR(SUMIFS(D_D[PROD_FYTD],D_D[MT],6,D_D[CAT],SMS,D_D[LOC],$A26),0))","v":30628},{"$f":"IF(ISNA($A26),\"\",IFERROR(SUMIFS(D_D[ADCF],D_D[MT],6,D_D[CAT],SMS,D_D[LOC],$A26),0))","v":127.12}]
["OH",15,"Ohio",{"$f":"IF(ISNA($A27),\"\",IFERROR(SUMIFS(D_D[INV],D_D[MT],6,D_D[CAT],SMS,D_D[LOC],$A27),0))","v":18485},{"$f":"IF(ISNA($A27),\"\",IFERROR(SUMIFS(D_D[BL],D_D[MT],6,D_D[CAT],SMS,D_D[LOC],$A27),0))","v":5602},0.30305653232350555,{"$f":"IF(ISNA($A27),\"\",IFERROR(SUMIFS(D_D[ADP],D_D[MT],6,D_D[CAT],SMS,D_D[LOC],$A27),0))","v":143.96},{"$f":"IF(ISNA($A27),\"\",IFERROR(SUMIFS(D_D[PROD_MTD],D_D[MT],6,D_D[CAT],SMS,D_D[LOC],$A27),0))","v":2730},{"$f":"IF(ISNA($A27),\"\",IFERROR(SUMIFS(D_D[ADCM],D_D[MT],6,D_D[CAT],SMS,D_D[LOC],$A27),0))","v":123.44},{"$f":"IF(ISNA($A27),\"\",IFERROR(SUMIFS(D_D[PROD_FYTD],D_D[MT],6,D_D[CAT],SMS,D_D[LOC],$A27),0))","v":36559},{"$f":"IF(ISNA($A27),\"\",IFERROR(SUMIFS(D_D[ADCF],D_D[MT],6,D_D[CAT],SMS,D_D[LOC],$A27),0))","v":115.48}]
["PA",16,"Pennsylvania",{"$f":"IF(ISNA($A28),\"\",IFERROR(SUMIFS(D_D[INV],D_D[MT],6,D_D[CAT],SMS,D_D[LOC],$A28),0))","v":16630},{"$f":"IF(ISNA($A28),\"\",IFERROR(SUMIFS(D_D[BL],D_D[MT],6,D_D[CAT],SMS,D_D[LOC],$A28),0))","v":5651},0.33980757666867106,{"$f":"IF(ISNA($A28),\"\",IFERROR(SUMIFS(D_D[ADP],D_D[MT],6,D_D[CAT],SMS,D_D[LOC],$A28),0))","v":154.69999999999999},{"$f":"IF(ISNA($A28),\"\",IFERROR(SUMIFS(D_D[PROD_MTD],D_D[MT],6,D_D[CAT],SMS,D_D[LOC],$A28),0))","v":2530},{"$f":"IF(ISNA($A28),\"\",IFERROR(SUMIFS(D_D[ADCM],D_D[MT],6,D_D[CAT],SMS,D_D[LOC],$A28),0))","v":125.47},{"$f":"IF(ISNA($A28),\"\",IFERROR(SUMIFS(D_D[PROD_FYTD],D_D[MT],6,D_D[CAT],SMS,D_D[LOC],$A28),0))","v":33398},{"$f":"IF(ISNA($A28),\"\",IFERROR(SUMIFS(D_D[ADCF],D_D[MT],6,D_D[CAT],SMS,D_D[LOC],$A28),0))","v":125.82}]
["RI",17,"Rhode Island",{"$f":"IF(ISNA($A29),\"\",IFERROR(SUMIFS(D_D[INV],D_D[MT],6,D_D[CAT],SMS,D_D[LOC],$A29),0))","v":1599},{"$f":"IF(ISNA($A29),\"\",IFERROR(SUMIFS(D_D[BL],D_D[MT],6,D_D[CAT],SMS,D_D[LOC],$A29),0))","v":573},0.35834896810506567,{"$f":"IF(ISNA($A29),\"\",IFERROR(SUMIFS(D_D[ADP],D_D[MT],6,D_D[CAT],SMS,D_D[LOC],$A29),0))","v":158.18},{"$f":"IF(ISNA($A29),\"\",IFERROR(SUMIFS(D_D[PROD_MTD],D_D[MT],6,D_D[CAT],SMS,D_D[LOC],$A29),0))","v":261},{"$f":"IF(ISNA($A29),\"\",IFERROR(SUMIFS(D_D[ADCM],D_D[MT],6,D_D[CAT],SMS,D_D[LOC],$A29),0))","v":134.72999999999999},{"$f":"IF(ISNA($A29),\"\",IFERROR(SUMIFS(D_D[PROD_FYTD],D_D[MT],6,D_D[CAT],SMS,D_D[LOC],$A29),0))","v":3012},{"$f":"IF(ISNA($A29),\"\",IFERROR(SUMIFS(D_D[ADCF],D_D[MT],6,D_D[CAT],SMS,D_D[LOC],$A29),0))","v":137.07}]
["VT",18,"Vermont",{"$f":"IF(ISNA($A30),\"\",IFERROR(SUMIFS(D_D[INV],D_D[MT],6,D_D[CAT],SMS,D_D[LOC],$A30),0))","v":822},{"$f":"IF(ISNA($A30),\"\",IFERROR(SUMIFS(D_D[BL],D_D[MT],6,D_D[CAT],SMS,D_D[LOC],$A30),0))","v":359},0.43673965936739662,{"$f":"IF(ISNA($A30),\"\",IFERROR(SUMIFS(D_D[ADP],D_D[MT],6,D_D[CAT],SMS,D_D[LOC],$A30),0))","v":180.79},{"$f":"IF(ISNA($A30),\"\",IFERROR(SUMIFS(D_D[PROD_MTD],D_D[MT],6,D_D[CAT],SMS,D_D[LOC],$A30),0))","v":80},{"$f":"IF(ISNA($A30),\"\",IFERROR(SUMIFS(D_D[ADCM],D_D[MT],6,D_D[CAT],SMS,D_D[LOC],$A30),0))","v":138.9},{"$f":"IF(ISNA($A30),\"\",IFERROR(SUMIFS(D_D[PROD_FYTD],D_D[MT],6,D_D[CAT],SMS,D_D[LOC],$A30),0))","v":1330},{"$f":"IF(ISNA($A30),\"\",IFERROR(SUMIFS(D_D[ADCF],D_D[MT],6,D_D[CAT],SMS,D_D[LOC],$A30),0))","v":142.34}]
["WI",19,"Wisconsin",{"$f":"IF(ISNA($A31),\"\",IFERROR(SUMIFS(D_D[INV],D_D[MT],6,D_D[CAT],SMS,D_D[LOC],$A31),0))","v":9058},{"$f":"IF(ISNA($A31),\"\",IFERROR(SUMIFS(D_D[BL],D_D[MT],6,D_D[CAT],SMS,D_D[LOC],$A31),0))","v":3272},0.36122764407153896,{"$f":"IF(ISNA($A31),\"\",IFERROR(SUMIFS(D_D[ADP],D_D[MT],6,D_D[CAT],SMS,D_D[LOC],$A31),0))","v":155.36000000000001},{"$f":"IF(ISNA($A31),\"\",IFERROR(SUMIFS(D_D[PROD_MTD],D_D[MT],6,D_D[CAT],SMS,D_D[LOC],$A31),0))","v":1334},{"$f":"IF(ISNA($A31),\"\",IFERROR(SUMIFS(D_D[ADCM],D_D[MT],6,D_D[CAT],SMS,D_D[LOC],$A31),0))","v":134.25},{"$f":"IF(ISNA($A31),\"\",IFERROR(SUMIFS(D_D[PROD_FYTD],D_D[MT],6,D_D[CAT],SMS,D_D[LOC],$A31),0))","v":16731},{"$f":"IF(ISNA($A31),\"\",IFERROR(SUMIFS(D_D[ADCF],D_D[MT],6,D_D[CAT],SMS,D_D[LOC],$A31),0))","v":127.35}]
[{"$error":"#N/A"},20,"",{"$f":"IF(ISNA($A32),\"\",IFERROR(SUMIFS(D_D[INV],D_D[MT],6,D_D[CAT],SMS,D_D[LOC],$A32),0))","v":""},{"$f":"IF(ISNA($A32),\"\",IFERROR(SUMIFS(D_D[BL],D_D[MT],6,D_D[CAT],SMS,D_D[LOC],$A32),0))","v":""},"",{"$f":"IF(ISNA($A32),\"\",IFERROR(SUMIFS(D_D[ADP],D_D[MT],6,D_D[CAT],SMS,D_D[LOC],$A32),0))","v":""},{"$f":"IF(ISNA($A32),\"\",IFERROR(SUMIFS(D_D[PROD_MTD],D_D[MT],6,D_D[CAT],SMS,D_D[LOC],$A32),0))","v":""},{"$f":"IF(ISNA($A32),\"\",IFERROR(SUMIFS(D_D[ADCM],D_D[MT],6,D_D[CAT],SMS,D_D[LOC],$A32),0))","v":""},{"$f":"IF(ISNA($A32),\"\",IFERROR(SUMIFS(D_D[PROD_FYTD],D_D[MT],6,D_D[CAT],SMS,D_D[LOC],$A32),0))","v":""},{"$f":"IF(ISNA($A32),\"\",IFERROR(SUMIFS(D_D[ADCF],D_D[MT],6,D_D[CAT],SMS,D_D[LOC],$A32),0))","v":""}]
[{"$error":"#N/A"},21,"",{"$f":"IF(ISNA($A33),\"\",IFERROR(SUMIFS(D_D[INV],D_D[MT],6,D_D[CAT],SMS,D_D[LOC],$A33),0))","v":""},{"$f":"IF(ISNA($A33),\"\",IFERROR(SUMIFS(D_D[BL],D_D[MT],6,D_D[CAT],SMS,D_D[LOC],$A33),0))","v":""},"",{"$f":"IF(ISNA($A33),\"\",IFERROR(SUMIFS(D_D[ADP],D_D[MT],6,D_D[CAT],SMS,D_D[LOC],$A33),0))","v":""},{"$f":"IF(ISNA($A33),\"\",IFERROR(SUMIFS(D_D[PROD_MTD],D_D[MT],6,D_D[CAT],SMS,D_D[LOC],$A33),0))","v":""},{"$f":"IF(ISNA($A33),\"\",IFERROR(SUMIFS(D_D[ADCM],D_D[MT],6,D_D[CAT],SMS,D_D[LOC],$A33),0))","v":""},{"$f":"IF(ISNA($A33),\"\",IFERROR(SUMIFS(D_D[PROD_FYTD],D_D[MT],6,D_D[CAT],SMS,D_D[LOC],$A33),0))","v":""},{"$f":"IF(ISNA($A33),\"\",IFERROR(SUMIFS(D_D[ADCF],D_D[MT],6,D_D[CAT],SMS,D_D[LOC],$A33),0))","v":""}]
[{"$error":"#N/A"},22,"",{"$f":"IF(ISNA($A34),\"\",IFERROR(SUMIFS(D_D[INV],D_D[MT],6,D_D[CAT],SMS,D_D[LOC],$A34),0))","v":""},{"$f":"IF(ISNA($A34),\"\",IFERROR(SUMIFS(D_D[BL],D_D[MT],6,D_D[CAT],SMS,D_D[LOC],$A34),0))","v":""},"",{"$f":"IF(ISNA($A34),\"\",IFERROR(SUMIFS(D_D[ADP],D_D[MT],6,D_D[CAT],SMS,D_D[LOC],$A34),0))","v":""},{"$f":"IF(ISNA($A34),\"\",IFERROR(SUMIFS(D_D[PROD_MTD],D_D[MT],6,D_D[CAT],SMS,D_D[LOC],$A34),0))","v":""},{"$f":"IF(ISNA($A34),\"\",IFERROR(SUMIFS(D_D[ADCM],D_D[MT],6,D_D[CAT],SMS,D_D[LOC],$A34),0))","v":""},{"$f":"IF(ISNA($A34),\"\",IFERROR(SUMIFS(D_D[PROD_FYTD],D_D[MT],6,D_D[CAT],SMS,D_D[LOC],$A34),0))","v":""},{"$f":"IF(ISNA($A34),\"\",IFERROR(SUMIFS(D_D[ADCF],D_D[MT],6,D_D[CAT],SMS,D_D[LOC],$A34),0))","v":""}]
[{"$error":"#N/A"},23,"",{"$f":"IF(ISNA($A35),\"\",IFERROR(SUMIFS(D_D[INV],D_D[MT],6,D_D[CAT],SMS,D_D[LOC],$A35),0))","v":""},{"$f":"IF(ISNA($A35),\"\",IFERROR(SUMIFS(D_D[BL],D_D[MT],6,D_D[CAT],SMS,D_D[LOC],$A35),0))","v":""},"",{"$f":"IF(ISNA($A35),\"\",IFERROR(SUMIFS(D_D[ADP],D_D[MT],6,D_D[CAT],SMS,D_D[LOC],$A35),0))","v":""},{"$f":"IF(ISNA($A35),\"\",IFERROR(SUMIFS(D_D[PROD_MTD],D_D[MT],6,D_D[CAT],SMS,D_D[LOC],$A35),0))","v":""},{"$f":"IF(ISNA($A35),\"\",IFERROR(SUMIFS(D_D[ADCM],D_D[MT],6,D_D[CAT],SMS,D_D[LOC],$A35),0))","v":""},{"$f":"IF(ISNA($A35),\"\",IFERROR(SUMIFS(D_D[PROD_FYTD],D_D[MT],6,D_D[CAT],SMS,D_D[LOC],$A35),0))","v":""},{"$f":"IF(ISNA($A35),\"\",IFERROR(SUMIFS(D_D[ADCF],D_D[MT],6,D_D[CAT],SMS,D_D[LOC],$A35),0))","v":""}]

{"sheet":"Rating Bundle - SOJ - NWQ","index":5,"n_rows":36,"n_cols":12,"rows_kept":36,"cut":false,"hidden":false,"merged":[[5,9,5,11],[8,3,10,3],[8,4,10,4],[8,5,10,5],[8,6,10,6],[7,3,7,6],[7,7,7,11],[6,3,6,8],[1,9,1,11],[2,9,2,11],[8,11,10,11],[8,7,10,7],[8,8,10,8],[1,3,1,8],[2,3,2,8],[5,3,5,8],[3,3,3,8],[4,3,4,8],[8,9,10,9],[8,10,10,10]]}
[]
[null,null,"DISTRICT SELECTOR","Compensation and Pension Rating Bundle Metrics",null,null,null,null,null,"Report through"]
[null,null,null,"NWQ-Station of Jurisdiction View",null,null,null,null,null,{"$f":"D_DT[]","v":"2021-08-21"}]
[null,null,null,"The Station of Jurisdiction (SOJ)  is the regional office assigned to work the claim",null,null,null,null,null,"ADP = Average Days Pending"]
[null,null,null,"Each Special Mission has distinct claim counts"]
[null,null,null,"When Special Mission is set to Pension, BDD, or Quickstart, the District Selector has",null,null,null,null,null,"Life Cycle Metrics defined on Legend tab"]
[null,null,null,"no impact"]
[null,null,null,"CLAIM METRICS",null,null,null,"LIFE CYCLE METRICS (as Percent of # Pending)"]
[null,null,"SPECIAL MISSION SELECTOR","#\nPending","#\nPending\n> 125 Days","%\nPending\n> 125 Days","ADP","Pending Development","Pending Evidence","Pending Decision","Pending Award","Pending Authorization"]
[]
[]
[100,null,{"$f":"Driver!$C$20& \" Total\"","v":"USA - All Missions Total"},{"$f":"IF(ISNA($A12),\"\",IFERROR(SUMIFS(D_D[INV],D_D[MT],5,D_D[CAT],SMS, D_D[EP],-1,D_D[LOC],$A12),0))","v":591099},{"$f":"IF(ISNA($A12),\"\",IFERROR(SUMIFS(D_D[BL],D_D[MT],5,D_D[CAT],SMS, D_D[EP],-1,D_D[LOC],$A12),0))","v":181570},{"$f":"IF(ISNA($A12),\"\",IFERROR(E12/D12,0))","v":0.30717358682724888},{"$f":"IF(ISNA($A12),\"\",IFERROR(SUMIFS(D_D[ADP],D_D[MT],5,D_D[CAT],SMS, D_D[EP],-1,D_D[LOC],$A12),0))","v":141.08000000000001},{"$f":"IF(ISNA($A12),\"\",IFERROR(SUMIFS(D_D[DEV],D_D[MT],5,D_D[CAT],SMS, D_D[EP],-1,D_D[LOC],$A12)/$D12,0))","v":1.9908678580068652E-2},{"$f":"IF(ISNA($A12),\"\",IFERROR(SUMIFS(D_D[EVD],D_D[MT],5,D_D[CAT],SMS, D_D[EP],-1,D_D[LOC],$A12)/$D12,0))","v":0.75119734596065968},{"$f":"IF(ISNA($A12),\"\",IFERROR(SUMIFS(D_D[DEC],D_D[MT],5,D_D[CAT],SMS, D_D[EP],-1,D_D[LOC],$A12)/$D12,0))","v":0.21763190260853088},{"$f":"IF(ISNA($A12),\"\",IFERROR(SUMIFS(D_D[AWD],D_D[MT],5,D_D[CAT],SMS, D_D[EP],-1,D_D[LOC],$A12)/$D12,0))","v":8.0443377505290993E-3},{"$f":"IF(ISNA($A12),\"\",IFERROR(SUMIFS(D_D[AUT],D_D[MT],5,D_D[CAT],SMS, D_D[EP],-1,D_D[LOC],$A12)/$D12,0))","v":3.2075845162993001E-3}]
[499,null,{"$f":"\"NWQ-\"&Driver!$C$20& \" Total\"","v":"NWQ-USA - All Missions Total"},{"$f":"IF(ISNA($A13),\"\",IFERROR(SUMIFS(D_D[INV],D_D[MT],5,D_D[CAT],SMS, D_D[EP],-1,D_D[LOC],$A13),0))","v":502587},{"$f":"IF(ISNA($A13),\"\",IFERROR(SUMIFS(D_D[BL],D_D[MT],5,D_D[CAT],SMS, D_D[EP],-1,D_D[LOC],$A13),0))","v":152237},{"$f":"IF(ISNA($A13),\"\",IFERROR(E13/D13,0))","v":0.30290676042157877},{"$f":"IF(ISNA($A13),\"\",IFERROR(SUMIFS(D_D[ADP],D_D[MT],5,D_D[CAT],SMS, D_D[EP],-1,D_D[LOC],$A13),0))","v":140.81},{"$f":"IF(ISNA($A13),\"\",IFERROR(SUMIFS(D_D[DEV],D_D[MT],5,D_D[CAT],SMS, D_D[EP],-1,D_D[LOC],$A13)/$D13,0))","v":4.5166309514571602E-3},{"$f":"IF(ISNA($A13),\"\",IFERROR(SUMIFS(D_D[EVD],D_D[MT],5,D_D[CAT],SMS, D_D[EP],-1,D_D[LOC],$A13)/$D13,0))","v":0.78576246500605862},{"$f":"IF(ISNA($A13),\"\",IFERROR(SUMIFS(D_D[DEC],D_D[MT],5,D_D[CAT],SMS, D_D[EP],-1,D_D[LOC],$A13)/$D13,0))","v":0.20915582774723579},{"$f":"IF(ISNA($A13),\"\",IFERROR(SUMIFS(D_D[AWD],D_D[MT],5,D_D[CAT],SMS, D_D[EP],-1,D_D[LOC],$A13)/$D13,0))","v":5.3324101100903922E-4},{"$f":"IF(ISNA($A13),\"\",IFERROR(SUMIFS(D_D[AUT],D_D[MT],5,D_D[CAT],SMS, D_D[EP],-1,D_D[LOC],$A13)/$D13,0))","v":3.1835284239345625E-5}]
[{"$f":"INDEX(RO,(MATCH($C14,RO_D,0)))","v":394},1,{"$f":"IFERROR(INDEX(INDIRECT(DS_RO),B14),\"\")","v":"Northeast District"},{"$f":"IF(ISNA($A14),\"\",IFERROR(SUMIFS(D_D[INV],D_D[MT],5,D_D[CAT],SMS, D_D[EP],-1,D_D[LOC],$A14),0))","v":19088},{"$f":"IF(ISNA($A14),\"\",IFERROR(SUMIFS(D_D[BL],D_D[MT],5,D_D[CAT],SMS, D_D[EP],-1,D_D[LOC],$A14),0))","v":6514},{"$f":"IF(ISNA($A14),\"\",IFERROR(E14/D14,0))","v":0.34126152556580053},{"$f":"IF(ISNA($A14),\"\",IFERROR(SUMIFS(D_D[ADP],D_D[MT],5,D_D[CAT],SMS, D_D[EP],-1,D_D[LOC],$A14),0))","v":129.83000000000001},{"$f":"IF(ISNA($A14),\"\",IFERROR(SUMIFS(D_D[DEV],D_D[MT],5,D_D[CAT],SMS, D_D[EP],-1,D_D[LOC],$A14)/$D14,0))","v":0.10666387259010897},{"$f":"IF(ISNA($A14),\"\",IFERROR(SUMIFS(D_D[EVD],D_D[MT],5,D_D[CAT],SMS, D_D[EP],-1,D_D[LOC],$A14)/$D14,0))","v":0.54615465213746861},{"$f":"IF(ISNA($A14),\"\",IFERROR(SUMIFS(D_D[DEC],D_D[MT],5,D_D[CAT],SMS, D_D[EP],-1,D_D[LOC],$A14)/$D14,0))","v":0.26886001676445936},{"$f":"IF(ISNA($A14),\"\",IFERROR(SUMIFS(D_D[AWD],D_D[MT],5,D_D[CAT],SMS, D_D[EP],-1,D_D[LOC],$A14)/$D14,0))","v":5.4641659681475274E-2},{"$f":"IF(ISNA($A14),\"\",IFERROR(SUMIFS(D_D[AUT],D_D[MT],5,D_D[CAT],SMS, D_D[EP],-1,D_D[LOC],$A14)/$D14,0))","v":2.3575020955574184E-2}]
["313",2,{"$f":"IFERROR(INDEX(INDIRECT(DS_RO),B15),\"\")","v":"Baltimore"},{"$f":"IF(ISNA($A15),\"\",IFERROR(SUMIFS(D_D[INV],D_D[MT],5,D_D[CAT],SMS, D_D[EP],-1,D_D[LOC],$A15),0))","v":434},{"$f":"IF(ISNA($A15),\"\",IFERROR(SUMIFS(D_D[BL],D_D[MT],5,D_D[CAT],SMS, D_D[EP],-1,D_D[LOC],$A15),0))","v":108},{"$f":"IF(ISNA($A15),\"\",IFERROR(E15/D15,0))","v":0.24884792626728111},{"$f":"IF(ISNA($A15),\"\",IFERROR(SUMIFS(D_D[ADP],D_D[MT],5,D_D[CAT],SMS, D_D[EP],-1,D_D[LOC],$A15),0))","v":94.66},{"$f":"IF(ISNA($A15),\"\",IFERROR(SUMIFS(D_D[DEV],D_D[MT],5,D_D[CAT],SMS, D_D[EP],-1,D_D[LOC],$A15)/$D15,0))","v":0.27880184331797236},{"$f":"IF(ISNA($A15),\"\",IFERROR(SUMIFS(D_D[EVD],D_D[MT],5,D_D[CAT],SMS, D_D[EP],-1,D_D[LOC],$A15)/$D15,0))","v":0.49078341013824883},{"$f":"IF(ISNA($A15),\"\",IFERROR(SUMIFS(D_D[DEC],D_D[MT],5,D_D[CAT],SMS, D_D[EP],-1,D_D[LOC],$A15)/$D15,0))","v":0.1728110599078341},{"$f":"IF(ISNA($A15),\"\",IFERROR(SUMIFS(D_D[AWD],D_D[MT],5,D_D[CAT],SMS, D_D[EP],-1,D_D[LOC],$A15)/$D15,0))","v":3.6866359447004608E-2},{"$f":"IF(ISNA($A15),\"\",IFERROR(SUMIFS(D_D[AUT],D_D[MT],5,D_D[CAT],SMS, D_D[EP],-1,D_D[LOC],$A15)/$D15,0))","v":2.0737327188940093E-2}]
["301",3,"Boston",{"$f":"IF(ISNA($A16),\"\",IFERROR(SUMIFS(D_D[INV],D_D[MT],5,D_D[CAT],SMS, D_D[EP],-1,D_D[LOC],$A16),0))","v":484},{"$f":"IF(ISNA($A16),\"\",IFERROR(SUMIFS(D_D[BL],D_D[MT],5,D_D[CAT],SMS, D_D[EP],-1,D_D[LOC],$A16),0))","v":135},0.27892561983471076,{"$f":"IF(ISNA($A16),\"\",IFERROR(SUMIFS(D_D[ADP],D_D[MT],5,D_D[CAT],SMS, D_D[EP],-1,D_D[LOC],$A16),0))","v":118.96},{"$f":"IF(ISNA($A16),\"\",IFERROR(SUMIFS(D_D[DEV],D_D[MT],5,D_D[CAT],SMS, D_D[EP],-1,D_D[LOC],$A16)/$D16,0))","v":0.10537190082644628},{"$f":"IF(ISNA($A16),\"\",IFERROR(SUMIFS(D_D[EVD],D_D[MT],5,D_D[CAT],SMS, D_D[EP],-1,D_D[LOC],$A16)/$D16,0))","v":0.54338842975206614},{"$f":"IF(ISNA($A16),\"\",IFERROR(SUMIFS(D_D[DEC],D_D[MT],5,D_D[CAT],SMS, D_D[EP],-1,D_D[LOC],$A16)/$D16,0))","v":0.29958677685950413},{"$f":"IF(ISNA($A16),\"\",IFERROR(SUMIFS(D_D[AWD],D_D[MT],5,D_D[CAT],SMS, D_D[EP],-1,D_D[LOC],$A16)/$D16,0))","v":3.9256198347107439E-2},{"$f":"IF(ISNA($A16),\"\",IFERROR(SUMIFS(D_D[AUT],D_D[MT],5,D_D[CAT],SMS, D_D[EP],-1,D_D[LOC],$A16)/$D16,0))","v":1.2396694214876033E-2}]
["307",4,"Buffalo",{"$f":"IF(ISNA($A17),\"\",IFERROR(SUMIFS(D_D[INV],D_D[MT],5,D_D[CAT],SMS, D_D[EP],-1,D_D[LOC],$A17),0))","v":627},{"$f":"IF(ISNA($A17),\"\",IFERROR(SUMIFS(D_D[BL],D_D[MT],5,D_D[CAT],SMS, D_D[EP],-1,D_D[LOC],$A17),0))","v":234},0.37320574162679426,{"$f":"IF(ISNA($A17),\"\",IFERROR(SUMIFS(D_D[ADP],D_D[MT],5,D_D[CAT],SMS, D_D[EP],-1,D_D[LOC],$A17),0))","v":134.76},{"$f":"IF(ISNA($A17),\"\",IFERROR(SUMIFS(D_D[DEV],D_D[MT],5,D_D[CAT],SMS, D_D[EP],-1,D_D[LOC],$A17)/$D17,0))","v":0.15151515151515152},{"$f":"IF(ISNA($A17),\"\",IFERROR(SUMIFS(D_D[EVD],D_D[MT],5,D_D[CAT],SMS, D_D[EP],-1,D_D[LOC],$A17)/$D17,0))","v":0.45933014354066987},{"$f":"IF(ISNA($A17),\"\",IFERROR(SUMIFS(D_D[DEC],D_D[MT],5,D_D[CAT],SMS, D_D[EP],-1,D_D[LOC],$A17)/$D17,0))","v":0.31738437001594894},{"$f":"IF(ISNA($A17),\"\",IFERROR(SUMIFS(D_D[AWD],D_D[MT],5,D_D[CAT],SMS, D_D[EP],-1,D_D[LOC],$A17)/$D17,0))","v":5.1036682615629984E-2},{"$f":"IF(ISNA($A17),\"\",IFERROR(SUMIFS(D_D[AUT],D_D[MT],5,D_D[CAT],SMS, D_D[EP],-1,D_D[LOC],$A17)/$D17,0))","v":2.0733652312599681E-2}]
["328",5,"Chicago",{"$f":"IF(ISNA($A18),\"\",IFERROR(SUMIFS(D_D[INV],D_D[MT],5,D_D[CAT],SMS, D_D[EP],-1,D_D[LOC],$A18),0))","v":527},{"$f":"IF(ISNA($A18),\"\",IFERROR(SUMIFS(D_D[BL],D_D[MT],5,D_D[CAT],SMS, D_D[EP],-1,D_D[LOC],$A18),0))","v":167},0.31688804554079697,{"$f":"IF(ISNA($A18),\"\",IFERROR(SUMIFS(D_D[ADP],D_D[MT],5,D_D[CAT],SMS, D_D[EP],-1,D_D[LOC],$A18),0))","v":121.9},{"$f":"IF(ISNA($A18),\"\",IFERROR(SUMIFS(D_D[DEV],D_D[MT],5,D_D[CAT],SMS, D_D[EP],-1,D_D[LOC],$A18)/$D18,0))","v":0.16698292220113853},{"$f":"IF(ISNA($A18),\"\",IFERROR(SUMIFS(D_D[EVD],D_D[MT],5,D_D[CAT],SMS, D_D[EP],-1,D_D[LOC],$A18)/$D18,0))","v":0.4971537001897533},{"$f":"IF(ISNA($A18),\"\",IFERROR(SUMIFS(D_D[DEC],D_D[MT],5,D_D[CAT],SMS, D_D[EP],-1,D_D[LOC],$A18)/$D18,0))","v":0.24288425047438331},{"$f":"IF(ISNA($A18),\"\",IFERROR(SUMIFS(D_D[AWD],D_D[MT],5,D_D[CAT],SMS, D_D[EP],-1,D_D[LOC],$A18)/$D18,0))","v":6.8311195445920306E-2},{"$f":"IF(ISNA($A18),\"\",IFERROR(SUMIFS(D_D[AUT],D_D[MT],5,D_D[CAT],SMS, D_D[EP],-1,D_D[LOC],$A18)/$D18,0))","v":2.4667931688804556E-2}]
["325",6,"Cleveland",{"$f":"IF(ISNA($A19),\"\",IFERROR(SUMIFS(D_D[INV],D_D[MT],5,D_D[CAT],SMS, D_D[EP],-1,D_D[LOC],$A19),0))","v":2264},{"$f":"IF(ISNA($A19),\"\",IFERROR(SUMIFS(D_D[BL],D_D[MT],5,D_D[CAT],SMS, D_D[EP],-1,D_D[LOC],$A19),0))","v":1105},0.48807420494699649,{"$f":"IF(ISNA($A19),\"\",IFERROR(SUMIFS(D_D[ADP],D_D[MT],5,D_D[CAT],SMS, D_D[EP],-1,D_D[LOC],$A19),0))","v":159.28},{"$f":"IF(ISNA($A19),\"\",IFERROR(SUMIFS(D_D[DEV],D_D[MT],5,D_D[CAT],SMS, D_D[EP],-1,D_D[LOC],$A19)/$D19,0))","v":0.11616607773851591},{"$f":"IF(ISNA($A19),\"\",IFERROR(SUMIFS(D_D[EVD],D_D[MT],5,D_D[CAT],SMS, D_D[EP],-1,D_D[LOC],$A19)/$D19,0))","v":0.65636042402826855},{"$f":"IF(ISNA($A19),\"\",IFERROR(SUMIFS(D_D[DEC],D_D[MT],5,D_D[CAT],SMS, D_D[EP],-1,D_D[LOC],$A19)/$D19,0))","v":0.17402826855123674},{"$f":"IF(ISNA($A19),\"\",IFERROR(SUMIFS(D_D[AWD],D_D[MT],5,D_D[CAT],SMS, D_D[EP],-1,D_D[LOC],$A19)/$D19,0))","v":4.1077738515901061E-2},{"$f":"IF(ISNA($A19),\"\",IFERROR(SUMIFS(D_D[AUT],D_D[MT],5,D_D[CAT],SMS, D_D[EP],-1,D_D[LOC],$A19)/$D19,0))","v":1.2367491166077738E-2}]
["329",7,"Detroit",{"$f":"IF(ISNA($A20),\"\",IFERROR(SUMIFS(D_D[INV],D_D[MT],5,D_D[CAT],SMS, D_D[EP],-1,D_D[LOC],$A20),0))","v":1025},{"$f":"IF(ISNA($A20),\"\",IFERROR(SUMIFS(D_D[BL],D_D[MT],5,D_D[CAT],SMS, D_D[EP],-1,D_D[LOC],$A20),0))","v":235},0.22926829268292684,{"$f":"IF(ISNA($A20),\"\",IFERROR(SUMIFS(D_D[ADP],D_D[MT],5,D_D[CAT],SMS, D_D[EP],-1,D_D[LOC],$A20),0))","v":95.06},{"$f":"IF(ISNA($A20),\"\",IFERROR(SUMIFS(D_D[DEV],D_D[MT],5,D_D[CAT],SMS, D_D[EP],-1,D_D[LOC],$A20)/$D20,0))","v":0.11804878048780487},{"$f":"IF(ISNA($A20),\"\",IFERROR(SUMIFS(D_D[EVD],D_D[MT],5,D_D[CAT],SMS, D_D[EP],-1,D_D[LOC],$A20)/$D20,0))","v":0.39512195121951221},{"$f":"IF(ISNA($A20),\"\",IFERROR(SUMIFS(D_D[DEC],D_D[MT],5,D_D[CAT],SMS, D_D[EP],-1,D_D[LOC],$A20)/$D20,0))","v":0.39902439024390246},{"$f":"IF(ISNA($A20),\"\",IFERROR(SUMIFS(D_D[AWD],D_D[MT],5,D_D[CAT],SMS, D_D[EP],-1,D_D[LOC],$A20)/$D20,0))","v":4.6829268292682927E-2},{"$f":"IF(ISNA($A20),\"\",IFERROR(SUMIFS(D_D[AUT],D_D[MT],5,D_D[CAT],SMS, D_D[EP],-1,D_D[LOC],$A20)/$D20,0))","v":4.0975609756097563E-2}]
["308",8,"Hartford",{"$f":"IF(ISNA($A21),\"\",IFERROR(SUMIFS(D_D[INV],D_D[MT],5,D_D[CAT],SMS, D_D[EP],-1,D_D[LOC],$A21),0))","v":588},{"$f":"IF(ISNA($A21),\"\",IFERROR(SUMIFS(D_D[BL],D_D[MT],5,D_D[CAT],SMS, D_D[EP],-1,D_D[LOC],$A21),0))","v":295},0.50170068027210879,{"$f":"IF(ISNA($A21),\"\",IFERROR(SUMIFS(D_D[ADP],D_D[MT],5,D_D[CAT],SMS, D_D[EP],-1,D_D[LOC],$A21),0))","v":181.54},{"$f":"IF(ISNA($A21),\"\",IFERROR(SUMIFS(D_D[DEV],D_D[MT],5,D_D[CAT],SMS, D_D[EP],-1,D_D[LOC],$A21)/$D21,0))","v":0.10204081632653061},{"$f":"IF(ISNA($A21),\"\",IFERROR(SUMIFS(D_D[EVD],D_D[MT],5,D_D[CAT],SMS, D_D[EP],-1,D_D[LOC],$A21)/$D21,0))","v":0.61394557823129248},{"$f":"IF(ISNA($A21),\"\",IFERROR(SUMIFS(D_D[DEC],D_D[MT],5,D_D[CAT],SMS, D_D[EP],-1,D_D[LOC],$A21)/$D21,0))","v":0.22789115646258504},{"$f":"IF(ISNA($A21),\"\",IFERROR(SUMIFS(D_D[AWD],D_D[MT],5,D_D[CAT],SMS, D_D[EP],-1,D_D[LOC],$A21)/$D21,0))","v":4.7619047619047616E-2},{"$f":"IF(ISNA($A21),\"\",IFERROR(SUMIFS(D_D[AUT],D_D[MT],5,D_D[CAT],SMS, D_D[EP],-1,D_D[LOC],$A21)/$D21,0))","v":8.5034013605442185E-3}]
["326",9,"Indianapolis",{"$f":"IF(ISNA($A22),\"\",IFERROR(SUMIFS(D_D[INV],D_D[MT],5,D_D[CAT],SMS, D_D[EP],-1,D_D[LOC],$A22),0))","v":745},{"$f":"IF(ISNA($A22),\"\",IFERROR(SUMIFS(D_D[BL],D_D[MT],5,D_D[CAT],SMS, D_D[EP],-1,D_D[LOC],$A22),0))","v":230},0.3087248322147651,{"$f":"IF(ISNA($A22),\"\",IFERROR(SUMIFS(D_D[ADP],D_D[MT],5,D_D[CAT],SMS, D_D[EP],-1,D_D[LOC],$A22),0))","v":131.78},{"$f":"IF(ISNA($A22),\"\",IFERROR(SUMIFS(D_D[DEV],D_D[MT],5,D_D[CAT],SMS, D_D[EP],-1,D_D[LOC],$A22)/$D22,0))","v":0.12214765100671141},{"$f":"IF(ISNA($A22),\"\",IFERROR(SUMIFS(D_D[EVD],D_D[MT],5,D_D[CAT],SMS, D_D[EP],-1,D_D[LOC],$A22)/$D22,0))","v":0.53020134228187921},{"$f":"IF(ISNA($A22),\"\",IFERROR(SUMIFS(D_D[DEC],D_D[MT],5,D_D[CAT],SMS, D_D[EP],-1,D_D[LOC],$A22)/$D22,0))","v":0.32348993288590605},{"$f":"IF(ISNA($A22),\"\",IFERROR(SUMIFS(D_D[AWD],D_D[MT],5,D_D[CAT],SMS, D_D[EP],-1,D_D[LOC],$A22)/$D22,0))","v":1.8791946308724831E-2},{"$f":"IF(ISNA($A22),\"\",IFERROR(SUMIFS(D_D[AUT],D_D[MT],5,D_D[CAT],SMS, D_D[EP],-1,D_D[LOC],$A22)/$D22,0))","v":5.3691275167785232E-3}]
["373",10,"Manchester",{"$f":"IF(ISNA($A23),\"\",IFERROR(SUMIFS(D_D[INV],D_D[MT],5,D_D[CAT],SMS, D_D[EP],-1,D_D[LOC],$A23),0))","v":234},{"$f":"IF(ISNA($A23),\"\",IFERROR(SUMIFS(D_D[BL],D_D[MT],5,D_D[CAT],SMS, D_D[EP],-1,D_D[LOC],$A23),0))","v":101},0.43162393162393164,{"$f":"IF(ISNA($A23),\"\",IFERROR(SUMIFS(D_D[ADP],D_D[MT],5,D_D[CAT],SMS, D_D[EP],-1,D_D[LOC],$A23),0))","v":152.72},{"$f":"IF(ISNA($A23),\"\",IFERROR(SUMIFS(D_D[DEV],D_D[MT],5,D_D[CAT],SMS, D_D[EP],-1,D_D[LOC],$A23)/$D23,0))","v":3.8461538461538464E-2},{"$f":"IF(ISNA($A23),\"\",IFERROR(SUMIFS(D_D[EVD],D_D[MT],5,D_D[CAT],SMS, D_D[EP],-1,D_D[LOC],$A23)/$D23,0))","v":0.55555555555555558},{"$f":"IF(ISNA($A23),\"\",IFERROR(SUMIFS(D_D[DEC],D_D[MT],5,D_D[CAT],SMS, D_D[EP],-1,D_D[LOC],$A23)/$D23,0))","v":0.29487179487179488},{"$f":"IF(ISNA($A23),\"\",IFERROR(SUMIFS(D_D[AWD],D_D[MT],5,D_D[CAT],SMS, D_D[EP],-1,D_D[LOC],$A23)/$D23,0))","v":7.2649572649572655E-2},{"$f":"IF(ISNA($A23),\"\",IFERROR(SUMIFS(D_D[AUT],D_D[MT],5,D_D[CAT],SMS, D_D[EP],-1,D_D[LOC],$A23)/$D23,0))","v":3.8461538461538464E-2}]
["330",11,"Milwaukee",{"$f":"IF(ISNA($A24),\"\",IFERROR(SUMIFS(D_D[INV],D_D[MT],5,D_D[CAT],SMS, D_D[EP],-1,D_D[LOC],$A24),0))","v":1610},{"$f":"IF(ISNA($A24),\"\",IFERROR(SUMIFS(D_D[BL],D_D[MT],5,D_D[CAT],SMS, D_D[EP],-1,D_D[LOC],$A24),0))","v":238},0.14782608695652175,{"$f":"IF(ISNA($A24),\"\",IFERROR(SUMIFS(D_D[ADP],D_D[MT],5,D_D[CAT],SMS, D_D[EP],-1,D_D[LOC],$A24),0))","v":78.16},{"$f":"IF(ISNA($A24),\"\",IFERROR(SUMIFS(D_D[DEV],D_D[MT],5,D_D[CAT],SMS, D_D[EP],-1,D_D[LOC],$A24)/$D24,0))","v":0.13478260869565217},{"$f":"IF(ISNA($A24),\"\",IFERROR(SUMIFS(D_D[EVD],D_D[MT],5,D_D[CAT],SMS, D_D[EP],-1,D_D[LOC],$A24)/$D24,0))","v":0.35590062111801241},{"$f":"IF(ISNA($A24),\"\",IFERROR(SUMIFS(D_D[DEC],D_D[MT],5,D_D[CAT],SMS, D_D[EP],-1,D_D[LOC],$A24)/$D24,0))","v":0.30931677018633541},{"$f":"IF(ISNA($A24),\"\",IFERROR(SUMIFS(D_D[AWD],D_D[MT],5,D_D[CAT],SMS, D_D[EP],-1,D_D[LOC],$A24)/$D24,0))","v":0.12111801242236025},{"$f":"IF(ISNA($A24),\"\",IFERROR(SUMIFS(D_D[AUT],D_D[MT],5,D_D[CAT],SMS, D_D[EP],-1,D_D[LOC],$A24)/$D24,0))","v":7.8881987577639756E-2}]
["306",12,"New York",{"$f":"IF(ISNA($A25),\"\",IFERROR(SUMIFS(D_D[INV],D_D[MT],5,D_D[CAT],SMS, D_D[EP],-1,D_D[LOC],$A25),0))","v":828},{"$f":"IF(ISNA($A25),\"\",IFERROR(SUMIFS(D_D[BL],D_D[MT],5,D_D[CAT],SMS, D_D[EP],-1,D_D[LOC],$A25),0))","v":318},0.38405797101449274,{"$f":"IF(ISNA($A25),\"\",IFERROR(SUMIFS(D_D[ADP],D_D[MT],5,D_D[CAT],SMS, D_D[EP],-1,D_D[LOC],$A25),0))","v":153.77000000000001},{"$f":"IF(ISNA($A25),\"\",IFERROR(SUMIFS(D_D[DEV],D_D[MT],5,D_D[CAT],SMS, D_D[EP],-1,D_D[LOC],$A25)/$D25,0))","v":0.14371980676328502},{"$f":"IF(ISNA($A25),\"\",IFERROR(SUMIFS(D_D[EVD],D_D[MT],5,D_D[CAT],SMS, D_D[EP],-1,D_D[LOC],$A25)/$D25,0))","v":0.58333333333333337},{"$f":"IF(ISNA($A25),\"\",IFERROR(SUMIFS(D_D[DEC],D_D[MT],5,D_D[CAT],SMS, D_D[EP],-1,D_D[LOC],$A25)/$D25,0))","v":0.21376811594202899},{"$f":"IF(ISNA($A25),\"\",IFERROR(SUMIFS(D_D[AWD],D_D[MT],5,D_D[CAT],SMS, D_D[EP],-1,D_D[LOC],$A25)/$D25,0))","v":3.5024154589371984E-2},{"$f":"IF(ISNA($A25),\"\",IFERROR(SUMIFS(D_D[AUT],D_D[MT],5,D_D[CAT],SMS, D_D[EP],-1,D_D[LOC],$A25)/$D25,0))","v":2.4154589371980676E-2}]
["309",13,"Newark",{"$f":"IF(ISNA($A26),\"\",IFERROR(SUMIFS(D_D[INV],D_D[MT],5,D_D[CAT],SMS, D_D[EP],-1,D_D[LOC],$A26),0))","v":412},{"$f":"IF(ISNA($A26),\"\",IFERROR(SUMIFS(D_D[BL],D_D[MT],5,D_D[CAT],SMS, D_D[EP],-1,D_D[LOC],$A26),0))","v":139},0.33737864077669905,{"$f":"IF(ISNA($A26),\"\",IFERROR(SUMIFS(D_D[ADP],D_D[MT],5,D_D[CAT],SMS, D_D[EP],-1,D_D[LOC],$A26),0))","v":121.27},{"$f":"IF(ISNA($A26),\"\",IFERROR(SUMIFS(D_D[DEV],D_D[MT],5,D_D[CAT],SMS, D_D[EP],-1,D_D[LOC],$A26)/$D26,0))","v":0.13349514563106796},{"$f":"IF(ISNA($A26),\"\",IFERROR(SUMIFS(D_D[EVD],D_D[MT],5,D_D[CAT],SMS, D_D[EP],-1,D_D[LOC],$A26)/$D26,0))","v":0.57524271844660191},{"$f":"IF(ISNA($A26),\"\",IFERROR(SUMIFS(D_D[DEC],D_D[MT],5,D_D[CAT],SMS, D_D[EP],-1,D_D[LOC],$A26)/$D26,0))","v":0.21601941747572814},{"$f":"IF(ISNA($A26),\"\",IFERROR(SUMIFS(D_D[AWD],D_D[MT],5,D_D[CAT],SMS, D_D[EP],-1,D_D[LOC],$A26)/$D26,0))","v":4.6116504854368932E-2},{"$f":"IF(ISNA($A26),\"\",IFERROR(SUMIFS(D_D[AUT],D_D[MT],5,D_D[CAT],SMS, D_D[EP],-1,D_D[LOC],$A26)/$D26,0))","v":2.9126213592233011E-2}]
["310",14,"Philadelphia",{"$f":"IF(ISNA($A27),\"\",IFERROR(SUMIFS(D_D[INV],D_D[MT],5,D_D[CAT],SMS, D_D[EP],-1,D_D[LOC],$A27),0))","v":2753},{"$f":"IF(ISNA($A27),\"\",IFERROR(SUMIFS(D_D[BL],D_D[MT],5,D_D[CAT],SMS, D_D[EP],-1,D_D[LOC],$A27),0))","v":750},0.27243007628042137,{"$f":"IF(ISNA($A27),\"\",IFERROR(SUMIFS(D_D[ADP],D_D[MT],5,D_D[CAT],SMS, D_D[EP],-1,D_D[LOC],$A27),0))","v":123.53},{"$f":"IF(ISNA($A27),\"\",IFERROR(SUMIFS(D_D[DEV],D_D[MT],5,D_D[CAT],SMS, D_D[EP],-1,D_D[LOC],$A27)/$D27,0))","v":7.3374500544860152E-2},{"$f":"IF(ISNA($A27),\"\",IFERROR(SUMIFS(D_D[EVD],D_D[MT],5,D_D[CAT],SMS, D_D[EP],-1,D_D[LOC],$A27)/$D27,0))","v":0.43043952052306572},{"$f":"IF(ISNA($A27),\"\",IFERROR(SUMIFS(D_D[DEC],D_D[MT],5,D_D[CAT],SMS, D_D[EP],-1,D_D[LOC],$A27)/$D27,0))","v":0.41881583726843441},{"$f":"IF(ISNA($A27),\"\",IFERROR(SUMIFS(D_D[AWD],D_D[MT],5,D_D[CAT],SMS, D_D[EP],-1,D_D[LOC],$A27)/$D27,0))","v":5.7028695968034872E-2},{"$f":"IF(ISNA($A27),\"\",IFERROR(SUMIFS(D_D[AUT],D_D[MT],5,D_D[CAT],SMS, D_D[EP],-1,D_D[LOC],$A27)/$D27,0))","v":2.0341445695604796E-2}]
["311",15,"Pittsburgh",{"$f":"IF(ISNA($A28),\"\",IFERROR(SUMIFS(D_D[INV],D_D[MT],5,D_D[CAT],SMS, D_D[EP],-1,D_D[LOC],$A28),0))","v":715},{"$f":"IF(ISNA($A28),\"\",IFERROR(SUMIFS(D_D[BL],D_D[MT],5,D_D[CAT],SMS, D_D[EP],-1,D_D[LOC],$A28),0))","v":327},0.45734265734265733,{"$f":"IF(ISNA($A28),\"\",IFERROR(SUMIFS(D_D[ADP],D_D[MT],5,D_D[CAT],SMS, D_D[EP],-1,D_D[LOC],$A28),0))","v":173.23},{"$f":"IF(ISNA($A28),\"\",IFERROR(SUMIFS(D_D[DEV],D_D[MT],5,D_D[CAT],SMS, D_D[EP],-1,D_D[LOC],$A28)/$D28,0))","v":0.11748251748251748},{"$f":"IF(ISNA($A28),\"\",IFERROR(SUMIFS(D_D[EVD],D_D[MT],5,D_D[CAT],SMS, D_D[EP],-1,D_D[LOC],$A28)/$D28,0))","v":0.627972027972028},{"$f":"IF(ISNA($A28),\"\",IFERROR(SUMIFS(D_D[DEC],D_D[MT],5,D_D[CAT],SMS, D_D[EP],-1,D_D[LOC],$A28)/$D28,0))","v":0.19440559440559441},{"$f":"IF(ISNA($A28),\"\",IFERROR(SUMIFS(D_D[AWD],D_D[MT],5,D_D[CAT],SMS, D_D[EP],-1,D_D[LOC],$A28)/$D28,0))","v":5.3146853146853149E-2},{"$f":"IF(ISNA($A28),\"\",IFERROR(SUMIFS(D_D[AUT],D_D[MT],5,D_D[CAT],SMS, D_D[EP],-1,D_D[LOC],$A28)/$D28,0))","v":6.993006993006993E-3}]
["304",16,"Providence",{"$f":"IF(ISNA($A29),\"\",IFERROR(SUMIFS(D_D[INV],D_D[MT],5,D_D[CAT],SMS, D_D[EP],-1,D_D[LOC],$A29),0))","v":1267},{"$f":"IF(ISNA($A29),\"\",IFERROR(SUMIFS(D_D[BL],D_D[MT],5,D_D[CAT],SMS, D_D[EP],-1,D_D[LOC],$A29),0))","v":245},0.19337016574585636,{"$f":"IF(ISNA($A29),\"\",IFERROR(SUMIFS(D_D[ADP],D_D[MT],5,D_D[CAT],SMS, D_D[EP],-1,D_D[LOC],$A29),0))","v":93.55},{"$f":"IF(ISNA($A29),\"\",IFERROR(SUMIFS(D_D[DEV],D_D[MT],5,D_D[CAT],SMS, D_D[EP],-1,D_D[LOC],$A29)/$D29,0))","v":7.1033938437253349E-2},{"$f":"IF(ISNA($A29),\"\",IFERROR(SUMIFS(D_D[EVD],D_D[MT],5,D_D[CAT],SMS, D_D[EP],-1,D_D[LOC],$A29)/$D29,0))","v":0.39147592738752962},{"$f":"IF(ISNA($A29),\"\",IFERROR(SUMIFS(D_D[DEC],D_D[MT],5,D_D[CAT],SMS, D_D[EP],-1,D_D[LOC],$A29)/$D29,0))","v":0.32202052091554856},{"$f":"IF(ISNA($A29),\"\",IFERROR(SUMIFS(D_D[AWD],D_D[MT],5,D_D[CAT],SMS, D_D[EP],-1,D_D[LOC],$A29)/$D29,0))","v":0.16890292028413575},{"$f":"IF(ISNA($A29),\"\",IFERROR(SUMIFS(D_D[AUT],D_D[MT],5,D_D[CAT],SMS, D_D[EP],-1,D_D[LOC],$A29)/$D29,0))","v":4.4988161010260458E-2}]
["376",17,"St. Louis RMC",{"$f":"IF(ISNA($A30),\"\",IFERROR(SUMIFS(D_D[INV],D_D[MT],5,D_D[CAT],SMS, D_D[EP],-1,D_D[LOC],$A30),0))","v":0},{"$f":"IF(ISNA($A30),\"\",IFERROR(SUMIFS(D_D[BL],D_D[MT],5,D_D[CAT],SMS, D_D[EP],-1,D_D[LOC],$A30),0))","v":0},0,{"$f":"IF(ISNA($A30),\"\",IFERROR(SUMIFS(D_D[ADP],D_D[MT],5,D_D[CAT],SMS, D_D[EP],-1,D_D[LOC],$A30),0))","v":0},{"$f":"IF(ISNA($A30),\"\",IFERROR(SUMIFS(D_D[DEV],D_D[MT],5,D_D[CAT],SMS, D_D[EP],-1,D_D[LOC],$A30)/$D30,0))","v":0},{"$f":"IF(ISNA($A30),\"\",IFERROR(SUMIFS(D_D[EVD],D_D[MT],5,D_D[CAT],SMS, D_D[EP],-1,D_D[LOC],$A30)/$D30,0))","v":0},{"$f":"IF(ISNA($A30),\"\",IFERROR(SUMIFS(D_D[DEC],D_D[MT],5,D_D[CAT],SMS, D_D[EP],-1,D_D[LOC],$A30)/$D30,0))","v":0},{"$f":"IF(ISNA($A30),\"\",IFERROR(SUMIFS(D_D[AWD],D_D[MT],5,D_D[CAT],SMS, D_D[EP],-1,D_D[LOC],$A30)/$D30,0))","v":0},{"$f":"IF(ISNA($A30),\"\",IFERROR(SUMIFS(D_D[AUT],D_D[MT],5,D_D[CAT],SMS, D_D[EP],-1,D_D[LOC],$A30)/$D30,0))","v":0}]
["331",18,"St. Louis",{"$f":"IF(ISNA($A31),\"\",IFERROR(SUMIFS(D_D[INV],D_D[MT],5,D_D[CAT],SMS, D_D[EP],-1,D_D[LOC],$A31),0))","v":3405},{"$f":"IF(ISNA($A31),\"\",IFERROR(SUMIFS(D_D[BL],D_D[MT],5,D_D[CAT],SMS, D_D[EP],-1,D_D[LOC],$A31),0))","v":1614},0.47400881057268723,{"$f":"IF(ISNA($A31),\"\",IFERROR(SUMIFS(D_D[ADP],D_D[MT],5,D_D[CAT],SMS, D_D[EP],-1,D_D[LOC],$A31),0))","v":147.32},{"$f":"IF(ISNA($A31),\"\",IFERROR(SUMIFS(D_D[DEV],D_D[MT],5,D_D[CAT],SMS, D_D[EP],-1,D_D[LOC],$A31)/$D31,0))","v":6.255506607929516E-2},{"$f":"IF(ISNA($A31),\"\",IFERROR(SUMIFS(D_D[EVD],D_D[MT],5,D_D[CAT],SMS, D_D[EP],-1,D_D[LOC],$A31)/$D31,0))","v":0.76005873715124816},{"$f":"IF(ISNA($A31),\"\",IFERROR(SUMIFS(D_D[DEC],D_D[MT],5,D_D[CAT],SMS, D_D[EP],-1,D_D[LOC],$A31)/$D31,0))","v":0.15682819383259911},{"$f":"IF(ISNA($A31),\"\",IFERROR(SUMIFS(D_D[AWD],D_D[MT],5,D_D[CAT],SMS, D_D[EP],-1,D_D[LOC],$A31)/$D31,0))","v":9.6916299559471359E-3},{"$f":"IF(ISNA($A31),\"\",IFERROR(SUMIFS(D_D[AUT],D_D[MT],5,D_D[CAT],SMS, D_D[EP],-1,D_D[LOC],$A31)/$D31,0))","v":1.0866372980910427E-2}]
["402",19,"Togus",{"$f":"IF(ISNA($A32),\"\",IFERROR(SUMIFS(D_D[INV],D_D[MT],5,D_D[CAT],SMS, D_D[EP],-1,D_D[LOC],$A32),0))","v":938},{"$f":"IF(ISNA($A32),\"\",IFERROR(SUMIFS(D_D[BL],D_D[MT],5,D_D[CAT],SMS, D_D[EP],-1,D_D[LOC],$A32),0))","v":176},0.18763326226012794,{"$f":"IF(ISNA($A32),\"\",IFERROR(SUMIFS(D_D[ADP],D_D[MT],5,D_D[CAT],SMS, D_D[EP],-1,D_D[LOC],$A32),0))","v":115.58},{"$f":"IF(ISNA($A32),\"\",IFERROR(SUMIFS(D_D[DEV],D_D[MT],5,D_D[CAT],SMS, D_D[EP],-1,D_D[LOC],$A32)/$D32,0))","v":0.14072494669509594},{"$f":"IF(ISNA($A32),\"\",IFERROR(SUMIFS(D_D[EVD],D_D[MT],5,D_D[CAT],SMS, D_D[EP],-1,D_D[LOC],$A32)/$D32,0))","v":0.52878464818763327},{"$f":"IF(ISNA($A32),\"\",IFERROR(SUMIFS(D_D[DEC],D_D[MT],5,D_D[CAT],SMS, D_D[EP],-1,D_D[LOC],$A32)/$D32,0))","v":0.27185501066098083},{"$f":"IF(ISNA($A32),\"\",IFERROR(SUMIFS(D_D[AWD],D_D[MT],5,D_D[CAT],SMS, D_D[EP],-1,D_D[LOC],$A32)/$D32,0))","v":5.5437100213219619E-2},{"$f":"IF(ISNA($A32),\"\",IFERROR(SUMIFS(D_D[AUT],D_D[MT],5,D_D[CAT],SMS, D_D[EP],-1,D_D[LOC],$A32)/$D32,0))","v":3.1982942430703624E-3}]
["372",20,"Washington",{"$f":"IF(ISNA($A33),\"\",IFERROR(SUMIFS(D_D[INV],D_D[MT],5,D_D[CAT],SMS, D_D[EP],-1,D_D[LOC],$A33),0))","v":3},{"$f":"IF(ISNA($A33),\"\",IFERROR(SUMIFS(D_D[BL],D_D[MT],5,D_D[CAT],SMS, D_D[EP],-1,D_D[LOC],$A33),0))","v":0},0,{"$f":"IF(ISNA($A33),\"\",IFERROR(SUMIFS(D_D[ADP],D_D[MT],5,D_D[CAT],SMS, D_D[EP],-1,D_D[LOC],$A33),0))","v":40.33},{"$f":"IF(ISNA($A33),\"\",IFERROR(SUMIFS(D_D[DEV],D_D[MT],5,D_D[CAT],SMS, D_D[EP],-1,D_D[LOC],$A33)/$D33,0))","v":0.66666666666666663},{"$f":"IF(ISNA($A33),\"\",IFERROR(SUMIFS(D_D[EVD],D_D[MT],5,D_D[CAT],SMS, D_D[EP],-1,D_D[LOC],$A33)/$D33,0))","v":0},{"$f":"IF(ISNA($A33),\"\",IFERROR(SUMIFS(D_D[DEC],D_D[MT],5,D_D[CAT],SMS, D_D[EP],-1,D_D[LOC],$A33)/$D33,0))","v":0.33333333333333331},{"$f":"IF(ISNA($A33),\"\",IFERROR(SUMIFS(D_D[AWD],D_D[MT],5,D_D[CAT],SMS, D_D[EP],-1,D_D[LOC],$A33)/$D33,0))","v":0},{"$f":"IF(ISNA($A33),\"\",IFERROR(SUMIFS(D_D[AUT],D_D[MT],5,D_D[CAT],SMS, D_D[EP],-1,D_D[LOC],$A33)/$D33,0))","v":0}]
["405",21,"White River Junction",{"$f":"IF(ISNA($A34),\"\",IFERROR(SUMIFS(D_D[INV],D_D[MT],5,D_D[CAT],SMS, D_D[EP],-1,D_D[LOC],$A34),0))","v":126},{"$f":"IF(ISNA($A34),\"\",IFERROR(SUMIFS(D_D[BL],D_D[MT],5,D_D[CAT],SMS, D_D[EP],-1,D_D[LOC],$A34),0))","v":54},0.42857142857142855,{"$f":"IF(ISNA($A34),\"\",IFERROR(SUMIFS(D_D[ADP],D_D[MT],5,D_D[CAT],SMS, D_D[EP],-1,D_D[LOC],$A34),0))","v":169.87},{"$f":"IF(ISNA($A34),\"\",IFERROR(SUMIFS(D_D[DEV],D_D[MT],5,D_D[CAT],SMS, D_D[EP],-1,D_D[LOC],$A34)/$D34,0))","v":7.1428571428571425E-2},{"$f":"IF(ISNA($A34),\"\",IFERROR(SUMIFS(D_D[EVD],D_D[MT],5,D_D[CAT],SMS, D_D[EP],-1,D_D[LOC],$A34)/$D34,0))","v":0.57936507936507942},{"$f":"IF(ISNA($A34),\"\",IFERROR(SUMIFS(D_D[DEC],D_D[MT],5,D_D[CAT],SMS, D_D[EP],-1,D_D[LOC],$A34)/$D34,0))","v":0.30158730158730157},{"$f":"IF(ISNA($A34),\"\",IFERROR(SUMIFS(D_D[AWD],D_D[MT],5,D_D[CAT],SMS, D_D[EP],-1,D_D[LOC],$A34)/$D34,0))","v":2.3809523809523808E-2},{"$f":"IF(ISNA($A34),\"\",IFERROR(SUMIFS(D_D[AUT],D_D[MT],5,D_D[CAT],SMS, D_D[EP],-1,D_D[LOC],$A34)/$D34,0))","v":2.3809523809523808E-2}]
["460",22,"Wilmington",{"$f":"IF(ISNA($A35),\"\",IFERROR(SUMIFS(D_D[INV],D_D[MT],5,D_D[CAT],SMS, D_D[EP],-1,D_D[LOC],$A35),0))","v":103},{"$f":"IF(ISNA($A35),\"\",IFERROR(SUMIFS(D_D[BL],D_D[MT],5,D_D[CAT],SMS, D_D[EP],-1,D_D[LOC],$A35),0))","v":43},0.41747572815533979,{"$f":"IF(ISNA($A35),\"\",IFERROR(SUMIFS(D_D[ADP],D_D[MT],5,D_D[CAT],SMS, D_D[EP],-1,D_D[LOC],$A35),0))","v":144.27000000000001},{"$f":"IF(ISNA($A35),\"\",IFERROR(SUMIFS(D_D[DEV],D_D[MT],5,D_D[CAT],SMS, D_D[EP],-1,D_D[LOC],$A35)/$D35,0))","v":0.13592233009708737},{"$f":"IF(ISNA($A35),\"\",IFERROR(SUMIFS(D_D[EVD],D_D[MT],5,D_D[CAT],SMS, D_D[EP],-1,D_D[LOC],$A35)/$D35,0))","v":0.40776699029126212},{"$f":"IF(ISNA($A35),\"\",IFERROR(SUMIFS(D_D[DEC],D_D[MT],5,D_D[CAT],SMS, D_D[EP],-1,D_D[LOC],$A35)/$D35,0))","v":0.44660194174757284},{"$f":"IF(ISNA($A35),\"\",IFERROR(SUMIFS(D_D[AWD],D_D[MT],5,D_D[CAT],SMS, D_D[EP],-1,D_D[LOC],$A35)/$D35,0))","v":0},{"$f":"IF(ISNA($A35),\"\",IFERROR(SUMIFS(D_D[AUT],D_D[MT],5,D_D[CAT],SMS, D_D[EP],-1,D_D[LOC],$A35)/$D35,0))","v":9.7087378640776691E-3}]
[{"$error":"#N/A"},23,"",{"$f":"IF(ISNA($A36),\"\",IFERROR(SUMIFS(D_D[INV],D_D[MT],5,D_D[CAT],SMS, D_D[EP],-1,D_D[LOC],$A36),0))","v":""},{"$f":"IF(ISNA($A36),\"\",IFERROR(SUMIFS(D_D[BL],D_D[MT],5,D_D[CAT],SMS, D_D[EP],-1,D_D[LOC],$A36),0))","v":""},"",{"$f":"IF(ISNA($A36),\"\",IFERROR(SUMIFS(D_D[ADP],D_D[MT],5,D_D[CAT],SMS, D_D[EP],-1,D_D[LOC],$A36),0))","v":""},{"$f":"IF(ISNA($A36),\"\",IFERROR(SUMIFS(D_D[DEV],D_D[MT],5,D_D[CAT],SMS, D_D[EP],-1,D_D[LOC],$A36)/$D36,0))","v":""},{"$f":"IF(ISNA($A36),\"\",IFERROR(SUMIFS(D_D[EVD],D_D[MT],5,D_D[CAT],SMS, D_D[EP],-1,D_D[LOC],$A36)/$D36,0))","v":""},{"$f":"IF(ISNA($A36),\"\",IFERROR(SUMIFS(D_D[DEC],D_D[MT],5,D_D[CAT],SMS, D_D[EP],-1,D_D[LOC],$A36)/$D36,0))","v":""},{"$f":"IF(ISNA($A36),\"\",IFERROR(SUMIFS(D_D[AWD],D_D[MT],5,D_D[CAT],SMS, D_D[EP],-1,D_D[LOC],$A36)/$D36,0))","v":""},{"$f":"IF(ISNA($A36),\"\",IFERROR(SUMIFS(D_D[AUT],D_D[MT],5,D_D[CAT],SMS, D_D[EP],-1,D_D[LOC],$A36)/$D36,0))","v":""}]

{"sheet":"Rating Bundle - NWQ - State","index":6,"n_rows":89,"n_cols":12,"rows_kept":89,"cut":false,"hidden":false,"merged":[[7,4,7,6],[7,7,7,11],[1,9,1,11],[2,9,2,11],[1,4,1,8],[2,4,2,8],[5,9,5,11],[3,4,4,8],[8,9,10,9],[8,10,10,10],[8,11,10,11],[8,4,10,4],[8,5,10,5],[8,6,10,6],[8,7,10,7],[8,8,10,8]]}
[]
[null,null,"DISTRICT SELECTOR",null,"Compensation and Pension Rating Bundle Metrics",null,null,null,null,"Report through"]
[null,null,null,null,"NWQ State View",null,null,null,null,{"$f":"D_DT[]","v":"2021-08-21"}]
[null,null,null,null,"The State listed is based on the address associated with the claim, not payment address"]
[]
[null,null,null,null,"Each Special Mission has distinct claim counts",null,null,null,null,"Life Cycle Metrics defined on Legend tab"]
[]
[null,null,null,null,"CLAIM METRICS",null,null,"LIFE CYCLE METRICS (as Percent of # Pending)"]
[null,null,"SPECIAL MISSION SELECTOR",null,"#\nPending","#\nPending\n> 125 Days","%\nPending\n> 125 Days","Pending Development","Pending Evidence","Pending Decision","Pending Award","Pending Authorization"]
[]
[]
[100,null,{"$f":"Driver!$C$20","v":"USA - All Missions"},"Total",{"$f":"IF(ISNA($A12),\"\",IFERROR(SUMIFS(D_D[INV],D_D[MT],5,D_D[CAT],SMS, D_D[EP],-1,D_D[LOC],$A12),0))","v":591099},{"$f":"IF(ISNA($A12),\"\",IFERROR(SUMIFS(D_D[BL],D_D[MT],5,D_D[CAT],SMS, D_D[EP],-1,D_D[LOC],$A12),0))","v":181570},{"$f":"IF(ISNA($A12),\"\",IFERROR(F12/E12,0))","v":0.30717358682724888},{"$f":"IF(ISNA($A12),\"\",IFERROR(SUMIFS(D_D[DEV],D_D[MT],5,D_D[CAT],SMS, D_D[EP],-1,D_D[LOC],$A12)/$E12,0))","v":1.9908678580068652E-2},{"$f":"IF(ISNA($A12),\"\",IFERROR(SUMIFS(D_D[EVD],D_D[MT],5,D_D[CAT],SMS, D_D[EP],-1,D_D[LOC],$A12)/$E12,0))","v":0.75119734596065968},{"$f":"IF(ISNA($A12),\"\",IFERROR(SUMIFS(D_D[DEC],D_D[MT],5,D_D[CAT],SMS, D_D[EP],-1,D_D[LOC],$A12)/$E12,0))","v":0.21763190260853088},{"$f":"IF(ISNA($A12),\"\",IFERROR(SUMIFS(D_D[AWD],D_D[MT],5,D_D[CAT],SMS, D_D[EP],-1,D_D[LOC],$A12)/$E12,0))","v":8.0443377505290993E-3},{"$f":"IF(ISNA($A12),\"\",IFERROR(SUMIFS(D_D[AUT],D_D[MT],5,D_D[CAT],SMS, D_D[EP],-1,D_D[LOC],$A12)/$E12,0))","v":3.2075845162993001E-3}]
[499,null,{"$f":"\"NWQ-\"&Driver!$C$20","v":"NWQ-USA - All Missions"},"Total",{"$f":"IF(ISNA($A13),\"\",IFERROR(SUMIFS(D_D[INV],D_D[MT],5,D_D[CAT],SMS, D_D[EP],-1,D_D[LOC],$A13),0))","v":502587},{"$f":"IF(ISNA($A13),\"\",IFERROR(SUMIFS(D_D[BL],D_D[MT],5,D_D[CAT],SMS, D_D[EP],-1,D_D[LOC],$A13),0))","v":152237},{"$f":"IF(ISNA($A13),\"\",IFERROR(F13/E13,0))","v":0.30290676042157877},{"$f":"IF(ISNA($A13),\"\",IFERROR(SUMIFS(D_D[DEV],D_D[MT],5,D_D[CAT],SMS, D_D[EP],-1,D_D[LOC],$A13)/$E13,0))","v":4.5166309514571602E-3},{"$f":"IF(ISNA($A13),\"\",IFERROR(SUMIFS(D_D[EVD],D_D[MT],5,D_D[CAT],SMS, D_D[EP],-1,D_D[LOC],$A13)/$E13,0))","v":0.78576246500605862},{"$f":"IF(ISNA($A13),\"\",IFERROR(SUMIFS(D_D[DEC],D_D[MT],5,D_D[CAT],SMS, D_D[EP],-1,D_D[LOC],$A13)/$E13,0))","v":0.20915582774723579},{"$f":"IF(ISNA($A13),\"\",IFERROR(SUMIFS(D_D[AWD],D_D[MT],5,D_D[CAT],SMS, D_D[EP],-1,D_D[LOC],$A13)/$E13,0))","v":5.3324101100903922E-4},{"$f":"IF(ISNA($A13),\"\",IFERROR(SUMIFS(D_D[AUT],D_D[MT],5,D_D[CAT],SMS, D_D[EP],-1,D_D[LOC],$A13)/$E13,0))","v":3.1835284239345625E-5}]
[{"$f":"INDEX(STATE,(MATCH($C14,STATE_D,0)))","v":"394"},1,{"$f":"IFERROR(INDEX(INDIRECT(DS_NWQ),B14),\"\")","v":"Northeast District"},{"$f":"IFERROR(INDEX(INDIRECT(DS_NWQD),B14),\"\")","v":" "},{"$f":"IF(ISNA($A14),\"\",IFERROR(SUMIFS(D_D[INV],D_D[MT],5,D_D[CAT],SMS, D_D[EP],499,D_D[LOC],$A14),0))","v":146652},{"$f":"IF(ISNA($A14),\"\",IFERROR(SUMIFS(D_D[BL],D_D[MT],5,D_D[CAT],SMS, D_D[EP],499,D_D[LOC],$A14),0))","v":48732},{"$f":"IF(ISNA($A14),\"\",IFERROR(F14/E14,0))","v":0.33229686605024139},{"$f":"IF(ISNA($A14),\"\",IFERROR(SUMIFS(D_D[DEV],D_D[MT],5,D_D[CAT],SMS, D_D[EP],499,D_D[LOC],$A14)/$E14,0))","v":1.8410932002291137E-2},{"$f":"IF(ISNA($A14),\"\",IFERROR(SUMIFS(D_D[EVD],D_D[MT],5,D_D[CAT],SMS, D_D[EP],499,D_D[LOC],$A14)/$E14,0))","v":0.75168425933502436},{"$f":"IF(ISNA($A14),\"\",IFERROR(SUMIFS(D_D[DEC],D_D[MT],5,D_D[CAT],SMS, D_D[EP],499,D_D[LOC],$A14)/$E14,0))","v":0.21936284537544665},{"$f":"IF(ISNA($A14),\"\",IFERROR(SUMIFS(D_D[AWD],D_D[MT],5,D_D[CAT],SMS, D_D[EP],499,D_D[LOC],$A14)/$E14,0))","v":7.3916482557346641E-3},{"$f":"IF(ISNA($A14),\"\",IFERROR(SUMIFS(D_D[AUT],D_D[MT],5,D_D[CAT],SMS, D_D[EP],499,D_D[LOC],$A14)/$E14,0))","v":3.1366773040940456E-3}]
[{"$f":"IFERROR(INDEX(INDIRECT(DS_NWQI),B15),#N/A)","v":"CT100"},2,"Connecticut",{"$f":"IFERROR(INDEX(INDIRECT(DS_NWQD),B15),\"\")","v":"Connecticut-Total"},{"$f":"IF(ISNA($A15),\"\",IFERROR(SUMIFS(D_D[INV],D_D[MT],5,D_D[CAT],SMS, D_D[EP],499,D_D[LOC],$A15),0))","v":3524},{"$f":"IF(ISNA($A15),\"\",IFERROR(SUMIFS(D_D[BL],D_D[MT],5,D_D[CAT],SMS, D_D[EP],499,D_D[LOC],$A15),0))","v":1298},0.36833144154370034,{"$f":"IF(ISNA($A15),\"\",IFERROR(SUMIFS(D_D[DEV],D_D[MT],5,D_D[CAT],SMS, D_D[EP],499,D_D[LOC],$A15)/$E15,0))","v":1.2485811577752554E-2},{"$f":"IF(ISNA($A15),\"\",IFERROR(SUMIFS(D_D[EVD],D_D[MT],5,D_D[CAT],SMS, D_D[EP],499,D_D[LOC],$A15)/$E15,0))","v":0.80476730987514189},{"$f":"IF(ISNA($A15),\"\",IFERROR(SUMIFS(D_D[DEC],D_D[MT],5,D_D[CAT],SMS, D_D[EP],499,D_D[LOC],$A15)/$E15,0))","v":0.17423382519863792},{"$f":"IF(ISNA($A15),\"\",IFERROR(SUMIFS(D_D[AWD],D_D[MT],5,D_D[CAT],SMS, D_D[EP],499,D_D[LOC],$A15)/$E15,0))","v":5.3916004540295118E-3},{"$f":"IF(ISNA($A15),\"\",IFERROR(SUMIFS(D_D[AUT],D_D[MT],5,D_D[CAT],SMS, D_D[EP],499,D_D[LOC],$A15)/$E15,0))","v":3.1214528944381384E-3}]
["CT308",3,0,"Hartford RO",{"$f":"IF(ISNA($A16),\"\",IFERROR(SUMIFS(D_D[INV],D_D[MT],5,D_D[CAT],SMS, D_D[EP],499,D_D[LOC],$A16),0))","v":44},{"$f":"IF(ISNA($A16),\"\",IFERROR(SUMIFS(D_D[BL],D_D[MT],5,D_D[CAT],SMS, D_D[EP],499,D_D[LOC],$A16),0))","v":13},0.29545454545454547,{"$f":"IF(ISNA($A16),\"\",IFERROR(SUMIFS(D_D[DEV],D_D[MT],5,D_D[CAT],SMS, D_D[EP],499,D_D[LOC],$A16)/$E16,0))","v":0.43181818181818182},{"$f":"IF(ISNA($A16),\"\",IFERROR(SUMIFS(D_D[EVD],D_D[MT],5,D_D[CAT],SMS, D_D[EP],499,D_D[LOC],$A16)/$E16,0))","v":0.40909090909090912},{"$f":"IF(ISNA($A16),\"\",IFERROR(SUMIFS(D_D[DEC],D_D[MT],5,D_D[CAT],SMS, D_D[EP],499,D_D[LOC],$A16)/$E16,0))","v":0.11363636363636363},{"$f":"IF(ISNA($A16),\"\",IFERROR(SUMIFS(D_D[AWD],D_D[MT],5,D_D[CAT],SMS, D_D[EP],499,D_D[LOC],$A16)/$E16,0))","v":4.5454545454545456E-2},{"$f":"IF(ISNA($A16),\"\",IFERROR(SUMIFS(D_D[AUT],D_D[MT],5,D_D[CAT],SMS, D_D[EP],499,D_D[LOC],$A16)/$E16,0))","v":0}]
["CT-1",4," ","Connecticut-Other RO",{"$f":"IF(ISNA($A17),\"\",IFERROR(SUMIFS(D_D[INV],D_D[MT],5,D_D[CAT],SMS, D_D[EP],499,D_D[LOC],$A17),0))","v":455},{"$f":"IF(ISNA($A17),\"\",IFERROR(SUMIFS(D_D[BL],D_D[MT],5,D_D[CAT],SMS, D_D[EP],499,D_D[LOC],$A17),0))","v":178},0.39120879120879121,{"$f":"IF(ISNA($A17),\"\",IFERROR(SUMIFS(D_D[DEV],D_D[MT],5,D_D[CAT],SMS, D_D[EP],499,D_D[LOC],$A17)/$E17,0))","v":3.9560439560439559E-2},{"$f":"IF(ISNA($A17),\"\",IFERROR(SUMIFS(D_D[EVD],D_D[MT],5,D_D[CAT],SMS, D_D[EP],499,D_D[LOC],$A17)/$E17,0))","v":0.66813186813186809},{"$f":"IF(ISNA($A17),\"\",IFERROR(SUMIFS(D_D[DEC],D_D[MT],5,D_D[CAT],SMS, D_D[EP],499,D_D[LOC],$A17)/$E17,0))","v":0.23296703296703297},{"$f":"IF(ISNA($A17),\"\",IFERROR(SUMIFS(D_D[AWD],D_D[MT],5,D_D[CAT],SMS, D_D[EP],499,D_D[LOC],$A17)/$E17,0))","v":3.7362637362637362E-2},{"$f":"IF(ISNA($A17),\"\",IFERROR(SUMIFS(D_D[AUT],D_D[MT],5,D_D[CAT],SMS, D_D[EP],499,D_D[LOC],$A17)/$E17,0))","v":2.197802197802198E-2}]
["CT499",5," ","Connecticut-NWQ",{"$f":"IF(ISNA($A18),\"\",IFERROR(SUMIFS(D_D[INV],D_D[MT],5,D_D[CAT],SMS, D_D[EP],499,D_D[LOC],$A18),0))","v":3025},{"$f":"IF(ISNA($A18),\"\",IFERROR(SUMIFS(D_D[BL],D_D[MT],5,D_D[CAT],SMS, D_D[EP],499,D_D[LOC],$A18),0))","v":1107},0.36595041322314048,{"$f":"IF(ISNA($A18),\"\",IFERROR(SUMIFS(D_D[DEV],D_D[MT],5,D_D[CAT],SMS, D_D[EP],499,D_D[LOC],$A18)/$E18,0))","v":2.3140495867768596E-3},{"$f":"IF(ISNA($A18),\"\",IFERROR(SUMIFS(D_D[EVD],D_D[MT],5,D_D[CAT],SMS, D_D[EP],499,D_D[LOC],$A18)/$E18,0))","v":0.83107438016528923},{"$f":"IF(ISNA($A18),\"\",IFERROR(SUMIFS(D_D[DEC],D_D[MT],5,D_D[CAT],SMS, D_D[EP],499,D_D[LOC],$A18)/$E18,0))","v":0.1662809917355372},{"$f":"IF(ISNA($A18),\"\",IFERROR(SUMIFS(D_D[AWD],D_D[MT],5,D_D[CAT],SMS, D_D[EP],499,D_D[LOC],$A18)/$E18,0))","v":0},{"$f":"IF(ISNA($A18),\"\",IFERROR(SUMIFS(D_D[AUT],D_D[MT],5,D_D[CAT],SMS, D_D[EP],499,D_D[LOC],$A18)/$E18,0))","v":3.3057851239669424E-4}]
["DE100",6,"Delaware","Delaware-Total",{"$f":"IF(ISNA($A19),\"\",IFERROR(SUMIFS(D_D[INV],D_D[MT],5,D_D[CAT],SMS, D_D[EP],499,D_D[LOC],$A19),0))","v":1627},{"$f":"IF(ISNA($A19),\"\",IFERROR(SUMIFS(D_D[BL],D_D[MT],5,D_D[CAT],SMS, D_D[EP],499,D_D[LOC],$A19),0))","v":511},0.31407498463429623,{"$f":"IF(ISNA($A19),\"\",IFERROR(SUMIFS(D_D[DEV],D_D[MT],5,D_D[CAT],SMS, D_D[EP],499,D_D[LOC],$A19)/$E19,0))","v":1.843884449907806E-2},{"$f":"IF(ISNA($A19),\"\",IFERROR(SUMIFS(D_D[EVD],D_D[MT],5,D_D[CAT],SMS, D_D[EP],499,D_D[LOC],$A19)/$E19,0))","v":0.74738783036263057},{"$f":"IF(ISNA($A19),\"\",IFERROR(SUMIFS(D_D[DEC],D_D[MT],5,D_D[CAT],SMS, D_D[EP],499,D_D[LOC],$A19)/$E19,0))","v":0.22372464658881377},{"$f":"IF(ISNA($A19),\"\",IFERROR(SUMIFS(D_D[AWD],D_D[MT],5,D_D[CAT],SMS, D_D[EP],499,D_D[LOC],$A19)/$E19,0))","v":9.2194222495390298E-3},{"$f":"IF(ISNA($A19),\"\",IFERROR(SUMIFS(D_D[AUT],D_D[MT],5,D_D[CAT],SMS, D_D[EP],499,D_D[LOC],$A19)/$E19,0))","v":1.2292562999385371E-3}]
["DE460",7,0,"Wilmington RO",{"$f":"IF(ISNA($A20),\"\",IFERROR(SUMIFS(D_D[INV],D_D[MT],5,D_D[CAT],SMS, D_D[EP],499,D_D[LOC],$A20),0))","v":19},{"$f":"IF(ISNA($A20),\"\",IFERROR(SUMIFS(D_D[BL],D_D[MT],5,D_D[CAT],SMS, D_D[EP],499,D_D[LOC],$A20),0))","v":4},0.21052631578947367,{"$f":"IF(ISNA($A20),\"\",IFERROR(SUMIFS(D_D[DEV],D_D[MT],5,D_D[CAT],SMS, D_D[EP],499,D_D[LOC],$A20)/$E20,0))","v":0.52631578947368418},{"$f":"IF(ISNA($A20),\"\",IFERROR(SUMIFS(D_D[EVD],D_D[MT],5,D_D[CAT],SMS, D_D[EP],499,D_D[LOC],$A20)/$E20,0))","v":0.21052631578947367},{"$f":"IF(ISNA($A20),\"\",IFERROR(SUMIFS(D_D[DEC],D_D[MT],5,D_D[CAT],SMS, D_D[EP],499,D_D[LOC],$A20)/$E20,0))","v":0.26315789473684209},{"$f":"IF(ISNA($A20),\"\",IFERROR(SUMIFS(D_D[AWD],D_D[MT],5,D_D[CAT],SMS, D_D[EP],499,D_D[LOC],$A20)/$E20,0))","v":0},{"$f":"IF(ISNA($A20),\"\",IFERROR(SUMIFS(D_D[AUT],D_D[MT],5,D_D[CAT],SMS, D_D[EP],499,D_D[LOC],$A20)/$E20,0))","v":0}]
["DE-1",8," ","Delaware-Other RO",{"$f":"IF(ISNA($A21),\"\",IFERROR(SUMIFS(D_D[INV],D_D[MT],5,D_D[CAT],SMS, D_D[EP],499,D_D[LOC],$A21),0))","v":209},{"$f":"IF(ISNA($A21),\"\",IFERROR(SUMIFS(D_D[BL],D_D[MT],5,D_D[CAT],SMS, D_D[EP],499,D_D[LOC],$A21),0))","v":76},0.36363636363636365,{"$f":"IF(ISNA($A21),\"\",IFERROR(SUMIFS(D_D[DEV],D_D[MT],5,D_D[CAT],SMS, D_D[EP],499,D_D[LOC],$A21)/$E21,0))","v":6.6985645933014357E-2},{"$f":"IF(ISNA($A21),\"\",IFERROR(SUMIFS(D_D[EVD],D_D[MT],5,D_D[CAT],SMS, D_D[EP],499,D_D[LOC],$A21)/$E21,0))","v":0.52153110047846885},{"$f":"IF(ISNA($A21),\"\",IFERROR(SUMIFS(D_D[DEC],D_D[MT],5,D_D[CAT],SMS, D_D[EP],499,D_D[LOC],$A21)/$E21,0))","v":0.33014354066985646},{"$f":"IF(ISNA($A21),\"\",IFERROR(SUMIFS(D_D[AWD],D_D[MT],5,D_D[CAT],SMS, D_D[EP],499,D_D[LOC],$A21)/$E21,0))","v":7.1770334928229665E-2},{"$f":"IF(ISNA($A21),\"\",IFERROR(SUMIFS(D_D[AUT],D_D[MT],5,D_D[CAT],SMS, D_D[EP],499,D_D[LOC],$A21)/$E21,0))","v":9.5693779904306216E-3}]
["DE499",9," ",{"$f":"IFERROR(INDEX(INDIRECT(DS_NWQD),B22),\"\")","v":"Delaware-NWQ"},{"$f":"IF(ISNA($A22),\"\",IFERROR(SUMIFS(D_D[INV],D_D[MT],5,D_D[CAT],SMS, D_D[EP],499,D_D[LOC],$A22),0))","v":1399},{"$f":"IF(ISNA($A22),\"\",IFERROR(SUMIFS(D_D[BL],D_D[MT],5,D_D[CAT],SMS, D_D[EP],499,D_D[LOC],$A22),0))","v":431},{"$f":"IF(ISNA($A22),\"\",IFERROR(F22/E22,0))","v":0.30807719799857042},{"$f":"IF(ISNA($A22),\"\",IFERROR(SUMIFS(D_D[DEV],D_D[MT],5,D_D[CAT],SMS, D_D[EP],499,D_D[LOC],$A22)/$E22,0))","v":4.2887776983559682E-3},{"$f":"IF(ISNA($A22),\"\",IFERROR(SUMIFS(D_D[EVD],D_D[MT],5,D_D[CAT],SMS, D_D[EP],499,D_D[LOC],$A22)/$E22,0))","v":0.78842030021443887},{"$f":"IF(ISNA($A22),\"\",IFERROR(SUMIFS(D_D[DEC],D_D[MT],5,D_D[CAT],SMS, D_D[EP],499,D_D[LOC],$A22)/$E22,0))","v":0.20729092208720515},{"$f":"IF(ISNA($A22),\"\",IFERROR(SUMIFS(D_D[AWD],D_D[MT],5,D_D[CAT],SMS, D_D[EP],499,D_D[LOC],$A22)/$E22,0))","v":0},{"$f":"IF(ISNA($A22),\"\",IFERROR(SUMIFS(D_D[AUT],D_D[MT],5,D_D[CAT],SMS, D_D[EP],499,D_D[LOC],$A22)/$E22,0))","v":0}]
["DC100",10,"DC","DC-Total",{"$f":"IF(ISNA($A23),\"\",IFERROR(SUMIFS(D_D[INV],D_D[MT],5,D_D[CAT],SMS, D_D[EP],499,D_D[LOC],$A23),0))","v":665},{"$f":"IF(ISNA($A23),\"\",IFERROR(SUMIFS(D_D[BL],D_D[MT],5,D_D[CAT],SMS, D_D[EP],499,D_D[LOC],$A23),0))","v":214},0.32180451127819548,{"$f":"IF(ISNA($A23),\"\",IFERROR(SUMIFS(D_D[DEV],D_D[MT],5,D_D[CAT],SMS, D_D[EP],499,D_D[LOC],$A23)/$E23,0))","v":1.9548872180451128E-2},{"$f":"IF(ISNA($A23),\"\",IFERROR(SUMIFS(D_D[EVD],D_D[MT],5,D_D[CAT],SMS, D_D[EP],499,D_D[LOC],$A23)/$E23,0))","v":0.73834586466165408},{"$f":"IF(ISNA($A23),\"\",IFERROR(SUMIFS(D_D[DEC],D_D[MT],5,D_D[CAT],SMS, D_D[EP],499,D_D[LOC],$A23)/$E23,0))","v":0.22857142857142856},{"$f":"IF(ISNA($A23),\"\",IFERROR(SUMIFS(D_D[AWD],D_D[MT],5,D_D[CAT],SMS, D_D[EP],499,D_D[LOC],$A23)/$E23,0))","v":1.2030075187969926E-2},{"$f":"IF(ISNA($A23),\"\",IFERROR(SUMIFS(D_D[AUT],D_D[MT],5,D_D[CAT],SMS, D_D[EP],499,D_D[LOC],$A23)/$E23,0))","v":1.5037593984962407E-3}]
["DC372",11," ","Washington DC RO",{"$f":"IF(ISNA($A24),\"\",IFERROR(SUMIFS(D_D[INV],D_D[MT],5,D_D[CAT],SMS, D_D[EP],499,D_D[LOC],$A24),0))","v":0},{"$f":"IF(ISNA($A24),\"\",IFERROR(SUMIFS(D_D[BL],D_D[MT],5,D_D[CAT],SMS, D_D[EP],499,D_D[LOC],$A24),0))","v":0},0,{"$f":"IF(ISNA($A24),\"\",IFERROR(SUMIFS(D_D[DEV],D_D[MT],5,D_D[CAT],SMS, D_D[EP],499,D_D[LOC],$A24)/$E24,0))","v":0},{"$f":"IF(ISNA($A24),\"\",IFERROR(SUMIFS(D_D[EVD],D_D[MT],5,D_D[CAT],SMS, D_D[EP],499,D_D[LOC],$A24)/$E24,0))","v":0},{"$f":"IF(ISNA($A24),\"\",IFERROR(SUMIFS(D_D[DEC],D_D[MT],5,D_D[CAT],SMS, D_D[EP],499,D_D[LOC],$A24)/$E24,0))","v":0},{"$f":"IF(ISNA($A24),\"\",IFERROR(SUMIFS(D_D[AWD],D_D[MT],5,D_D[CAT],SMS, D_D[EP],499,D_D[LOC],$A24)/$E24,0))","v":0},{"$f":"IF(ISNA($A24),\"\",IFERROR(SUMIFS(D_D[AUT],D_D[MT],5,D_D[CAT],SMS, D_D[EP],499,D_D[LOC],$A24)/$E24,0))","v":0}]
["DC-1",12," ","DC-Other RO",{"$f":"IF(ISNA($A25),\"\",IFERROR(SUMIFS(D_D[INV],D_D[MT],5,D_D[CAT],SMS, D_D[EP],499,D_D[LOC],$A25),0))","v":103},{"$f":"IF(ISNA($A25),\"\",IFERROR(SUMIFS(D_D[BL],D_D[MT],5,D_D[CAT],SMS, D_D[EP],499,D_D[LOC],$A25),0))","v":32},0.31067961165048541,{"$f":"IF(ISNA($A25),\"\",IFERROR(SUMIFS(D_D[DEV],D_D[MT],5,D_D[CAT],SMS, D_D[EP],499,D_D[LOC],$A25)/$E25,0))","v":0.10679611650485436},{"$f":"IF(ISNA($A25),\"\",IFERROR(SUMIFS(D_D[EVD],D_D[MT],5,D_D[CAT],SMS, D_D[EP],499,D_D[LOC],$A25)/$E25,0))","v":0.58252427184466016},{"$f":"IF(ISNA($A25),\"\",IFERROR(SUMIFS(D_D[DEC],D_D[MT],5,D_D[CAT],SMS, D_D[EP],499,D_D[LOC],$A25)/$E25,0))","v":0.23300970873786409},{"$f":"IF(ISNA($A25),\"\",IFERROR(SUMIFS(D_D[AWD],D_D[MT],5,D_D[CAT],SMS, D_D[EP],499,D_D[LOC],$A25)/$E25,0))","v":6.7961165048543687E-2},{"$f":"IF(ISNA($A25),\"\",IFERROR(SUMIFS(D_D[AUT],D_D[MT],5,D_D[CAT],SMS, D_D[EP],499,D_D[LOC],$A25)/$E25,0))","v":9.7087378640776691E-3}]
["DC499",13," ","DC-NWQ",{"$f":"IF(ISNA($A26),\"\",IFERROR(SUMIFS(D_D[INV],D_D[MT],5,D_D[CAT],SMS, D_D[EP],499,D_D[LOC],$A26),0))","v":562},{"$f":"IF(ISNA($A26),\"\",IFERROR(SUMIFS(D_D[BL],D_D[MT],5,D_D[CAT],SMS, D_D[EP],499,D_D[LOC],$A26),0))","v":182},0.32384341637010677,{"$f":"IF(ISNA($A26),\"\",IFERROR(SUMIFS(D_D[DEV],D_D[MT],5,D_D[CAT],SMS, D_D[EP],499,D_D[LOC],$A26)/$E26,0))","v":3.5587188612099642E-3},{"$f":"IF(ISNA($A26),\"\",IFERROR(SUMIFS(D_D[EVD],D_D[MT],5,D_D[CAT],SMS, D_D[EP],499,D_D[LOC],$A26)/$E26,0))","v":0.76690391459074736},{"$f":"IF(ISNA($A26),\"\",IFERROR(SUMIFS(D_D[DEC],D_D[MT],5,D_D[CAT],SMS, D_D[EP],499,D_D[LOC],$A26)/$E26,0))","v":0.22775800711743771},{"$f":"IF(ISNA($A26),\"\",IFERROR(SUMIFS(D_D[AWD],D_D[MT],5,D_D[CAT],SMS, D_D[EP],499,D_D[LOC],$A26)/$E26,0))","v":1.7793594306049821E-3},{"$f":"IF(ISNA($A26),\"\",IFERROR(SUMIFS(D_D[AUT],D_D[MT],5,D_D[CAT],SMS, D_D[EP],499,D_D[LOC],$A26)/$E26,0))","v":0}]
["IL100",14,"Illinois","Illinois-Total",{"$f":"IF(ISNA($A27),\"\",IFERROR(SUMIFS(D_D[INV],D_D[MT],5,D_D[CAT],SMS, D_D[EP],499,D_D[LOC],$A27),0))","v":14083},{"$f":"IF(ISNA($A27),\"\",IFERROR(SUMIFS(D_D[BL],D_D[MT],5,D_D[CAT],SMS, D_D[EP],499,D_D[LOC],$A27),0))","v":4478},0.31797202300646171,{"$f":"IF(ISNA($A27),\"\",IFERROR(SUMIFS(D_D[DEV],D_D[MT],5,D_D[CAT],SMS, D_D[EP],499,D_D[LOC],$A27)/$E27,0))","v":1.7680891855428531E-2},{"$f":"IF(ISNA($A27),\"\",IFERROR(SUMIFS(D_D[EVD],D_D[MT],5,D_D[CAT],SMS, D_D[EP],499,D_D[LOC],$A27)/$E27,0))","v":0.74934317972023001},{"$f":"IF(ISNA($A27),\"\",IFERROR(SUMIFS(D_D[DEC],D_D[MT],5,D_D[CAT],SMS, D_D[EP],499,D_D[LOC],$A27)/$E27,0))","v":0.22246680394802243},{"$f":"IF(ISNA($A27),\"\",IFERROR(SUMIFS(D_D[AWD],D_D[MT],5,D_D[CAT],SMS, D_D[EP],499,D_D[LOC],$A27)/$E27,0))","v":7.3847901725484629E-3},{"$f":"IF(ISNA($A27),\"\",IFERROR(SUMIFS(D_D[AUT],D_D[MT],5,D_D[CAT],SMS, D_D[EP],499,D_D[LOC],$A27)/$E27,0))","v":3.1243343037705034E-3}]
["IL328",15,0,{"$f":"IFERROR(INDEX(INDIRECT(DS_NWQD),B28),\"\")","v":"Chicago RO"},{"$f":"IF(ISNA($A28),\"\",IFERROR(SUMIFS(D_D[INV],D_D[MT],5,D_D[CAT],SMS, D_D[EP],499,D_D[LOC],$A28),0))","v":186},{"$f":"IF(ISNA($A28),\"\",IFERROR(SUMIFS(D_D[BL],D_D[MT],5,D_D[CAT],SMS, D_D[EP],499,D_D[LOC],$A28),0))","v":24},{"$f":"IF(ISNA($A28),\"\",IFERROR(F28/E28,0))","v":0.12903225806451613},{"$f":"IF(ISNA($A28),\"\",IFERROR(SUMIFS(D_D[DEV],D_D[MT],5,D_D[CAT],SMS, D_D[EP],499,D_D[LOC],$A28)/$E28,0))","v":0.39784946236559138},{"$f":"IF(ISNA($A28),\"\",IFERROR(SUMIFS(D_D[EVD],D_D[MT],5,D_D[CAT],SMS, D_D[EP],499,D_D[LOC],$A28)/$E28,0))","v":0.41397849462365593},{"$f":"IF(ISNA($A28),\"\",IFERROR(SUMIFS(D_D[DEC],D_D[MT],5,D_D[CAT],SMS, D_D[EP],499,D_D[LOC],$A28)/$E28,0))","v":0.14516129032258066},{"$f":"IF(ISNA($A28),\"\",IFERROR(SUMIFS(D_D[AWD],D_D[MT],5,D_D[CAT],SMS, D_D[EP],499,D_D[LOC],$A28)/$E28,0))","v":3.2258064516129031E-2},{"$f":"IF(ISNA($A28),\"\",IFERROR(SUMIFS(D_D[AUT],D_D[MT],5,D_D[CAT],SMS, D_D[EP],499,D_D[LOC],$A28)/$E28,0))","v":1.0752688172043012E-2}]
["IL-1",16," ","Illinois-Other RO",{"$f":"IF(ISNA($A29),\"\",IFERROR(SUMIFS(D_D[INV],D_D[MT],5,D_D[CAT],SMS, D_D[EP],499,D_D[LOC],$A29),0))","v":1862},{"$f":"IF(ISNA($A29),\"\",IFERROR(SUMIFS(D_D[BL],D_D[MT],5,D_D[CAT],SMS, D_D[EP],499,D_D[LOC],$A29),0))","v":736},0.39527389903329752,{"$f":"IF(ISNA($A29),\"\",IFERROR(SUMIFS(D_D[DEV],D_D[MT],5,D_D[CAT],SMS, D_D[EP],499,D_D[LOC],$A29)/$E29,0))","v":6.2835660580021477E-2},{"$f":"IF(ISNA($A29),\"\",IFERROR(SUMIFS(D_D[EVD],D_D[MT],5,D_D[CAT],SMS, D_D[EP],499,D_D[LOC],$A29)/$E29,0))","v":0.59613319011815258},{"$f":"IF(ISNA($A29),\"\",IFERROR(SUMIFS(D_D[DEC],D_D[MT],5,D_D[CAT],SMS, D_D[EP],499,D_D[LOC],$A29)/$E29,0))","v":0.26960257787325459},{"$f":"IF(ISNA($A29),\"\",IFERROR(SUMIFS(D_D[AWD],D_D[MT],5,D_D[CAT],SMS, D_D[EP],499,D_D[LOC],$A29)/$E29,0))","v":4.8872180451127817E-2},{"$f":"IF(ISNA($A29),\"\",IFERROR(SUMIFS(D_D[AUT],D_D[MT],5,D_D[CAT],SMS, D_D[EP],499,D_D[LOC],$A29)/$E29,0))","v":2.2556390977443608E-2}]
["IL499",17," ","Illinois-NWQ",{"$f":"IF(ISNA($A30),\"\",IFERROR(SUMIFS(D_D[INV],D_D[MT],5,D_D[CAT],SMS, D_D[EP],499,D_D[LOC],$A30),0))","v":12035},{"$f":"IF(ISNA($A30),\"\",IFERROR(SUMIFS(D_D[BL],D_D[MT],5,D_D[CAT],SMS, D_D[EP],499,D_D[LOC],$A30),0))","v":3718},0.30893228084752805,{"$f":"IF(ISNA($A30),\"\",IFERROR(SUMIFS(D_D[DEV],D_D[MT],5,D_D[CAT],SMS, D_D[EP],499,D_D[LOC],$A30)/$E30,0))","v":4.8192771084337354E-3},{"$f":"IF(ISNA($A30),\"\",IFERROR(SUMIFS(D_D[EVD],D_D[MT],5,D_D[CAT],SMS, D_D[EP],499,D_D[LOC],$A30)/$E30,0))","v":0.77823016202742001},{"$f":"IF(ISNA($A30),\"\",IFERROR(SUMIFS(D_D[DEC],D_D[MT],5,D_D[CAT],SMS, D_D[EP],499,D_D[LOC],$A30)/$E30,0))","v":0.21636892397174906},{"$f":"IF(ISNA($A30),\"\",IFERROR(SUMIFS(D_D[AWD],D_D[MT],5,D_D[CAT],SMS, D_D[EP],499,D_D[LOC],$A30)/$E30,0))","v":5.8163689239717489E-4},{"$f":"IF(ISNA($A30),\"\",IFERROR(SUMIFS(D_D[AUT],D_D[MT],5,D_D[CAT],SMS, D_D[EP],499,D_D[LOC],$A30)/$E30,0))","v":0}]
["IN100",18,"Indiana","Indiana-Total",{"$f":"IF(ISNA($A31),\"\",IFERROR(SUMIFS(D_D[INV],D_D[MT],5,D_D[CAT],SMS, D_D[EP],499,D_D[LOC],$A31),0))","v":11035},{"$f":"IF(ISNA($A31),\"\",IFERROR(SUMIFS(D_D[BL],D_D[MT],5,D_D[CAT],SMS, D_D[EP],499,D_D[LOC],$A31),0))","v":3517},0.31871318531943815,{"$f":"IF(ISNA($A31),\"\",IFERROR(SUMIFS(D_D[DEV],D_D[MT],5,D_D[CAT],SMS, D_D[EP],499,D_D[LOC],$A31)/$E31,0))","v":1.7942908926144086E-2},{"$f":"IF(ISNA($A31),\"\",IFERROR(SUMIFS(D_D[EVD],D_D[MT],5,D_D[CAT],SMS, D_D[EP],499,D_D[LOC],$A31)/$E31,0))","v":0.75740824648844585},{"$f":"IF(ISNA($A31),\"\",IFERROR(SUMIFS(D_D[DEC],D_D[MT],5,D_D[CAT],SMS, D_D[EP],499,D_D[LOC],$A31)/$E31,0))","v":0.21585863162664251},{"$f":"IF(ISNA($A31),\"\",IFERROR(SUMIFS(D_D[AWD],D_D[MT],5,D_D[CAT],SMS, D_D[EP],499,D_D[LOC],$A31)/$E31,0))","v":5.8903488898957865E-3},{"$f":"IF(ISNA($A31),\"\",IFERROR(SUMIFS(D_D[AUT],D_D[MT],5,D_D[CAT],SMS, D_D[EP],499,D_D[LOC],$A31)/$E31,0))","v":2.8998640688717718E-3}]
["IN326",19,0,"Indianapolis RO",{"$f":"IF(ISNA($A32),\"\",IFERROR(SUMIFS(D_D[INV],D_D[MT],5,D_D[CAT],SMS, D_D[EP],499,D_D[LOC],$A32),0))","v":160},{"$f":"IF(ISNA($A32),\"\",IFERROR(SUMIFS(D_D[BL],D_D[MT],5,D_D[CAT],SMS, D_D[EP],499,D_D[LOC],$A32),0))","v":29},0.18124999999999999,{"$f":"IF(ISNA($A32),\"\",IFERROR(SUMIFS(D_D[DEV],D_D[MT],5,D_D[CAT],SMS, D_D[EP],499,D_D[LOC],$A32)/$E32,0))","v":0.38124999999999998},{"$f":"IF(ISNA($A32),\"\",IFERROR(SUMIFS(D_D[EVD],D_D[MT],5,D_D[CAT],SMS, D_D[EP],499,D_D[LOC],$A32)/$E32,0))","v":0.34375},{"$f":"IF(ISNA($A32),\"\",IFERROR(SUMIFS(D_D[DEC],D_D[MT],5,D_D[CAT],SMS, D_D[EP],499,D_D[LOC],$A32)/$E32,0))","v":0.24374999999999999},{"$f":"IF(ISNA($A32),\"\",IFERROR(SUMIFS(D_D[AWD],D_D[MT],5,D_D[CAT],SMS, D_D[EP],499,D_D[LOC],$A32)/$E32,0))","v":1.8749999999999999E-2},{"$f":"IF(ISNA($A32),\"\",IFERROR(SUMIFS(D_D[AUT],D_D[MT],5,D_D[CAT],SMS, D_D[EP],499,D_D[LOC],$A32)/$E32,0))","v":1.2500000000000001E-2}]
["IN-1",20," ","Indiana-Other RO",{"$f":"IF(ISNA($A33),\"\",IFERROR(SUMIFS(D_D[INV],D_D[MT],5,D_D[CAT],SMS, D_D[EP],499,D_D[LOC],$A33),0))","v":1439},{"$f":"IF(ISNA($A33),\"\",IFERROR(SUMIFS(D_D[BL],D_D[MT],5,D_D[CAT],SMS, D_D[EP],499,D_D[LOC],$A33),0))","v":543},0.37734537873523283,{"$f":"IF(ISNA($A33),\"\",IFERROR(SUMIFS(D_D[DEV],D_D[MT],5,D_D[CAT],SMS, D_D[EP],499,D_D[LOC],$A33)/$E33,0))","v":7.0882557331480189E-2},{"$f":"IF(ISNA($A33),\"\",IFERROR(SUMIFS(D_D[EVD],D_D[MT],5,D_D[CAT],SMS, D_D[EP],499,D_D[LOC],$A33)/$E33,0))","v":0.58929812369701184},{"$f":"IF(ISNA($A33),\"\",IFERROR(SUMIFS(D_D[DEC],D_D[MT],5,D_D[CAT],SMS, D_D[EP],499,D_D[LOC],$A33)/$E33,0))","v":0.27797081306462823},{"$f":"IF(ISNA($A33),\"\",IFERROR(SUMIFS(D_D[AWD],D_D[MT],5,D_D[CAT],SMS, D_D[EP],499,D_D[LOC],$A33)/$E33,0))","v":4.1000694927032663E-2},{"$f":"IF(ISNA($A33),\"\",IFERROR(SUMIFS(D_D[AUT],D_D[MT],5,D_D[CAT],SMS, D_D[EP],499,D_D[LOC],$A33)/$E33,0))","v":2.0847810979847115E-2}]
["IN499",21," ","Indiana-NWQ",{"$f":"IF(ISNA($A34),\"\",IFERROR(SUMIFS(D_D[INV],D_D[MT],5,D_D[CAT],SMS, D_D[EP],499,D_D[LOC],$A34),0))","v":9436},{"$f":"IF(ISNA($A34),\"\",IFERROR(SUMIFS(D_D[BL],D_D[MT],5,D_D[CAT],SMS, D_D[EP],499,D_D[LOC],$A34),0))","v":2945},0.31210258584145822,{"$f":"IF(ISNA($A34),\"\",IFERROR(SUMIFS(D_D[DEV],D_D[MT],5,D_D[CAT],SMS, D_D[EP],499,D_D[LOC],$A34)/$E34,0))","v":3.70919881305638E-3},{"$f":"IF(ISNA($A34),\"\",IFERROR(SUMIFS(D_D[EVD],D_D[MT],5,D_D[CAT],SMS, D_D[EP],499,D_D[LOC],$A34)/$E34,0))","v":0.7900593471810089},{"$f":"IF(ISNA($A34),\"\",IFERROR(SUMIFS(D_D[DEC],D_D[MT],5,D_D[CAT],SMS, D_D[EP],499,D_D[LOC],$A34)/$E34,0))","v":0.20591352267910132},{"$f":"IF(ISNA($A34),\"\",IFERROR(SUMIFS(D_D[AWD],D_D[MT],5,D_D[CAT],SMS, D_D[EP],499,D_D[LOC],$A34)/$E34,0))","v":3.1793132683340401E-4},{"$f":"IF(ISNA($A34),\"\",IFERROR(SUMIFS(D_D[AUT],D_D[MT],5,D_D[CAT],SMS, D_D[EP],499,D_D[LOC],$A34)/$E34,0))","v":0}]
["ME100",22,"Maine","Maine-Total",{"$f":"IF(ISNA($A35),\"\",IFERROR(SUMIFS(D_D[INV],D_D[MT],5,D_D[CAT],SMS, D_D[EP],499,D_D[LOC],$A35),0))","v":2742},{"$f":"IF(ISNA($A35),\"\",IFERROR(SUMIFS(D_D[BL],D_D[MT],5,D_D[CAT],SMS, D_D[EP],499,D_D[LOC],$A35),0))","v":1000},0.36469730123997085,{"$f":"IF(ISNA($A35),\"\",IFERROR(SUMIFS(D_D[DEV],D_D[MT],5,D_D[CAT],SMS, D_D[EP],499,D_D[LOC],$A35)/$E35,0))","v":1.6046681254558718E-2},{"$f":"IF(ISNA($A35),\"\",IFERROR(SUMIFS(D_D[EVD],D_D[MT],5,D_D[CAT],SMS, D_D[EP],499,D_D[LOC],$A35)/$E35,0))","v":0.74908825674690005},{"$f":"IF(ISNA($A35),\"\",IFERROR(SUMIFS(D_D[DEC],D_D[MT],5,D_D[CAT],SMS, D_D[EP],499,D_D[LOC],$A35)/$E35,0))","v":0.22830051057622175},{"$f":"IF(ISNA($A35),\"\",IFERROR(SUMIFS(D_D[AWD],D_D[MT],5,D_D[CAT],SMS, D_D[EP],499,D_D[LOC],$A35)/$E35,0))","v":4.3763676148796497E-3},{"$f":"IF(ISNA($A35),\"\",IFERROR(SUMIFS(D_D[AUT],D_D[MT],5,D_D[CAT],SMS, D_D[EP],499,D_D[LOC],$A35)/$E35,0))","v":2.1881838074398249E-3}]
["ME402",23,0,"Togus RO",{"$f":"IF(ISNA($A36),\"\",IFERROR(SUMIFS(D_D[INV],D_D[MT],5,D_D[CAT],SMS, D_D[EP],499,D_D[LOC],$A36),0))","v":30},{"$f":"IF(ISNA($A36),\"\",IFERROR(SUMIFS(D_D[BL],D_D[MT],5,D_D[CAT],SMS, D_D[EP],499,D_D[LOC],$A36),0))","v":4},0.13333333333333333,{"$f":"IF(ISNA($A36),\"\",IFERROR(SUMIFS(D_D[DEV],D_D[MT],5,D_D[CAT],SMS, D_D[EP],499,D_D[LOC],$A36)/$E36,0))","v":0.56666666666666665},{"$f":"IF(ISNA($A36),\"\",IFERROR(SUMIFS(D_D[EVD],D_D[MT],5,D_D[CAT],SMS, D_D[EP],499,D_D[LOC],$A36)/$E36,0))","v":0.3},{"$f":"IF(ISNA($A36),\"\",IFERROR(SUMIFS(D_D[DEC],D_D[MT],5,D_D[CAT],SMS, D_D[EP],499,D_D[LOC],$A36)/$E36,0))","v":0.13333333333333333},{"$f":"IF(ISNA($A36),\"\",IFERROR(SUMIFS(D_D[AWD],D_D[MT],5,D_D[CAT],SMS, D_D[EP],499,D_D[LOC],$A36)/$E36,0))","v":0},{"$f":"IF(ISNA($A36),\"\",IFERROR(SUMIFS(D_D[AUT],D_D[MT],5,D_D[CAT],SMS, D_D[EP],499,D_D[LOC],$A36)/$E36,0))","v":0}]
["ME-1",24,0,"Maine-Other RO",{"$f":"IF(ISNA($A37),\"\",IFERROR(SUMIFS(D_D[INV],D_D[MT],5,D_D[CAT],SMS, D_D[EP],499,D_D[LOC],$A37),0))","v":395},{"$f":"IF(ISNA($A37),\"\",IFERROR(SUMIFS(D_D[BL],D_D[MT],5,D_D[CAT],SMS, D_D[EP],499,D_D[LOC],$A37),0))","v":153},0.38734177215189874,{"$f":"IF(ISNA($A37),\"\",IFERROR(SUMIFS(D_D[DEV],D_D[MT],5,D_D[CAT],SMS, D_D[EP],499,D_D[LOC],$A37)/$E37,0))","v":4.810126582278481E-2},{"$f":"IF(ISNA($A37),\"\",IFERROR(SUMIFS(D_D[EVD],D_D[MT],5,D_D[CAT],SMS, D_D[EP],499,D_D[LOC],$A37)/$E37,0))","v":0.63037974683544307},{"$f":"IF(ISNA($A37),\"\",IFERROR(SUMIFS(D_D[DEC],D_D[MT],5,D_D[CAT],SMS, D_D[EP],499,D_D[LOC],$A37)/$E37,0))","v":0.27848101265822783},{"$f":"IF(ISNA($A37),\"\",IFERROR(SUMIFS(D_D[AWD],D_D[MT],5,D_D[CAT],SMS, D_D[EP],499,D_D[LOC],$A37)/$E37,0))","v":2.7848101265822784E-2},{"$f":"IF(ISNA($A37),\"\",IFERROR(SUMIFS(D_D[AUT],D_D[MT],5,D_D[CAT],SMS, D_D[EP],499,D_D[LOC],$A37)/$E37,0))","v":1.5189873417721518E-2}]
["ME499",25,0,"Maine-NWQ",{"$f":"IF(ISNA($A38),\"\",IFERROR(SUMIFS(D_D[INV],D_D[MT],5,D_D[CAT],SMS, D_D[EP],499,D_D[LOC],$A38),0))","v":2317},{"$f":"IF(ISNA($A38),\"\",IFERROR(SUMIFS(D_D[BL],D_D[MT],5,D_D[CAT],SMS, D_D[EP],499,D_D[LOC],$A38),0))","v":843},0.36383254208027621,{"$f":"IF(ISNA($A38),\"\",IFERROR(SUMIFS(D_D[DEV],D_D[MT],5,D_D[CAT],SMS, D_D[EP],499,D_D[LOC],$A38)/$E38,0))","v":3.4527406128614588E-3},{"$f":"IF(ISNA($A38),\"\",IFERROR(SUMIFS(D_D[EVD],D_D[MT],5,D_D[CAT],SMS, D_D[EP],499,D_D[LOC],$A38)/$E38,0))","v":0.77514026758739751},{"$f":"IF(ISNA($A38),\"\",IFERROR(SUMIFS(D_D[DEC],D_D[MT],5,D_D[CAT],SMS, D_D[EP],499,D_D[LOC],$A38)/$E38,0))","v":0.22097539922313336},{"$f":"IF(ISNA($A38),\"\",IFERROR(SUMIFS(D_D[AWD],D_D[MT],5,D_D[CAT],SMS, D_D[EP],499,D_D[LOC],$A38)/$E38,0))","v":4.3159257660768235E-4},{"$f":"IF(ISNA($A38),\"\",IFERROR(SUMIFS(D_D[AUT],D_D[MT],5,D_D[CAT],SMS, D_D[EP],499,D_D[LOC],$A38)/$E38,0))","v":0}]
["MD100",26,"Maryland","Maryland-Total",{"$f":"IF(ISNA($A39),\"\",IFERROR(SUMIFS(D_D[INV],D_D[MT],5,D_D[CAT],SMS, D_D[EP],499,D_D[LOC],$A39),0))","v":9952},{"$f":"IF(ISNA($A39),\"\",IFERROR(SUMIFS(D_D[BL],D_D[MT],5,D_D[CAT],SMS, D_D[EP],499,D_D[LOC],$A39),0))","v":2956},0.29702572347266881,{"$f":"IF(ISNA($A39),\"\",IFERROR(SUMIFS(D_D[DEV],D_D[MT],5,D_D[CAT],SMS, D_D[EP],499,D_D[LOC],$A39)/$E39,0))","v":2.3512861736334406E-2},{"$f":"IF(ISNA($A39),\"\",IFERROR(SUMIFS(D_D[EVD],D_D[MT],5,D_D[CAT],SMS, D_D[EP],499,D_D[LOC],$A39)/$E39,0))","v":0.74949758842443726},{"$f":"IF(ISNA($A39),\"\",IFERROR(SUMIFS(D_D[DEC],D_D[MT],5,D_D[CAT],SMS, D_D[EP],499,D_D[LOC],$A39)/$E39,0))","v":0.21322347266881028},{"$f":"IF(ISNA($A39),\"\",IFERROR(SUMIFS(D_D[AWD],D_D[MT],5,D_D[CAT],SMS, D_D[EP],499,D_D[LOC],$A39)/$E39,0))","v":1.065112540192926E-2},{"$f":"IF(ISNA($A39),\"\",IFERROR(SUMIFS(D_D[AUT],D_D[MT],5,D_D[CAT],SMS, D_D[EP],499,D_D[LOC],$A39)/$E39,0))","v":3.1149517684887461E-3}]
["MD313",27,0,"Baltimore RO",{"$f":"IF(ISNA($A40),\"\",IFERROR(SUMIFS(D_D[INV],D_D[MT],5,D_D[CAT],SMS, D_D[EP],499,D_D[LOC],$A40),0))","v":149},{"$f":"IF(ISNA($A40),\"\",IFERROR(SUMIFS(D_D[BL],D_D[MT],5,D_D[CAT],SMS, D_D[EP],499,D_D[LOC],$A40),0))","v":14},9.3959731543624164E-2,{"$f":"IF(ISNA($A40),\"\",IFERROR(SUMIFS(D_D[DEV],D_D[MT],5,D_D[CAT],SMS, D_D[EP],499,D_D[LOC],$A40)/$E40,0))","v":0.55033557046979864},{"$f":"IF(ISNA($A40),\"\",IFERROR(SUMIFS(D_D[EVD],D_D[MT],5,D_D[CAT],SMS, D_D[EP],499,D_D[LOC],$A40)/$E40,0))","v":0.33557046979865773},{"$f":"IF(ISNA($A40),\"\",IFERROR(SUMIFS(D_D[DEC],D_D[MT],5,D_D[CAT],SMS, D_D[EP],499,D_D[LOC],$A40)/$E40,0))","v":8.7248322147651006E-2},{"$f":"IF(ISNA($A40),\"\",IFERROR(SUMIFS(D_D[AWD],D_D[MT],5,D_D[CAT],SMS, D_D[EP],499,D_D[LOC],$A40)/$E40,0))","v":1.3422818791946308E-2},{"$f":"IF(ISNA($A40),\"\",IFERROR(SUMIFS(D_D[AUT],D_D[MT],5,D_D[CAT],SMS, D_D[EP],499,D_D[LOC],$A40)/$E40,0))","v":1.3422818791946308E-2}]
["MD-1",28,0,"Maryland-Other RO",{"$f":"IF(ISNA($A41),\"\",IFERROR(SUMIFS(D_D[INV],D_D[MT],5,D_D[CAT],SMS, D_D[EP],499,D_D[LOC],$A41),0))","v":1438},{"$f":"IF(ISNA($A41),\"\",IFERROR(SUMIFS(D_D[BL],D_D[MT],5,D_D[CAT],SMS, D_D[EP],499,D_D[LOC],$A41),0))","v":407},0.28303198887343534,{"$f":"IF(ISNA($A41),\"\",IFERROR(SUMIFS(D_D[DEV],D_D[MT],5,D_D[CAT],SMS, D_D[EP],499,D_D[LOC],$A41)/$E41,0))","v":7.2322670375521564E-2},{"$f":"IF(ISNA($A41),\"\",IFERROR(SUMIFS(D_D[EVD],D_D[MT],5,D_D[CAT],SMS, D_D[EP],499,D_D[LOC],$A41)/$E41,0))","v":0.56397774687065372},{"$f":"IF(ISNA($A41),\"\",IFERROR(SUMIFS(D_D[DEC],D_D[MT],5,D_D[CAT],SMS, D_D[EP],499,D_D[LOC],$A41)/$E41,0))","v":0.27538247566063978},{"$f":"IF(ISNA($A41),\"\",IFERROR(SUMIFS(D_D[AWD],D_D[MT],5,D_D[CAT],SMS, D_D[EP],499,D_D[LOC],$A41)/$E41,0))","v":6.8150208623087627E-2},{"$f":"IF(ISNA($A41),\"\",IFERROR(SUMIFS(D_D[AUT],D_D[MT],5,D_D[CAT],SMS, D_D[EP],499,D_D[LOC],$A41)/$E41,0))","v":2.0166898470097356E-2}]
["MD499",29,0,"Maryland-NWQ",{"$f":"IF(ISNA($A42),\"\",IFERROR(SUMIFS(D_D[INV],D_D[MT],5,D_D[CAT],SMS, D_D[EP],499,D_D[LOC],$A42),0))","v":8365},{"$f":"IF(ISNA($A42),\"\",IFERROR(SUMIFS(D_D[BL],D_D[MT],5,D_D[CAT],SMS, D_D[EP],499,D_D[LOC],$A42),0))","v":2535},0.3030484160191273,{"$f":"IF(ISNA($A42),\"\",IFERROR(SUMIFS(D_D[DEV],D_D[MT],5,D_D[CAT],SMS, D_D[EP],499,D_D[LOC],$A42)/$E42,0))","v":5.7381948595337717E-3},{"$f":"IF(ISNA($A42),\"\",IFERROR(SUMIFS(D_D[EVD],D_D[MT],5,D_D[CAT],SMS, D_D[EP],499,D_D[LOC],$A42)/$E42,0))","v":0.78876270173341301},{"$f":"IF(ISNA($A42),\"\",IFERROR(SUMIFS(D_D[DEC],D_D[MT],5,D_D[CAT],SMS, D_D[EP],499,D_D[LOC],$A42)/$E42,0))","v":0.20478182904961148},{"$f":"IF(ISNA($A42),\"\",IFERROR(SUMIFS(D_D[AWD],D_D[MT],5,D_D[CAT],SMS, D_D[EP],499,D_D[LOC],$A42)/$E42,0))","v":7.1727435744172146E-4},{"$f":"IF(ISNA($A42),\"\",IFERROR(SUMIFS(D_D[AUT],D_D[MT],5,D_D[CAT],SMS, D_D[EP],499,D_D[LOC],$A42)/$E42,0))","v":0}]
["MA100",30,"Massachusetts","Massachusetts-Total",{"$f":"IF(ISNA($A43),\"\",IFERROR(SUMIFS(D_D[INV],D_D[MT],5,D_D[CAT],SMS, D_D[EP],499,D_D[LOC],$A43),0))","v":6239},{"$f":"IF(ISNA($A43),\"\",IFERROR(SUMIFS(D_D[BL],D_D[MT],5,D_D[CAT],SMS, D_D[EP],499,D_D[LOC],$A43),0))","v":2264},0.36287866645295719,{"$f":"IF(ISNA($A43),\"\",IFERROR(SUMIFS(D_D[DEV],D_D[MT],5,D_D[CAT],SMS, D_D[EP],499,D_D[LOC],$A43)/$E43,0))","v":1.8111876903349897E-2},{"$f":"IF(ISNA($A43),\"\",IFERROR(SUMIFS(D_D[EVD],D_D[MT],5,D_D[CAT],SMS, D_D[EP],499,D_D[LOC],$A43)/$E43,0))","v":0.77672703958967781},{"$f":"IF(ISNA($A43),\"\",IFERROR(SUMIFS(D_D[DEC],D_D[MT],5,D_D[CAT],SMS, D_D[EP],499,D_D[LOC],$A43)/$E43,0))","v":0.19362077255970508},{"$f":"IF(ISNA($A43),\"\",IFERROR(SUMIFS(D_D[AWD],D_D[MT],5,D_D[CAT],SMS, D_D[EP],499,D_D[LOC],$A43)/$E43,0))","v":8.3346690174707482E-3},{"$f":"IF(ISNA($A43),\"\",IFERROR(SUMIFS(D_D[AUT],D_D[MT],5,D_D[CAT],SMS, D_D[EP],499,D_D[LOC],$A43)/$E43,0))","v":3.2056419297964416E-3}]
["MA301",31,0,"Boston RO",{"$f":"IF(ISNA($A44),\"\",IFERROR(SUMIFS(D_D[INV],D_D[MT],5,D_D[CAT],SMS, D_D[EP],499,D_D[LOC],$A44),0))","v":82},{"$f":"IF(ISNA($A44),\"\",IFERROR(SUMIFS(D_D[BL],D_D[MT],5,D_D[CAT],SMS, D_D[EP],499,D_D[LOC],$A44),0))","v":12},0.14634146341463414,{"$f":"IF(ISNA($A44),\"\",IFERROR(SUMIFS(D_D[DEV],D_D[MT],5,D_D[CAT],SMS, D_D[EP],499,D_D[LOC],$A44)/$E44,0))","v":0.37804878048780488},{"$f":"IF(ISNA($A44),\"\",IFERROR(SUMIFS(D_D[EVD],D_D[MT],5,D_D[CAT],SMS, D_D[EP],499,D_D[LOC],$A44)/$E44,0))","v":0.37804878048780488},{"$f":"IF(ISNA($A44),\"\",IFERROR(SUMIFS(D_D[DEC],D_D[MT],5,D_D[CAT],SMS, D_D[EP],499,D_D[LOC],$A44)/$E44,0))","v":0.1951219512195122},{"$f":"IF(ISNA($A44),\"\",IFERROR(SUMIFS(D_D[AWD],D_D[MT],5,D_D[CAT],SMS, D_D[EP],499,D_D[LOC],$A44)/$E44,0))","v":3.6585365853658534E-2},{"$f":"IF(ISNA($A44),\"\",IFERROR(SUMIFS(D_D[AUT],D_D[MT],5,D_D[CAT],SMS, D_D[EP],499,D_D[LOC],$A44)/$E44,0))","v":1.2195121951219513E-2}]
["MA-1",32,0,"Massachusetts-Other RO",{"$f":"IF(ISNA($A45),\"\",IFERROR(SUMIFS(D_D[INV],D_D[MT],5,D_D[CAT],SMS, D_D[EP],499,D_D[LOC],$A45),0))","v":860},{"$f":"IF(ISNA($A45),\"\",IFERROR(SUMIFS(D_D[BL],D_D[MT],5,D_D[CAT],SMS, D_D[EP],499,D_D[LOC],$A45),0))","v":322},0.37441860465116278,{"$f":"IF(ISNA($A45),\"\",IFERROR(SUMIFS(D_D[DEV],D_D[MT],5,D_D[CAT],SMS, D_D[EP],499,D_D[LOC],$A45)/$E45,0))","v":7.441860465116279E-2},{"$f":"IF(ISNA($A45),\"\",IFERROR(SUMIFS(D_D[EVD],D_D[MT],5,D_D[CAT],SMS, D_D[EP],499,D_D[LOC],$A45)/$E45,0))","v":0.60465116279069764},{"$f":"IF(ISNA($A45),\"\",IFERROR(SUMIFS(D_D[DEC],D_D[MT],5,D_D[CAT],SMS, D_D[EP],499,D_D[LOC],$A45)/$E45,0))","v":0.24651162790697675},{"$f":"IF(ISNA($A45),\"\",IFERROR(SUMIFS(D_D[AWD],D_D[MT],5,D_D[CAT],SMS, D_D[EP],499,D_D[LOC],$A45)/$E45,0))","v":5.232558139534884E-2},{"$f":"IF(ISNA($A45),\"\",IFERROR(SUMIFS(D_D[AUT],D_D[MT],5,D_D[CAT],SMS, D_D[EP],499,D_D[LOC],$A45)/$E45,0))","v":2.2093023255813953E-2}]
["MA499",33,0,"Massachusetts-NWQ",{"$f":"IF(ISNA($A46),\"\",IFERROR(SUMIFS(D_D[INV],D_D[MT],5,D_D[CAT],SMS, D_D[EP],499,D_D[LOC],$A46),0))","v":5297},{"$f":"IF(ISNA($A46),\"\",IFERROR(SUMIFS(D_D[BL],D_D[MT],5,D_D[CAT],SMS, D_D[EP],499,D_D[LOC],$A46),0))","v":1930},0.36435718331130829,{"$f":"IF(ISNA($A46),\"\",IFERROR(SUMIFS(D_D[DEV],D_D[MT],5,D_D[CAT],SMS, D_D[EP],499,D_D[LOC],$A46)/$E46,0))","v":3.3981498961676419E-3},{"$f":"IF(ISNA($A46),\"\",IFERROR(SUMIFS(D_D[EVD],D_D[MT],5,D_D[CAT],SMS, D_D[EP],499,D_D[LOC],$A46)/$E46,0))","v":0.81083632244666792},{"$f":"IF(ISNA($A46),\"\",IFERROR(SUMIFS(D_D[DEC],D_D[MT],5,D_D[CAT],SMS, D_D[EP],499,D_D[LOC],$A46)/$E46,0))","v":0.18501038323579386},{"$f":"IF(ISNA($A46),\"\",IFERROR(SUMIFS(D_D[AWD],D_D[MT],5,D_D[CAT],SMS, D_D[EP],499,D_D[LOC],$A46)/$E46,0))","v":7.551444213705871E-4},{"$f":"IF(ISNA($A46),\"\",IFERROR(SUMIFS(D_D[AUT],D_D[MT],5,D_D[CAT],SMS, D_D[EP],499,D_D[LOC],$A46)/$E46,0))","v":0}]
[{"$f":"IFERROR(INDEX(INDIRECT(DS_NWQI),B47),#N/A)","v":"MI100"},34,"Michigan","Michigan-Total",{"$f":"IF(ISNA($A47),\"\",IFERROR(SUMIFS(D_D[INV],D_D[MT],5,D_D[CAT],SMS, D_D[EP],499,D_D[LOC],$A47),0))","v":13155},{"$f":"IF(ISNA($A47),\"\",IFERROR(SUMIFS(D_D[BL],D_D[MT],5,D_D[CAT],SMS, D_D[EP],499,D_D[LOC],$A47),0))","v":4058},0.30847586469023186,{"$f":"IF(ISNA($A47),\"\",IFERROR(SUMIFS(D_D[DEV],D_D[MT],5,D_D[CAT],SMS, D_D[EP],499,D_D[LOC],$A47)/$E47,0))","v":1.7483846446218167E-2},{"$f":"IF(ISNA($A47),\"\",IFERROR(SUMIFS(D_D[EVD],D_D[MT],5,D_D[CAT],SMS, D_D[EP],499,D_D[LOC],$A47)/$E47,0))","v":0.73698213606993535},{"$f":"IF(ISNA($A47),\"\",IFERROR(SUMIFS(D_D[DEC],D_D[MT],5,D_D[CAT],SMS, D_D[EP],499,D_D[LOC],$A47)/$E47,0))","v":0.23656404408969972},{"$f":"IF(ISNA($A47),\"\",IFERROR(SUMIFS(D_D[AWD],D_D[MT],5,D_D[CAT],SMS, D_D[EP],499,D_D[LOC],$A47)/$E47,0))","v":6.0053211706575446E-3},{"$f":"IF(ISNA($A47),\"\",IFERROR(SUMIFS(D_D[AUT],D_D[MT],5,D_D[CAT],SMS, D_D[EP],499,D_D[LOC],$A47)/$E47,0))","v":2.9646522234891676E-3}]
["MI329",35,0,"Detroit RO",{"$f":"IF(ISNA($A48),\"\",IFERROR(SUMIFS(D_D[INV],D_D[MT],5,D_D[CAT],SMS, D_D[EP],499,D_D[LOC],$A48),0))","v":229},{"$f":"IF(ISNA($A48),\"\",IFERROR(SUMIFS(D_D[BL],D_D[MT],5,D_D[CAT],SMS, D_D[EP],499,D_D[LOC],$A48),0))","v":31},0.13537117903930132,{"$f":"IF(ISNA($A48),\"\",IFERROR(SUMIFS(D_D[DEV],D_D[MT],5,D_D[CAT],SMS, D_D[EP],499,D_D[LOC],$A48)/$E48,0))","v":0.34061135371179041},{"$f":"IF(ISNA($A48),\"\",IFERROR(SUMIFS(D_D[EVD],D_D[MT],5,D_D[CAT],SMS, D_D[EP],499,D_D[LOC],$A48)/$E48,0))","v":0.39737991266375544},{"$f":"IF(ISNA($A48),\"\",IFERROR(SUMIFS(D_D[DEC],D_D[MT],5,D_D[CAT],SMS, D_D[EP],499,D_D[LOC],$A48)/$E48,0))","v":0.2183406113537118},{"$f":"IF(ISNA($A48),\"\",IFERROR(SUMIFS(D_D[AWD],D_D[MT],5,D_D[CAT],SMS, D_D[EP],499,D_D[LOC],$A48)/$E48,0))","v":2.1834061135371178E-2},{"$f":"IF(ISNA($A48),\"\",IFERROR(SUMIFS(D_D[AUT],D_D[MT],5,D_D[CAT],SMS, D_D[EP],499,D_D[LOC],$A48)/$E48,0))","v":2.1834061135371178E-2}]
["MI-1",36,0,{"$f":"IFERROR(INDEX(INDIRECT(DS_NWQD),B49),\"\")","v":"Michigan-Other RO"},{"$f":"IF(ISNA($A49),\"\",IFERROR(SUMIFS(D_D[INV],D_D[MT],5,D_D[CAT],SMS, D_D[EP],499,D_D[LOC],$A49),0))","v":1639},{"$f":"IF(ISNA($A49),\"\",IFERROR(SUMIFS(D_D[BL],D_D[MT],5,D_D[CAT],SMS, D_D[EP],499,D_D[LOC],$A49),0))","v":662},{"$f":"IF(ISNA($A49),\"\",IFERROR(F49/E49,0))","v":0.40390482001220257},{"$f":"IF(ISNA($A49),\"\",IFERROR(SUMIFS(D_D[DEV],D_D[MT],5,D_D[CAT],SMS, D_D[EP],499,D_D[LOC],$A49)/$E49,0))","v":5.9792556436851739E-2},{"$f":"IF(ISNA($A49),\"\",IFERROR(SUMIFS(D_D[EVD],D_D[MT],5,D_D[CAT],SMS, D_D[EP],499,D_D[LOC],$A49)/$E49,0))","v":0.64978645515558264},{"$f":"IF(ISNA($A49),\"\",IFERROR(SUMIFS(D_D[DEC],D_D[MT],5,D_D[CAT],SMS, D_D[EP],499,D_D[LOC],$A49)/$E49,0))","v":0.22818791946308725},{"$f":"IF(ISNA($A49),\"\",IFERROR(SUMIFS(D_D[AWD],D_D[MT],5,D_D[CAT],SMS, D_D[EP],499,D_D[LOC],$A49)/$E49,0))","v":4.148871262965223E-2},{"$f":"IF(ISNA($A49),\"\",IFERROR(SUMIFS(D_D[AUT],D_D[MT],5,D_D[CAT],SMS, D_D[EP],499,D_D[LOC],$A49)/$E49,0))","v":2.0744356314826115E-2}]
["MI499",37,0,"Michigan-NWQ",{"$f":"IF(ISNA($A50),\"\",IFERROR(SUMIFS(D_D[INV],D_D[MT],5,D_D[CAT],SMS, D_D[EP],499,D_D[LOC],$A50),0))","v":11287},{"$f":"IF(ISNA($A50),\"\",IFERROR(SUMIFS(D_D[BL],D_D[MT],5,D_D[CAT],SMS, D_D[EP],499,D_D[LOC],$A50),0))","v":3365},0.29813059271728537,{"$f":"IF(ISNA($A50),\"\",IFERROR(SUMIFS(D_D[DEV],D_D[MT],5,D_D[CAT],SMS, D_D[EP],499,D_D[LOC],$A50)/$E50,0))","v":4.7842650837246386E-3},{"$f":"IF(ISNA($A50),\"\",IFERROR(SUMIFS(D_D[EVD],D_D[MT],5,D_D[CAT],SMS, D_D[EP],499,D_D[LOC],$A50)/$E50,0))","v":0.75653406573934612},{"$f":"IF(ISNA($A50),\"\",IFERROR(SUMIFS(D_D[DEC],D_D[MT],5,D_D[CAT],SMS, D_D[EP],499,D_D[LOC],$A50)/$E50,0))","v":0.23815008416762648},{"$f":"IF(ISNA($A50),\"\",IFERROR(SUMIFS(D_D[AWD],D_D[MT],5,D_D[CAT],SMS, D_D[EP],499,D_D[LOC],$A50)/$E50,0))","v":5.3158500930273762E-4},{"$f":"IF(ISNA($A50),\"\",IFERROR(SUMIFS(D_D[AUT],D_D[MT],5,D_D[CAT],SMS, D_D[EP],499,D_D[LOC],$A50)/$E50,0))","v":0}]
["MO100",38,"Missouri","Missouri-Total",{"$f":"IF(ISNA($A51),\"\",IFERROR(SUMIFS(D_D[INV],D_D[MT],5,D_D[CAT],SMS, D_D[EP],499,D_D[LOC],$A51),0))","v":12197},{"$f":"IF(ISNA($A51),\"\",IFERROR(SUMIFS(D_D[BL],D_D[MT],5,D_D[CAT],SMS, D_D[EP],499,D_D[LOC],$A51),0))","v":3842},0.31499549069443306,{"$f":"IF(ISNA($A51),\"\",IFERROR(SUMIFS(D_D[DEV],D_D[MT],5,D_D[CAT],SMS, D_D[EP],499,D_D[LOC],$A51)/$E51,0))","v":2.238255308682463E-2},{"$f":"IF(ISNA($A51),\"\",IFERROR(SUMIFS(D_D[EVD],D_D[MT],5,D_D[CAT],SMS, D_D[EP],499,D_D[LOC],$A51)/$E51,0))","v":0.73657456751660244},{"$f":"IF(ISNA($A51),\"\",IFERROR(SUMIFS(D_D[DEC],D_D[MT],5,D_D[CAT],SMS, D_D[EP],499,D_D[LOC],$A51)/$E51,0))","v":0.2298106091661884},{"$f":"IF(ISNA($A51),\"\",IFERROR(SUMIFS(D_D[AWD],D_D[MT],5,D_D[CAT],SMS, D_D[EP],499,D_D[LOC],$A51)/$E51,0))","v":8.1987373944412568E-3},{"$f":"IF(ISNA($A51),\"\",IFERROR(SUMIFS(D_D[AUT],D_D[MT],5,D_D[CAT],SMS, D_D[EP],499,D_D[LOC],$A51)/$E51,0))","v":3.0335328359432649E-3}]
["MO331",39,0,"St. Louis RO",{"$f":"IF(ISNA($A52),\"\",IFERROR(SUMIFS(D_D[INV],D_D[MT],5,D_D[CAT],SMS, D_D[EP],499,D_D[LOC],$A52),0))","v":257},{"$f":"IF(ISNA($A52),\"\",IFERROR(SUMIFS(D_D[BL],D_D[MT],5,D_D[CAT],SMS, D_D[EP],499,D_D[LOC],$A52),0))","v":56},0.21789883268482491,{"$f":"IF(ISNA($A52),\"\",IFERROR(SUMIFS(D_D[DEV],D_D[MT],5,D_D[CAT],SMS, D_D[EP],499,D_D[LOC],$A52)/$E52,0))","v":0.49027237354085601},{"$f":"IF(ISNA($A52),\"\",IFERROR(SUMIFS(D_D[EVD],D_D[MT],5,D_D[CAT],SMS, D_D[EP],499,D_D[LOC],$A52)/$E52,0))","v":0.38910505836575876},{"$f":"IF(ISNA($A52),\"\",IFERROR(SUMIFS(D_D[DEC],D_D[MT],5,D_D[CAT],SMS, D_D[EP],499,D_D[LOC],$A52)/$E52,0))","v":0.11284046692607004},{"$f":"IF(ISNA($A52),\"\",IFERROR(SUMIFS(D_D[AWD],D_D[MT],5,D_D[CAT],SMS, D_D[EP],499,D_D[LOC],$A52)/$E52,0))","v":3.8910505836575876E-3},{"$f":"IF(ISNA($A52),\"\",IFERROR(SUMIFS(D_D[AUT],D_D[MT],5,D_D[CAT],SMS, D_D[EP],499,D_D[LOC],$A52)/$E52,0))","v":3.8910505836575876E-3}]
["MO-1",40,0,"Missouri-Other RO",{"$f":"IF(ISNA($A53),\"\",IFERROR(SUMIFS(D_D[INV],D_D[MT],5,D_D[CAT],SMS, D_D[EP],499,D_D[LOC],$A53),0))","v":1544},{"$f":"IF(ISNA($A53),\"\",IFERROR(SUMIFS(D_D[BL],D_D[MT],5,D_D[CAT],SMS, D_D[EP],499,D_D[LOC],$A53),0))","v":580},0.37564766839378239,{"$f":"IF(ISNA($A53),\"\",IFERROR(SUMIFS(D_D[DEV],D_D[MT],5,D_D[CAT],SMS, D_D[EP],499,D_D[LOC],$A53)/$E53,0))","v":6.5414507772020722E-2},{"$f":"IF(ISNA($A53),\"\",IFERROR(SUMIFS(D_D[EVD],D_D[MT],5,D_D[CAT],SMS, D_D[EP],499,D_D[LOC],$A53)/$E53,0))","v":0.59779792746113991},{"$f":"IF(ISNA($A53),\"\",IFERROR(SUMIFS(D_D[DEC],D_D[MT],5,D_D[CAT],SMS, D_D[EP],499,D_D[LOC],$A53)/$E53,0))","v":0.25259067357512954},{"$f":"IF(ISNA($A53),\"\",IFERROR(SUMIFS(D_D[AWD],D_D[MT],5,D_D[CAT],SMS, D_D[EP],499,D_D[LOC],$A53)/$E53,0))","v":6.0880829015544043E-2},{"$f":"IF(ISNA($A53),\"\",IFERROR(SUMIFS(D_D[AUT],D_D[MT],5,D_D[CAT],SMS, D_D[EP],499,D_D[LOC],$A53)/$E53,0))","v":2.3316062176165803E-2}]
["MO499",41,0,"Missouri-NWQ",{"$f":"IF(ISNA($A54),\"\",IFERROR(SUMIFS(D_D[INV],D_D[MT],5,D_D[CAT],SMS, D_D[EP],499,D_D[LOC],$A54),0))","v":10396},{"$f":"IF(ISNA($A54),\"\",IFERROR(SUMIFS(D_D[BL],D_D[MT],5,D_D[CAT],SMS, D_D[EP],499,D_D[LOC],$A54),0))","v":3206},0.30838784147749132,{"$f":"IF(ISNA($A54),\"\",IFERROR(SUMIFS(D_D[DEV],D_D[MT],5,D_D[CAT],SMS, D_D[EP],499,D_D[LOC],$A54)/$E54,0))","v":4.4247787610619468E-3},{"$f":"IF(ISNA($A54),\"\",IFERROR(SUMIFS(D_D[EVD],D_D[MT],5,D_D[CAT],SMS, D_D[EP],499,D_D[LOC],$A54)/$E54,0))","v":0.76577529819161216},{"$f":"IF(ISNA($A54),\"\",IFERROR(SUMIFS(D_D[DEC],D_D[MT],5,D_D[CAT],SMS, D_D[EP],499,D_D[LOC],$A54)/$E54,0))","v":0.229318968834167},{"$f":"IF(ISNA($A54),\"\",IFERROR(SUMIFS(D_D[AWD],D_D[MT],5,D_D[CAT],SMS, D_D[EP],499,D_D[LOC],$A54)/$E54,0))","v":4.8095421315890726E-4},{"$f":"IF(ISNA($A54),\"\",IFERROR(SUMIFS(D_D[AUT],D_D[MT],5,D_D[CAT],SMS, D_D[EP],499,D_D[LOC],$A54)/$E54,0))","v":0}]
["NH100",42,"New Hampshire","New Hampshire-Total",{"$f":"IF(ISNA($A55),\"\",IFERROR(SUMIFS(D_D[INV],D_D[MT],5,D_D[CAT],SMS, D_D[EP],499,D_D[LOC],$A55),0))","v":2000},{"$f":"IF(ISNA($A55),\"\",IFERROR(SUMIFS(D_D[BL],D_D[MT],5,D_D[CAT],SMS, D_D[EP],499,D_D[LOC],$A55),0))","v":768},0.38400000000000001,{"$f":"IF(ISNA($A55),\"\",IFERROR(SUMIFS(D_D[DEV],D_D[MT],5,D_D[CAT],SMS, D_D[EP],499,D_D[LOC],$A55)/$E55,0))","v":1.0500000000000001E-2},{"$f":"IF(ISNA($A55),\"\",IFERROR(SUMIFS(D_D[EVD],D_D[MT],5,D_D[CAT],SMS, D_D[EP],499,D_D[LOC],$A55)/$E55,0))","v":0.77649999999999997},{"$f":"IF(ISNA($A55),\"\",IFERROR(SUMIFS(D_D[DEC],D_D[MT],5,D_D[CAT],SMS, D_D[EP],499,D_D[LOC],$A55)/$E55,0))","v":0.20200000000000001},{"$f":"IF(ISNA($A55),\"\",IFERROR(SUMIFS(D_D[AWD],D_D[MT],5,D_D[CAT],SMS, D_D[EP],499,D_D[LOC],$A55)/$E55,0))","v":7.4999999999999997E-3},{"$f":"IF(ISNA($A55),\"\",IFERROR(SUMIFS(D_D[AUT],D_D[MT],5,D_D[CAT],SMS, D_D[EP],499,D_D[LOC],$A55)/$E55,0))","v":3.5000000000000001E-3}]
["NH373",43,0,"Manchester RO",{"$f":"IF(ISNA($A56),\"\",IFERROR(SUMIFS(D_D[INV],D_D[MT],5,D_D[CAT],SMS, D_D[EP],499,D_D[LOC],$A56),0))","v":17},{"$f":"IF(ISNA($A56),\"\",IFERROR(SUMIFS(D_D[BL],D_D[MT],5,D_D[CAT],SMS, D_D[EP],499,D_D[LOC],$A56),0))","v":2},0.11764705882352941,{"$f":"IF(ISNA($A56),\"\",IFERROR(SUMIFS(D_D[DEV],D_D[MT],5,D_D[CAT],SMS, D_D[EP],499,D_D[LOC],$A56)/$E56,0))","v":0.29411764705882354},{"$f":"IF(ISNA($A56),\"\",IFERROR(SUMIFS(D_D[EVD],D_D[MT],5,D_D[CAT],SMS, D_D[EP],499,D_D[LOC],$A56)/$E56,0))","v":0.6470588235294118},{"$f":"IF(ISNA($A56),\"\",IFERROR(SUMIFS(D_D[DEC],D_D[MT],5,D_D[CAT],SMS, D_D[EP],499,D_D[LOC],$A56)/$E56,0))","v":0},{"$f":"IF(ISNA($A56),\"\",IFERROR(SUMIFS(D_D[AWD],D_D[MT],5,D_D[CAT],SMS, D_D[EP],499,D_D[LOC],$A56)/$E56,0))","v":5.8823529411764705E-2},{"$f":"IF(ISNA($A56),\"\",IFERROR(SUMIFS(D_D[AUT],D_D[MT],5,D_D[CAT],SMS, D_D[EP],499,D_D[LOC],$A56)/$E56,0))","v":0}]
["NH-1",44,0,"New Hampshire-Other RO",{"$f":"IF(ISNA($A57),\"\",IFERROR(SUMIFS(D_D[INV],D_D[MT],5,D_D[CAT],SMS, D_D[EP],499,D_D[LOC],$A57),0))","v":287},{"$f":"IF(ISNA($A57),\"\",IFERROR(SUMIFS(D_D[BL],D_D[MT],5,D_D[CAT],SMS, D_D[EP],499,D_D[LOC],$A57),0))","v":114},0.39721254355400698,{"$f":"IF(ISNA($A57),\"\",IFERROR(SUMIFS(D_D[DEV],D_D[MT],5,D_D[CAT],SMS, D_D[EP],499,D_D[LOC],$A57)/$E57,0))","v":4.878048780487805E-2},{"$f":"IF(ISNA($A57),\"\",IFERROR(SUMIFS(D_D[EVD],D_D[MT],5,D_D[CAT],SMS, D_D[EP],499,D_D[LOC],$A57)/$E57,0))","v":0.59233449477351918},{"$f":"IF(ISNA($A57),\"\",IFERROR(SUMIFS(D_D[DEC],D_D[MT],5,D_D[CAT],SMS, D_D[EP],499,D_D[LOC],$A57)/$E57,0))","v":0.2857142857142857},{"$f":"IF(ISNA($A57),\"\",IFERROR(SUMIFS(D_D[AWD],D_D[MT],5,D_D[CAT],SMS, D_D[EP],499,D_D[LOC],$A57)/$E57,0))","v":4.878048780487805E-2},{"$f":"IF(ISNA($A57),\"\",IFERROR(SUMIFS(D_D[AUT],D_D[MT],5,D_D[CAT],SMS, D_D[EP],499,D_D[LOC],$A57)/$E57,0))","v":2.4390243902439025E-2}]
["NH499",45,0,"New Hampshire-NWQ",{"$f":"IF(ISNA($A58),\"\",IFERROR(SUMIFS(D_D[INV],D_D[MT],5,D_D[CAT],SMS, D_D[EP],499,D_D[LOC],$A58),0))","v":1696},{"$f":"IF(ISNA($A58),\"\",IFERROR(SUMIFS(D_D[BL],D_D[MT],5,D_D[CAT],SMS, D_D[EP],499,D_D[LOC],$A58),0))","v":652},0.38443396226415094,{"$f":"IF(ISNA($A58),\"\",IFERROR(SUMIFS(D_D[DEV],D_D[MT],5,D_D[CAT],SMS, D_D[EP],499,D_D[LOC],$A58)/$E58,0))","v":1.1792452830188679E-3},{"$f":"IF(ISNA($A58),\"\",IFERROR(SUMIFS(D_D[EVD],D_D[MT],5,D_D[CAT],SMS, D_D[EP],499,D_D[LOC],$A58)/$E58,0))","v":0.80896226415094341},{"$f":"IF(ISNA($A58),\"\",IFERROR(SUMIFS(D_D[DEC],D_D[MT],5,D_D[CAT],SMS, D_D[EP],499,D_D[LOC],$A58)/$E58,0))","v":0.18985849056603774},{"$f":"IF(ISNA($A58),\"\",IFERROR(SUMIFS(D_D[AWD],D_D[MT],5,D_D[CAT],SMS, D_D[EP],499,D_D[LOC],$A58)/$E58,0))","v":0},{"$f":"IF(ISNA($A58),\"\",IFERROR(SUMIFS(D_D[AUT],D_D[MT],5,D_D[CAT],SMS, D_D[EP],499,D_D[LOC],$A58)/$E58,0))","v":0}]
["NJ100",46,"New Jersey","New Jersey-Total",{"$f":"IF(ISNA($A59),\"\",IFERROR(SUMIFS(D_D[INV],D_D[MT],5,D_D[CAT],SMS, D_D[EP],499,D_D[LOC],$A59),0))","v":7365},{"$f":"IF(ISNA($A59),\"\",IFERROR(SUMIFS(D_D[BL],D_D[MT],5,D_D[CAT],SMS, D_D[EP],499,D_D[LOC],$A59),0))","v":2789},0.37868295994568907,{"$f":"IF(ISNA($A59),\"\",IFERROR(SUMIFS(D_D[DEV],D_D[MT],5,D_D[CAT],SMS, D_D[EP],499,D_D[LOC],$A59)/$E59,0))","v":1.6700610997963342E-2},{"$f":"IF(ISNA($A59),\"\",IFERROR(SUMIFS(D_D[EVD],D_D[MT],5,D_D[CAT],SMS, D_D[EP],499,D_D[LOC],$A59)/$E59,0))","v":0.78289205702647657},{"$f":"IF(ISNA($A59),\"\",IFERROR(SUMIFS(D_D[DEC],D_D[MT],5,D_D[CAT],SMS, D_D[EP],499,D_D[LOC],$A59)/$E59,0))","v":0.18940936863543789},{"$f":"IF(ISNA($A59),\"\",IFERROR(SUMIFS(D_D[AWD],D_D[MT],5,D_D[CAT],SMS, D_D[EP],499,D_D[LOC],$A59)/$E59,0))","v":7.0604209097080784E-3},{"$f":"IF(ISNA($A59),\"\",IFERROR(SUMIFS(D_D[AUT],D_D[MT],5,D_D[CAT],SMS, D_D[EP],499,D_D[LOC],$A59)/$E59,0))","v":3.9375424304141206E-3}]
["NJ309",47,0,{"$f":"IFERROR(INDEX(INDIRECT(DS_NWQD),B60),\"\")","v":"Newark RO"},{"$f":"IF(ISNA($A60),\"\",IFERROR(SUMIFS(D_D[INV],D_D[MT],5,D_D[CAT],SMS, D_D[EP],499,D_D[LOC],$A60),0))","v":63},{"$f":"IF(ISNA($A60),\"\",IFERROR(SUMIFS(D_D[BL],D_D[MT],5,D_D[CAT],SMS, D_D[EP],499,D_D[LOC],$A60),0))","v":15},{"$f":"IF(ISNA($A60),\"\",IFERROR(F60/E60,0))","v":0.23809523809523808},{"$f":"IF(ISNA($A60),\"\",IFERROR(SUMIFS(D_D[DEV],D_D[MT],5,D_D[CAT],SMS, D_D[EP],499,D_D[LOC],$A60)/$E60,0))","v":0.53968253968253965},{"$f":"IF(ISNA($A60),\"\",IFERROR(SUMIFS(D_D[EVD],D_D[MT],5,D_D[CAT],SMS, D_D[EP],499,D_D[LOC],$A60)/$E60,0))","v":0.33333333333333331},{"$f":"IF(ISNA($A60),\"\",IFERROR(SUMIFS(D_D[DEC],D_D[MT],5,D_D[CAT],SMS, D_D[EP],499,D_D[LOC],$A60)/$E60,0))","v":0.1111111111111111},{"$f":"IF(ISNA($A60),\"\",IFERROR(SUMIFS(D_D[AWD],D_D[MT],5,D_D[CAT],SMS, D_D[EP],499,D_D[LOC],$A60)/$E60,0))","v":1.5873015873015872E-2},{"$f":"IF(ISNA($A60),\"\",IFERROR(SUMIFS(D_D[AUT],D_D[MT],5,D_D[CAT],SMS, D_D[EP],499,D_D[LOC],$A60)/$E60,0))","v":0}]
["NJ-1",48,0,"New Jersey-Other RO",{"$f":"IF(ISNA($A61),\"\",IFERROR(SUMIFS(D_D[INV],D_D[MT],5,D_D[CAT],SMS, D_D[EP],499,D_D[LOC],$A61),0))","v":1048},{"$f":"IF(ISNA($A61),\"\",IFERROR(SUMIFS(D_D[BL],D_D[MT],5,D_D[CAT],SMS, D_D[EP],499,D_D[LOC],$A61),0))","v":429},0.40935114503816794,{"$f":"IF(ISNA($A61),\"\",IFERROR(SUMIFS(D_D[DEV],D_D[MT],5,D_D[CAT],SMS, D_D[EP],499,D_D[LOC],$A61)/$E61,0))","v":6.1068702290076333E-2},{"$f":"IF(ISNA($A61),\"\",IFERROR(SUMIFS(D_D[EVD],D_D[MT],5,D_D[CAT],SMS, D_D[EP],499,D_D[LOC],$A61)/$E61,0))","v":0.59732824427480913},{"$f":"IF(ISNA($A61),\"\",IFERROR(SUMIFS(D_D[DEC],D_D[MT],5,D_D[CAT],SMS, D_D[EP],499,D_D[LOC],$A61)/$E61,0))","v":0.2681297709923664},{"$f":"IF(ISNA($A61),\"\",IFERROR(SUMIFS(D_D[AWD],D_D[MT],5,D_D[CAT],SMS, D_D[EP],499,D_D[LOC],$A61)/$E61,0))","v":4.6755725190839696E-2},{"$f":"IF(ISNA($A61),\"\",IFERROR(SUMIFS(D_D[AUT],D_D[MT],5,D_D[CAT],SMS, D_D[EP],499,D_D[LOC],$A61)/$E61,0))","v":2.6717557251908396E-2}]
["NJ499",49,0,"New Jersey-NWQ",{"$f":"IF(ISNA($A62),\"\",IFERROR(SUMIFS(D_D[INV],D_D[MT],5,D_D[CAT],SMS, D_D[EP],499,D_D[LOC],$A62),0))","v":6254},{"$f":"IF(ISNA($A62),\"\",IFERROR(SUMIFS(D_D[BL],D_D[MT],5,D_D[CAT],SMS, D_D[EP],499,D_D[LOC],$A62),0))","v":2345},0.37496002558362646,{"$f":"IF(ISNA($A62),\"\",IFERROR(SUMIFS(D_D[DEV],D_D[MT],5,D_D[CAT],SMS, D_D[EP],499,D_D[LOC],$A62)/$E62,0))","v":3.9974416373520947E-3},{"$f":"IF(ISNA($A62),\"\",IFERROR(SUMIFS(D_D[EVD],D_D[MT],5,D_D[CAT],SMS, D_D[EP],499,D_D[LOC],$A62)/$E62,0))","v":0.81851614966421493},{"$f":"IF(ISNA($A62),\"\",IFERROR(SUMIFS(D_D[DEC],D_D[MT],5,D_D[CAT],SMS, D_D[EP],499,D_D[LOC],$A62)/$E62,0))","v":0.17700671570195076},{"$f":"IF(ISNA($A62),\"\",IFERROR(SUMIFS(D_D[AWD],D_D[MT],5,D_D[CAT],SMS, D_D[EP],499,D_D[LOC],$A62)/$E62,0))","v":3.1979533098816759E-4},{"$f":"IF(ISNA($A62),\"\",IFERROR(SUMIFS(D_D[AUT],D_D[MT],5,D_D[CAT],SMS, D_D[EP],499,D_D[LOC],$A62)/$E62,0))","v":1.5989766549408379E-4}]
["NY100",50,{"$f":"IFERROR(INDEX(INDIRECT(DS_NWQ),B63),\"\")","v":"New York"},"New York-Total",{"$f":"IF(ISNA($A63),\"\",IFERROR(SUMIFS(D_D[INV],D_D[MT],5,D_D[CAT],SMS, D_D[EP],499,D_D[LOC],$A63),0))","v":15474},{"$f":"IF(ISNA($A63),\"\",IFERROR(SUMIFS(D_D[BL],D_D[MT],5,D_D[CAT],SMS, D_D[EP],499,D_D[LOC],$A63),0))","v":5580},0.36060488561457932,{"$f":"IF(ISNA($A63),\"\",IFERROR(SUMIFS(D_D[DEV],D_D[MT],5,D_D[CAT],SMS, D_D[EP],499,D_D[LOC],$A63)/$E63,0))","v":1.7771746154840378E-2},{"$f":"IF(ISNA($A63),\"\",IFERROR(SUMIFS(D_D[EVD],D_D[MT],5,D_D[CAT],SMS, D_D[EP],499,D_D[LOC],$A63)/$E63,0))","v":0.76392658653224765},{"$f":"IF(ISNA($A63),\"\",IFERROR(SUMIFS(D_D[DEC],D_D[MT],5,D_D[CAT],SMS, D_D[EP],499,D_D[LOC],$A63)/$E63,0))","v":0.20712162336823059},{"$f":"IF(ISNA($A63),\"\",IFERROR(SUMIFS(D_D[AWD],D_D[MT],5,D_D[CAT],SMS, D_D[EP],499,D_D[LOC],$A63)/$E63,0))","v":7.6903192451854728E-3},{"$f":"IF(ISNA($A63),\"\",IFERROR(SUMIFS(D_D[AUT],D_D[MT],5,D_D[CAT],SMS, D_D[EP],499,D_D[LOC],$A63)/$E63,0))","v":3.4897246994959287E-3}]
["NY307",51,0,{"$f":"IFERROR(INDEX(INDIRECT(DS_NWQD),B64),\"\")","v":"Buffalo RO"},{"$f":"IF(ISNA($A64),\"\",IFERROR(SUMIFS(D_D[INV],D_D[MT],5,D_D[CAT],SMS, D_D[EP],499,D_D[LOC],$A64),0))","v":107},{"$f":"IF(ISNA($A64),\"\",IFERROR(SUMIFS(D_D[BL],D_D[MT],5,D_D[CAT],SMS, D_D[EP],499,D_D[LOC],$A64),0))","v":20},{"$f":"IF(ISNA($A64),\"\",IFERROR(F64/E64,0))","v":0.18691588785046728},{"$f":"IF(ISNA($A64),\"\",IFERROR(SUMIFS(D_D[DEV],D_D[MT],5,D_D[CAT],SMS, D_D[EP],499,D_D[LOC],$A64)/$E64,0))","v":0.51401869158878499},{"$f":"IF(ISNA($A64),\"\",IFERROR(SUMIFS(D_D[EVD],D_D[MT],5,D_D[CAT],SMS, D_D[EP],499,D_D[LOC],$A64)/$E64,0))","v":0.24299065420560748},{"$f":"IF(ISNA($A64),\"\",IFERROR(SUMIFS(D_D[DEC],D_D[MT],5,D_D[CAT],SMS, D_D[EP],499,D_D[LOC],$A64)/$E64,0))","v":0.14953271028037382},{"$f":"IF(ISNA($A64),\"\",IFERROR(SUMIFS(D_D[AWD],D_D[MT],5,D_D[CAT],SMS, D_D[EP],499,D_D[LOC],$A64)/$E64,0))","v":3.7383177570093455E-2},{"$f":"IF(ISNA($A64),\"\",IFERROR(SUMIFS(D_D[AUT],D_D[MT],5,D_D[CAT],SMS, D_D[EP],499,D_D[LOC],$A64)/$E64,0))","v":5.6074766355140186E-2}]
["NY306",52,0,"New York RO",{"$f":"IF(ISNA($A65),\"\",IFERROR(SUMIFS(D_D[INV],D_D[MT],5,D_D[CAT],SMS, D_D[EP],499,D_D[LOC],$A65),0))","v":119},{"$f":"IF(ISNA($A65),\"\",IFERROR(SUMIFS(D_D[BL],D_D[MT],5,D_D[CAT],SMS, D_D[EP],499,D_D[LOC],$A65),0))","v":18},0.15126050420168066,{"$f":"IF(ISNA($A65),\"\",IFERROR(SUMIFS(D_D[DEV],D_D[MT],5,D_D[CAT],SMS, D_D[EP],499,D_D[LOC],$A65)/$E65,0))","v":0.47058823529411764},{"$f":"IF(ISNA($A65),\"\",IFERROR(SUMIFS(D_D[EVD],D_D[MT],5,D_D[CAT],SMS, D_D[EP],499,D_D[LOC],$A65)/$E65,0))","v":0.31092436974789917},{"$f":"IF(ISNA($A65),\"\",IFERROR(SUMIFS(D_D[DEC],D_D[MT],5,D_D[CAT],SMS, D_D[EP],499,D_D[LOC],$A65)/$E65,0))","v":0.13445378151260504},{"$f":"IF(ISNA($A65),\"\",IFERROR(SUMIFS(D_D[AWD],D_D[MT],5,D_D[CAT],SMS, D_D[EP],499,D_D[LOC],$A65)/$E65,0))","v":2.5210084033613446E-2},{"$f":"IF(ISNA($A65),\"\",IFERROR(SUMIFS(D_D[AUT],D_D[MT],5,D_D[CAT],SMS, D_D[EP],499,D_D[LOC],$A65)/$E65,0))","v":5.8823529411764705E-2}]
["NY-1",53,0,"New York-Other RO",{"$f":"IF(ISNA($A66),\"\",IFERROR(SUMIFS(D_D[INV],D_D[MT],5,D_D[CAT],SMS, D_D[EP],499,D_D[LOC],$A66),0))","v":1971},{"$f":"IF(ISNA($A66),\"\",IFERROR(SUMIFS(D_D[BL],D_D[MT],5,D_D[CAT],SMS, D_D[EP],499,D_D[LOC],$A66),0))","v":792},0.40182648401826482,{"$f":"IF(ISNA($A66),\"\",IFERROR(SUMIFS(D_D[DEV],D_D[MT],5,D_D[CAT],SMS, D_D[EP],499,D_D[LOC],$A66)/$E66,0))","v":5.8853373921867069E-2},{"$f":"IF(ISNA($A66),\"\",IFERROR(SUMIFS(D_D[EVD],D_D[MT],5,D_D[CAT],SMS, D_D[EP],499,D_D[LOC],$A66)/$E66,0))","v":0.59056316590563163},{"$f":"IF(ISNA($A66),\"\",IFERROR(SUMIFS(D_D[DEC],D_D[MT],5,D_D[CAT],SMS, D_D[EP],499,D_D[LOC],$A66)/$E66,0))","v":0.27650938609842718},{"$f":"IF(ISNA($A66),\"\",IFERROR(SUMIFS(D_D[AWD],D_D[MT],5,D_D[CAT],SMS, D_D[EP],499,D_D[LOC],$A66)/$E66,0))","v":5.3272450532724502E-2},{"$f":"IF(ISNA($A66),\"\",IFERROR(SUMIFS(D_D[AUT],D_D[MT],5,D_D[CAT],SMS, D_D[EP],499,D_D[LOC],$A66)/$E66,0))","v":2.0801623541349568E-2}]
["NY499",54,0,"New York-NWQ",{"$f":"IF(ISNA($A67),\"\",IFERROR(SUMIFS(D_D[INV],D_D[MT],5,D_D[CAT],SMS, D_D[EP],499,D_D[LOC],$A67),0))","v":13277},{"$f":"IF(ISNA($A67),\"\",IFERROR(SUMIFS(D_D[BL],D_D[MT],5,D_D[CAT],SMS, D_D[EP],499,D_D[LOC],$A67),0))","v":4750},0.35776154251713488,{"$f":"IF(ISNA($A67),\"\",IFERROR(SUMIFS(D_D[DEV],D_D[MT],5,D_D[CAT],SMS, D_D[EP],499,D_D[LOC],$A67)/$E67,0))","v":3.6152745349099947E-3},{"$f":"IF(ISNA($A67),\"\",IFERROR(SUMIFS(D_D[EVD],D_D[MT],5,D_D[CAT],SMS, D_D[EP],499,D_D[LOC],$A67)/$E67,0))","v":0.79792121714242681},{"$f":"IF(ISNA($A67),\"\",IFERROR(SUMIFS(D_D[DEC],D_D[MT],5,D_D[CAT],SMS, D_D[EP],499,D_D[LOC],$A67)/$E67,0))","v":0.19793628078632222},{"$f":"IF(ISNA($A67),\"\",IFERROR(SUMIFS(D_D[AWD],D_D[MT],5,D_D[CAT],SMS, D_D[EP],499,D_D[LOC],$A67)/$E67,0))","v":5.2722753634104093E-4},{"$f":"IF(ISNA($A67),\"\",IFERROR(SUMIFS(D_D[AUT],D_D[MT],5,D_D[CAT],SMS, D_D[EP],499,D_D[LOC],$A67)/$E67,0))","v":0}]
["OH100",55,"Ohio","Ohio-Total",{"$f":"IF(ISNA($A68),\"\",IFERROR(SUMIFS(D_D[INV],D_D[MT],5,D_D[CAT],SMS, D_D[EP],499,D_D[LOC],$A68),0))","v":18485},{"$f":"IF(ISNA($A68),\"\",IFERROR(SUMIFS(D_D[BL],D_D[MT],5,D_D[CAT],SMS, D_D[EP],499,D_D[LOC],$A68),0))","v":5602},0.30305653232350555,{"$f":"IF(ISNA($A68),\"\",IFERROR(SUMIFS(D_D[DEV],D_D[MT],5,D_D[CAT],SMS, D_D[EP],499,D_D[LOC],$A68)/$E68,0))","v":2.0286718961319988E-2},{"$f":"IF(ISNA($A68),\"\",IFERROR(SUMIFS(D_D[EVD],D_D[MT],5,D_D[CAT],SMS, D_D[EP],499,D_D[LOC],$A68)/$E68,0))","v":0.73832837435758725},{"$f":"IF(ISNA($A68),\"\",IFERROR(SUMIFS(D_D[DEC],D_D[MT],5,D_D[CAT],SMS, D_D[EP],499,D_D[LOC],$A68)/$E68,0))","v":0.23116040032458751},{"$f":"IF(ISNA($A68),\"\",IFERROR(SUMIFS(D_D[AWD],D_D[MT],5,D_D[CAT],SMS, D_D[EP],499,D_D[LOC],$A68)/$E68,0))","v":7.2491209088450092E-3},{"$f":"IF(ISNA($A68),\"\",IFERROR(SUMIFS(D_D[AUT],D_D[MT],5,D_D[CAT],SMS, D_D[EP],499,D_D[LOC],$A68)/$E68,0))","v":2.9212875304300786E-3}]
["OH325",56,0,"Cleveland RO",{"$f":"IF(ISNA($A69),\"\",IFERROR(SUMIFS(D_D[INV],D_D[MT],5,D_D[CAT],SMS, D_D[EP],499,D_D[LOC],$A69),0))","v":320},{"$f":"IF(ISNA($A69),\"\",IFERROR(SUMIFS(D_D[BL],D_D[MT],5,D_D[CAT],SMS, D_D[EP],499,D_D[LOC],$A69),0))","v":85},0.265625,{"$f":"IF(ISNA($A69),\"\",IFERROR(SUMIFS(D_D[DEV],D_D[MT],5,D_D[CAT],SMS, D_D[EP],499,D_D[LOC],$A69)/$E69,0))","v":0.44687500000000002},{"$f":"IF(ISNA($A69),\"\",IFERROR(SUMIFS(D_D[EVD],D_D[MT],5,D_D[CAT],SMS, D_D[EP],499,D_D[LOC],$A69)/$E69,0))","v":0.40625},{"$f":"IF(ISNA($A69),\"\",IFERROR(SUMIFS(D_D[DEC],D_D[MT],5,D_D[CAT],SMS, D_D[EP],499,D_D[LOC],$A69)/$E69,0))","v":0.10312499999999999},{"$f":"IF(ISNA($A69),\"\",IFERROR(SUMIFS(D_D[AWD],D_D[MT],5,D_D[CAT],SMS, D_D[EP],499,D_D[LOC],$A69)/$E69,0))","v":3.4375000000000003E-2},{"$f":"IF(ISNA($A69),\"\",IFERROR(SUMIFS(D_D[AUT],D_D[MT],5,D_D[CAT],SMS, D_D[EP],499,D_D[LOC],$A69)/$E69,0))","v":9.3749999999999997E-3}]
["OH-1",57,0,"Ohio-Other RO",{"$f":"IF(ISNA($A70),\"\",IFERROR(SUMIFS(D_D[INV],D_D[MT],5,D_D[CAT],SMS, D_D[EP],499,D_D[LOC],$A70),0))","v":2384},{"$f":"IF(ISNA($A70),\"\",IFERROR(SUMIFS(D_D[BL],D_D[MT],5,D_D[CAT],SMS, D_D[EP],499,D_D[LOC],$A70),0))","v":864},0.36241610738255031,{"$f":"IF(ISNA($A70),\"\",IFERROR(SUMIFS(D_D[DEV],D_D[MT],5,D_D[CAT],SMS, D_D[EP],499,D_D[LOC],$A70)/$E70,0))","v":6.5016778523489929E-2},{"$f":"IF(ISNA($A70),\"\",IFERROR(SUMIFS(D_D[EVD],D_D[MT],5,D_D[CAT],SMS, D_D[EP],499,D_D[LOC],$A70)/$E70,0))","v":0.60822147651006708},{"$f":"IF(ISNA($A70),\"\",IFERROR(SUMIFS(D_D[DEC],D_D[MT],5,D_D[CAT],SMS, D_D[EP],499,D_D[LOC],$A70)/$E70,0))","v":0.25838926174496646},{"$f":"IF(ISNA($A70),\"\",IFERROR(SUMIFS(D_D[AWD],D_D[MT],5,D_D[CAT],SMS, D_D[EP],499,D_D[LOC],$A70)/$E70,0))","v":4.6979865771812082E-2},{"$f":"IF(ISNA($A70),\"\",IFERROR(SUMIFS(D_D[AUT],D_D[MT],5,D_D[CAT],SMS, D_D[EP],499,D_D[LOC],$A70)/$E70,0))","v":2.0973154362416108E-2}]
["OH499",58,0,"Ohio-NWQ",{"$f":"IF(ISNA($A71),\"\",IFERROR(SUMIFS(D_D[INV],D_D[MT],5,D_D[CAT],SMS, D_D[EP],499,D_D[LOC],$A71),0))","v":15781},{"$f":"IF(ISNA($A71),\"\",IFERROR(SUMIFS(D_D[BL],D_D[MT],5,D_D[CAT],SMS, D_D[EP],499,D_D[LOC],$A71),0))","v":4653},0.29484823521956782,{"$f":"IF(ISNA($A71),\"\",IFERROR(SUMIFS(D_D[DEV],D_D[MT],5,D_D[CAT],SMS, D_D[EP],499,D_D[LOC],$A71)/$E71,0))","v":4.8792852163994675E-3},{"$f":"IF(ISNA($A71),\"\",IFERROR(SUMIFS(D_D[EVD],D_D[MT],5,D_D[CAT],SMS, D_D[EP],499,D_D[LOC],$A71)/$E71,0))","v":0.76471706482478929},{"$f":"IF(ISNA($A71),\"\",IFERROR(SUMIFS(D_D[DEC],D_D[MT],5,D_D[CAT],SMS, D_D[EP],499,D_D[LOC],$A71)/$E71,0))","v":0.22964324187313859},{"$f":"IF(ISNA($A71),\"\",IFERROR(SUMIFS(D_D[AWD],D_D[MT],5,D_D[CAT],SMS, D_D[EP],499,D_D[LOC],$A71)/$E71,0))","v":6.9704074519992391E-4},{"$f":"IF(ISNA($A71),\"\",IFERROR(SUMIFS(D_D[AUT],D_D[MT],5,D_D[CAT],SMS, D_D[EP],499,D_D[LOC],$A71)/$E71,0))","v":6.3367340472720362E-5}]
["PA100",59,"Pennsylvania","Pennsylvania-Total",{"$f":"IF(ISNA($A72),\"\",IFERROR(SUMIFS(D_D[INV],D_D[MT],5,D_D[CAT],SMS, D_D[EP],499,D_D[LOC],$A72),0))","v":16630},{"$f":"IF(ISNA($A72),\"\",IFERROR(SUMIFS(D_D[BL],D_D[MT],5,D_D[CAT],SMS, D_D[EP],499,D_D[LOC],$A72),0))","v":5651},0.33980757666867106,{"$f":"IF(ISNA($A72),\"\",IFERROR(SUMIFS(D_D[DEV],D_D[MT],5,D_D[CAT],SMS, D_D[EP],499,D_D[LOC],$A72)/$E72,0))","v":1.7077570655441972E-2},{"$f":"IF(ISNA($A72),\"\",IFERROR(SUMIFS(D_D[EVD],D_D[MT],5,D_D[CAT],SMS, D_D[EP],499,D_D[LOC],$A72)/$E72,0))","v":0.73812387251954303},{"$f":"IF(ISNA($A72),\"\",IFERROR(SUMIFS(D_D[DEC],D_D[MT],5,D_D[CAT],SMS, D_D[EP],499,D_D[LOC],$A72)/$E72,0))","v":0.23367408298256165},{"$f":"IF(ISNA($A72),\"\",IFERROR(SUMIFS(D_D[AWD],D_D[MT],5,D_D[CAT],SMS, D_D[EP],499,D_D[LOC],$A72)/$E72,0))","v":7.9374624173180995E-3},{"$f":"IF(ISNA($A72),\"\",IFERROR(SUMIFS(D_D[AUT],D_D[MT],5,D_D[CAT],SMS, D_D[EP],499,D_D[LOC],$A72)/$E72,0))","v":3.1268791340950089E-3}]
["PA310",60,0,"Philadelphia RO",{"$f":"IF(ISNA($A73),\"\",IFERROR(SUMIFS(D_D[INV],D_D[MT],5,D_D[CAT],SMS, D_D[EP],499,D_D[LOC],$A73),0))","v":238},{"$f":"IF(ISNA($A73),\"\",IFERROR(SUMIFS(D_D[BL],D_D[MT],5,D_D[CAT],SMS, D_D[EP],499,D_D[LOC],$A73),0))","v":51},0.21428571428571427,{"$f":"IF(ISNA($A73),\"\",IFERROR(SUMIFS(D_D[DEV],D_D[MT],5,D_D[CAT],SMS, D_D[EP],499,D_D[LOC],$A73)/$E73,0))","v":0.31932773109243695},{"$f":"IF(ISNA($A73),\"\",IFERROR(SUMIFS(D_D[EVD],D_D[MT],5,D_D[CAT],SMS, D_D[EP],499,D_D[LOC],$A73)/$E73,0))","v":0.28991596638655465},{"$f":"IF(ISNA($A73),\"\",IFERROR(SUMIFS(D_D[DEC],D_D[MT],5,D_D[CAT],SMS, D_D[EP],499,D_D[LOC],$A73)/$E73,0))","v":0.34033613445378152},{"$f":"IF(ISNA($A73),\"\",IFERROR(SUMIFS(D_D[AWD],D_D[MT],5,D_D[CAT],SMS, D_D[EP],499,D_D[LOC],$A73)/$E73,0))","v":2.9411764705882353E-2},{"$f":"IF(ISNA($A73),\"\",IFERROR(SUMIFS(D_D[AUT],D_D[MT],5,D_D[CAT],SMS, D_D[EP],499,D_D[LOC],$A73)/$E73,0))","v":2.100840336134454E-2}]
["PA311",61,0,"Pittsburgh RO",{"$f":"IF(ISNA($A74),\"\",IFERROR(SUMIFS(D_D[INV],D_D[MT],5,D_D[CAT],SMS, D_D[EP],499,D_D[LOC],$A74),0))","v":74},{"$f":"IF(ISNA($A74),\"\",IFERROR(SUMIFS(D_D[BL],D_D[MT],5,D_D[CAT],SMS, D_D[EP],499,D_D[LOC],$A74),0))","v":9},0.12162162162162163,{"$f":"IF(ISNA($A74),\"\",IFERROR(SUMIFS(D_D[DEV],D_D[MT],5,D_D[CAT],SMS, D_D[EP],499,D_D[LOC],$A74)/$E74,0))","v":0.47297297297297297},{"$f":"IF(ISNA($A74),\"\",IFERROR(SUMIFS(D_D[EVD],D_D[MT],5,D_D[CAT],SMS, D_D[EP],499,D_D[LOC],$A74)/$E74,0))","v":0.32432432432432434},{"$f":"IF(ISNA($A74),\"\",IFERROR(SUMIFS(D_D[DEC],D_D[MT],5,D_D[CAT],SMS, D_D[EP],499,D_D[LOC],$A74)/$E74,0))","v":0.17567567567567569},{"$f":"IF(ISNA($A74),\"\",IFERROR(SUMIFS(D_D[AWD],D_D[MT],5,D_D[CAT],SMS, D_D[EP],499,D_D[LOC],$A74)/$E74,0))","v":2.7027027027027029E-2},{"$f":"IF(ISNA($A74),\"\",IFERROR(SUMIFS(D_D[AUT],D_D[MT],5,D_D[CAT],SMS, D_D[EP],499,D_D[LOC],$A74)/$E74,0))","v":0}]
["PA-1",62,0,"Pennsylvania-Other RO",{"$f":"IF(ISNA($A75),\"\",IFERROR(SUMIFS(D_D[INV],D_D[MT],5,D_D[CAT],SMS, D_D[EP],499,D_D[LOC],$A75),0))","v":2213},{"$f":"IF(ISNA($A75),\"\",IFERROR(SUMIFS(D_D[BL],D_D[MT],5,D_D[CAT],SMS, D_D[EP],499,D_D[LOC],$A75),0))","v":904},0.40849525530953457,{"$f":"IF(ISNA($A75),\"\",IFERROR(SUMIFS(D_D[DEV],D_D[MT],5,D_D[CAT],SMS, D_D[EP],499,D_D[LOC],$A75)/$E75,0))","v":5.4225033890646181E-2},{"$f":"IF(ISNA($A75),\"\",IFERROR(SUMIFS(D_D[EVD],D_D[MT],5,D_D[CAT],SMS, D_D[EP],499,D_D[LOC],$A75)/$E75,0))","v":0.60370537731586082},{"$f":"IF(ISNA($A75),\"\",IFERROR(SUMIFS(D_D[DEC],D_D[MT],5,D_D[CAT],SMS, D_D[EP],499,D_D[LOC],$A75)/$E75,0))","v":0.26796204247627653},{"$f":"IF(ISNA($A75),\"\",IFERROR(SUMIFS(D_D[AWD],D_D[MT],5,D_D[CAT],SMS, D_D[EP],499,D_D[LOC],$A75)/$E75,0))","v":5.2417532760957973E-2},{"$f":"IF(ISNA($A75),\"\",IFERROR(SUMIFS(D_D[AUT],D_D[MT],5,D_D[CAT],SMS, D_D[EP],499,D_D[LOC],$A75)/$E75,0))","v":2.1238138273836422E-2}]
["PA499",63,0,"Pennsylvania-NWQ",{"$f":"IF(ISNA($A76),\"\",IFERROR(SUMIFS(D_D[INV],D_D[MT],5,D_D[CAT],SMS, D_D[EP],499,D_D[LOC],$A76),0))","v":14105},{"$f":"IF(ISNA($A76),\"\",IFERROR(SUMIFS(D_D[BL],D_D[MT],5,D_D[CAT],SMS, D_D[EP],499,D_D[LOC],$A76),0))","v":4687},0.33229351293867421,{"$f":"IF(ISNA($A76),\"\",IFERROR(SUMIFS(D_D[DEV],D_D[MT],5,D_D[CAT],SMS, D_D[EP],499,D_D[LOC],$A76)/$E76,0))","v":3.7575327897908543E-3},{"$f":"IF(ISNA($A76),\"\",IFERROR(SUMIFS(D_D[EVD],D_D[MT],5,D_D[CAT],SMS, D_D[EP],499,D_D[LOC],$A76)/$E76,0))","v":0.76894718185040767},{"$f":"IF(ISNA($A76),\"\",IFERROR(SUMIFS(D_D[DEC],D_D[MT],5,D_D[CAT],SMS, D_D[EP],499,D_D[LOC],$A76)/$E76,0))","v":0.22679900744416873},{"$f":"IF(ISNA($A76),\"\",IFERROR(SUMIFS(D_D[AWD],D_D[MT],5,D_D[CAT],SMS, D_D[EP],499,D_D[LOC],$A76)/$E76,0))","v":4.9627791563275434E-4},{"$f":"IF(ISNA($A76),\"\",IFERROR(SUMIFS(D_D[AUT],D_D[MT],5,D_D[CAT],SMS, D_D[EP],499,D_D[LOC],$A76)/$E76,0))","v":0}]
["RI100",64,"Rhode Island","Rhode Island-Total",{"$f":"IF(ISNA($A77),\"\",IFERROR(SUMIFS(D_D[INV],D_D[MT],5,D_D[CAT],SMS, D_D[EP],499,D_D[LOC],$A77),0))","v":1599},{"$f":"IF(ISNA($A77),\"\",IFERROR(SUMIFS(D_D[BL],D_D[MT],5,D_D[CAT],SMS, D_D[EP],499,D_D[LOC],$A77),0))","v":573},0.35834896810506567,{"$f":"IF(ISNA($A77),\"\",IFERROR(SUMIFS(D_D[DEV],D_D[MT],5,D_D[CAT],SMS, D_D[EP],499,D_D[LOC],$A77)/$E77,0))","v":1.3758599124452783E-2},{"$f":"IF(ISNA($A77),\"\",IFERROR(SUMIFS(D_D[EVD],D_D[MT],5,D_D[CAT],SMS, D_D[EP],499,D_D[LOC],$A77)/$E77,0))","v":0.77736085053158221},{"$f":"IF(ISNA($A77),\"\",IFERROR(SUMIFS(D_D[DEC],D_D[MT],5,D_D[CAT],SMS, D_D[EP],499,D_D[LOC],$A77)/$E77,0))","v":0.19824890556597874},{"$f":"IF(ISNA($A77),\"\",IFERROR(SUMIFS(D_D[AWD],D_D[MT],5,D_D[CAT],SMS, D_D[EP],499,D_D[LOC],$A77)/$E77,0))","v":7.5046904315196998E-3},{"$f":"IF(ISNA($A77),\"\",IFERROR(SUMIFS(D_D[AUT],D_D[MT],5,D_D[CAT],SMS, D_D[EP],499,D_D[LOC],$A77)/$E77,0))","v":3.1269543464665416E-3}]
["RI304",65,0,"Providence RO",{"$f":"IF(ISNA($A78),\"\",IFERROR(SUMIFS(D_D[INV],D_D[MT],5,D_D[CAT],SMS, D_D[EP],499,D_D[LOC],$A78),0))","v":29},{"$f":"IF(ISNA($A78),\"\",IFERROR(SUMIFS(D_D[BL],D_D[MT],5,D_D[CAT],SMS, D_D[EP],499,D_D[LOC],$A78),0))","v":8},0.27586206896551724,{"$f":"IF(ISNA($A78),\"\",IFERROR(SUMIFS(D_D[DEV],D_D[MT],5,D_D[CAT],SMS, D_D[EP],499,D_D[LOC],$A78)/$E78,0))","v":0.27586206896551724},{"$f":"IF(ISNA($A78),\"\",IFERROR(SUMIFS(D_D[EVD],D_D[MT],5,D_D[CAT],SMS, D_D[EP],499,D_D[LOC],$A78)/$E78,0))","v":0.41379310344827586},{"$f":"IF(ISNA($A78),\"\",IFERROR(SUMIFS(D_D[DEC],D_D[MT],5,D_D[CAT],SMS, D_D[EP],499,D_D[LOC],$A78)/$E78,0))","v":0.31034482758620691},{"$f":"IF(ISNA($A78),\"\",IFERROR(SUMIFS(D_D[AWD],D_D[MT],5,D_D[CAT],SMS, D_D[EP],499,D_D[LOC],$A78)/$E78,0))","v":0},{"$f":"IF(ISNA($A78),\"\",IFERROR(SUMIFS(D_D[AUT],D_D[MT],5,D_D[CAT],SMS, D_D[EP],499,D_D[LOC],$A78)/$E78,0))","v":0}]
["RI-1",66,0,"Rhode Island-Other RO",{"$f":"IF(ISNA($A79),\"\",IFERROR(SUMIFS(D_D[INV],D_D[MT],5,D_D[CAT],SMS, D_D[EP],499,D_D[LOC],$A79),0))","v":202},{"$f":"IF(ISNA($A79),\"\",IFERROR(SUMIFS(D_D[BL],D_D[MT],5,D_D[CAT],SMS, D_D[EP],499,D_D[LOC],$A79),0))","v":78},0.38613861386138615,{"$f":"IF(ISNA($A79),\"\",IFERROR(SUMIFS(D_D[DEV],D_D[MT],5,D_D[CAT],SMS, D_D[EP],499,D_D[LOC],$A79)/$E79,0))","v":5.9405940594059403E-2},{"$f":"IF(ISNA($A79),\"\",IFERROR(SUMIFS(D_D[EVD],D_D[MT],5,D_D[CAT],SMS, D_D[EP],499,D_D[LOC],$A79)/$E79,0))","v":0.61881188118811881},{"$f":"IF(ISNA($A79),\"\",IFERROR(SUMIFS(D_D[DEC],D_D[MT],5,D_D[CAT],SMS, D_D[EP],499,D_D[LOC],$A79)/$E79,0))","v":0.23762376237623761},{"$f":"IF(ISNA($A79),\"\",IFERROR(SUMIFS(D_D[AWD],D_D[MT],5,D_D[CAT],SMS, D_D[EP],499,D_D[LOC],$A79)/$E79,0))","v":5.9405940594059403E-2},{"$f":"IF(ISNA($A79),\"\",IFERROR(SUMIFS(D_D[AUT],D_D[MT],5,D_D[CAT],SMS, D_D[EP],499,D_D[LOC],$A79)/$E79,0))","v":2.4752475247524754E-2}]
["RI499",67,0,"Rhode Island-NWQ",{"$f":"IF(ISNA($A80),\"\",IFERROR(SUMIFS(D_D[INV],D_D[MT],5,D_D[CAT],SMS, D_D[EP],499,D_D[LOC],$A80),0))","v":1368},{"$f":"IF(ISNA($A80),\"\",IFERROR(SUMIFS(D_D[BL],D_D[MT],5,D_D[CAT],SMS, D_D[EP],499,D_D[LOC],$A80),0))","v":487},0.35599415204678364,{"$f":"IF(ISNA($A80),\"\",IFERROR(SUMIFS(D_D[DEV],D_D[MT],5,D_D[CAT],SMS, D_D[EP],499,D_D[LOC],$A80)/$E80,0))","v":1.4619883040935672E-3},{"$f":"IF(ISNA($A80),\"\",IFERROR(SUMIFS(D_D[EVD],D_D[MT],5,D_D[CAT],SMS, D_D[EP],499,D_D[LOC],$A80)/$E80,0))","v":0.80847953216374269},{"$f":"IF(ISNA($A80),\"\",IFERROR(SUMIFS(D_D[DEC],D_D[MT],5,D_D[CAT],SMS, D_D[EP],499,D_D[LOC],$A80)/$E80,0))","v":0.19005847953216373},{"$f":"IF(ISNA($A80),\"\",IFERROR(SUMIFS(D_D[AWD],D_D[MT],5,D_D[CAT],SMS, D_D[EP],499,D_D[LOC],$A80)/$E80,0))","v":0},{"$f":"IF(ISNA($A80),\"\",IFERROR(SUMIFS(D_D[AUT],D_D[MT],5,D_D[CAT],SMS, D_D[EP],499,D_D[LOC],$A80)/$E80,0))","v":0}]
["VT100",68,{"$f":"IFERROR(INDEX(INDIRECT(DS_NWQ),B81),\"\")","v":"Vermont"},"Vermont-Total",{"$f":"IF(ISNA($A81),\"\",IFERROR(SUMIFS(D_D[INV],D_D[MT],5,D_D[CAT],SMS, D_D[EP],499,D_D[LOC],$A81),0))","v":822},{"$f":"IF(ISNA($A81),\"\",IFERROR(SUMIFS(D_D[BL],D_D[MT],5,D_D[CAT],SMS, D_D[EP],499,D_D[LOC],$A81),0))","v":359},0.43673965936739662,{"$f":"IF(ISNA($A81),\"\",IFERROR(SUMIFS(D_D[DEV],D_D[MT],5,D_D[CAT],SMS, D_D[EP],499,D_D[LOC],$A81)/$E81,0))","v":1.7031630170316302E-2},{"$f":"IF(ISNA($A81),\"\",IFERROR(SUMIFS(D_D[EVD],D_D[MT],5,D_D[CAT],SMS, D_D[EP],499,D_D[LOC],$A81)/$E81,0))","v":0.79318734793187351},{"$f":"IF(ISNA($A81),\"\",IFERROR(SUMIFS(D_D[DEC],D_D[MT],5,D_D[CAT],SMS, D_D[EP],499,D_D[LOC],$A81)/$E81,0))","v":0.18126520681265207},{"$f":"IF(ISNA($A81),\"\",IFERROR(SUMIFS(D_D[AWD],D_D[MT],5,D_D[CAT],SMS, D_D[EP],499,D_D[LOC],$A81)/$E81,0))","v":7.2992700729927005E-3},{"$f":"IF(ISNA($A81),\"\",IFERROR(SUMIFS(D_D[AUT],D_D[MT],5,D_D[CAT],SMS, D_D[EP],499,D_D[LOC],$A81)/$E81,0))","v":1.2165450121654502E-3}]
["VT405",69,0,{"$f":"IFERROR(INDEX(INDIRECT(DS_NWQD),B82),\"\")","v":"White River RO"},{"$f":"IF(ISNA($A82),\"\",IFERROR(SUMIFS(D_D[INV],D_D[MT],5,D_D[CAT],SMS, D_D[EP],499,D_D[LOC],$A82),0))","v":6},{"$f":"IF(ISNA($A82),\"\",IFERROR(SUMIFS(D_D[BL],D_D[MT],5,D_D[CAT],SMS, D_D[EP],499,D_D[LOC],$A82),0))","v":2},{"$f":"IF(ISNA($A82),\"\",IFERROR(F82/E82,0))","v":0.33333333333333331},{"$f":"IF(ISNA($A82),\"\",IFERROR(SUMIFS(D_D[DEV],D_D[MT],5,D_D[CAT],SMS, D_D[EP],499,D_D[LOC],$A82)/$E82,0))","v":0.66666666666666663},{"$f":"IF(ISNA($A82),\"\",IFERROR(SUMIFS(D_D[EVD],D_D[MT],5,D_D[CAT],SMS, D_D[EP],499,D_D[LOC],$A82)/$E82,0))","v":0.33333333333333331},{"$f":"IF(ISNA($A82),\"\",IFERROR(SUMIFS(D_D[DEC],D_D[MT],5,D_D[CAT],SMS, D_D[EP],499,D_D[LOC],$A82)/$E82,0))","v":0},{"$f":"IF(ISNA($A82),\"\",IFERROR(SUMIFS(D_D[AWD],D_D[MT],5,D_D[CAT],SMS, D_D[EP],499,D_D[LOC],$A82)/$E82,0))","v":0},{"$f":"IF(ISNA($A82),\"\",IFERROR(SUMIFS(D_D[AUT],D_D[MT],5,D_D[CAT],SMS, D_D[EP],499,D_D[LOC],$A82)/$E82,0))","v":0}]
["VT-1",70,0,"Vermont-Other RO",{"$f":"IF(ISNA($A83),\"\",IFERROR(SUMIFS(D_D[INV],D_D[MT],5,D_D[CAT],SMS, D_D[EP],499,D_D[LOC],$A83),0))","v":117},{"$f":"IF(ISNA($A83),\"\",IFERROR(SUMIFS(D_D[BL],D_D[MT],5,D_D[CAT],SMS, D_D[EP],499,D_D[LOC],$A83),0))","v":52},0.44444444444444442,{"$f":"IF(ISNA($A83),\"\",IFERROR(SUMIFS(D_D[DEV],D_D[MT],5,D_D[CAT],SMS, D_D[EP],499,D_D[LOC],$A83)/$E83,0))","v":6.8376068376068383E-2},{"$f":"IF(ISNA($A83),\"\",IFERROR(SUMIFS(D_D[EVD],D_D[MT],5,D_D[CAT],SMS, D_D[EP],499,D_D[LOC],$A83)/$E83,0))","v":0.59829059829059827},{"$f":"IF(ISNA($A83),\"\",IFERROR(SUMIFS(D_D[DEC],D_D[MT],5,D_D[CAT],SMS, D_D[EP],499,D_D[LOC],$A83)/$E83,0))","v":0.28205128205128205},{"$f":"IF(ISNA($A83),\"\",IFERROR(SUMIFS(D_D[AWD],D_D[MT],5,D_D[CAT],SMS, D_D[EP],499,D_D[LOC],$A83)/$E83,0))","v":4.2735042735042736E-2},{"$f":"IF(ISNA($A83),\"\",IFERROR(SUMIFS(D_D[AUT],D_D[MT],5,D_D[CAT],SMS, D_D[EP],499,D_D[LOC],$A83)/$E83,0))","v":8.5470085470085479E-3}]
["VT499",71,0,"Vermont-NWQ",{"$f":"IF(ISNA($A84),\"\",IFERROR(SUMIFS(D_D[INV],D_D[MT],5,D_D[CAT],SMS, D_D[EP],499,D_D[LOC],$A84),0))","v":699},{"$f":"IF(ISNA($A84),\"\",IFERROR(SUMIFS(D_D[BL],D_D[MT],5,D_D[CAT],SMS, D_D[EP],499,D_D[LOC],$A84),0))","v":305},0.4363376251788269,{"$f":"IF(ISNA($A84),\"\",IFERROR(SUMIFS(D_D[DEV],D_D[MT],5,D_D[CAT],SMS, D_D[EP],499,D_D[LOC],$A84)/$E84,0))","v":2.8612303290414878E-3},{"$f":"IF(ISNA($A84),\"\",IFERROR(SUMIFS(D_D[EVD],D_D[MT],5,D_D[CAT],SMS, D_D[EP],499,D_D[LOC],$A84)/$E84,0))","v":0.82975679542203151},{"$f":"IF(ISNA($A84),\"\",IFERROR(SUMIFS(D_D[DEC],D_D[MT],5,D_D[CAT],SMS, D_D[EP],499,D_D[LOC],$A84)/$E84,0))","v":0.16595135908440631},{"$f":"IF(ISNA($A84),\"\",IFERROR(SUMIFS(D_D[AWD],D_D[MT],5,D_D[CAT],SMS, D_D[EP],499,D_D[LOC],$A84)/$E84,0))","v":1.4306151645207439E-3},{"$f":"IF(ISNA($A84),\"\",IFERROR(SUMIFS(D_D[AUT],D_D[MT],5,D_D[CAT],SMS, D_D[EP],499,D_D[LOC],$A84)/$E84,0))","v":0}]
["WI100",72,"Wisconsin","Wisconsin-Total",{"$f":"IF(ISNA($A85),\"\",IFERROR(SUMIFS(D_D[INV],D_D[MT],5,D_D[CAT],SMS, D_D[EP],499,D_D[LOC],$A85),0))","v":9058},{"$f":"IF(ISNA($A85),\"\",IFERROR(SUMIFS(D_D[BL],D_D[MT],5,D_D[CAT],SMS, D_D[EP],499,D_D[LOC],$A85),0))","v":3272},0.36122764407153896,{"$f":"IF(ISNA($A85),\"\",IFERROR(SUMIFS(D_D[DEV],D_D[MT],5,D_D[CAT],SMS, D_D[EP],499,D_D[LOC],$A85)/$E85,0))","v":1.7443144181938618E-2},{"$f":"IF(ISNA($A85),\"\",IFERROR(SUMIFS(D_D[EVD],D_D[MT],5,D_D[CAT],SMS, D_D[EP],499,D_D[LOC],$A85)/$E85,0))","v":0.7491720026495915},{"$f":"IF(ISNA($A85),\"\",IFERROR(SUMIFS(D_D[DEC],D_D[MT],5,D_D[CAT],SMS, D_D[EP],499,D_D[LOC],$A85)/$E85,0))","v":0.22355928461028926},{"$f":"IF(ISNA($A85),\"\",IFERROR(SUMIFS(D_D[AWD],D_D[MT],5,D_D[CAT],SMS, D_D[EP],499,D_D[LOC],$A85)/$E85,0))","v":5.9615809229410467E-3},{"$f":"IF(ISNA($A85),\"\",IFERROR(SUMIFS(D_D[AUT],D_D[MT],5,D_D[CAT],SMS, D_D[EP],499,D_D[LOC],$A85)/$E85,0))","v":3.8639876352395673E-3}]
["WI330",73,0,"Milwaukee RO",{"$f":"IF(ISNA($A86),\"\",IFERROR(SUMIFS(D_D[INV],D_D[MT],5,D_D[CAT],SMS, D_D[EP],499,D_D[LOC],$A86),0))","v":120},{"$f":"IF(ISNA($A86),\"\",IFERROR(SUMIFS(D_D[BL],D_D[MT],5,D_D[CAT],SMS, D_D[EP],499,D_D[LOC],$A86),0))","v":18},0.15,{"$f":"IF(ISNA($A86),\"\",IFERROR(SUMIFS(D_D[DEV],D_D[MT],5,D_D[CAT],SMS, D_D[EP],499,D_D[LOC],$A86)/$E86,0))","v":0.42499999999999999},{"$f":"IF(ISNA($A86),\"\",IFERROR(SUMIFS(D_D[EVD],D_D[MT],5,D_D[CAT],SMS, D_D[EP],499,D_D[LOC],$A86)/$E86,0))","v":0.30833333333333335},{"$f":"IF(ISNA($A86),\"\",IFERROR(SUMIFS(D_D[DEC],D_D[MT],5,D_D[CAT],SMS, D_D[EP],499,D_D[LOC],$A86)/$E86,0))","v":0.19166666666666668},{"$f":"IF(ISNA($A86),\"\",IFERROR(SUMIFS(D_D[AWD],D_D[MT],5,D_D[CAT],SMS, D_D[EP],499,D_D[LOC],$A86)/$E86,0))","v":5.8333333333333334E-2},{"$f":"IF(ISNA($A86),\"\",IFERROR(SUMIFS(D_D[AUT],D_D[MT],5,D_D[CAT],SMS, D_D[EP],499,D_D[LOC],$A86)/$E86,0))","v":1.6666666666666666E-2}]
["WI-1",74,0,"Wisconsin-Other RO",{"$f":"IF(ISNA($A87),\"\",IFERROR(SUMIFS(D_D[INV],D_D[MT],5,D_D[CAT],SMS, D_D[EP],499,D_D[LOC],$A87),0))","v":1265},{"$f":"IF(ISNA($A87),\"\",IFERROR(SUMIFS(D_D[BL],D_D[MT],5,D_D[CAT],SMS, D_D[EP],499,D_D[LOC],$A87),0))","v":545},0.43083003952569171,{"$f":"IF(ISNA($A87),\"\",IFERROR(SUMIFS(D_D[DEV],D_D[MT],5,D_D[CAT],SMS, D_D[EP],499,D_D[LOC],$A87)/$E87,0))","v":5.533596837944664E-2},{"$f":"IF(ISNA($A87),\"\",IFERROR(SUMIFS(D_D[EVD],D_D[MT],5,D_D[CAT],SMS, D_D[EP],499,D_D[LOC],$A87)/$E87,0))","v":0.62450592885375489},{"$f":"IF(ISNA($A87),\"\",IFERROR(SUMIFS(D_D[DEC],D_D[MT],5,D_D[CAT],SMS, D_D[EP],499,D_D[LOC],$A87)/$E87,0))","v":0.25849802371541503},{"$f":"IF(ISNA($A87),\"\",IFERROR(SUMIFS(D_D[AWD],D_D[MT],5,D_D[CAT],SMS, D_D[EP],499,D_D[LOC],$A87)/$E87,0))","v":3.5573122529644272E-2},{"$f":"IF(ISNA($A87),\"\",IFERROR(SUMIFS(D_D[AUT],D_D[MT],5,D_D[CAT],SMS, D_D[EP],499,D_D[LOC],$A87)/$E87,0))","v":2.6086956521739129E-2}]
["WI499",75,0,"Wisconsin-NWQ",{"$f":"IF(ISNA($A88),\"\",IFERROR(SUMIFS(D_D[INV],D_D[MT],5,D_D[CAT],SMS, D_D[EP],499,D_D[LOC],$A88),0))","v":7673},{"$f":"IF(ISNA($A88),\"\",IFERROR(SUMIFS(D_D[BL],D_D[MT],5,D_D[CAT],SMS, D_D[EP],499,D_D[LOC],$A88),0))","v":2709},0.35305617098918285,{"$f":"IF(ISNA($A88),\"\",IFERROR(SUMIFS(D_D[DEV],D_D[MT],5,D_D[CAT],SMS, D_D[EP],499,D_D[LOC],$A88)/$E88,0))","v":4.822103479734133E-3},{"$f":"IF(ISNA($A88),\"\",IFERROR(SUMIFS(D_D[EVD],D_D[MT],5,D_D[CAT],SMS, D_D[EP],499,D_D[LOC],$A88)/$E88,0))","v":0.77661931447934318},{"$f":"IF(ISNA($A88),\"\",IFERROR(SUMIFS(D_D[DEC],D_D[MT],5,D_D[CAT],SMS, D_D[EP],499,D_D[LOC],$A88)/$E88,0))","v":0.21829792779877494},{"$f":"IF(ISNA($A88),\"\",IFERROR(SUMIFS(D_D[AWD],D_D[MT],5,D_D[CAT],SMS, D_D[EP],499,D_D[LOC],$A88)/$E88,0))","v":2.6065424214779094E-4},{"$f":"IF(ISNA($A88),\"\",IFERROR(SUMIFS(D_D[AUT],D_D[MT],5,D_D[CAT],SMS, D_D[EP],499,D_D[LOC],$A88)/$E88,0))","v":0}]
[{"$error":"#N/A"},77,"",{"$f":"IFERROR(INDEX(INDIRECT(DS_NWQD),B89),\"\")","v":""},{"$f":"IF(ISNA($A89),\"\",IFERROR(SUMIFS(D_D[INV],D_D[MT],5,D_D[CAT],SMS, D_D[EP],499,D_D[LOC],$A89),0))","v":""},{"$f":"IF(ISNA($A89),\"\",IFERROR(SUMIFS(D_D[BL],D_D[MT],5,D_D[CAT],SMS, D_D[EP],499,D_D[LOC],$A89),0))","v":""},{"$f":"IF(ISNA($A89),\"\",IFERROR(F89/E89,0))","v":""},{"$f":"IF(ISNA($A89),\"\",IFERROR(SUMIFS(D_D[DEV],D_D[MT],5,D_D[CAT],SMS, D_D[EP],499,D_D[LOC],$A89)/$E89,0))","v":""},{"$f":"IF(ISNA($A89),\"\",IFERROR(SUMIFS(D_D[EVD],D_D[MT],5,D_D[CAT],SMS, D_D[EP],499,D_D[LOC],$A89)/$E89,0))","v":""},{"$f":"IF(ISNA($A89),\"\",IFERROR(SUMIFS(D_D[DEC],D_D[MT],5,D_D[CAT],SMS, D_D[EP],499,D_D[LOC],$A89)/$E89,0))","v":""},{"$f":"IF(ISNA($A89),\"\",IFERROR(SUMIFS(D_D[AWD],D_D[MT],5,D_D[CAT],SMS, D_D[EP],499,D_D[LOC],$A89)/$E89,0))","v":""},{"$f":"IF(ISNA($A89),\"\",IFERROR(SUMIFS(D_D[AUT],D_D[MT],5,D_D[CAT],SMS, D_D[EP],499,D_D[LOC],$A89)/$E89,0))","v":""}]

{"sheet":"Traditional Aggregate (TA)","index":7,"n_rows":48,"n_cols":14,"rows_kept":48,"cut":false,"hidden":false,"merged":[[1,1,1,6],[1,7,1,11],[10,11,10,13],[31,11,31,13],[32,11,32,12],[11,11,11,13],[2,1,2,13],[3,6,3,9],[3,1,3,4],[3,11,3,13],[16,11,16,13]]}
[]
[null,{"$f":"\"Compensation and Pension National Inventory - Historical Reporting Bundles* - Data through \"","v":"Compensation and Pension National Inventory - Historical Reporting Bundles* - Data through "},null,null,null,null,null,{"$f":"D_DT[]","v":"2021-08-21"}]
[null,"*The data on this page represents historical, alternative reporting on VBA claims processing.  VBA actively measures and monitors these workloads, but the bundles are not specifically tied to VBA's strategic target 125 Days and 98% Accuracy.  The Rating Bundle measures are the only claims processing bundle that is directly related to the strategic 2015 goals.\nEnd products which are included in the Rating Bundle group are highlighted in green."]
[null,"Compensation Entitlement",null,null,null,null,"Pension Entitlement",null,null,null,null,"Legacy Appeals"]
[null,"Measurement","Claims Pending","Pending over 125 days","Percent Pending over 125 days",null,"Measurement","Claims Pending","Pending over 125 days","Percent Pending over 125 days",null,"Measurement","Appeals Pending","Average Days Pending"]
[null,"Original Entitlement - Veterans1",{"$f":"SUM(C7:C9)","v":142174},{"$f":"SUM(D7:D9)","v":64408},{"$f":"IFERROR(D6/C6,0)","v":0.45302235289152726},null,"Original Entitlement ",{"$f":"SUM(H7:H9)","v":5061},{"$f":"SUM(I7:I9)","v":427},{"$f":"IFERROR(I6/H6,0)","v":8.4370677731673588E-2},1,"Notice of Disagreements",{"$f":"IFERROR(SUMIFS(D_D[INV],D_D[MT],7,D_D[CAT],1,D_D[EP],$K6),0)","v":1493},{"$f":"IFERROR(SUMIFS(D_D[ADP],D_D[MT],7,D_D[CAT],1,D_D[EP],$K6),0)","v":1253.3499999999999}]
["095","EP 095 - Initial entitlement decisions for Voc Rehab",{"$f":"IFERROR(SUMIFS(D_D[INV],D_D[MT],3,D_D[CAT],TA_21,D_D[EP],$A7),0)","v":8},{"$f":"IFERROR(SUMIFS(D_D[BL],D_D[MT],3,D_D[CAT],TA_21,D_D[EP],$A7),0)","v":2},{"$f":"IFERROR(D7/C7,0)","v":0.25},180,"EP 180 - Initial entitlement - Veteran ",{"$f":"IFERROR(SUMIFS(D_D[INV],D_D[MT],3,D_D[CAT],TA_31,D_D[EP],$F7),0)","v":2152},{"$f":"IFERROR(SUMIFS(D_D[BL],D_D[MT],3,D_D[CAT],TA_31,D_D[EP],$F7),0)","v":203},9.4330855018587359E-2,9,"Statement of the Case*",{"$f":"IFERROR(SUMIFS(D_D[INV],D_D[MT],7,D_D[CAT],1,D_D[EP],$K7),0)","v":485},{"$f":"IFERROR(SUMIFS(D_D[ADP],D_D[MT],7,D_D[CAT],1,D_D[EP],$K7),0)","v":1459.75}]
["010","EP 010 - Initial entitlement for service-connected disability (=>8)",{"$f":"IFERROR(SUMIFS(D_D[INV],D_D[MT],3,D_D[CAT],TA_21,D_D[EP],$A8),0)","v":50226},{"$f":"IFERROR(SUMIFS(D_D[BL],D_D[MT],3,D_D[CAT],TA_21,D_D[EP],$A8),0)","v":23890},0.47565006172102098,120,"EP 120 - Increased entitlement and/or reconsideration ",{"$f":"IFERROR(SUMIFS(D_D[INV],D_D[MT],3,D_D[CAT],TA_31,D_D[EP],$F8),0)","v":954},{"$f":"IFERROR(SUMIFS(D_D[BL],D_D[MT],3,D_D[CAT],TA_31,D_D[EP],$F8),0)","v":59},6.1844863731656187E-2,"2","Form 9s",{"$f":"IFERROR(SUMIFS(D_D[INV],D_D[MT],7,D_D[CAT],1,D_D[EP],$K8),0)","v":585},{"$f":"IFERROR(SUMIFS(D_D[ADP],D_D[MT],7,D_D[CAT],1,D_D[EP],$K8),0)","v":809.76}]
["110","EP 110 - Initial entitlement for service-connected disability (<=7)",{"$f":"IFERROR(SUMIFS(D_D[INV],D_D[MT],3,D_D[CAT],TA_21,D_D[EP],$A9),0)","v":91940},{"$f":"IFERROR(SUMIFS(D_D[BL],D_D[MT],3,D_D[CAT],TA_21,D_D[EP],$A9),0)","v":40516},0.44067870350228411,190,"EP 190 - Initial entitlement - Survivor ",{"$f":"IFERROR(SUMIFS(D_D[INV],D_D[MT],3,D_D[CAT],TA_31,D_D[EP],$F9),0)","v":1955},{"$f":"IFERROR(SUMIFS(D_D[BL],D_D[MT],3,D_D[CAT],TA_31,D_D[EP],$F9),0)","v":165},8.4398976982097182E-2,"3","Remands",{"$f":"IFERROR(SUMIFS(D_D[INV],D_D[MT],7,D_D[CAT],1,D_D[EP],$K9),0)","v":29173},{"$f":"IFERROR(SUMIFS(D_D[ADP],D_D[MT],7,D_D[CAT],1,D_D[EP],$K9),0)","v":280.70999999999998}]
[null,"Original Entitlement - Survivors2",{"$f":"SUM(C11:C12)","v":7976},{"$f":"SUM(D11:D12)","v":2666},0.33425275827482448,null,"Pension Award Adjustments",{"$f":"SUM(H11:H16)","v":1033},{"$f":"SUM(I11:I16)","v":31},3.0009680542110357E-2,null,"Total Appeals Pending Under VBA control",{"$f":"M6+M7+M8+M9","v":31736}]
["140","EP 140 - Initial claims from surviving spouses, children or parents",{"$f":"IFERROR(SUMIFS(D_D[INV],D_D[MT],3,D_D[CAT],TA_21,D_D[EP],$A11),0)","v":7928},{"$f":"IFERROR(SUMIFS(D_D[BL],D_D[MT],3,D_D[CAT],TA_21,D_D[EP],$A11),0)","v":2650},0.33425832492431889,135,"EP 135 - Hospitalization adjustment (non-rating)",{"$f":"IFERROR(SUMIFS(D_D[INV],D_D[MT],3,D_D[CAT],TA_32,D_D[EP],$F11),0)","v":26},{"$f":"IFERROR(SUMIFS(D_D[BL],D_D[MT],3,D_D[CAT],TA_32,D_D[EP],$F11),0)","v":2},{"$f":"IFERROR(I11/H11,0)","v":7.6923076923076927E-2},null,"*the veteran has 60 days to respond to an SOC to continue onto the Form 9 stage"]
["410","EP 410 - Initial claims from Veterans' children with Spina bifida and/or birth defects",{"$f":"IFERROR(SUMIFS(D_D[INV],D_D[MT],3,D_D[CAT],TA_21,D_D[EP],$A12),0)","v":48},{"$f":"IFERROR(SUMIFS(D_D[BL],D_D[MT],3,D_D[CAT],TA_21,D_D[EP],$A12),0)","v":16},0.33333333333333331,137,"EP 137 - Dependency",{"$f":"IFERROR(SUMIFS(D_D[INV],D_D[MT],3,D_D[CAT],TA_32,D_D[EP],$F12),0)","v":2},{"$f":"IFERROR(SUMIFS(D_D[BL],D_D[MT],3,D_D[CAT],TA_32,D_D[EP],$F12),0)","v":1},0.5,null,"RAMP (Rapid Appeals Modernization Program)"]
[null,"Supplemental Entitlement",{"$f":"SUM(C14:C17)","v":274025},{"$f":"SUM(D14:D17)","v":90884},0.33166316941884866,"150G","EP 150 - Income adjustments",{"$f":"IFERROR(SUMIFS(D_D[INV],D_D[MT],3,D_D[CAT],TA_32,D_D[EP],$F13),0)","v":992},{"$f":"IFERROR(SUMIFS(D_D[BL],D_D[MT],3,D_D[CAT],TA_32,D_D[EP],$F13),0)","v":27},2.7217741935483871E-2,"7","EP 682 - Higher Level Review",{"$f":"IFERROR(SUMIFS(D_D[INV],D_D[MT],7,D_D[CAT],1,D_D[EP],$K13),0)","v":3},{"$f":"IFERROR(SUMIFS(D_D[ADP],D_D[MT],7,D_D[CAT],1,D_D[EP],$K13),0)","v":719.33}]
["040","EP 040 - Supplemental Claims (AMA)",{"$f":"IFERROR(SUMIFS(D_D[INV],D_D[MT],3,D_D[CAT],TA_21,D_D[EP],$A14),0)","v":62099},{"$f":"IFERROR(SUMIFS(D_D[BL],D_D[MT],3,D_D[CAT],TA_21,D_D[EP],$A14),0)","v":24216},0.38995797033768659,155,"EP 155 - Annual eligibility verification reporting (EVRs)",{"$f":"IFERROR(SUMIFS(D_D[INV],D_D[MT],3,D_D[CAT],TA_32,D_D[EP],$F14),0)","v":0},{"$f":"IFERROR(SUMIFS(D_D[BL],D_D[MT],3,D_D[CAT],TA_32,D_D[EP],$F14),0)","v":0},0,8,"EP 683 - Supplemental Evidence",{"$f":"IFERROR(SUMIFS(D_D[INV],D_D[MT],7,D_D[CAT],1,D_D[EP],$K14),0)","v":30},{"$f":"IFERROR(SUMIFS(D_D[ADP],D_D[MT],7,D_D[CAT],1,D_D[EP],$K14),0)","v":888.6}]
["020","EP 020 - Increased evaluation and/or additional claimed conditions",{"$f":"IFERROR(SUMIFS(D_D[INV],D_D[MT],3,D_D[CAT],TA_21,D_D[EP],$A15),0)","v":211444},{"$f":"IFERROR(SUMIFS(D_D[BL],D_D[MT],3,D_D[CAT],TA_21,D_D[EP],$A15),0)","v":66630},0.3151188967291576,297,"EP 297 - Misc determinations",{"$f":"IFERROR(SUMIFS(D_D[INV],D_D[MT],3,D_D[CAT],TA_32,D_D[EP],$F15),0)","v":1},{"$f":"IFERROR(SUMIFS(D_D[BL],D_D[MT],3,D_D[CAT],TA_32,D_D[EP],$F15),0)","v":1},1,6,"Total RAMP",{"$f":"IFERROR(SUMIFS(D_D[INV],D_D[MT],7,D_D[CAT],1,D_D[EP],$K15),0)","v":33},{"$f":"IFERROR(SUMIFS(D_D[ADP],D_D[MT],7,D_D[CAT],1,D_D[EP],$K15),0)","v":873.21}]
["320","EP 320 -Increased entitlement due to hospitalization or surgery",{"$f":"IFERROR(SUMIFS(D_D[INV],D_D[MT],3,D_D[CAT],TA_21,D_D[EP],$A16),0)","v":469},{"$f":"IFERROR(SUMIFS(D_D[BL],D_D[MT],3,D_D[CAT],TA_21,D_D[EP],$A16),0)","v":35},7.4626865671641784E-2,607,"EP 607 - Due process",{"$f":"IFERROR(SUMIFS(D_D[INV],D_D[MT],3,D_D[CAT],TA_32,D_D[EP],$F16),0)","v":12},{"$f":"IFERROR(SUMIFS(D_D[BL],D_D[MT],3,D_D[CAT],TA_32,D_D[EP],$F16),0)","v":0},0]
["420","EP 420 - Spina bifida and/or birth defects reconsideration",{"$f":"IFERROR(SUMIFS(D_D[INV],D_D[MT],3,D_D[CAT],TA_21,D_D[EP],$A17),0)","v":13},{"$f":"IFERROR(SUMIFS(D_D[BL],D_D[MT],3,D_D[CAT],TA_21,D_D[EP],$A17),0)","v":3},0.23076923076923078,null,"Program Reviews",{"$f":"SUM(H18:H20)","v":109},{"$f":"SUM(I18:I20)","v":105},{"$f":"IFERROR(I17/H17,0)","v":0.96330275229357798},null,"DROC Decision Review Workload (AMA)"]
["12","Award Adjustments",{"$f":"SUM(C19:C25)","v":97038},{"$f":"SUM(D19:D25)","v":18436},0.18998742760568024,"154","EP 154 - Income Verification Match",{"$f":"IFERROR(SUMIFS(D_D[INV],D_D[MT],3,D_D[CAT],TA_33,D_D[EP],$F18),0)","v":4},{"$f":"IFERROR(SUMIFS(D_D[BL],D_D[MT],3,D_D[CAT],TA_33,D_D[EP],$F18),0)","v":2},0.5,null,null,"Claims Pending","Average Days Pending"]
["130G","EP 130 - Dependency",{"$f":"IFERROR(SUMIFS(D_D[INV],D_D[MT],3,D_D[CAT],TA_22,D_D[EP],$A19),0)","v":13007},{"$f":"IFERROR(SUMIFS(D_D[BL],D_D[MT],3,D_D[CAT],TA_22,D_D[EP],$A19),0)","v":1454},{"$f":"IFERROR(D19/C19,0)","v":0.11178596140539709},"696","EP 696 - Cost of Living Adjustments",{"$f":"IFERROR(SUMIFS(D_D[INV],D_D[MT],3,D_D[CAT],TA_33,D_D[EP],$F19),0)","v":105},{"$f":"IFERROR(SUMIFS(D_D[BL],D_D[MT],3,D_D[CAT],TA_33,D_D[EP],$F19),0)","v":103},0.98095238095238091,1,"EP 030 - Higher-Level Reviews (HLR)",{"$f":"IFERROR(SUMIFS(D_D[INV],D_D[MT],12,D_D[CAT],9000,D_D[EP],$K19),0)","v":15599},{"$f":"IFERROR(SUMIFS(D_D[ADP],D_D[MT],12,D_D[CAT],9000,D_D[EP],$K19),0)","v":29.170395538175502}]
["133","EP 133 - Survivor restored entitlement",{"$f":"IFERROR(SUMIFS(D_D[INV],D_D[MT],3,D_D[CAT],TA_22,D_D[EP],$A20),0)","v":4},{"$f":"IFERROR(SUMIFS(D_D[BL],D_D[MT],3,D_D[CAT],TA_22,D_D[EP],$A20),0)","v":0},0,"697","EP 697 - Non-entitlement reviews",{"$f":"IFERROR(SUMIFS(D_D[INV],D_D[MT],3,D_D[CAT],TA_33,D_D[EP],$F20),0)","v":0},{"$f":"IFERROR(SUMIFS(D_D[BL],D_D[MT],3,D_D[CAT],TA_33,D_D[EP],$F20),0)","v":0},0,1.1000000000000001,"HLR - Compensation",{"$f":"IFERROR(SUMIFS(D_D[INV],D_D[MT],12,D_D[CAT],9000,D_D[EP],$K20),0)","v":14884},{"$f":"IFERROR(SUMIFS(D_D[ADP],D_D[MT],12,D_D[CAT],9000,D_D[EP],$K20),0)","v":27.682343456060199}]
["135","EP 135 - Hospitalization adjustment (non-rating)",{"$f":"IFERROR(SUMIFS(D_D[INV],D_D[MT],3,D_D[CAT],TA_22,D_D[EP],$A21),0)","v":41},{"$f":"IFERROR(SUMIFS(D_D[BL],D_D[MT],3,D_D[CAT],TA_22,D_D[EP],$A21),0)","v":1},2.4390243902439025E-2,null,"Pension Other",{"$f":"SUM(H22:H25)","v":93},{"$f":"SUM(I22:I25)","v":13},{"$f":"IFERROR(I21/H21,0)","v":0.13978494623655913},1.2,"HLR - Pension",{"$f":"IFERROR(SUMIFS(D_D[INV],D_D[MT],12,D_D[CAT],9000,D_D[EP],$K21),0)","v":715},{"$f":"IFERROR(SUMIFS(D_D[ADP],D_D[MT],12,D_D[CAT],9000,D_D[EP],$K21),0)","v":60.146853146853097}]
["290G","EP 290 - Misc determinations",{"$f":"IFERROR(SUMIFS(D_D[INV],D_D[MT],3,D_D[CAT],TA_22,D_D[EP],$A22),0)","v":26785},{"$f":"IFERROR(SUMIFS(D_D[BL],D_D[MT],3,D_D[CAT],TA_22,D_D[EP],$A22),0)","v":3823},0.14272913944371851,"407","EP 407 - Correspondence ",{"$f":"IFERROR(SUMIFS(D_D[INV],D_D[MT],3,D_D[CAT],TA_34,D_D[EP],$F22),0)","v":90},{"$f":"IFERROR(SUMIFS(D_D[BL],D_D[MT],3,D_D[CAT],TA_34,D_D[EP],$F22),0)","v":11},0.12222222222222222,2,"EP 040 - Higher-Level Review Returns (HLRR)",{"$f":"IFERROR(SUMIFS(D_D[INV],D_D[MT],12,D_D[CAT],9000,D_D[EP],$K22),0)","v":12034},{"$f":"IFERROR(SUMIFS(D_D[ADP],D_D[MT],12,D_D[CAT],9000,D_D[EP],$K22),0)","v":104.218547448895}]
["450","EP 450 - Spina bifida and/or birth defects adjustments",{"$f":"IFERROR(SUMIFS(D_D[INV],D_D[MT],3,D_D[CAT],TA_22,D_D[EP],$A23),0)","v":8},{"$f":"IFERROR(SUMIFS(D_D[BL],D_D[MT],3,D_D[CAT],TA_22,D_D[EP],$A23),0)","v":6},0.75,"507","EP 507 - Congressional correspondence ",{"$f":"IFERROR(SUMIFS(D_D[INV],D_D[MT],3,D_D[CAT],TA_34,D_D[EP],$F23),0)","v":0},{"$f":"IFERROR(SUMIFS(D_D[BL],D_D[MT],3,D_D[CAT],TA_34,D_D[EP],$F23),0)","v":0},0,2.1,"HLRR - Compensation",{"$f":"IFERROR(SUMIFS(D_D[INV],D_D[MT],12,D_D[CAT],9000,D_D[EP],$K23),0)","v":11849},{"$f":"IFERROR(SUMIFS(D_D[ADP],D_D[MT],12,D_D[CAT],9000,D_D[EP],$K23),0)","v":103.503249219343}]
["310G","EP 310 -Future examination for disabilities",{"$f":"IFERROR(SUMIFS(D_D[INV],D_D[MT],3,D_D[CAT],TA_22,D_D[EP],$A24),0)","v":15758},{"$f":"IFERROR(SUMIFS(D_D[BL],D_D[MT],3,D_D[CAT],TA_22,D_D[EP],$A24),0)","v":4985},0.31634725218936416,"937","EP 937 - Internal quality reviews",{"$f":"IFERROR(SUMIFS(D_D[INV],D_D[MT],3,D_D[CAT],TA_34,D_D[EP],$F24),0)","v":3},{"$f":"IFERROR(SUMIFS(D_D[BL],D_D[MT],3,D_D[CAT],TA_34,D_D[EP],$F24),0)","v":2},0.66666666666666663,2.2000000000000002,"HLRR - Pension",{"$f":"IFERROR(SUMIFS(D_D[INV],D_D[MT],12,D_D[CAT],9000,D_D[EP],$K24),0)","v":185},{"$f":"IFERROR(SUMIFS(D_D[ADP],D_D[MT],12,D_D[CAT],9000,D_D[EP],$K24),0)","v":150.03243243243199}]
["600G","EP 600 - Due process",{"$f":"IFERROR(SUMIFS(D_D[INV],D_D[MT],3,D_D[CAT],TA_22,D_D[EP],$A25),0)","v":41435},{"$f":"IFERROR(SUMIFS(D_D[BL],D_D[MT],3,D_D[CAT],TA_22,D_D[EP],$A25),0)","v":8167},0.19710389767105105,"967","EP 967 - Correction of errors",{"$f":"IFERROR(SUMIFS(D_D[INV],D_D[MT],3,D_D[CAT],TA_34,D_D[EP],$F25),0)","v":0},{"$f":"IFERROR(SUMIFS(D_D[BL],D_D[MT],3,D_D[CAT],TA_34,D_D[EP],$F25),0)","v":0},0,3,"EP 040 - Board AMA Returns (Remands)",{"$f":"IFERROR(SUMIFS(D_D[INV],D_D[MT],12,D_D[CAT],9000,D_D[EP],$K25),0)","v":3262},{"$f":"IFERROR(SUMIFS(D_D[ADP],D_D[MT],12,D_D[CAT],9000,D_D[EP],$K25),0)","v":162.92611894543199}]
[null,"Program Reviews ",{"$f":"SUM(C27:C33)","v":460},{"$f":"SUM(D27:D33)","v":272},{"$f":"IFERROR(D26/C26,0)","v":0.59130434782608698},null,"Pension Burial/Accrued",{"$f":"SUM(H27:H29)","v":1716},{"$f":"SUM(I27:I29)","v":843},{"$f":"IFERROR(I26/H26,0)","v":0.49125874125874125},3.1,"Remands - Compensation",{"$f":"IFERROR(SUMIFS(D_D[INV],D_D[MT],12,D_D[CAT],9000,D_D[EP],$K26),0)","v":3185},{"$f":"IFERROR(SUMIFS(D_D[ADP],D_D[MT],12,D_D[CAT],9000,D_D[EP],$K26),0)","v":163.004395604396}]
["314","EP 314 - Income verification for unemployability",{"$f":"IFERROR(SUMIFS(D_D[INV],D_D[MT],3,D_D[CAT],TA_23,D_D[EP],$A27),0)","v":0},{"$f":"IFERROR(SUMIFS(D_D[BL],D_D[MT],3,D_D[CAT],TA_23,D_D[EP],$A27),0)","v":0},0,"167","EP 167 - Burials",{"$f":"IFERROR(SUMIFS(D_D[INV],D_D[MT],3,D_D[CAT],TA_35,D_D[EP],$F27),0)","v":0},{"$f":"IFERROR(SUMIFS(D_D[BL],D_D[MT],3,D_D[CAT],TA_35,D_D[EP],$F27),0)","v":0},0,3.2,"Remands - Pension",{"$f":"IFERROR(SUMIFS(D_D[INV],D_D[MT],12,D_D[CAT],9000,D_D[EP],$K27),0)","v":77},{"$f":"IFERROR(SUMIFS(D_D[ADP],D_D[MT],12,D_D[CAT],9000,D_D[EP],$K27),0)","v":159.68831168831201}]
["680G","EP 680 - Review of Hemodialysis related cases/conditions ",{"$f":"IFERROR(SUMIFS(D_D[INV],D_D[MT],3,D_D[CAT],TA_23,D_D[EP],$A28),0)","v":42},{"$f":"IFERROR(SUMIFS(D_D[BL],D_D[MT],3,D_D[CAT],TA_23,D_D[EP],$A28),0)","v":31},0.73809523809523814,"165","EP 165 - Accrued",{"$f":"IFERROR(SUMIFS(D_D[INV],D_D[MT],3,D_D[CAT],TA_36,D_D[EP],$F28),0)","v":1716},{"$f":"IFERROR(SUMIFS(D_D[BL],D_D[MT],3,D_D[CAT],TA_36,D_D[EP],$F28),0)","v":843},0.49125874125874125,4,"EP 030 - Board AMA Full Grants",{"$f":"IFERROR(SUMIFS(D_D[INV],D_D[MT],12,D_D[CAT],9000,D_D[EP],$K28),0)","v":530},{"$f":"IFERROR(SUMIFS(D_D[ADP],D_D[MT],12,D_D[CAT],9000,D_D[EP],$K28),0)","v":72.332075471698104}]
["682","EP 682 - Review of Radiation related cases/conditions",{"$f":"IFERROR(SUMIFS(D_D[INV],D_D[MT],3,D_D[CAT],TA_23,D_D[EP],$A29),0)","v":0},{"$f":"IFERROR(SUMIFS(D_D[BL],D_D[MT],3,D_D[CAT],TA_23,D_D[EP],$A29),0)","v":0},0,null,null,null,null,null,4.0999999999999996,"Grants - Compensation",{"$f":"IFERROR(SUMIFS(D_D[INV],D_D[MT],12,D_D[CAT],9000,D_D[EP],$K29),0)","v":489},{"$f":"IFERROR(SUMIFS(D_D[ADP],D_D[MT],12,D_D[CAT],9000,D_D[EP],$K29),0)","v":71.558282208589006}]
["684","EP 684 - Review of Misc cases referred to central office",{"$f":"IFERROR(SUMIFS(D_D[INV],D_D[MT],3,D_D[CAT],TA_23,D_D[EP],$A30),0)","v":1},{"$f":"IFERROR(SUMIFS(D_D[BL],D_D[MT],3,D_D[CAT],TA_23,D_D[EP],$A30),0)","v":0},0,null,null,null,null,null,4.2,"Grants - Pension",{"$f":"IFERROR(SUMIFS(D_D[INV],D_D[MT],12,D_D[CAT],9000,D_D[EP],$K30),0)","v":41},{"$f":"IFERROR(SUMIFS(D_D[ADP],D_D[MT],12,D_D[CAT],9000,D_D[EP],$K30),0)","v":81.560975609756099}]
["685","EP 685 - Review of effective date related to herbicide exposure",{"$f":"IFERROR(SUMIFS(D_D[INV],D_D[MT],3,D_D[CAT],TA_23,D_D[EP],$A31),0)","v":289},{"$f":"IFERROR(SUMIFS(D_D[BL],D_D[MT],3,D_D[CAT],TA_23,D_D[EP],$A31),0)","v":220},0.76124567474048443]
["690G","EP 690 - Cost of Living Adjustments (COLAs) and other reviews",{"$f":"IFERROR(SUMIFS(D_D[INV],D_D[MT],3,D_D[CAT],TA_23,D_D[EP],$A32),0)","v":125},{"$f":"IFERROR(SUMIFS(D_D[BL],D_D[MT],3,D_D[CAT],TA_23,D_D[EP],$A32),0)","v":21},0.16800000000000001,null,null,null,null,null,null,"Integrated Disability Evaluation System (IDES)"]
["690","EP 690 - Social Security number verification",{"$f":"IFERROR(SUMIFS(D_D[INV],D_D[MT],3,D_D[CAT],TA_23,D_D[EP],$A33),0)","v":3},{"$f":"IFERROR(SUMIFS(D_D[BL],D_D[MT],3,D_D[CAT],TA_23,D_D[EP],$A33),0)","v":0},0,null,null,null,null,null,null,"Number of IDES claims pending",null,{"$f":"IFERROR(SUMIFS(D_D[INV],D_D[MT],10,D_D[CAT],1,D_D[EP],-1),0)","v":22952}]
[null,"Compensation Other",{"$f":"SUM(C35:C45)","v":195298},{"$f":"SUM(D35:D45)","v":38527},{"$f":"IFERROR(D34/C34,0)","v":0.19727288553902242}]
["335","EP 335 - Blue Water Navy (Agent Orange)",{"$f":"IFERROR(SUMIFS(D_D[INV],D_D[MT],3,D_D[CAT],TA_24,D_D[EP],$A35),0)","v":17685},{"$f":"IFERROR(SUMIFS(D_D[BL],D_D[MT],3,D_D[CAT],TA_24,D_D[EP],$A35),0)","v":16624},{"$f":"IFERROR(D35/C35,0)","v":0.94000565450947127}]
["400G","EP 400 - Correspondence ",{"$f":"IFERROR(SUMIFS(D_D[INV],D_D[MT],3,D_D[CAT],TA_24,D_D[EP],$A36),0)","v":10399},{"$f":"IFERROR(SUMIFS(D_D[BL],D_D[MT],3,D_D[CAT],TA_24,D_D[EP],$A36),0)","v":1325},0.12741609770170209]
["500G","EP 500 - Congressional correspondence",{"$f":"IFERROR(SUMIFS(D_D[INV],D_D[MT],3,D_D[CAT],TA_24,D_D[EP],$A37),0)","v":273},{"$f":"IFERROR(SUMIFS(D_D[BL],D_D[MT],3,D_D[CAT],TA_24,D_D[EP],$A37),0)","v":26},9.5238095238095233E-2]
["510","EP 510 - Freedom of Information Act (FOIA) requests",{"$f":"IFERROR(SUMIFS(D_D[INV],D_D[MT],3,D_D[CAT],TA_24,D_D[EP],$A38),0)","v":40955},{"$f":"IFERROR(SUMIFS(D_D[BL],D_D[MT],3,D_D[CAT],TA_24,D_D[EP],$A38),0)","v":10833},0.26450982785984617]
["930G","EP 930 - Review, including quality assurance",{"$f":"IFERROR(SUMIFS(D_D[INV],D_D[MT],3,D_D[CAT],TA_24,D_D[EP],$A39),0)","v":10220},{"$f":"IFERROR(SUMIFS(D_D[BL],D_D[MT],3,D_D[CAT],TA_24,D_D[EP],$A39),0)","v":7819},0.76506849315068493]
["960G","EP 960 - Correction of errors",{"$f":"IFERROR(SUMIFS(D_D[INV],D_D[MT],3,D_D[CAT],TA_24,D_D[EP],$A40),0)","v":618},{"$f":"IFERROR(SUMIFS(D_D[BL],D_D[MT],3,D_D[CAT],TA_24,D_D[EP],$A40),0)","v":138},0.22330097087378642]
["681","EP 681 - Used to control claims under the Nehmer Agent Orange stipulation",{"$f":"IFERROR(SUMIFS(D_D[INV],D_D[MT],3,D_D[CAT],TA_24,D_D[EP],$A41),0)","v":619},{"$f":"IFERROR(SUMIFS(D_D[BL],D_D[MT],3,D_D[CAT],TA_24,D_D[EP],$A41),0)","v":212},{"$f":"IFERROR(D41/C41,0)","v":0.34248788368336025}]
["687","EP 687 - Blue Water Navy Agent Orange Nehmer Reviews",{"$f":"IFERROR(SUMIFS(D_D[INV],D_D[MT],3,D_D[CAT],TA_24,D_D[EP],$A42),0)","v":42999},{"$f":"IFERROR(SUMIFS(D_D[BL],D_D[MT],3,D_D[CAT],TA_24,D_D[EP],$A42),0)","v":71},{"$f":"IFERROR(D42/C42,0)","v":1.6512011907253658E-3}]
["688","EP 688 - NDAA Agent Orange Nehmer Reviews (3 new authorized AO disabilities)",{"$f":"IFERROR(SUMIFS(D_D[INV],D_D[MT],3,D_D[CAT],TA_24,D_D[EP],$A43),0)","v":71522},{"$f":"IFERROR(SUMIFS(D_D[BL],D_D[MT],3,D_D[CAT],TA_24,D_D[EP],$A43),0)","v":1473},{"$f":"IFERROR(D43/C43,0)","v":2.0595061659349569E-2}]
["405","EP 405 - Reopened or new Agent Orange claims between 9/01/10 and 10/24/2011",{"$f":"IFERROR(SUMIFS(D_D[INV],D_D[MT],3,D_D[CAT],TA_24,D_D[EP],$A44),0)","v":0},{"$f":"IFERROR(SUMIFS(D_D[BL],D_D[MT],3,D_D[CAT],TA_24,D_D[EP],$A44),0)","v":0},{"$f":"IFERROR(D44/C44,0)","v":0}]
["409","EP 409 - Agent Orange claims where an interim decision was provided; No longer used as of 10/24/2011",{"$f":"IFERROR(SUMIFS(D_D[INV],D_D[MT],3,D_D[CAT],TA_24,D_D[EP],$A45),0)","v":8},{"$f":"IFERROR(SUMIFS(D_D[BL],D_D[MT],3,D_D[CAT],TA_24,D_D[EP],$A45),0)","v":6},{"$f":"IFERROR(D45/C45,0)","v":0.75}]
[null,"Compensation Burial/Accrued",{"$f":"SUM(C47:C49)","v":14563},{"$f":"SUM(D47:D49)","v":1863},{"$f":"IFERROR(D46/C46,0)","v":0.12792693813087963}]
["160G","EP 160 - Burials",{"$f":"IFERROR(SUMIFS(D_D[INV],D_D[MT],3,D_D[CAT],TA_25,D_D[EP],$A47),0)","v":4530},{"$f":"IFERROR(SUMIFS(D_D[BL],D_D[MT],3,D_D[CAT],TA_25,D_D[EP],$A47),0)","v":1477},0.32604856512141278]
["165","EP 165 - Accrued",{"$f":"IFERROR(SUMIFS(D_D[INV],D_D[MT],3,D_D[CAT],TA_26,D_D[EP],$A48),0)","v":10033},{"$f":"IFERROR(SUMIFS(D_D[BL],D_D[MT],3,D_D[CAT],TA_26,D_D[EP],$A48),0)","v":386},3.8473038971394397E-2]

{"sheet":"Diarys and Future Claims","index":8,"n_rows":47,"n_cols":6,"rows_kept":47,"cut":false,"hidden":false,"merged":[[29,4,29,5],[0,1,0,4],[2,1,2,2],[2,4,2,5],[1,1,1,5]]}
[null,"Compensation and Pension Diary and Future Claims - Historical Reporting Bundles* - Data through ",null,null,null,{"$f":"D_DT[]","v":"2021-08-21"}]
[null,"The data on this page represents future claims that VA is aware of.  A portion of these claims roll into the traditional Rating Bundle group of end-products (EP) once the date of claim matures.\t\t\t\t"]
[null,"Compensation Entitlement",null,null,"Pension Entitlement"]
[null,"Measurement","Claims Pending",null,"Measurement","Claims Pending"]
[null,"Original Entitlement - Veterans1",{"$f":"SUM(C6:C8)","v":16337},null,"Original Entitlement ",{"$f":"SUM(F6:F8)","v":0}]
["095","EP 095 - Initial entitlement decisions for Voc Rehab",{"$f":"IFERROR(SUMIFS(D_D[INV],D_D[MT],11,D_D[CAT],TA_21,D_D[EP],$A6),0)","v":0},180,"EP 180 - Initial entitlement - Veteran ",{"$f":"IFERROR(SUMIFS(D_D[INV],D_D[MT],11,D_D[CAT],TA_31,D_D[EP],$D6),0)","v":0}]
["010","EP 010 - Initial entitlement for service-connected disability (=>8)",{"$f":"IFERROR(SUMIFS(D_D[INV],D_D[MT],11,D_D[CAT],TA_21,D_D[EP],$A7),0)","v":13420},120,"EP 120 - Increased entitlement and/or reconsideration ",{"$f":"IFERROR(SUMIFS(D_D[INV],D_D[MT],11,D_D[CAT],TA_31,D_D[EP],$D7),0)","v":0}]
["110","EP 110 - Initial entitlement for service-connected disability (<=7)",{"$f":"IFERROR(SUMIFS(D_D[INV],D_D[MT],11,D_D[CAT],TA_21,D_D[EP],$A8),0)","v":2917},190,"EP 190 - Initial entitlement - Survivor ",{"$f":"IFERROR(SUMIFS(D_D[INV],D_D[MT],11,D_D[CAT],TA_31,D_D[EP],$D8),0)","v":0}]
[null,"Original Entitlement - Survivors2",{"$f":"SUM(C10:C11)","v":0},null,"Pension Award Adjustments",{"$f":"SUM(F10:F15)","v":0}]
["140","EP 140 - Initial claims from surviving spouses, children or parents",{"$f":"IFERROR(SUMIFS(D_D[INV],D_D[MT],11,D_D[CAT],TA_21,D_D[EP],$A10),0)","v":0},135,"EP 135 - Hospitalization adjustment (non-rating)",{"$f":"IFERROR(SUMIFS(D_D[INV],D_D[MT],11,D_D[CAT],TA_31,D_D[EP],$D10),0)","v":0}]
["410","EP 410 - Initial claims from Veterans' children with Spina bifida and/or birth defects",{"$f":"IFERROR(SUMIFS(D_D[INV],D_D[MT],11,D_D[CAT],TA_21,D_D[EP],$A11),0)","v":0},137,"EP 137 - Dependency",{"$f":"IFERROR(SUMIFS(D_D[INV],D_D[MT],11,D_D[CAT],TA_31,D_D[EP],$D11),0)","v":0}]
[null,"Supplemental Entitlement",{"$f":"SUM(C13:C16)","v":681},"150G","EP 150 - Income adjustments",{"$f":"IFERROR(SUMIFS(D_D[INV],D_D[MT],11,D_D[CAT],TA_31,D_D[EP],$D12),0)","v":0}]
["040","EP 040 - Decision Review Request",{"$f":"IFERROR(SUMIFS(D_D[INV],D_D[MT],11,D_D[CAT],TA_21,D_D[EP],$A13),0)","v":0},155,"EP 155 - Annual eligibility verification reporting (EVRs)",{"$f":"IFERROR(SUMIFS(D_D[INV],D_D[MT],11,D_D[CAT],TA_31,D_D[EP],$D13),0)","v":0}]
["020","EP 020 - Increased evaluation and/or additional claimed conditions",{"$f":"IFERROR(SUMIFS(D_D[INV],D_D[MT],11,D_D[CAT],TA_21,D_D[EP],$A14),0)","v":681},297,"EP 297 - Misc determinations",{"$f":"IFERROR(SUMIFS(D_D[INV],D_D[MT],11,D_D[CAT],TA_31,D_D[EP],$D14),0)","v":0}]
["320","EP 320 -Increased entitlement due to hospitalization or surgery",{"$f":"IFERROR(SUMIFS(D_D[INV],D_D[MT],11,D_D[CAT],TA_21,D_D[EP],$A15),0)","v":0},607,"EP 607 - Due process",{"$f":"IFERROR(SUMIFS(D_D[INV],D_D[MT],11,D_D[CAT],TA_31,D_D[EP],$D15),0)","v":0}]
["420","EP 420 - Spina bifida and/or birth defects reconsideration",{"$f":"IFERROR(SUMIFS(D_D[INV],D_D[MT],11,D_D[CAT],TA_21,D_D[EP],$A16),0)","v":0},null,"Program Reviews",{"$f":"SUM(F17:F19)","v":0}]
["12","Award Adjustments",{"$f":"SUM(C18:C24)","v":12},"154","EP 154 - Income Verification Match",{"$f":"IFERROR(SUMIFS(D_D[INV],D_D[MT],11,D_D[CAT],TA_31,D_D[EP],$D17),0)","v":0}]
["130G","EP 130 - Dependency",{"$f":"IFERROR(SUMIFS(D_D[INV],D_D[MT],11,D_D[CAT],TA_22,D_D[EP],$A18),0)","v":5},"696","EP 696 - Cost of Living Adjustments",{"$f":"IFERROR(SUMIFS(D_D[INV],D_D[MT],11,D_D[CAT],TA_31,D_D[EP],$D18),0)","v":0}]
["133","EP 133 - Survivor restored entitlement",{"$f":"IFERROR(SUMIFS(D_D[INV],D_D[MT],11,D_D[CAT],TA_22,D_D[EP],$A19),0)","v":0},"697","EP 697 - Non-entitlement reviews",{"$f":"IFERROR(SUMIFS(D_D[INV],D_D[MT],11,D_D[CAT],TA_31,D_D[EP],$D19),0)","v":0}]
["135","EP 135 - Hospitalization adjustment (non-rating)",{"$f":"IFERROR(SUMIFS(D_D[INV],D_D[MT],11,D_D[CAT],TA_22,D_D[EP],$A20),0)","v":0},null,"Pension Other",{"$f":"SUM(F21:F24)","v":0}]
["290G","EP 290 - Misc determinations",{"$f":"IFERROR(SUMIFS(D_D[INV],D_D[MT],11,D_D[CAT],TA_22,D_D[EP],$A21),0)","v":7},"407","EP 407 - Correspondence ",{"$f":"IFERROR(SUMIFS(D_D[INV],D_D[MT],11,D_D[CAT],TA_31,D_D[EP],$D21),0)","v":0}]
["450","EP 450 - Spina bifida and/or birth defects adjustments",{"$f":"IFERROR(SUMIFS(D_D[INV],D_D[MT],11,D_D[CAT],TA_22,D_D[EP],$A22),0)","v":0},"507","EP 507 - Congressional correspondence ",{"$f":"IFERROR(SUMIFS(D_D[INV],D_D[MT],11,D_D[CAT],TA_31,D_D[EP],$D22),0)","v":0}]
["310G","EP 310 -Future examination for disabilities",{"$f":"IFERROR(SUMIFS(D_D[INV],D_D[MT],11,D_D[CAT],TA_22,D_D[EP],$A23),0)","v":0},"937","EP 937 - Internal quality reviews",{"$f":"IFERROR(SUMIFS(D_D[INV],D_D[MT],11,D_D[CAT],TA_31,D_D[EP],$D23),0)","v":0}]
["600G","EP 600 - Due process",{"$f":"IFERROR(SUMIFS(D_D[INV],D_D[MT],11,D_D[CAT],TA_22,D_D[EP],$A24),0)","v":0},"967","EP 967 - Correction of errors",{"$f":"IFERROR(SUMIFS(D_D[INV],D_D[MT],11,D_D[CAT],TA_31,D_D[EP],$D24),0)","v":0}]
[null,"Program Reviews ",{"$f":"SUM(C26:C33)","v":919},null,"Pension Burial/Accrued",{"$f":"SUM(F26:F27)","v":0}]
["314","EP 314 - Income verification for unemployability",{"$f":"IFERROR(SUMIFS(D_D[INV],D_D[MT],11,D_D[CAT],TA_23,D_D[EP],$A26),0)","v":0},"167","EP 167 - Burials",{"$f":"IFERROR(SUMIFS(D_D[INV],D_D[MT],11,D_D[CAT],TA_31,D_D[EP],$D26),0)","v":0}]
["330","EP 330 - Reviews",{"$f":"IFERROR(SUMIFS(D_D[INV],D_D[MT],11,D_D[CAT],TA_23,D_D[EP],$A27),0)","v":919},"165","EP 165 - Accrued",{"$f":"IFERROR(SUMIFS(D_D[INV],D_D[MT],11,D_D[CAT],TA_31,D_D[EP],$D27),0)","v":0}]
["680G","EP 680 - Review of Hemodialysis related cases/conditions ",{"$f":"IFERROR(SUMIFS(D_D[INV],D_D[MT],11,D_D[CAT],TA_23,D_D[EP],$A28),0)","v":0}]
["682","EP 682 - Review of Radiation related cases/conditions",{"$f":"IFERROR(SUMIFS(D_D[INV],D_D[MT],11,D_D[CAT],TA_23,D_D[EP],$A29),0)","v":0}]
["684","EP 684 - Review of Misc cases referred to central office",{"$f":"IFERROR(SUMIFS(D_D[INV],D_D[MT],11,D_D[CAT],TA_23,D_D[EP],$A30),0)","v":0},null,"Integrated Disability Evaluation System (IDES)"]
["685","EP 685 - Review of effective date related to herbicide exposure",{"$f":"IFERROR(SUMIFS(D_D[INV],D_D[MT],11,D_D[CAT],TA_23,D_D[EP],$A31),0)","v":0},null,"EP 689 - IDES",{"$f":"IFERROR(SUMIFS(D_D[INV],D_D[MT],11,D_D[CAT],1,D_D[EP],-1),0)","v":0}]
["690G","EP 690 - Cost of Living Adjustments (COLAs) and other reviews",{"$f":"IFERROR(SUMIFS(D_D[INV],D_D[MT],11,D_D[CAT],TA_23,D_D[EP],$A32),0)","v":0}]
["690","EP 690 - Social Security number verification",{"$f":"IFERROR(SUMIFS(D_D[INV],D_D[MT],11,D_D[CAT],TA_23,D_D[EP],$A33),0)","v":0}]
[null,"Compensation Other",{"$f":"SUM(C35:C44)","v":115}]
["335","EP 335 - Blue Water Navy (Agent Orange)",{"$f":"IFERROR(SUMIFS(D_D[INV],D_D[MT],11,D_D[CAT],TA_24,D_D[EP],$A35),0)","v":0}]
["400G","EP 400 - Correspondence ",{"$f":"IFERROR(SUMIFS(D_D[INV],D_D[MT],11,D_D[CAT],TA_24,D_D[EP],$A36),0)","v":115}]
["500G","EP 500 - Congressional correspondence",{"$f":"IFERROR(SUMIFS(D_D[INV],D_D[MT],11,D_D[CAT],TA_24,D_D[EP],$A37),0)","v":0}]
["510","EP 510 - Freedom of Information Act (FOIA) requests",{"$f":"IFERROR(SUMIFS(D_D[INV],D_D[MT],11,D_D[CAT],TA_24,D_D[EP],$A38),0)","v":0}]
["930G","EP 930 - Review, including quality assurance",{"$f":"IFERROR(SUMIFS(D_D[INV],D_D[MT],11,D_D[CAT],TA_24,D_D[EP],$A39),0)","v":0}]
["960G","EP 960 - Correction of errors",{"$f":"IFERROR(SUMIFS(D_D[INV],D_D[MT],11,D_D[CAT],TA_24,D_D[EP],$A40),0)","v":0}]
["681","EP 681 - Used to control claims under the Nehmer Agent Orange stipulation",{"$f":"IFERROR(SUMIFS(D_D[INV],D_D[MT],11,D_D[CAT],TA_24,D_D[EP],$A41),0)","v":0}]
["687","EP 687 - Previously used for Nehmer Agent Orange presumptive issues",{"$f":"IFERROR(SUMIFS(D_D[INV],D_D[MT],11,D_D[CAT],TA_24,D_D[EP],$A42),0)","v":0}]
["405","EP 405 - Reopened or new Agent Orange claims between 9/01/10 and 10/24/2011",{"$f":"IFERROR(SUMIFS(D_D[INV],D_D[MT],11,D_D[CAT],TA_24,D_D[EP],$A43),0)","v":0}]
["409","EP 409 - Agent Orange claims where an interim decision was provided; No longer used as of 10/24/2011",{"$f":"IFERROR(SUMIFS(D_D[INV],D_D[MT],11,D_D[CAT],TA_24,D_D[EP],$A44),0)","v":0}]
[null,"Compensation Burial/Accrued",{"$f":"SUM(C46:C47)","v":0}]
["160G","EP 160 - Burials",{"$f":"IFERROR(SUMIFS(D_D[INV],D_D[MT],11,D_D[CAT],TA_25,D_D[EP],$A46),0)","v":0}]
["165","EP 165 - Accrued",{"$f":"IFERROR(SUMIFS(D_D[INV],D_D[MT],11,D_D[CAT],TA_25,D_D[EP],$A47),0)","v":0}]

{"sheet":"TA-Regional Office","index":9,"n_rows":80,"n_cols":19,"rows_kept":80,"cut":false,"hidden":false,"merged":[[1,1,3,1],[5,2,5,18],[72,2,72,18],[73,2,73,3],[73,4,73,6],[73,7,73,9],[73,10,73,12],[73,13,73,15],[3,2,3,3],[3,4,3,6],[3,7,3,9],[3,10,3,12],[3,13,3,15],[1,2,1,5],[1,6,1,9],[2,2,2,18]]}
[null,null,2000,2000,11,11,null,12,12,null,13,13,null,14,14,null,15,16,1]
[null,"Scroll down to see Pension",{"$f":"(\"Inventory by Regional Office - Data through \")","v":"Inventory by Regional Office - Data through "},null,null,null,{"$f":"D_DT[]","v":"2021-08-21"}]
[null,null,"*The claims pending under 'Non-Rating' are a subset of claims listed under the 'Award Adjustment' column and should not be counted twice when computing totals"]
[null,null,"Non-Rating",null,"Entitlement   ",null,null,"Award Adjustment ",null,null,"Program Review ",null,null,"Other",null,null,"Burial  ","Accrued  ","Legacy Appeals"]
[null,null,"Claims Pending","Avg. Days Pending","Claims Pending","Pending over 125 days","Percent Pending over 125 days","Claims Pending","Pending over 125 days","Percent Pending over 125 days","Claims Pending","Pending over 125 days","Percent Pending over 125 days","Claims Pending","Pending over 125 days","Percent Pending over 125 days","Claims Pending","Claims Pending","Appeals Pending"]
[null,null,"Compensation"]
[100,"USA Compensation",{"$f":"IFERROR(SUMIFS(D_D[INV],D_D[MT],1,D_D[CAT],TA_20,D_D[EP],-1, D_D[LOC],$A7),0)","v":39792},{"$f":"IFERROR(SUMIFS(D_D[ADP],D_D[MT],1,D_D[CAT],D$1,D_D[EP],-1, D_D[LOC],$A7),0)","v":71.36},{"$f":"IFERROR(SUMIFS(D_D[INV],D_D[MT],2,D_D[CAT],TA_21,D_D[EP],-1, D_D[LOC],$A7),0)","v":439471},{"$f":"IFERROR(SUMIFS(D_D[BL],D_D[MT],2,D_D[CAT],TA_21,D_D[EP],-1, D_D[LOC],$A7),0)","v":157958},{"$f":"IFERROR(F7/E7,\"0%\")","v":0.3594275845277618},{"$f":"IFERROR(SUMIFS(D_D[INV],D_D[MT],2,D_D[CAT],TA_22,D_D[EP],-1, D_D[LOC],$A7),0)","v":97038},{"$f":"IFERROR(SUMIFS(D_D[BL],D_D[MT],2,D_D[CAT],TA_22,D_D[EP],-1, D_D[LOC],$A7),0)","v":18436},{"$f":"IFERROR(I7/H7,\"0%\")","v":0.18998742760568024},{"$f":"IFERROR(SUMIFS(D_D[INV],D_D[MT],2,D_D[CAT],TA_23,D_D[EP],-1, D_D[LOC],$A7),0)","v":2012},{"$f":"IFERROR(SUMIFS(D_D[BL],D_D[MT],2,D_D[CAT],TA_23,D_D[EP],-1, D_D[LOC],$A7),0)","v":317},{"$f":"IFERROR(L7/K7,\"0%\")","v":0.15755467196819087},{"$f":"IFERROR(SUMIFS(D_D[INV],D_D[MT],2,D_D[CAT],TA_24,D_D[EP],-1, D_D[LOC],$A7),0) - 'Diarys and Future Claims'!C35","v":195300},{"$f":"IFERROR(SUMIFS(D_D[BL],D_D[MT],2,D_D[CAT],TA_24,D_D[EP],-1, D_D[LOC],$A7),0)","v":38527},{"$f":"IFERROR(O7/N7,\"0%\")","v":0.19727086533538146},{"$f":"IFERROR(SUMIFS(D_D[INV],D_D[MT],2,D_D[CAT],TA_25,D_D[EP],-1, D_D[LOC],$A7),0)","v":4530},{"$f":"IFERROR(SUMIFS(D_D[INV],D_D[MT],2,D_D[CAT],TA_26,D_D[EP],-1, D_D[LOC],$A7),0)","v":10033},{"$f":"IFERROR(SUMIFS(D_D[INV],D_D[MT],7,D_D[CAT],2,D_D[EP],TA_20, D_D[LOC],$A7),0)","v":30825}]
[394,"Northeast",{"$f":"IFERROR(SUMIFS(D_D[INV],D_D[MT],1,D_D[CAT],TA_20,D_D[EP],-1, D_D[LOC],$A8),0)","v":10540},{"$f":"IFERROR(SUMIFS(D_D[ADP],D_D[MT],1,D_D[CAT],D$1,D_D[EP],-1, D_D[LOC],$A8),0)","v":69.349999999999994},{"$f":"IFERROR(SUMIFS(D_D[INV],D_D[MT],2,D_D[CAT],TA_21,D_D[EP],-1, D_D[LOC],$A8),0)","v":78186},{"$f":"IFERROR(SUMIFS(D_D[BL],D_D[MT],2,D_D[CAT],TA_21,D_D[EP],-1, D_D[LOC],$A8),0)","v":28392},{"$f":"IFERROR(F8/E8,\"0%\")","v":0.36313406492210881},{"$f":"IFERROR(SUMIFS(D_D[INV],D_D[MT],2,D_D[CAT],TA_22,D_D[EP],-1, D_D[LOC],$A8),0)","v":26727},{"$f":"IFERROR(SUMIFS(D_D[BL],D_D[MT],2,D_D[CAT],TA_22,D_D[EP],-1, D_D[LOC],$A8),0)","v":4689},{"$f":"IFERROR(I8/H8,\"0%\")","v":0.17544056572005837},{"$f":"IFERROR(SUMIFS(D_D[INV],D_D[MT],2,D_D[CAT],TA_23,D_D[EP],-1, D_D[LOC],$A8),0)","v":450},{"$f":"IFERROR(SUMIFS(D_D[BL],D_D[MT],2,D_D[CAT],TA_23,D_D[EP],-1, D_D[LOC],$A8),0)","v":19},{"$f":"IFERROR(L8/K8,\"0%\")","v":4.2222222222222223E-2},{"$f":"IFERROR(SUMIFS(D_D[INV],D_D[MT],2,D_D[CAT],TA_24,D_D[EP],-1, D_D[LOC],$A8),0)","v":22773},{"$f":"IFERROR(SUMIFS(D_D[BL],D_D[MT],2,D_D[CAT],TA_24,D_D[EP],-1, D_D[LOC],$A8),0)","v":8699},{"$f":"IFERROR(O8/N8,\"0%\")","v":0.38198744126816847},{"$f":"IFERROR(SUMIFS(D_D[INV],D_D[MT],2,D_D[CAT],TA_25,D_D[EP],-1, D_D[LOC],$A8),0)","v":1510},{"$f":"IFERROR(SUMIFS(D_D[INV],D_D[MT],2,D_D[CAT],TA_26,D_D[EP],-1, D_D[LOC],$A8),0)","v":114},{"$f":"IFERROR(SUMIFS(D_D[INV],D_D[MT],7,D_D[CAT],2,D_D[EP],TA_20, D_D[LOC],$A8),0)","v":288}]
["313","Baltimore",{"$f":"IFERROR(SUMIFS(D_D[INV],D_D[MT],1,D_D[CAT],TA_20,D_D[EP],-1, D_D[LOC],$A9),0)","v":201},{"$f":"IFERROR(SUMIFS(D_D[ADP],D_D[MT],1,D_D[CAT],D$1,D_D[EP],-1, D_D[LOC],$A9),0)","v":56.04},{"$f":"IFERROR(SUMIFS(D_D[INV],D_D[MT],2,D_D[CAT],TA_21,D_D[EP],-1, D_D[LOC],$A9),0)","v":5558},{"$f":"IFERROR(SUMIFS(D_D[BL],D_D[MT],2,D_D[CAT],TA_21,D_D[EP],-1, D_D[LOC],$A9),0)","v":1852},0.33321338611011153,{"$f":"IFERROR(SUMIFS(D_D[INV],D_D[MT],2,D_D[CAT],TA_22,D_D[EP],-1, D_D[LOC],$A9),0)","v":570},{"$f":"IFERROR(SUMIFS(D_D[BL],D_D[MT],2,D_D[CAT],TA_22,D_D[EP],-1, D_D[LOC],$A9),0)","v":102},0.17894736842105263,{"$f":"IFERROR(SUMIFS(D_D[INV],D_D[MT],2,D_D[CAT],TA_23,D_D[EP],-1, D_D[LOC],$A9),0)","v":19},{"$f":"IFERROR(SUMIFS(D_D[BL],D_D[MT],2,D_D[CAT],TA_23,D_D[EP],-1, D_D[LOC],$A9),0)","v":1},5.2631578947368418E-2,{"$f":"IFERROR(SUMIFS(D_D[INV],D_D[MT],2,D_D[CAT],TA_24,D_D[EP],-1, D_D[LOC],$A9),0)","v":524},{"$f":"IFERROR(SUMIFS(D_D[BL],D_D[MT],2,D_D[CAT],TA_24,D_D[EP],-1, D_D[LOC],$A9),0)","v":245},0.46755725190839692,{"$f":"IFERROR(SUMIFS(D_D[INV],D_D[MT],2,D_D[CAT],TA_25,D_D[EP],-1, D_D[LOC],$A9),0)","v":20},{"$f":"IFERROR(SUMIFS(D_D[INV],D_D[MT],2,D_D[CAT],TA_26,D_D[EP],-1, D_D[LOC],$A9),0)","v":4},{"$f":"IFERROR(SUMIFS(D_D[INV],D_D[MT],7,D_D[CAT],2,D_D[EP],TA_20, D_D[LOC],$A9),0)","v":3}]
["301","Boston",{"$f":"IFERROR(SUMIFS(D_D[INV],D_D[MT],1,D_D[CAT],TA_20,D_D[EP],-1, D_D[LOC],$A10),0)","v":58},{"$f":"IFERROR(SUMIFS(D_D[ADP],D_D[MT],1,D_D[CAT],D$1,D_D[EP],-1, D_D[LOC],$A10),0)","v":50.67},{"$f":"IFERROR(SUMIFS(D_D[INV],D_D[MT],2,D_D[CAT],TA_21,D_D[EP],-1, D_D[LOC],$A10),0)","v":2359},{"$f":"IFERROR(SUMIFS(D_D[BL],D_D[MT],2,D_D[CAT],TA_21,D_D[EP],-1, D_D[LOC],$A10),0)","v":773},{"$f":"IFERROR(F10/E10,\"0%\")","v":0.32768122085629503},{"$f":"IFERROR(SUMIFS(D_D[INV],D_D[MT],2,D_D[CAT],TA_22,D_D[EP],-1, D_D[LOC],$A10),0)","v":434},{"$f":"IFERROR(SUMIFS(D_D[BL],D_D[MT],2,D_D[CAT],TA_22,D_D[EP],-1, D_D[LOC],$A10),0)","v":111},{"$f":"IFERROR(I10/H10,\"0%\")","v":0.25576036866359447},{"$f":"IFERROR(SUMIFS(D_D[INV],D_D[MT],2,D_D[CAT],TA_23,D_D[EP],-1, D_D[LOC],$A10),0)","v":18},{"$f":"IFERROR(SUMIFS(D_D[BL],D_D[MT],2,D_D[CAT],TA_23,D_D[EP],-1, D_D[LOC],$A10),0)","v":0},{"$f":"IFERROR(L10/K10,\"0%\")","v":0},{"$f":"IFERROR(SUMIFS(D_D[INV],D_D[MT],2,D_D[CAT],TA_24,D_D[EP],-1, D_D[LOC],$A10),0)","v":154},{"$f":"IFERROR(SUMIFS(D_D[BL],D_D[MT],2,D_D[CAT],TA_24,D_D[EP],-1, D_D[LOC],$A10),0)","v":105},{"$f":"IFERROR(O10/N10,\"0%\")","v":0.68181818181818177},{"$f":"IFERROR(SUMIFS(D_D[INV],D_D[MT],2,D_D[CAT],TA_25,D_D[EP],-1, D_D[LOC],$A10),0)","v":11},{"$f":"IFERROR(SUMIFS(D_D[INV],D_D[MT],2,D_D[CAT],TA_26,D_D[EP],-1, D_D[LOC],$A10),0)","v":2},{"$f":"IFERROR(SUMIFS(D_D[INV],D_D[MT],7,D_D[CAT],2,D_D[EP],TA_20, D_D[LOC],$A10),0)","v":0}]
["307","Buffalo",{"$f":"IFERROR(SUMIFS(D_D[INV],D_D[MT],1,D_D[CAT],TA_20,D_D[EP],-1, D_D[LOC],$A11),0)","v":104},{"$f":"IFERROR(SUMIFS(D_D[ADP],D_D[MT],1,D_D[CAT],D$1,D_D[EP],-1, D_D[LOC],$A11),0)","v":82.63},{"$f":"IFERROR(SUMIFS(D_D[INV],D_D[MT],2,D_D[CAT],TA_21,D_D[EP],-1, D_D[LOC],$A11),0)","v":2875},{"$f":"IFERROR(SUMIFS(D_D[BL],D_D[MT],2,D_D[CAT],TA_21,D_D[EP],-1, D_D[LOC],$A11),0)","v":918},0.31930434782608696,{"$f":"IFERROR(SUMIFS(D_D[INV],D_D[MT],2,D_D[CAT],TA_22,D_D[EP],-1, D_D[LOC],$A11),0)","v":589},{"$f":"IFERROR(SUMIFS(D_D[BL],D_D[MT],2,D_D[CAT],TA_22,D_D[EP],-1, D_D[LOC],$A11),0)","v":157},0.26655348047538202,{"$f":"IFERROR(SUMIFS(D_D[INV],D_D[MT],2,D_D[CAT],TA_23,D_D[EP],-1, D_D[LOC],$A11),0)","v":22},{"$f":"IFERROR(SUMIFS(D_D[BL],D_D[MT],2,D_D[CAT],TA_23,D_D[EP],-1, D_D[LOC],$A11),0)","v":0},0,{"$f":"IFERROR(SUMIFS(D_D[INV],D_D[MT],2,D_D[CAT],TA_24,D_D[EP],-1, D_D[LOC],$A11),0)","v":233},{"$f":"IFERROR(SUMIFS(D_D[BL],D_D[MT],2,D_D[CAT],TA_24,D_D[EP],-1, D_D[LOC],$A11),0)","v":153},0.6566523605150214,{"$f":"IFERROR(SUMIFS(D_D[INV],D_D[MT],2,D_D[CAT],TA_25,D_D[EP],-1, D_D[LOC],$A11),0)","v":19},{"$f":"IFERROR(SUMIFS(D_D[INV],D_D[MT],2,D_D[CAT],TA_26,D_D[EP],-1, D_D[LOC],$A11),0)","v":1},{"$f":"IFERROR(SUMIFS(D_D[INV],D_D[MT],7,D_D[CAT],2,D_D[EP],TA_20, D_D[LOC],$A11),0)","v":5}]
["328","Chicago",{"$f":"IFERROR(SUMIFS(D_D[INV],D_D[MT],1,D_D[CAT],TA_20,D_D[EP],-1, D_D[LOC],$A12),0)","v":214},{"$f":"IFERROR(SUMIFS(D_D[ADP],D_D[MT],1,D_D[CAT],D$1,D_D[EP],-1, D_D[LOC],$A12),0)","v":64.59},{"$f":"IFERROR(SUMIFS(D_D[INV],D_D[MT],2,D_D[CAT],TA_21,D_D[EP],-1, D_D[LOC],$A12),0)","v":6626},{"$f":"IFERROR(SUMIFS(D_D[BL],D_D[MT],2,D_D[CAT],TA_21,D_D[EP],-1, D_D[LOC],$A12),0)","v":2124},0.32055538786598248,{"$f":"IFERROR(SUMIFS(D_D[INV],D_D[MT],2,D_D[CAT],TA_22,D_D[EP],-1, D_D[LOC],$A12),0)","v":952},{"$f":"IFERROR(SUMIFS(D_D[BL],D_D[MT],2,D_D[CAT],TA_22,D_D[EP],-1, D_D[LOC],$A12),0)","v":212},0.22268907563025211,{"$f":"IFERROR(SUMIFS(D_D[INV],D_D[MT],2,D_D[CAT],TA_23,D_D[EP],-1, D_D[LOC],$A12),0)","v":39},{"$f":"IFERROR(SUMIFS(D_D[BL],D_D[MT],2,D_D[CAT],TA_23,D_D[EP],-1, D_D[LOC],$A12),0)","v":0},0,{"$f":"IFERROR(SUMIFS(D_D[INV],D_D[MT],2,D_D[CAT],TA_24,D_D[EP],-1, D_D[LOC],$A12),0)","v":528},{"$f":"IFERROR(SUMIFS(D_D[BL],D_D[MT],2,D_D[CAT],TA_24,D_D[EP],-1, D_D[LOC],$A12),0)","v":305},0.57765151515151514,{"$f":"IFERROR(SUMIFS(D_D[INV],D_D[MT],2,D_D[CAT],TA_25,D_D[EP],-1, D_D[LOC],$A12),0)","v":44},{"$f":"IFERROR(SUMIFS(D_D[INV],D_D[MT],2,D_D[CAT],TA_26,D_D[EP],-1, D_D[LOC],$A12),0)","v":7},{"$f":"IFERROR(SUMIFS(D_D[INV],D_D[MT],7,D_D[CAT],2,D_D[EP],TA_20, D_D[LOC],$A12),0)","v":11}]
["325","Cleveland",{"$f":"IFERROR(SUMIFS(D_D[INV],D_D[MT],1,D_D[CAT],TA_20,D_D[EP],-1, D_D[LOC],$A13),0)","v":461},{"$f":"IFERROR(SUMIFS(D_D[ADP],D_D[MT],1,D_D[CAT],D$1,D_D[EP],-1, D_D[LOC],$A13),0)","v":99.31},{"$f":"IFERROR(SUMIFS(D_D[INV],D_D[MT],2,D_D[CAT],TA_21,D_D[EP],-1, D_D[LOC],$A13),0)","v":8984},{"$f":"IFERROR(SUMIFS(D_D[BL],D_D[MT],2,D_D[CAT],TA_21,D_D[EP],-1, D_D[LOC],$A13),0)","v":3694},0.41117542297417631,{"$f":"IFERROR(SUMIFS(D_D[INV],D_D[MT],2,D_D[CAT],TA_22,D_D[EP],-1, D_D[LOC],$A13),0)","v":1389},{"$f":"IFERROR(SUMIFS(D_D[BL],D_D[MT],2,D_D[CAT],TA_22,D_D[EP],-1, D_D[LOC],$A13),0)","v":432},0.31101511879049676,{"$f":"IFERROR(SUMIFS(D_D[INV],D_D[MT],2,D_D[CAT],TA_23,D_D[EP],-1, D_D[LOC],$A13),0)","v":33},{"$f":"IFERROR(SUMIFS(D_D[BL],D_D[MT],2,D_D[CAT],TA_23,D_D[EP],-1, D_D[LOC],$A13),0)","v":3},9.0909090909090912E-2,{"$f":"IFERROR(SUMIFS(D_D[INV],D_D[MT],2,D_D[CAT],TA_24,D_D[EP],-1, D_D[LOC],$A13),0)","v":2098},{"$f":"IFERROR(SUMIFS(D_D[BL],D_D[MT],2,D_D[CAT],TA_24,D_D[EP],-1, D_D[LOC],$A13),0)","v":1227},0.58484270734032406,{"$f":"IFERROR(SUMIFS(D_D[INV],D_D[MT],2,D_D[CAT],TA_25,D_D[EP],-1, D_D[LOC],$A13),0)","v":47},{"$f":"IFERROR(SUMIFS(D_D[INV],D_D[MT],2,D_D[CAT],TA_26,D_D[EP],-1, D_D[LOC],$A13),0)","v":7},{"$f":"IFERROR(SUMIFS(D_D[INV],D_D[MT],7,D_D[CAT],2,D_D[EP],TA_20, D_D[LOC],$A13),0)","v":10}]
["329","Detroit",{"$f":"IFERROR(SUMIFS(D_D[INV],D_D[MT],1,D_D[CAT],TA_20,D_D[EP],-1, D_D[LOC],$A14),0)","v":1227},{"$f":"IFERROR(SUMIFS(D_D[ADP],D_D[MT],1,D_D[CAT],D$1,D_D[EP],-1, D_D[LOC],$A14),0)","v":55.72},{"$f":"IFERROR(SUMIFS(D_D[INV],D_D[MT],2,D_D[CAT],TA_21,D_D[EP],-1, D_D[LOC],$A14),0)","v":5841},{"$f":"IFERROR(SUMIFS(D_D[BL],D_D[MT],2,D_D[CAT],TA_21,D_D[EP],-1, D_D[LOC],$A14),0)","v":2021},0.34600239684985445,{"$f":"IFERROR(SUMIFS(D_D[INV],D_D[MT],2,D_D[CAT],TA_22,D_D[EP],-1, D_D[LOC],$A14),0)","v":3906},{"$f":"IFERROR(SUMIFS(D_D[BL],D_D[MT],2,D_D[CAT],TA_22,D_D[EP],-1, D_D[LOC],$A14),0)","v":372},9.5238095238095233E-2,{"$f":"IFERROR(SUMIFS(D_D[INV],D_D[MT],2,D_D[CAT],TA_23,D_D[EP],-1, D_D[LOC],$A14),0)","v":39},{"$f":"IFERROR(SUMIFS(D_D[BL],D_D[MT],2,D_D[CAT],TA_23,D_D[EP],-1, D_D[LOC],$A14),0)","v":3},7.6923076923076927E-2,{"$f":"IFERROR(SUMIFS(D_D[INV],D_D[MT],2,D_D[CAT],TA_24,D_D[EP],-1, D_D[LOC],$A14),0)","v":720},{"$f":"IFERROR(SUMIFS(D_D[BL],D_D[MT],2,D_D[CAT],TA_24,D_D[EP],-1, D_D[LOC],$A14),0)","v":412},0.57222222222222219,{"$f":"IFERROR(SUMIFS(D_D[INV],D_D[MT],2,D_D[CAT],TA_25,D_D[EP],-1, D_D[LOC],$A14),0)","v":44},{"$f":"IFERROR(SUMIFS(D_D[INV],D_D[MT],2,D_D[CAT],TA_26,D_D[EP],-1, D_D[LOC],$A14),0)","v":4},{"$f":"IFERROR(SUMIFS(D_D[INV],D_D[MT],7,D_D[CAT],2,D_D[EP],TA_20, D_D[LOC],$A14),0)","v":12}]
["308","Hartford",{"$f":"IFERROR(SUMIFS(D_D[INV],D_D[MT],1,D_D[CAT],TA_20,D_D[EP],-1, D_D[LOC],$A15),0)","v":69},{"$f":"IFERROR(SUMIFS(D_D[ADP],D_D[MT],1,D_D[CAT],D$1,D_D[EP],-1, D_D[LOC],$A15),0)","v":50.64},{"$f":"IFERROR(SUMIFS(D_D[INV],D_D[MT],2,D_D[CAT],TA_21,D_D[EP],-1, D_D[LOC],$A15),0)","v":1721},{"$f":"IFERROR(SUMIFS(D_D[BL],D_D[MT],2,D_D[CAT],TA_21,D_D[EP],-1, D_D[LOC],$A15),0)","v":624},0.36257989540964558,{"$f":"IFERROR(SUMIFS(D_D[INV],D_D[MT],2,D_D[CAT],TA_22,D_D[EP],-1, D_D[LOC],$A15),0)","v":411},{"$f":"IFERROR(SUMIFS(D_D[BL],D_D[MT],2,D_D[CAT],TA_22,D_D[EP],-1, D_D[LOC],$A15),0)","v":111},0.27007299270072993,{"$f":"IFERROR(SUMIFS(D_D[INV],D_D[MT],2,D_D[CAT],TA_23,D_D[EP],-1, D_D[LOC],$A15),0)","v":12},{"$f":"IFERROR(SUMIFS(D_D[BL],D_D[MT],2,D_D[CAT],TA_23,D_D[EP],-1, D_D[LOC],$A15),0)","v":0},0,{"$f":"IFERROR(SUMIFS(D_D[INV],D_D[MT],2,D_D[CAT],TA_24,D_D[EP],-1, D_D[LOC],$A15),0)","v":296},{"$f":"IFERROR(SUMIFS(D_D[BL],D_D[MT],2,D_D[CAT],TA_24,D_D[EP],-1, D_D[LOC],$A15),0)","v":139},0.46959459459459457,{"$f":"IFERROR(SUMIFS(D_D[INV],D_D[MT],2,D_D[CAT],TA_25,D_D[EP],-1, D_D[LOC],$A15),0)","v":9},{"$f":"IFERROR(SUMIFS(D_D[INV],D_D[MT],2,D_D[CAT],TA_26,D_D[EP],-1, D_D[LOC],$A15),0)","v":2},{"$f":"IFERROR(SUMIFS(D_D[INV],D_D[MT],7,D_D[CAT],2,D_D[EP],TA_20, D_D[LOC],$A15),0)","v":2}]
["326","Indianapolis",{"$f":"IFERROR(SUMIFS(D_D[INV],D_D[MT],1,D_D[CAT],TA_20,D_D[EP],-1, D_D[LOC],$A16),0)","v":3832},{"$f":"IFERROR(SUMIFS(D_D[ADP],D_D[MT],1,D_D[CAT],D$1,D_D[EP],-1, D_D[LOC],$A16),0)","v":81.569999999999993},{"$f":"IFERROR(SUMIFS(D_D[INV],D_D[MT],2,D_D[CAT],TA_21,D_D[EP],-1, D_D[LOC],$A16),0)","v":5171},{"$f":"IFERROR(SUMIFS(D_D[BL],D_D[MT],2,D_D[CAT],TA_21,D_D[EP],-1, D_D[LOC],$A16),0)","v":1783},0.34480758073873524,{"$f":"IFERROR(SUMIFS(D_D[INV],D_D[MT],2,D_D[CAT],TA_22,D_D[EP],-1, D_D[LOC],$A16),0)","v":4527},{"$f":"IFERROR(SUMIFS(D_D[BL],D_D[MT],2,D_D[CAT],TA_22,D_D[EP],-1, D_D[LOC],$A16),0)","v":806},0.17804285398718797,{"$f":"IFERROR(SUMIFS(D_D[INV],D_D[MT],2,D_D[CAT],TA_23,D_D[EP],-1, D_D[LOC],$A16),0)","v":32},{"$f":"IFERROR(SUMIFS(D_D[BL],D_D[MT],2,D_D[CAT],TA_23,D_D[EP],-1, D_D[LOC],$A16),0)","v":1},3.125E-2,{"$f":"IFERROR(SUMIFS(D_D[INV],D_D[MT],2,D_D[CAT],TA_24,D_D[EP],-1, D_D[LOC],$A16),0)","v":962},{"$f":"IFERROR(SUMIFS(D_D[BL],D_D[MT],2,D_D[CAT],TA_24,D_D[EP],-1, D_D[LOC],$A16),0)","v":275},0.28586278586278585,{"$f":"IFERROR(SUMIFS(D_D[INV],D_D[MT],2,D_D[CAT],TA_25,D_D[EP],-1, D_D[LOC],$A16),0)","v":26},{"$f":"IFERROR(SUMIFS(D_D[INV],D_D[MT],2,D_D[CAT],TA_26,D_D[EP],-1, D_D[LOC],$A16),0)","v":11},{"$f":"IFERROR(SUMIFS(D_D[INV],D_D[MT],7,D_D[CAT],2,D_D[EP],TA_20, D_D[LOC],$A16),0)","v":3}]
["373","Manchester",{"$f":"IFERROR(SUMIFS(D_D[INV],D_D[MT],1,D_D[CAT],TA_20,D_D[EP],-1, D_D[LOC],$A17),0)","v":92},{"$f":"IFERROR(SUMIFS(D_D[ADP],D_D[MT],1,D_D[CAT],D$1,D_D[EP],-1, D_D[LOC],$A17),0)","v":60.68},{"$f":"IFERROR(SUMIFS(D_D[INV],D_D[MT],2,D_D[CAT],TA_21,D_D[EP],-1, D_D[LOC],$A17),0)","v":869},{"$f":"IFERROR(SUMIFS(D_D[BL],D_D[MT],2,D_D[CAT],TA_21,D_D[EP],-1, D_D[LOC],$A17),0)","v":317},0.36478711162255467,{"$f":"IFERROR(SUMIFS(D_D[INV],D_D[MT],2,D_D[CAT],TA_22,D_D[EP],-1, D_D[LOC],$A17),0)","v":245},{"$f":"IFERROR(SUMIFS(D_D[BL],D_D[MT],2,D_D[CAT],TA_22,D_D[EP],-1, D_D[LOC],$A17),0)","v":54},0.22040816326530613,{"$f":"IFERROR(SUMIFS(D_D[INV],D_D[MT],2,D_D[CAT],TA_23,D_D[EP],-1, D_D[LOC],$A17),0)","v":0},{"$f":"IFERROR(SUMIFS(D_D[BL],D_D[MT],2,D_D[CAT],TA_23,D_D[EP],-1, D_D[LOC],$A17),0)","v":0},"0%",{"$f":"IFERROR(SUMIFS(D_D[INV],D_D[MT],2,D_D[CAT],TA_24,D_D[EP],-1, D_D[LOC],$A17),0)","v":105},{"$f":"IFERROR(SUMIFS(D_D[BL],D_D[MT],2,D_D[CAT],TA_24,D_D[EP],-1, D_D[LOC],$A17),0)","v":63},0.6,{"$f":"IFERROR(SUMIFS(D_D[INV],D_D[MT],2,D_D[CAT],TA_25,D_D[EP],-1, D_D[LOC],$A17),0)","v":4},{"$f":"IFERROR(SUMIFS(D_D[INV],D_D[MT],2,D_D[CAT],TA_26,D_D[EP],-1, D_D[LOC],$A17),0)","v":3},{"$f":"IFERROR(SUMIFS(D_D[INV],D_D[MT],7,D_D[CAT],2,D_D[EP],TA_20, D_D[LOC],$A17),0)","v":1}]
["330","Milwaukee",{"$f":"IFERROR(SUMIFS(D_D[INV],D_D[MT],1,D_D[CAT],TA_20,D_D[EP],-1, D_D[LOC],$A18),0)","v":2379},{"$f":"IFERROR(SUMIFS(D_D[ADP],D_D[MT],1,D_D[CAT],D$1,D_D[EP],-1, D_D[LOC],$A18),0)","v":53.08},{"$f":"IFERROR(SUMIFS(D_D[INV],D_D[MT],2,D_D[CAT],TA_21,D_D[EP],-1, D_D[LOC],$A18),0)","v":6636},{"$f":"IFERROR(SUMIFS(D_D[BL],D_D[MT],2,D_D[CAT],TA_21,D_D[EP],-1, D_D[LOC],$A18),0)","v":3097},0.46669680530440022,{"$f":"IFERROR(SUMIFS(D_D[INV],D_D[MT],2,D_D[CAT],TA_22,D_D[EP],-1, D_D[LOC],$A18),0)","v":6077},{"$f":"IFERROR(SUMIFS(D_D[BL],D_D[MT],2,D_D[CAT],TA_22,D_D[EP],-1, D_D[LOC],$A18),0)","v":544},8.9517854204377162E-2,{"$f":"IFERROR(SUMIFS(D_D[INV],D_D[MT],2,D_D[CAT],TA_23,D_D[EP],-1, D_D[LOC],$A18),0)","v":53},{"$f":"IFERROR(SUMIFS(D_D[BL],D_D[MT],2,D_D[CAT],TA_23,D_D[EP],-1, D_D[LOC],$A18),0)","v":4},7.5471698113207544E-2,{"$f":"IFERROR(SUMIFS(D_D[INV],D_D[MT],2,D_D[CAT],TA_24,D_D[EP],-1, D_D[LOC],$A18),0)","v":1190},{"$f":"IFERROR(SUMIFS(D_D[BL],D_D[MT],2,D_D[CAT],TA_24,D_D[EP],-1, D_D[LOC],$A18),0)","v":876},0.73613445378151265,{"$f":"IFERROR(SUMIFS(D_D[INV],D_D[MT],2,D_D[CAT],TA_25,D_D[EP],-1, D_D[LOC],$A18),0)","v":582},{"$f":"IFERROR(SUMIFS(D_D[INV],D_D[MT],2,D_D[CAT],TA_26,D_D[EP],-1, D_D[LOC],$A18),0)","v":0},{"$f":"IFERROR(SUMIFS(D_D[INV],D_D[MT],7,D_D[CAT],2,D_D[EP],TA_20, D_D[LOC],$A18),0)","v":5}]
["306","New York",{"$f":"IFERROR(SUMIFS(D_D[INV],D_D[MT],1,D_D[CAT],TA_20,D_D[EP],-1, D_D[LOC],$A19),0)","v":162},{"$f":"IFERROR(SUMIFS(D_D[ADP],D_D[MT],1,D_D[CAT],D$1,D_D[EP],-1, D_D[LOC],$A19),0)","v":63.93},{"$f":"IFERROR(SUMIFS(D_D[INV],D_D[MT],2,D_D[CAT],TA_21,D_D[EP],-1, D_D[LOC],$A19),0)","v":4243},{"$f":"IFERROR(SUMIFS(D_D[BL],D_D[MT],2,D_D[CAT],TA_21,D_D[EP],-1, D_D[LOC],$A19),0)","v":1650},0.38887579542776335,{"$f":"IFERROR(SUMIFS(D_D[INV],D_D[MT],2,D_D[CAT],TA_22,D_D[EP],-1, D_D[LOC],$A19),0)","v":765},{"$f":"IFERROR(SUMIFS(D_D[BL],D_D[MT],2,D_D[CAT],TA_22,D_D[EP],-1, D_D[LOC],$A19),0)","v":192},0.25098039215686274,{"$f":"IFERROR(SUMIFS(D_D[INV],D_D[MT],2,D_D[CAT],TA_23,D_D[EP],-1, D_D[LOC],$A19),0)","v":42},{"$f":"IFERROR(SUMIFS(D_D[BL],D_D[MT],2,D_D[CAT],TA_23,D_D[EP],-1, D_D[LOC],$A19),0)","v":4},9.5238095238095233E-2,{"$f":"IFERROR(SUMIFS(D_D[INV],D_D[MT],2,D_D[CAT],TA_24,D_D[EP],-1, D_D[LOC],$A19),0)","v":248},{"$f":"IFERROR(SUMIFS(D_D[BL],D_D[MT],2,D_D[CAT],TA_24,D_D[EP],-1, D_D[LOC],$A19),0)","v":167},0.67338709677419351,{"$f":"IFERROR(SUMIFS(D_D[INV],D_D[MT],2,D_D[CAT],TA_25,D_D[EP],-1, D_D[LOC],$A19),0)","v":24},{"$f":"IFERROR(SUMIFS(D_D[INV],D_D[MT],2,D_D[CAT],TA_26,D_D[EP],-1, D_D[LOC],$A19),0)","v":0},{"$f":"IFERROR(SUMIFS(D_D[INV],D_D[MT],7,D_D[CAT],2,D_D[EP],TA_20, D_D[LOC],$A19),0)","v":5}]
["309","Newark",{"$f":"IFERROR(SUMIFS(D_D[INV],D_D[MT],1,D_D[CAT],TA_20,D_D[EP],-1, D_D[LOC],$A20),0)","v":105},{"$f":"IFERROR(SUMIFS(D_D[ADP],D_D[MT],1,D_D[CAT],D$1,D_D[EP],-1, D_D[LOC],$A20),0)","v":69.8},{"$f":"IFERROR(SUMIFS(D_D[INV],D_D[MT],2,D_D[CAT],TA_21,D_D[EP],-1, D_D[LOC],$A20),0)","v":2835},{"$f":"IFERROR(SUMIFS(D_D[BL],D_D[MT],2,D_D[CAT],TA_21,D_D[EP],-1, D_D[LOC],$A20),0)","v":1114},0.39294532627865963,{"$f":"IFERROR(SUMIFS(D_D[INV],D_D[MT],2,D_D[CAT],TA_22,D_D[EP],-1, D_D[LOC],$A20),0)","v":411},{"$f":"IFERROR(SUMIFS(D_D[BL],D_D[MT],2,D_D[CAT],TA_22,D_D[EP],-1, D_D[LOC],$A20),0)","v":102},0.24817518248175183,{"$f":"IFERROR(SUMIFS(D_D[INV],D_D[MT],2,D_D[CAT],TA_23,D_D[EP],-1, D_D[LOC],$A20),0)","v":16},{"$f":"IFERROR(SUMIFS(D_D[BL],D_D[MT],2,D_D[CAT],TA_23,D_D[EP],-1, D_D[LOC],$A20),0)","v":0},0,{"$f":"IFERROR(SUMIFS(D_D[INV],D_D[MT],2,D_D[CAT],TA_24,D_D[EP],-1, D_D[LOC],$A20),0)","v":172},{"$f":"IFERROR(SUMIFS(D_D[BL],D_D[MT],2,D_D[CAT],TA_24,D_D[EP],-1, D_D[LOC],$A20),0)","v":104},0.60465116279069764,{"$f":"IFERROR(SUMIFS(D_D[INV],D_D[MT],2,D_D[CAT],TA_25,D_D[EP],-1, D_D[LOC],$A20),0)","v":18},{"$f":"IFERROR(SUMIFS(D_D[INV],D_D[MT],2,D_D[CAT],TA_26,D_D[EP],-1, D_D[LOC],$A20),0)","v":2},{"$f":"IFERROR(SUMIFS(D_D[INV],D_D[MT],7,D_D[CAT],2,D_D[EP],TA_20, D_D[LOC],$A20),0)","v":4}]
["310","Philadelphia",{"$f":"IFERROR(SUMIFS(D_D[INV],D_D[MT],1,D_D[CAT],TA_20,D_D[EP],-1, D_D[LOC],$A21),0)","v":526},{"$f":"IFERROR(SUMIFS(D_D[ADP],D_D[MT],1,D_D[CAT],D$1,D_D[EP],-1, D_D[LOC],$A21),0)","v":70.42},{"$f":"IFERROR(SUMIFS(D_D[INV],D_D[MT],2,D_D[CAT],TA_21,D_D[EP],-1, D_D[LOC],$A21),0)","v":7433},{"$f":"IFERROR(SUMIFS(D_D[BL],D_D[MT],2,D_D[CAT],TA_21,D_D[EP],-1, D_D[LOC],$A21),0)","v":2962},0.39849320597336202,{"$f":"IFERROR(SUMIFS(D_D[INV],D_D[MT],2,D_D[CAT],TA_22,D_D[EP],-1, D_D[LOC],$A21),0)","v":3238},{"$f":"IFERROR(SUMIFS(D_D[BL],D_D[MT],2,D_D[CAT],TA_22,D_D[EP],-1, D_D[LOC],$A21),0)","v":678},0.20938851142680667,{"$f":"IFERROR(SUMIFS(D_D[INV],D_D[MT],2,D_D[CAT],TA_23,D_D[EP],-1, D_D[LOC],$A21),0)","v":34},{"$f":"IFERROR(SUMIFS(D_D[BL],D_D[MT],2,D_D[CAT],TA_23,D_D[EP],-1, D_D[LOC],$A21),0)","v":0},0,{"$f":"IFERROR(SUMIFS(D_D[INV],D_D[MT],2,D_D[CAT],TA_24,D_D[EP],-1, D_D[LOC],$A21),0)","v":1303},{"$f":"IFERROR(SUMIFS(D_D[BL],D_D[MT],2,D_D[CAT],TA_24,D_D[EP],-1, D_D[LOC],$A21),0)","v":729},0.5594781273983116,{"$f":"IFERROR(SUMIFS(D_D[INV],D_D[MT],2,D_D[CAT],TA_25,D_D[EP],-1, D_D[LOC],$A21),0)","v":549},{"$f":"IFERROR(SUMIFS(D_D[INV],D_D[MT],2,D_D[CAT],TA_26,D_D[EP],-1, D_D[LOC],$A21),0)","v":0},{"$f":"IFERROR(SUMIFS(D_D[INV],D_D[MT],7,D_D[CAT],2,D_D[EP],TA_20, D_D[LOC],$A21),0)","v":11}]
["311","Pittsburgh",{"$f":"IFERROR(SUMIFS(D_D[INV],D_D[MT],1,D_D[CAT],TA_20,D_D[EP],-1, D_D[LOC],$A22),0)","v":197},{"$f":"IFERROR(SUMIFS(D_D[ADP],D_D[MT],1,D_D[CAT],D$1,D_D[EP],-1, D_D[LOC],$A22),0)","v":74.94},{"$f":"IFERROR(SUMIFS(D_D[INV],D_D[MT],2,D_D[CAT],TA_21,D_D[EP],-1, D_D[LOC],$A22),0)","v":5385},{"$f":"IFERROR(SUMIFS(D_D[BL],D_D[MT],2,D_D[CAT],TA_21,D_D[EP],-1, D_D[LOC],$A22),0)","v":2071},0.38458681522748372,{"$f":"IFERROR(SUMIFS(D_D[INV],D_D[MT],2,D_D[CAT],TA_22,D_D[EP],-1, D_D[LOC],$A22),0)","v":780},{"$f":"IFERROR(SUMIFS(D_D[BL],D_D[MT],2,D_D[CAT],TA_22,D_D[EP],-1, D_D[LOC],$A22),0)","v":149},0.19102564102564101,{"$f":"IFERROR(SUMIFS(D_D[INV],D_D[MT],2,D_D[CAT],TA_23,D_D[EP],-1, D_D[LOC],$A22),0)","v":25},{"$f":"IFERROR(SUMIFS(D_D[BL],D_D[MT],2,D_D[CAT],TA_23,D_D[EP],-1, D_D[LOC],$A22),0)","v":2},0.08,{"$f":"IFERROR(SUMIFS(D_D[INV],D_D[MT],2,D_D[CAT],TA_24,D_D[EP],-1, D_D[LOC],$A22),0)","v":338},{"$f":"IFERROR(SUMIFS(D_D[BL],D_D[MT],2,D_D[CAT],TA_24,D_D[EP],-1, D_D[LOC],$A22),0)","v":213},0.63017751479289941,{"$f":"IFERROR(SUMIFS(D_D[INV],D_D[MT],2,D_D[CAT],TA_25,D_D[EP],-1, D_D[LOC],$A22),0)","v":22},{"$f":"IFERROR(SUMIFS(D_D[INV],D_D[MT],2,D_D[CAT],TA_26,D_D[EP],-1, D_D[LOC],$A22),0)","v":0},{"$f":"IFERROR(SUMIFS(D_D[INV],D_D[MT],7,D_D[CAT],2,D_D[EP],TA_20, D_D[LOC],$A22),0)","v":205}]
["304","Providence",{"$f":"IFERROR(SUMIFS(D_D[INV],D_D[MT],1,D_D[CAT],TA_20,D_D[EP],-1, D_D[LOC],$A23),0)","v":188},{"$f":"IFERROR(SUMIFS(D_D[ADP],D_D[MT],1,D_D[CAT],D$1,D_D[EP],-1, D_D[LOC],$A23),0)","v":45.89},{"$f":"IFERROR(SUMIFS(D_D[INV],D_D[MT],2,D_D[CAT],TA_21,D_D[EP],-1, D_D[LOC],$A23),0)","v":2024},{"$f":"IFERROR(SUMIFS(D_D[BL],D_D[MT],2,D_D[CAT],TA_21,D_D[EP],-1, D_D[LOC],$A23),0)","v":574},0.283596837944664,{"$f":"IFERROR(SUMIFS(D_D[INV],D_D[MT],2,D_D[CAT],TA_22,D_D[EP],-1, D_D[LOC],$A23),0)","v":560},{"$f":"IFERROR(SUMIFS(D_D[BL],D_D[MT],2,D_D[CAT],TA_22,D_D[EP],-1, D_D[LOC],$A23),0)","v":143},0.25535714285714284,{"$f":"IFERROR(SUMIFS(D_D[INV],D_D[MT],2,D_D[CAT],TA_23,D_D[EP],-1, D_D[LOC],$A23),0)","v":15},{"$f":"IFERROR(SUMIFS(D_D[BL],D_D[MT],2,D_D[CAT],TA_23,D_D[EP],-1, D_D[LOC],$A23),0)","v":0},0,{"$f":"IFERROR(SUMIFS(D_D[INV],D_D[MT],2,D_D[CAT],TA_24,D_D[EP],-1, D_D[LOC],$A23),0)","v":226},{"$f":"IFERROR(SUMIFS(D_D[BL],D_D[MT],2,D_D[CAT],TA_24,D_D[EP],-1, D_D[LOC],$A23),0)","v":142},0.62831858407079644,{"$f":"IFERROR(SUMIFS(D_D[INV],D_D[MT],2,D_D[CAT],TA_25,D_D[EP],-1, D_D[LOC],$A23),0)","v":7},{"$f":"IFERROR(SUMIFS(D_D[INV],D_D[MT],2,D_D[CAT],TA_26,D_D[EP],-1, D_D[LOC],$A23),0)","v":3},{"$f":"IFERROR(SUMIFS(D_D[INV],D_D[MT],7,D_D[CAT],2,D_D[EP],TA_20, D_D[LOC],$A23),0)","v":3}]
["376","St. Louis RMC",{"$f":"IFERROR(SUMIFS(D_D[INV],D_D[MT],1,D_D[CAT],TA_20,D_D[EP],-1, D_D[LOC],$A24),0)","v":18},{"$f":"IFERROR(SUMIFS(D_D[ADP],D_D[MT],1,D_D[CAT],D$1,D_D[EP],-1, D_D[LOC],$A24),0)","v":117.17},{"$f":"IFERROR(SUMIFS(D_D[INV],D_D[MT],2,D_D[CAT],TA_21,D_D[EP],-1, D_D[LOC],$A24),0)","v":1399},{"$f":"IFERROR(SUMIFS(D_D[BL],D_D[MT],2,D_D[CAT],TA_21,D_D[EP],-1, D_D[LOC],$A24),0)","v":90},6.4331665475339528E-2,{"$f":"IFERROR(SUMIFS(D_D[INV],D_D[MT],2,D_D[CAT],TA_22,D_D[EP],-1, D_D[LOC],$A24),0)","v":19},{"$f":"IFERROR(SUMIFS(D_D[BL],D_D[MT],2,D_D[CAT],TA_22,D_D[EP],-1, D_D[LOC],$A24),0)","v":4},0.21052631578947367,{"$f":"IFERROR(SUMIFS(D_D[INV],D_D[MT],2,D_D[CAT],TA_23,D_D[EP],-1, D_D[LOC],$A24),0)","v":0},{"$f":"IFERROR(SUMIFS(D_D[BL],D_D[MT],2,D_D[CAT],TA_23,D_D[EP],-1, D_D[LOC],$A24),0)","v":0},"0%",{"$f":"IFERROR(SUMIFS(D_D[INV],D_D[MT],2,D_D[CAT],TA_24,D_D[EP],-1, D_D[LOC],$A24),0)","v":11826},{"$f":"IFERROR(SUMIFS(D_D[BL],D_D[MT],2,D_D[CAT],TA_24,D_D[EP],-1, D_D[LOC],$A24),0)","v":2695},0.22788770505665482,{"$f":"IFERROR(SUMIFS(D_D[INV],D_D[MT],2,D_D[CAT],TA_25,D_D[EP],-1, D_D[LOC],$A24),0)","v":16},{"$f":"IFERROR(SUMIFS(D_D[INV],D_D[MT],2,D_D[CAT],TA_26,D_D[EP],-1, D_D[LOC],$A24),0)","v":0},{"$f":"IFERROR(SUMIFS(D_D[INV],D_D[MT],7,D_D[CAT],2,D_D[EP],TA_20, D_D[LOC],$A24),0)","v":0}]
["331","St. Louis",{"$f":"IFERROR(SUMIFS(D_D[INV],D_D[MT],1,D_D[CAT],TA_20,D_D[EP],-1, D_D[LOC],$A25),0)","v":314},{"$f":"IFERROR(SUMIFS(D_D[ADP],D_D[MT],1,D_D[CAT],D$1,D_D[EP],-1, D_D[LOC],$A25),0)","v":96.31},{"$f":"IFERROR(SUMIFS(D_D[INV],D_D[MT],2,D_D[CAT],TA_21,D_D[EP],-1, D_D[LOC],$A25),0)","v":5751},{"$f":"IFERROR(SUMIFS(D_D[BL],D_D[MT],2,D_D[CAT],TA_21,D_D[EP],-1, D_D[LOC],$A25),0)","v":1821},0.31664058424621805,{"$f":"IFERROR(SUMIFS(D_D[INV],D_D[MT],2,D_D[CAT],TA_22,D_D[EP],-1, D_D[LOC],$A25),0)","v":909},{"$f":"IFERROR(SUMIFS(D_D[BL],D_D[MT],2,D_D[CAT],TA_22,D_D[EP],-1, D_D[LOC],$A25),0)","v":261},0.28712871287128711,{"$f":"IFERROR(SUMIFS(D_D[INV],D_D[MT],2,D_D[CAT],TA_23,D_D[EP],-1, D_D[LOC],$A25),0)","v":39},{"$f":"IFERROR(SUMIFS(D_D[BL],D_D[MT],2,D_D[CAT],TA_23,D_D[EP],-1, D_D[LOC],$A25),0)","v":1},2.564102564102564E-2,{"$f":"IFERROR(SUMIFS(D_D[INV],D_D[MT],2,D_D[CAT],TA_24,D_D[EP],-1, D_D[LOC],$A25),0)","v":1314},{"$f":"IFERROR(SUMIFS(D_D[BL],D_D[MT],2,D_D[CAT],TA_24,D_D[EP],-1, D_D[LOC],$A25),0)","v":697},0.530441400304414,{"$f":"IFERROR(SUMIFS(D_D[INV],D_D[MT],2,D_D[CAT],TA_25,D_D[EP],-1, D_D[LOC],$A25),0)","v":31},{"$f":"IFERROR(SUMIFS(D_D[INV],D_D[MT],2,D_D[CAT],TA_26,D_D[EP],-1, D_D[LOC],$A25),0)","v":6},{"$f":"IFERROR(SUMIFS(D_D[INV],D_D[MT],7,D_D[CAT],2,D_D[EP],TA_20, D_D[LOC],$A25),0)","v":6}]
["402","Togus",{"$f":"IFERROR(SUMIFS(D_D[INV],D_D[MT],1,D_D[CAT],TA_20,D_D[EP],-1, D_D[LOC],$A26),0)","v":93},{"$f":"IFERROR(SUMIFS(D_D[ADP],D_D[MT],1,D_D[CAT],D$1,D_D[EP],-1, D_D[LOC],$A26),0)","v":106.9},{"$f":"IFERROR(SUMIFS(D_D[INV],D_D[MT],2,D_D[CAT],TA_21,D_D[EP],-1, D_D[LOC],$A26),0)","v":1246},{"$f":"IFERROR(SUMIFS(D_D[BL],D_D[MT],2,D_D[CAT],TA_21,D_D[EP],-1, D_D[LOC],$A26),0)","v":511},0.4101123595505618,{"$f":"IFERROR(SUMIFS(D_D[INV],D_D[MT],2,D_D[CAT],TA_22,D_D[EP],-1, D_D[LOC],$A26),0)","v":427},{"$f":"IFERROR(SUMIFS(D_D[BL],D_D[MT],2,D_D[CAT],TA_22,D_D[EP],-1, D_D[LOC],$A26),0)","v":178},0.41686182669789229,{"$f":"IFERROR(SUMIFS(D_D[INV],D_D[MT],2,D_D[CAT],TA_23,D_D[EP],-1, D_D[LOC],$A26),0)","v":5},{"$f":"IFERROR(SUMIFS(D_D[BL],D_D[MT],2,D_D[CAT],TA_23,D_D[EP],-1, D_D[LOC],$A26),0)","v":0},0,{"$f":"IFERROR(SUMIFS(D_D[INV],D_D[MT],2,D_D[CAT],TA_24,D_D[EP],-1, D_D[LOC],$A26),0)","v":466},{"$f":"IFERROR(SUMIFS(D_D[BL],D_D[MT],2,D_D[CAT],TA_24,D_D[EP],-1, D_D[LOC],$A26),0)","v":117},0.25107296137339058,{"$f":"IFERROR(SUMIFS(D_D[INV],D_D[MT],2,D_D[CAT],TA_25,D_D[EP],-1, D_D[LOC],$A26),0)","v":31},{"$f":"IFERROR(SUMIFS(D_D[INV],D_D[MT],2,D_D[CAT],TA_26,D_D[EP],-1, D_D[LOC],$A26),0)","v":58},{"$f":"IFERROR(SUMIFS(D_D[INV],D_D[MT],7,D_D[CAT],2,D_D[EP],TA_20, D_D[LOC],$A26),0)","v":2}]
["372","Washington",{"$f":"IFERROR(SUMIFS(D_D[INV],D_D[MT],1,D_D[CAT],TA_20,D_D[EP],-1, D_D[LOC],$A27),0)","v":234},{"$f":"IFERROR(SUMIFS(D_D[ADP],D_D[MT],1,D_D[CAT],D$1,D_D[EP],-1, D_D[LOC],$A27),0)","v":32.6},{"$f":"IFERROR(SUMIFS(D_D[INV],D_D[MT],2,D_D[CAT],TA_21,D_D[EP],-1, D_D[LOC],$A27),0)","v":213},{"$f":"IFERROR(SUMIFS(D_D[BL],D_D[MT],2,D_D[CAT],TA_21,D_D[EP],-1, D_D[LOC],$A27),0)","v":95},0.4460093896713615,{"$f":"IFERROR(SUMIFS(D_D[INV],D_D[MT],2,D_D[CAT],TA_22,D_D[EP],-1, D_D[LOC],$A27),0)","v":285},{"$f":"IFERROR(SUMIFS(D_D[BL],D_D[MT],2,D_D[CAT],TA_22,D_D[EP],-1, D_D[LOC],$A27),0)","v":15},5.2631578947368418E-2,{"$f":"IFERROR(SUMIFS(D_D[INV],D_D[MT],2,D_D[CAT],TA_23,D_D[EP],-1, D_D[LOC],$A27),0)","v":4},{"$f":"IFERROR(SUMIFS(D_D[BL],D_D[MT],2,D_D[CAT],TA_23,D_D[EP],-1, D_D[LOC],$A27),0)","v":0},0,{"$f":"IFERROR(SUMIFS(D_D[INV],D_D[MT],2,D_D[CAT],TA_24,D_D[EP],-1, D_D[LOC],$A27),0)","v":14},{"$f":"IFERROR(SUMIFS(D_D[BL],D_D[MT],2,D_D[CAT],TA_24,D_D[EP],-1, D_D[LOC],$A27),0)","v":1},7.1428571428571425E-2,{"$f":"IFERROR(SUMIFS(D_D[INV],D_D[MT],2,D_D[CAT],TA_25,D_D[EP],-1, D_D[LOC],$A27),0)","v":0},{"$f":"IFERROR(SUMIFS(D_D[INV],D_D[MT],2,D_D[CAT],TA_26,D_D[EP],-1, D_D[LOC],$A27),0)","v":0},{"$f":"IFERROR(SUMIFS(D_D[INV],D_D[MT],7,D_D[CAT],2,D_D[EP],TA_20, D_D[LOC],$A27),0)","v":0}]
["405","White River Junction",{"$f":"IFERROR(SUMIFS(D_D[INV],D_D[MT],1,D_D[CAT],TA_20,D_D[EP],-1, D_D[LOC],$A28),0)","v":15},{"$f":"IFERROR(SUMIFS(D_D[ADP],D_D[MT],1,D_D[CAT],D$1,D_D[EP],-1, D_D[LOC],$A28),0)","v":151},{"$f":"IFERROR(SUMIFS(D_D[INV],D_D[MT],2,D_D[CAT],TA_21,D_D[EP],-1, D_D[LOC],$A28),0)","v":321},{"$f":"IFERROR(SUMIFS(D_D[BL],D_D[MT],2,D_D[CAT],TA_21,D_D[EP],-1, D_D[LOC],$A28),0)","v":121},0.37694704049844235,{"$f":"IFERROR(SUMIFS(D_D[INV],D_D[MT],2,D_D[CAT],TA_22,D_D[EP],-1, D_D[LOC],$A28),0)","v":101},{"$f":"IFERROR(SUMIFS(D_D[BL],D_D[MT],2,D_D[CAT],TA_22,D_D[EP],-1, D_D[LOC],$A28),0)","v":40},0.39603960396039606,{"$f":"IFERROR(SUMIFS(D_D[INV],D_D[MT],2,D_D[CAT],TA_23,D_D[EP],-1, D_D[LOC],$A28),0)","v":2},{"$f":"IFERROR(SUMIFS(D_D[BL],D_D[MT],2,D_D[CAT],TA_23,D_D[EP],-1, D_D[LOC],$A28),0)","v":0},0,{"$f":"IFERROR(SUMIFS(D_D[INV],D_D[MT],2,D_D[CAT],TA_24,D_D[EP],-1, D_D[LOC],$A28),0)","v":25},{"$f":"IFERROR(SUMIFS(D_D[BL],D_D[MT],2,D_D[CAT],TA_24,D_D[EP],-1, D_D[LOC],$A28),0)","v":16},0.64,{"$f":"IFERROR(SUMIFS(D_D[INV],D_D[MT],2,D_D[CAT],TA_25,D_D[EP],-1, D_D[LOC],$A28),0)","v":3},{"$f":"IFERROR(SUMIFS(D_D[INV],D_D[MT],2,D_D[CAT],TA_26,D_D[EP],-1, D_D[LOC],$A28),0)","v":4},{"$f":"IFERROR(SUMIFS(D_D[INV],D_D[MT],7,D_D[CAT],2,D_D[EP],TA_20, D_D[LOC],$A28),0)","v":0}]
["460","Wilmington",{"$f":"IFERROR(SUMIFS(D_D[INV],D_D[MT],1,D_D[CAT],TA_20,D_D[EP],-1, D_D[LOC],$A29),0)","v":51},{"$f":"IFERROR(SUMIFS(D_D[ADP],D_D[MT],1,D_D[CAT],D$1,D_D[EP],-1, D_D[LOC],$A29),0)","v":37.200000000000003},{"$f":"IFERROR(SUMIFS(D_D[INV],D_D[MT],2,D_D[CAT],TA_21,D_D[EP],-1, D_D[LOC],$A29),0)","v":696},{"$f":"IFERROR(SUMIFS(D_D[BL],D_D[MT],2,D_D[CAT],TA_21,D_D[EP],-1, D_D[LOC],$A29),0)","v":180},0.25862068965517243,{"$f":"IFERROR(SUMIFS(D_D[INV],D_D[MT],2,D_D[CAT],TA_22,D_D[EP],-1, D_D[LOC],$A29),0)","v":132},{"$f":"IFERROR(SUMIFS(D_D[BL],D_D[MT],2,D_D[CAT],TA_22,D_D[EP],-1, D_D[LOC],$A29),0)","v":26},0.19696969696969696,{"$f":"IFERROR(SUMIFS(D_D[INV],D_D[MT],2,D_D[CAT],TA_23,D_D[EP],-1, D_D[LOC],$A29),0)","v":1},{"$f":"IFERROR(SUMIFS(D_D[BL],D_D[MT],2,D_D[CAT],TA_23,D_D[EP],-1, D_D[LOC],$A29),0)","v":0},0,{"$f":"IFERROR(SUMIFS(D_D[INV],D_D[MT],2,D_D[CAT],TA_24,D_D[EP],-1, D_D[LOC],$A29),0)","v":31},{"$f":"IFERROR(SUMIFS(D_D[BL],D_D[MT],2,D_D[CAT],TA_24,D_D[EP],-1, D_D[LOC],$A29),0)","v":18},0.58064516129032262,{"$f":"IFERROR(SUMIFS(D_D[INV],D_D[MT],2,D_D[CAT],TA_25,D_D[EP],-1, D_D[LOC],$A29),0)","v":3},{"$f":"IFERROR(SUMIFS(D_D[INV],D_D[MT],2,D_D[CAT],TA_26,D_D[EP],-1, D_D[LOC],$A29),0)","v":0},{"$f":"IFERROR(SUMIFS(D_D[INV],D_D[MT],7,D_D[CAT],2,D_D[EP],TA_20, D_D[LOC],$A29),0)","v":0}]
[393,"Southeast",{"$f":"IFERROR(SUMIFS(D_D[INV],D_D[MT],1,D_D[CAT],TA_20,D_D[EP],-1, D_D[LOC],$A30),0)","v":11037},{"$f":"IFERROR(SUMIFS(D_D[ADP],D_D[MT],1,D_D[CAT],D$1,D_D[EP],-1, D_D[LOC],$A30),0)","v":90.34},{"$f":"IFERROR(SUMIFS(D_D[INV],D_D[MT],2,D_D[CAT],TA_21,D_D[EP],-1, D_D[LOC],$A30),0)","v":112875},{"$f":"IFERROR(SUMIFS(D_D[BL],D_D[MT],2,D_D[CAT],TA_21,D_D[EP],-1, D_D[LOC],$A30),0)","v":40229},0.35640310077519377,{"$f":"IFERROR(SUMIFS(D_D[INV],D_D[MT],2,D_D[CAT],TA_22,D_D[EP],-1, D_D[LOC],$A30),0)","v":27675},{"$f":"IFERROR(SUMIFS(D_D[BL],D_D[MT],2,D_D[CAT],TA_22,D_D[EP],-1, D_D[LOC],$A30),0)","v":5784},0.20899728997289974,{"$f":"IFERROR(SUMIFS(D_D[INV],D_D[MT],2,D_D[CAT],TA_23,D_D[EP],-1, D_D[LOC],$A30),0)","v":818},{"$f":"IFERROR(SUMIFS(D_D[BL],D_D[MT],2,D_D[CAT],TA_23,D_D[EP],-1, D_D[LOC],$A30),0)","v":247},0.30195599022004888,{"$f":"IFERROR(SUMIFS(D_D[INV],D_D[MT],2,D_D[CAT],TA_24,D_D[EP],-1, D_D[LOC],$A30),0)","v":14113},{"$f":"IFERROR(SUMIFS(D_D[BL],D_D[MT],2,D_D[CAT],TA_24,D_D[EP],-1, D_D[LOC],$A30),0)","v":7008},0.49656345213632819,{"$f":"IFERROR(SUMIFS(D_D[INV],D_D[MT],2,D_D[CAT],TA_25,D_D[EP],-1, D_D[LOC],$A30),0)","v":527},{"$f":"IFERROR(SUMIFS(D_D[INV],D_D[MT],2,D_D[CAT],TA_26,D_D[EP],-1, D_D[LOC],$A30),0)","v":323},{"$f":"IFERROR(SUMIFS(D_D[INV],D_D[MT],7,D_D[CAT],2,D_D[EP],TA_20, D_D[LOC],$A30),0)","v":532}]
["316","Atlanta",{"$f":"IFERROR(SUMIFS(D_D[INV],D_D[MT],1,D_D[CAT],TA_20,D_D[EP],-1, D_D[LOC],$A31),0)","v":606},{"$f":"IFERROR(SUMIFS(D_D[ADP],D_D[MT],1,D_D[CAT],D$1,D_D[EP],-1, D_D[LOC],$A31),0)","v":121.41},{"$f":"IFERROR(SUMIFS(D_D[INV],D_D[MT],2,D_D[CAT],TA_21,D_D[EP],-1, D_D[LOC],$A31),0)","v":16025},{"$f":"IFERROR(SUMIFS(D_D[BL],D_D[MT],2,D_D[CAT],TA_21,D_D[EP],-1, D_D[LOC],$A31),0)","v":5847},0.36486739469578783,{"$f":"IFERROR(SUMIFS(D_D[INV],D_D[MT],2,D_D[CAT],TA_22,D_D[EP],-1, D_D[LOC],$A31),0)","v":2014},{"$f":"IFERROR(SUMIFS(D_D[BL],D_D[MT],2,D_D[CAT],TA_22,D_D[EP],-1, D_D[LOC],$A31),0)","v":576},0.28599801390268126,{"$f":"IFERROR(SUMIFS(D_D[INV],D_D[MT],2,D_D[CAT],TA_23,D_D[EP],-1, D_D[LOC],$A31),0)","v":37},{"$f":"IFERROR(SUMIFS(D_D[BL],D_D[MT],2,D_D[CAT],TA_23,D_D[EP],-1, D_D[LOC],$A31),0)","v":1},2.7027027027027029E-2,{"$f":"IFERROR(SUMIFS(D_D[INV],D_D[MT],2,D_D[CAT],TA_24,D_D[EP],-1, D_D[LOC],$A31),0)","v":785},{"$f":"IFERROR(SUMIFS(D_D[BL],D_D[MT],2,D_D[CAT],TA_24,D_D[EP],-1, D_D[LOC],$A31),0)","v":514},0.65477707006369423,{"$f":"IFERROR(SUMIFS(D_D[INV],D_D[MT],2,D_D[CAT],TA_25,D_D[EP],-1, D_D[LOC],$A31),0)","v":56},{"$f":"IFERROR(SUMIFS(D_D[INV],D_D[MT],2,D_D[CAT],TA_26,D_D[EP],-1, D_D[LOC],$A31),0)","v":4},{"$f":"IFERROR(SUMIFS(D_D[INV],D_D[MT],7,D_D[CAT],2,D_D[EP],TA_20, D_D[LOC],$A31),0)","v":16}]
["319","Columbia",{"$f":"IFERROR(SUMIFS(D_D[INV],D_D[MT],1,D_D[CAT],TA_20,D_D[EP],-1, D_D[LOC],$A32),0)","v":3857},{"$f":"IFERROR(SUMIFS(D_D[ADP],D_D[MT],1,D_D[CAT],D$1,D_D[EP],-1, D_D[LOC],$A32),0)","v":123.6},{"$f":"IFERROR(SUMIFS(D_D[INV],D_D[MT],2,D_D[CAT],TA_21,D_D[EP],-1, D_D[LOC],$A32),0)","v":7666},{"$f":"IFERROR(SUMIFS(D_D[BL],D_D[MT],2,D_D[CAT],TA_21,D_D[EP],-1, D_D[LOC],$A32),0)","v":2669},{"$f":"IFERROR(F32/E32,\"0%\")","v":0.34816070962692408},{"$f":"IFERROR(SUMIFS(D_D[INV],D_D[MT],2,D_D[CAT],TA_22,D_D[EP],-1, D_D[LOC],$A32),0)","v":4844},{"$f":"IFERROR(SUMIFS(D_D[BL],D_D[MT],2,D_D[CAT],TA_22,D_D[EP],-1, D_D[LOC],$A32),0)","v":1322},{"$f":"IFERROR(I32/H32,\"0%\")","v":0.27291494632535096},{"$f":"IFERROR(SUMIFS(D_D[INV],D_D[MT],2,D_D[CAT],TA_23,D_D[EP],-1, D_D[LOC],$A32),0)","v":25},{"$f":"IFERROR(SUMIFS(D_D[BL],D_D[MT],2,D_D[CAT],TA_23,D_D[EP],-1, D_D[LOC],$A32),0)","v":1},{"$f":"IFERROR(L32/K32,\"0%\")","v":0.04},{"$f":"IFERROR(SUMIFS(D_D[INV],D_D[MT],2,D_D[CAT],TA_24,D_D[EP],-1, D_D[LOC],$A32),0)","v":682},{"$f":"IFERROR(SUMIFS(D_D[BL],D_D[MT],2,D_D[CAT],TA_24,D_D[EP],-1, D_D[LOC],$A32),0)","v":398},{"$f":"IFERROR(O32/N32,\"0%\")","v":0.58357771260997071},{"$f":"IFERROR(SUMIFS(D_D[INV],D_D[MT],2,D_D[CAT],TA_25,D_D[EP],-1, D_D[LOC],$A32),0)","v":44},{"$f":"IFERROR(SUMIFS(D_D[INV],D_D[MT],2,D_D[CAT],TA_26,D_D[EP],-1, D_D[LOC],$A32),0)","v":4},{"$f":"IFERROR(SUMIFS(D_D[INV],D_D[MT],7,D_D[CAT],2,D_D[EP],TA_20, D_D[LOC],$A32),0)","v":6}]
[315,"Huntington",{"$f":"IFERROR(SUMIFS(D_D[INV],D_D[MT],1,D_D[CAT],TA_20,D_D[EP],-1, D_D[LOC],$A33),0)","v":72},{"$f":"IFERROR(SUMIFS(D_D[ADP],D_D[MT],1,D_D[CAT],D$1,D_D[EP],-1, D_D[LOC],$A33),0)","v":132.38999999999999},{"$f":"IFERROR(SUMIFS(D_D[INV],D_D[MT],2,D_D[CAT],TA_21,D_D[EP],-1, D_D[LOC],$A33),0)","v":1840},{"$f":"IFERROR(SUMIFS(D_D[BL],D_D[MT],2,D_D[CAT],TA_21,D_D[EP],-1, D_D[LOC],$A33),0)","v":694},0.37717391304347825,{"$f":"IFERROR(SUMIFS(D_D[INV],D_D[MT],2,D_D[CAT],TA_22,D_D[EP],-1, D_D[LOC],$A33),0)","v":336},{"$f":"IFERROR(SUMIFS(D_D[BL],D_D[MT],2,D_D[CAT],TA_22,D_D[EP],-1, D_D[LOC],$A33),0)","v":135},0.4017857142857143,{"$f":"IFERROR(SUMIFS(D_D[INV],D_D[MT],2,D_D[CAT],TA_23,D_D[EP],-1, D_D[LOC],$A33),0)","v":16},{"$f":"IFERROR(SUMIFS(D_D[BL],D_D[MT],2,D_D[CAT],TA_23,D_D[EP],-1, D_D[LOC],$A33),0)","v":1},6.25E-2,{"$f":"IFERROR(SUMIFS(D_D[INV],D_D[MT],2,D_D[CAT],TA_24,D_D[EP],-1, D_D[LOC],$A33),0)","v":667},{"$f":"IFERROR(SUMIFS(D_D[BL],D_D[MT],2,D_D[CAT],TA_24,D_D[EP],-1, D_D[LOC],$A33),0)","v":231},0.34632683658170915,{"$f":"IFERROR(SUMIFS(D_D[INV],D_D[MT],2,D_D[CAT],TA_25,D_D[EP],-1, D_D[LOC],$A33),0)","v":31},{"$f":"IFERROR(SUMIFS(D_D[INV],D_D[MT],2,D_D[CAT],TA_26,D_D[EP],-1, D_D[LOC],$A33),0)","v":223},{"$f":"IFERROR(SUMIFS(D_D[INV],D_D[MT],7,D_D[CAT],2,D_D[EP],TA_20, D_D[LOC],$A33),0)","v":2}]
["323","Jackson",{"$f":"IFERROR(SUMIFS(D_D[INV],D_D[MT],1,D_D[CAT],TA_20,D_D[EP],-1, D_D[LOC],$A34),0)","v":185},{"$f":"IFERROR(SUMIFS(D_D[ADP],D_D[MT],1,D_D[CAT],D$1,D_D[EP],-1, D_D[LOC],$A34),0)","v":80.459999999999994},{"$f":"IFERROR(SUMIFS(D_D[INV],D_D[MT],2,D_D[CAT],TA_21,D_D[EP],-1, D_D[LOC],$A34),0)","v":4035},{"$f":"IFERROR(SUMIFS(D_D[BL],D_D[MT],2,D_D[CAT],TA_21,D_D[EP],-1, D_D[LOC],$A34),0)","v":1597},0.39578686493184634,{"$f":"IFERROR(SUMIFS(D_D[INV],D_D[MT],2,D_D[CAT],TA_22,D_D[EP],-1, D_D[LOC],$A34),0)","v":582},{"$f":"IFERROR(SUMIFS(D_D[BL],D_D[MT],2,D_D[CAT],TA_22,D_D[EP],-1, D_D[LOC],$A34),0)","v":142},0.24398625429553264,{"$f":"IFERROR(SUMIFS(D_D[INV],D_D[MT],2,D_D[CAT],TA_23,D_D[EP],-1, D_D[LOC],$A34),0)","v":34},{"$f":"IFERROR(SUMIFS(D_D[BL],D_D[MT],2,D_D[CAT],TA_23,D_D[EP],-1, D_D[LOC],$A34),0)","v":0},0,{"$f":"IFERROR(SUMIFS(D_D[INV],D_D[MT],2,D_D[CAT],TA_24,D_D[EP],-1, D_D[LOC],$A34),0)","v":601},{"$f":"IFERROR(SUMIFS(D_D[BL],D_D[MT],2,D_D[CAT],TA_24,D_D[EP],-1, D_D[LOC],$A34),0)","v":257},0.42762063227953412,{"$f":"IFERROR(SUMIFS(D_D[INV],D_D[MT],2,D_D[CAT],TA_25,D_D[EP],-1, D_D[LOC],$A34),0)","v":10},{"$f":"IFERROR(SUMIFS(D_D[INV],D_D[MT],2,D_D[CAT],TA_26,D_D[EP],-1, D_D[LOC],$A34),0)","v":3},{"$f":"IFERROR(SUMIFS(D_D[INV],D_D[MT],7,D_D[CAT],2,D_D[EP],TA_20, D_D[LOC],$A34),0)","v":48}]
["350","Little Rock",{"$f":"IFERROR(SUMIFS(D_D[INV],D_D[MT],1,D_D[CAT],TA_20,D_D[EP],-1, D_D[LOC],$A35),0)","v":381},{"$f":"IFERROR(SUMIFS(D_D[ADP],D_D[MT],1,D_D[CAT],D$1,D_D[EP],-1, D_D[LOC],$A35),0)","v":73.099999999999994},{"$f":"IFERROR(SUMIFS(D_D[INV],D_D[MT],2,D_D[CAT],TA_21,D_D[EP],-1, D_D[LOC],$A35),0)","v":3701},{"$f":"IFERROR(SUMIFS(D_D[BL],D_D[MT],2,D_D[CAT],TA_21,D_D[EP],-1, D_D[LOC],$A35),0)","v":1339},0.36179410970008108,{"$f":"IFERROR(SUMIFS(D_D[INV],D_D[MT],2,D_D[CAT],TA_22,D_D[EP],-1, D_D[LOC],$A35),0)","v":1600},{"$f":"IFERROR(SUMIFS(D_D[BL],D_D[MT],2,D_D[CAT],TA_22,D_D[EP],-1, D_D[LOC],$A35),0)","v":200},0.125,{"$f":"IFERROR(SUMIFS(D_D[INV],D_D[MT],2,D_D[CAT],TA_23,D_D[EP],-1, D_D[LOC],$A35),0)","v":21},{"$f":"IFERROR(SUMIFS(D_D[BL],D_D[MT],2,D_D[CAT],TA_23,D_D[EP],-1, D_D[LOC],$A35),0)","v":0},0,{"$f":"IFERROR(SUMIFS(D_D[INV],D_D[MT],2,D_D[CAT],TA_24,D_D[EP],-1, D_D[LOC],$A35),0)","v":654},{"$f":"IFERROR(SUMIFS(D_D[BL],D_D[MT],2,D_D[CAT],TA_24,D_D[EP],-1, D_D[LOC],$A35),0)","v":329},0.50305810397553519,{"$f":"IFERROR(SUMIFS(D_D[INV],D_D[MT],2,D_D[CAT],TA_25,D_D[EP],-1, D_D[LOC],$A35),0)","v":21},{"$f":"IFERROR(SUMIFS(D_D[INV],D_D[MT],2,D_D[CAT],TA_26,D_D[EP],-1, D_D[LOC],$A35),0)","v":0},{"$f":"IFERROR(SUMIFS(D_D[INV],D_D[MT],7,D_D[CAT],2,D_D[EP],TA_20, D_D[LOC],$A35),0)","v":4}]
["327","Louisville",{"$f":"IFERROR(SUMIFS(D_D[INV],D_D[MT],1,D_D[CAT],TA_20,D_D[EP],-1, D_D[LOC],$A36),0)","v":1925},{"$f":"IFERROR(SUMIFS(D_D[ADP],D_D[MT],1,D_D[CAT],D$1,D_D[EP],-1, D_D[LOC],$A36),0)","v":67.87},{"$f":"IFERROR(SUMIFS(D_D[INV],D_D[MT],2,D_D[CAT],TA_21,D_D[EP],-1, D_D[LOC],$A36),0)","v":3894},{"$f":"IFERROR(SUMIFS(D_D[BL],D_D[MT],2,D_D[CAT],TA_21,D_D[EP],-1, D_D[LOC],$A36),0)","v":1279},0.32845403184386235,{"$f":"IFERROR(SUMIFS(D_D[INV],D_D[MT],2,D_D[CAT],TA_22,D_D[EP],-1, D_D[LOC],$A36),0)","v":2634},{"$f":"IFERROR(SUMIFS(D_D[BL],D_D[MT],2,D_D[CAT],TA_22,D_D[EP],-1, D_D[LOC],$A36),0)","v":444},0.16856492027334852,{"$f":"IFERROR(SUMIFS(D_D[INV],D_D[MT],2,D_D[CAT],TA_23,D_D[EP],-1, D_D[LOC],$A36),0)","v":308},{"$f":"IFERROR(SUMIFS(D_D[BL],D_D[MT],2,D_D[CAT],TA_23,D_D[EP],-1, D_D[LOC],$A36),0)","v":215},0.69805194805194803,{"$f":"IFERROR(SUMIFS(D_D[INV],D_D[MT],2,D_D[CAT],TA_24,D_D[EP],-1, D_D[LOC],$A36),0)","v":487},{"$f":"IFERROR(SUMIFS(D_D[BL],D_D[MT],2,D_D[CAT],TA_24,D_D[EP],-1, D_D[LOC],$A36),0)","v":330},0.67761806981519512,{"$f":"IFERROR(SUMIFS(D_D[INV],D_D[MT],2,D_D[CAT],TA_25,D_D[EP],-1, D_D[LOC],$A36),0)","v":18},{"$f":"IFERROR(SUMIFS(D_D[INV],D_D[MT],2,D_D[CAT],TA_26,D_D[EP],-1, D_D[LOC],$A36),0)","v":3},{"$f":"IFERROR(SUMIFS(D_D[INV],D_D[MT],7,D_D[CAT],2,D_D[EP],TA_20, D_D[LOC],$A36),0)","v":363}]
["322","Montgomery",{"$f":"IFERROR(SUMIFS(D_D[INV],D_D[MT],1,D_D[CAT],TA_20,D_D[EP],-1, D_D[LOC],$A37),0)","v":270},{"$f":"IFERROR(SUMIFS(D_D[ADP],D_D[MT],1,D_D[CAT],D$1,D_D[EP],-1, D_D[LOC],$A37),0)","v":63.7},{"$f":"IFERROR(SUMIFS(D_D[INV],D_D[MT],2,D_D[CAT],TA_21,D_D[EP],-1, D_D[LOC],$A37),0)","v":6745},{"$f":"IFERROR(SUMIFS(D_D[BL],D_D[MT],2,D_D[CAT],TA_21,D_D[EP],-1, D_D[LOC],$A37),0)","v":2400},0.35581912527798371,{"$f":"IFERROR(SUMIFS(D_D[INV],D_D[MT],2,D_D[CAT],TA_22,D_D[EP],-1, D_D[LOC],$A37),0)","v":856},{"$f":"IFERROR(SUMIFS(D_D[BL],D_D[MT],2,D_D[CAT],TA_22,D_D[EP],-1, D_D[LOC],$A37),0)","v":194},0.22663551401869159,{"$f":"IFERROR(SUMIFS(D_D[INV],D_D[MT],2,D_D[CAT],TA_23,D_D[EP],-1, D_D[LOC],$A37),0)","v":32},{"$f":"IFERROR(SUMIFS(D_D[BL],D_D[MT],2,D_D[CAT],TA_23,D_D[EP],-1, D_D[LOC],$A37),0)","v":1},3.125E-2,{"$f":"IFERROR(SUMIFS(D_D[INV],D_D[MT],2,D_D[CAT],TA_24,D_D[EP],-1, D_D[LOC],$A37),0)","v":525},{"$f":"IFERROR(SUMIFS(D_D[BL],D_D[MT],2,D_D[CAT],TA_24,D_D[EP],-1, D_D[LOC],$A37),0)","v":259},0.49333333333333335,{"$f":"IFERROR(SUMIFS(D_D[INV],D_D[MT],2,D_D[CAT],TA_25,D_D[EP],-1, D_D[LOC],$A37),0)","v":41},{"$f":"IFERROR(SUMIFS(D_D[INV],D_D[MT],2,D_D[CAT],TA_26,D_D[EP],-1, D_D[LOC],$A37),0)","v":3},{"$f":"IFERROR(SUMIFS(D_D[INV],D_D[MT],7,D_D[CAT],2,D_D[EP],TA_20, D_D[LOC],$A37),0)","v":7}]
["320","Nashville",{"$f":"IFERROR(SUMIFS(D_D[INV],D_D[MT],1,D_D[CAT],TA_20,D_D[EP],-1, D_D[LOC],$A38),0)","v":749},{"$f":"IFERROR(SUMIFS(D_D[ADP],D_D[MT],1,D_D[CAT],D$1,D_D[EP],-1, D_D[LOC],$A38),0)","v":56.56},{"$f":"IFERROR(SUMIFS(D_D[INV],D_D[MT],2,D_D[CAT],TA_21,D_D[EP],-1, D_D[LOC],$A38),0)","v":7921},{"$f":"IFERROR(SUMIFS(D_D[BL],D_D[MT],2,D_D[CAT],TA_21,D_D[EP],-1, D_D[LOC],$A38),0)","v":2796},0.35298573412447926,{"$f":"IFERROR(SUMIFS(D_D[INV],D_D[MT],2,D_D[CAT],TA_22,D_D[EP],-1, D_D[LOC],$A38),0)","v":3843},{"$f":"IFERROR(SUMIFS(D_D[BL],D_D[MT],2,D_D[CAT],TA_22,D_D[EP],-1, D_D[LOC],$A38),0)","v":441},0.11475409836065574,{"$f":"IFERROR(SUMIFS(D_D[INV],D_D[MT],2,D_D[CAT],TA_23,D_D[EP],-1, D_D[LOC],$A38),0)","v":63},{"$f":"IFERROR(SUMIFS(D_D[BL],D_D[MT],2,D_D[CAT],TA_23,D_D[EP],-1, D_D[LOC],$A38),0)","v":6},9.5238095238095233E-2,{"$f":"IFERROR(SUMIFS(D_D[INV],D_D[MT],2,D_D[CAT],TA_24,D_D[EP],-1, D_D[LOC],$A38),0)","v":789},{"$f":"IFERROR(SUMIFS(D_D[BL],D_D[MT],2,D_D[CAT],TA_24,D_D[EP],-1, D_D[LOC],$A38),0)","v":437},0.55386565272496835,{"$f":"IFERROR(SUMIFS(D_D[INV],D_D[MT],2,D_D[CAT],TA_25,D_D[EP],-1, D_D[LOC],$A38),0)","v":38},{"$f":"IFERROR(SUMIFS(D_D[INV],D_D[MT],2,D_D[CAT],TA_26,D_D[EP],-1, D_D[LOC],$A38),0)","v":5},{"$f":"IFERROR(SUMIFS(D_D[INV],D_D[MT],7,D_D[CAT],2,D_D[EP],TA_20, D_D[LOC],$A38),0)","v":9}]
["321","New Orleans",{"$f":"IFERROR(SUMIFS(D_D[INV],D_D[MT],1,D_D[CAT],TA_20,D_D[EP],-1, D_D[LOC],$A39),0)","v":202},{"$f":"IFERROR(SUMIFS(D_D[ADP],D_D[MT],1,D_D[CAT],D$1,D_D[EP],-1, D_D[LOC],$A39),0)","v":56.71},{"$f":"IFERROR(SUMIFS(D_D[INV],D_D[MT],2,D_D[CAT],TA_21,D_D[EP],-1, D_D[LOC],$A39),0)","v":4877},{"$f":"IFERROR(SUMIFS(D_D[BL],D_D[MT],2,D_D[CAT],TA_21,D_D[EP],-1, D_D[LOC],$A39),0)","v":1419},0.290957555874513,{"$f":"IFERROR(SUMIFS(D_D[INV],D_D[MT],2,D_D[CAT],TA_22,D_D[EP],-1, D_D[LOC],$A39),0)","v":710},{"$f":"IFERROR(SUMIFS(D_D[BL],D_D[MT],2,D_D[CAT],TA_22,D_D[EP],-1, D_D[LOC],$A39),0)","v":146},0.20563380281690141,{"$f":"IFERROR(SUMIFS(D_D[INV],D_D[MT],2,D_D[CAT],TA_23,D_D[EP],-1, D_D[LOC],$A39),0)","v":17},{"$f":"IFERROR(SUMIFS(D_D[BL],D_D[MT],2,D_D[CAT],TA_23,D_D[EP],-1, D_D[LOC],$A39),0)","v":0},0,{"$f":"IFERROR(SUMIFS(D_D[INV],D_D[MT],2,D_D[CAT],TA_24,D_D[EP],-1, D_D[LOC],$A39),0)","v":403},{"$f":"IFERROR(SUMIFS(D_D[BL],D_D[MT],2,D_D[CAT],TA_24,D_D[EP],-1, D_D[LOC],$A39),0)","v":154},0.38213399503722084,{"$f":"IFERROR(SUMIFS(D_D[INV],D_D[MT],2,D_D[CAT],TA_25,D_D[EP],-1, D_D[LOC],$A39),0)","v":14},{"$f":"IFERROR(SUMIFS(D_D[INV],D_D[MT],2,D_D[CAT],TA_26,D_D[EP],-1, D_D[LOC],$A39),0)","v":7},{"$f":"IFERROR(SUMIFS(D_D[INV],D_D[MT],7,D_D[CAT],2,D_D[EP],TA_20, D_D[LOC],$A39),0)","v":2}]
["314","Roanoke",{"$f":"IFERROR(SUMIFS(D_D[INV],D_D[MT],1,D_D[CAT],TA_20,D_D[EP],-1, D_D[LOC],$A40),0)","v":595},{"$f":"IFERROR(SUMIFS(D_D[ADP],D_D[MT],1,D_D[CAT],D$1,D_D[EP],-1, D_D[LOC],$A40),0)","v":66.98},{"$f":"IFERROR(SUMIFS(D_D[INV],D_D[MT],2,D_D[CAT],TA_21,D_D[EP],-1, D_D[LOC],$A40),0)","v":13516},{"$f":"IFERROR(SUMIFS(D_D[BL],D_D[MT],2,D_D[CAT],TA_21,D_D[EP],-1, D_D[LOC],$A40),0)","v":4624},0.34211305119857949,{"$f":"IFERROR(SUMIFS(D_D[INV],D_D[MT],2,D_D[CAT],TA_22,D_D[EP],-1, D_D[LOC],$A40),0)","v":1572},{"$f":"IFERROR(SUMIFS(D_D[BL],D_D[MT],2,D_D[CAT],TA_22,D_D[EP],-1, D_D[LOC],$A40),0)","v":421},0.26781170483460559,{"$f":"IFERROR(SUMIFS(D_D[INV],D_D[MT],2,D_D[CAT],TA_23,D_D[EP],-1, D_D[LOC],$A40),0)","v":33},{"$f":"IFERROR(SUMIFS(D_D[BL],D_D[MT],2,D_D[CAT],TA_23,D_D[EP],-1, D_D[LOC],$A40),0)","v":0},0,{"$f":"IFERROR(SUMIFS(D_D[INV],D_D[MT],2,D_D[CAT],TA_24,D_D[EP],-1, D_D[LOC],$A40),0)","v":1767},{"$f":"IFERROR(SUMIFS(D_D[BL],D_D[MT],2,D_D[CAT],TA_24,D_D[EP],-1, D_D[LOC],$A40),0)","v":934},0.52857951329937747,{"$f":"IFERROR(SUMIFS(D_D[INV],D_D[MT],2,D_D[CAT],TA_25,D_D[EP],-1, D_D[LOC],$A40),0)","v":33},{"$f":"IFERROR(SUMIFS(D_D[INV],D_D[MT],2,D_D[CAT],TA_26,D_D[EP],-1, D_D[LOC],$A40),0)","v":4},{"$f":"IFERROR(SUMIFS(D_D[INV],D_D[MT],7,D_D[CAT],2,D_D[EP],TA_20, D_D[LOC],$A40),0)","v":4}]
["355","San Juan",{"$f":"IFERROR(SUMIFS(D_D[INV],D_D[MT],1,D_D[CAT],TA_20,D_D[EP],-1, D_D[LOC],$A41),0)","v":82},{"$f":"IFERROR(SUMIFS(D_D[ADP],D_D[MT],1,D_D[CAT],D$1,D_D[EP],-1, D_D[LOC],$A41),0)","v":42.65},{"$f":"IFERROR(SUMIFS(D_D[INV],D_D[MT],2,D_D[CAT],TA_21,D_D[EP],-1, D_D[LOC],$A41),0)","v":1733},{"$f":"IFERROR(SUMIFS(D_D[BL],D_D[MT],2,D_D[CAT],TA_21,D_D[EP],-1, D_D[LOC],$A41),0)","v":806},0.46508944027697635,{"$f":"IFERROR(SUMIFS(D_D[INV],D_D[MT],2,D_D[CAT],TA_22,D_D[EP],-1, D_D[LOC],$A41),0)","v":349},{"$f":"IFERROR(SUMIFS(D_D[BL],D_D[MT],2,D_D[CAT],TA_22,D_D[EP],-1, D_D[LOC],$A41),0)","v":101},0.28939828080229224,{"$f":"IFERROR(SUMIFS(D_D[INV],D_D[MT],2,D_D[CAT],TA_23,D_D[EP],-1, D_D[LOC],$A41),0)","v":10},{"$f":"IFERROR(SUMIFS(D_D[BL],D_D[MT],2,D_D[CAT],TA_23,D_D[EP],-1, D_D[LOC],$A41),0)","v":0},0,{"$f":"IFERROR(SUMIFS(D_D[INV],D_D[MT],2,D_D[CAT],TA_24,D_D[EP],-1, D_D[LOC],$A41),0)","v":200},{"$f":"IFERROR(SUMIFS(D_D[BL],D_D[MT],2,D_D[CAT],TA_24,D_D[EP],-1, D_D[LOC],$A41),0)","v":143},0.71499999999999997,{"$f":"IFERROR(SUMIFS(D_D[INV],D_D[MT],2,D_D[CAT],TA_25,D_D[EP],-1, D_D[LOC],$A41),0)","v":9},{"$f":"IFERROR(SUMIFS(D_D[INV],D_D[MT],2,D_D[CAT],TA_26,D_D[EP],-1, D_D[LOC],$A41),0)","v":1},{"$f":"IFERROR(SUMIFS(D_D[INV],D_D[MT],7,D_D[CAT],2,D_D[EP],TA_20, D_D[LOC],$A41),0)","v":9}]
["317","St. Petersburg",{"$f":"IFERROR(SUMIFS(D_D[INV],D_D[MT],1,D_D[CAT],TA_20,D_D[EP],-1, D_D[LOC],$A42),0)","v":857},{"$f":"IFERROR(SUMIFS(D_D[ADP],D_D[MT],1,D_D[CAT],D$1,D_D[EP],-1, D_D[LOC],$A42),0)","v":84.59},{"$f":"IFERROR(SUMIFS(D_D[INV],D_D[MT],2,D_D[CAT],TA_21,D_D[EP],-1, D_D[LOC],$A42),0)","v":25883},{"$f":"IFERROR(SUMIFS(D_D[BL],D_D[MT],2,D_D[CAT],TA_21,D_D[EP],-1, D_D[LOC],$A42),0)","v":9806},0.37885871035042307,{"$f":"IFERROR(SUMIFS(D_D[INV],D_D[MT],2,D_D[CAT],TA_22,D_D[EP],-1, D_D[LOC],$A42),0)","v":2665},{"$f":"IFERROR(SUMIFS(D_D[BL],D_D[MT],2,D_D[CAT],TA_22,D_D[EP],-1, D_D[LOC],$A42),0)","v":723},0.27129455909943717,{"$f":"IFERROR(SUMIFS(D_D[INV],D_D[MT],2,D_D[CAT],TA_23,D_D[EP],-1, D_D[LOC],$A42),0)","v":155},{"$f":"IFERROR(SUMIFS(D_D[BL],D_D[MT],2,D_D[CAT],TA_23,D_D[EP],-1, D_D[LOC],$A42),0)","v":22},0.14193548387096774,{"$f":"IFERROR(SUMIFS(D_D[INV],D_D[MT],2,D_D[CAT],TA_24,D_D[EP],-1, D_D[LOC],$A42),0)","v":5497},{"$f":"IFERROR(SUMIFS(D_D[BL],D_D[MT],2,D_D[CAT],TA_24,D_D[EP],-1, D_D[LOC],$A42),0)","v":2414},0.43914862652355829,{"$f":"IFERROR(SUMIFS(D_D[INV],D_D[MT],2,D_D[CAT],TA_25,D_D[EP],-1, D_D[LOC],$A42),0)","v":126},{"$f":"IFERROR(SUMIFS(D_D[INV],D_D[MT],2,D_D[CAT],TA_26,D_D[EP],-1, D_D[LOC],$A42),0)","v":49},{"$f":"IFERROR(SUMIFS(D_D[INV],D_D[MT],7,D_D[CAT],2,D_D[EP],TA_20, D_D[LOC],$A42),0)","v":51}]
["318","Winston-Salem",{"$f":"IFERROR(SUMIFS(D_D[INV],D_D[MT],1,D_D[CAT],TA_20,D_D[EP],-1, D_D[LOC],$A43),0)","v":1256},{"$f":"IFERROR(SUMIFS(D_D[ADP],D_D[MT],1,D_D[CAT],D$1,D_D[EP],-1, D_D[LOC],$A43),0)","v":61.33},{"$f":"IFERROR(SUMIFS(D_D[INV],D_D[MT],2,D_D[CAT],TA_21,D_D[EP],-1, D_D[LOC],$A43),0)","v":15039},{"$f":"IFERROR(SUMIFS(D_D[BL],D_D[MT],2,D_D[CAT],TA_21,D_D[EP],-1, D_D[LOC],$A43),0)","v":4953},0.329343706363455,{"$f":"IFERROR(SUMIFS(D_D[INV],D_D[MT],2,D_D[CAT],TA_22,D_D[EP],-1, D_D[LOC],$A43),0)","v":5670},{"$f":"IFERROR(SUMIFS(D_D[BL],D_D[MT],2,D_D[CAT],TA_22,D_D[EP],-1, D_D[LOC],$A43),0)","v":939},0.16560846560846562,{"$f":"IFERROR(SUMIFS(D_D[INV],D_D[MT],2,D_D[CAT],TA_23,D_D[EP],-1, D_D[LOC],$A43),0)","v":67},{"$f":"IFERROR(SUMIFS(D_D[BL],D_D[MT],2,D_D[CAT],TA_23,D_D[EP],-1, D_D[LOC],$A43),0)","v":0},0,{"$f":"IFERROR(SUMIFS(D_D[INV],D_D[MT],2,D_D[CAT],TA_24,D_D[EP],-1, D_D[LOC],$A43),0)","v":1056},{"$f":"IFERROR(SUMIFS(D_D[BL],D_D[MT],2,D_D[CAT],TA_24,D_D[EP],-1, D_D[LOC],$A43),0)","v":608},0.5757575757575758,{"$f":"IFERROR(SUMIFS(D_D[INV],D_D[MT],2,D_D[CAT],TA_25,D_D[EP],-1, D_D[LOC],$A43),0)","v":86},{"$f":"IFERROR(SUMIFS(D_D[INV],D_D[MT],2,D_D[CAT],TA_26,D_D[EP],-1, D_D[LOC],$A43),0)","v":17},{"$f":"IFERROR(SUMIFS(D_D[INV],D_D[MT],7,D_D[CAT],2,D_D[EP],TA_20, D_D[LOC],$A43),0)","v":11}]
[384,"Continental",{"$f":"IFERROR(SUMIFS(D_D[INV],D_D[MT],1,D_D[CAT],TA_20,D_D[EP],-1, D_D[LOC],$A44),0)","v":5415},{"$f":"IFERROR(SUMIFS(D_D[ADP],D_D[MT],1,D_D[CAT],D$1,D_D[EP],-1, D_D[LOC],$A44),0)","v":70.180000000000007},{"$f":"IFERROR(SUMIFS(D_D[INV],D_D[MT],2,D_D[CAT],TA_21,D_D[EP],-1, D_D[LOC],$A44),0)","v":64775},{"$f":"IFERROR(SUMIFS(D_D[BL],D_D[MT],2,D_D[CAT],TA_21,D_D[EP],-1, D_D[LOC],$A44),0)","v":23137},0.35719027402547276,{"$f":"IFERROR(SUMIFS(D_D[INV],D_D[MT],2,D_D[CAT],TA_22,D_D[EP],-1, D_D[LOC],$A44),0)","v":18507},{"$f":"IFERROR(SUMIFS(D_D[BL],D_D[MT],2,D_D[CAT],TA_22,D_D[EP],-1, D_D[LOC],$A44),0)","v":3331},0.17998595126168476,{"$f":"IFERROR(SUMIFS(D_D[INV],D_D[MT],2,D_D[CAT],TA_23,D_D[EP],-1, D_D[LOC],$A44),0)","v":322},{"$f":"IFERROR(SUMIFS(D_D[BL],D_D[MT],2,D_D[CAT],TA_23,D_D[EP],-1, D_D[LOC],$A44),0)","v":16},4.9689440993788817E-2,{"$f":"IFERROR(SUMIFS(D_D[INV],D_D[MT],2,D_D[CAT],TA_24,D_D[EP],-1, D_D[LOC],$A44),0)","v":10158},{"$f":"IFERROR(SUMIFS(D_D[BL],D_D[MT],2,D_D[CAT],TA_24,D_D[EP],-1, D_D[LOC],$A44),0)","v":5900},0.58082299665288439,{"$f":"IFERROR(SUMIFS(D_D[INV],D_D[MT],2,D_D[CAT],TA_25,D_D[EP],-1, D_D[LOC],$A44),0)","v":845},{"$f":"IFERROR(SUMIFS(D_D[INV],D_D[MT],2,D_D[CAT],TA_26,D_D[EP],-1, D_D[LOC],$A44),0)","v":1351},{"$f":"IFERROR(SUMIFS(D_D[INV],D_D[MT],7,D_D[CAT],2,D_D[EP],TA_20, D_D[LOC],$A44),0)","v":230}]
["442","Cheyenne ",{"$f":"IFERROR(SUMIFS(D_D[INV],D_D[MT],1,D_D[CAT],TA_20,D_D[EP],-1, D_D[LOC],$A45),0)","v":24},{"$f":"IFERROR(SUMIFS(D_D[ADP],D_D[MT],1,D_D[CAT],D$1,D_D[EP],-1, D_D[LOC],$A45),0)","v":75.83},{"$f":"IFERROR(SUMIFS(D_D[INV],D_D[MT],2,D_D[CAT],TA_21,D_D[EP],-1, D_D[LOC],$A45),0)","v":826},{"$f":"IFERROR(SUMIFS(D_D[BL],D_D[MT],2,D_D[CAT],TA_21,D_D[EP],-1, D_D[LOC],$A45),0)","v":303},0.36682808716707022,{"$f":"IFERROR(SUMIFS(D_D[INV],D_D[MT],2,D_D[CAT],TA_22,D_D[EP],-1, D_D[LOC],$A45),0)","v":104},{"$f":"IFERROR(SUMIFS(D_D[BL],D_D[MT],2,D_D[CAT],TA_22,D_D[EP],-1, D_D[LOC],$A45),0)","v":28},0.26923076923076922,{"$f":"IFERROR(SUMIFS(D_D[INV],D_D[MT],2,D_D[CAT],TA_23,D_D[EP],-1, D_D[LOC],$A45),0)","v":5},{"$f":"IFERROR(SUMIFS(D_D[BL],D_D[MT],2,D_D[CAT],TA_23,D_D[EP],-1, D_D[LOC],$A45),0)","v":0},0,{"$f":"IFERROR(SUMIFS(D_D[INV],D_D[MT],2,D_D[CAT],TA_24,D_D[EP],-1, D_D[LOC],$A45),0)","v":101},{"$f":"IFERROR(SUMIFS(D_D[BL],D_D[MT],2,D_D[CAT],TA_24,D_D[EP],-1, D_D[LOC],$A45),0)","v":74},0.73267326732673266,{"$f":"IFERROR(SUMIFS(D_D[INV],D_D[MT],2,D_D[CAT],TA_25,D_D[EP],-1, D_D[LOC],$A45),0)","v":3},{"$f":"IFERROR(SUMIFS(D_D[INV],D_D[MT],2,D_D[CAT],TA_26,D_D[EP],-1, D_D[LOC],$A45),0)","v":1},{"$f":"IFERROR(SUMIFS(D_D[INV],D_D[MT],7,D_D[CAT],2,D_D[EP],TA_20, D_D[LOC],$A45),0)","v":2}]
["339","Denver",{"$f":"IFERROR(SUMIFS(D_D[INV],D_D[MT],1,D_D[CAT],TA_20,D_D[EP],-1, D_D[LOC],$A46),0)","v":214},{"$f":"IFERROR(SUMIFS(D_D[ADP],D_D[MT],1,D_D[CAT],D$1,D_D[EP],-1, D_D[LOC],$A46),0)","v":53.17},{"$f":"IFERROR(SUMIFS(D_D[INV],D_D[MT],2,D_D[CAT],TA_21,D_D[EP],-1, D_D[LOC],$A46),0)","v":5762},{"$f":"IFERROR(SUMIFS(D_D[BL],D_D[MT],2,D_D[CAT],TA_21,D_D[EP],-1, D_D[LOC],$A46),0)","v":1718},0.29816036098576881,{"$f":"IFERROR(SUMIFS(D_D[INV],D_D[MT],2,D_D[CAT],TA_22,D_D[EP],-1, D_D[LOC],$A46),0)","v":1016},{"$f":"IFERROR(SUMIFS(D_D[BL],D_D[MT],2,D_D[CAT],TA_22,D_D[EP],-1, D_D[LOC],$A46),0)","v":211},0.2076771653543307,{"$f":"IFERROR(SUMIFS(D_D[INV],D_D[MT],2,D_D[CAT],TA_23,D_D[EP],-1, D_D[LOC],$A46),0)","v":20},{"$f":"IFERROR(SUMIFS(D_D[BL],D_D[MT],2,D_D[CAT],TA_23,D_D[EP],-1, D_D[LOC],$A46),0)","v":0},0,{"$f":"IFERROR(SUMIFS(D_D[INV],D_D[MT],2,D_D[CAT],TA_24,D_D[EP],-1, D_D[LOC],$A46),0)","v":367},{"$f":"IFERROR(SUMIFS(D_D[BL],D_D[MT],2,D_D[CAT],TA_24,D_D[EP],-1, D_D[LOC],$A46),0)","v":255},0.69482288828337879,{"$f":"IFERROR(SUMIFS(D_D[INV],D_D[MT],2,D_D[CAT],TA_25,D_D[EP],-1, D_D[LOC],$A46),0)","v":21},{"$f":"IFERROR(SUMIFS(D_D[INV],D_D[MT],2,D_D[CAT],TA_26,D_D[EP],-1, D_D[LOC],$A46),0)","v":0},{"$f":"IFERROR(SUMIFS(D_D[INV],D_D[MT],7,D_D[CAT],2,D_D[EP],TA_20, D_D[LOC],$A46),0)","v":14}]
["333","Des Moines",{"$f":"IFERROR(SUMIFS(D_D[INV],D_D[MT],1,D_D[CAT],TA_20,D_D[EP],-1, D_D[LOC],$A47),0)","v":91},{"$f":"IFERROR(SUMIFS(D_D[ADP],D_D[MT],1,D_D[CAT],D$1,D_D[EP],-1, D_D[LOC],$A47),0)","v":121.86},{"$f":"IFERROR(SUMIFS(D_D[INV],D_D[MT],2,D_D[CAT],TA_21,D_D[EP],-1, D_D[LOC],$A47),0)","v":2102},{"$f":"IFERROR(SUMIFS(D_D[BL],D_D[MT],2,D_D[CAT],TA_21,D_D[EP],-1, D_D[LOC],$A47),0)","v":618},0.29400570884871552,{"$f":"IFERROR(SUMIFS(D_D[INV],D_D[MT],2,D_D[CAT],TA_22,D_D[EP],-1, D_D[LOC],$A47),0)","v":423},{"$f":"IFERROR(SUMIFS(D_D[BL],D_D[MT],2,D_D[CAT],TA_22,D_D[EP],-1, D_D[LOC],$A47),0)","v":116},0.27423167848699764,{"$f":"IFERROR(SUMIFS(D_D[INV],D_D[MT],2,D_D[CAT],TA_23,D_D[EP],-1, D_D[LOC],$A47),0)","v":19},{"$f":"IFERROR(SUMIFS(D_D[BL],D_D[MT],2,D_D[CAT],TA_23,D_D[EP],-1, D_D[LOC],$A47),0)","v":0},0,{"$f":"IFERROR(SUMIFS(D_D[INV],D_D[MT],2,D_D[CAT],TA_24,D_D[EP],-1, D_D[LOC],$A47),0)","v":228},{"$f":"IFERROR(SUMIFS(D_D[BL],D_D[MT],2,D_D[CAT],TA_24,D_D[EP],-1, D_D[LOC],$A47),0)","v":154},0.67543859649122806,{"$f":"IFERROR(SUMIFS(D_D[INV],D_D[MT],2,D_D[CAT],TA_25,D_D[EP],-1, D_D[LOC],$A47),0)","v":19},{"$f":"IFERROR(SUMIFS(D_D[INV],D_D[MT],2,D_D[CAT],TA_26,D_D[EP],-1, D_D[LOC],$A47),0)","v":2},{"$f":"IFERROR(SUMIFS(D_D[INV],D_D[MT],7,D_D[CAT],2,D_D[EP],TA_20, D_D[LOC],$A47),0)","v":4}]
["437","Fargo",{"$f":"IFERROR(SUMIFS(D_D[INV],D_D[MT],1,D_D[CAT],TA_20,D_D[EP],-1, D_D[LOC],$A48),0)","v":38},{"$f":"IFERROR(SUMIFS(D_D[ADP],D_D[MT],1,D_D[CAT],D$1,D_D[EP],-1, D_D[LOC],$A48),0)","v":74.37},{"$f":"IFERROR(SUMIFS(D_D[INV],D_D[MT],2,D_D[CAT],TA_21,D_D[EP],-1, D_D[LOC],$A48),0)","v":953},{"$f":"IFERROR(SUMIFS(D_D[BL],D_D[MT],2,D_D[CAT],TA_21,D_D[EP],-1, D_D[LOC],$A48),0)","v":316},0.33158447009443859,{"$f":"IFERROR(SUMIFS(D_D[INV],D_D[MT],2,D_D[CAT],TA_22,D_D[EP],-1, D_D[LOC],$A48),0)","v":165},{"$f":"IFERROR(SUMIFS(D_D[BL],D_D[MT],2,D_D[CAT],TA_22,D_D[EP],-1, D_D[LOC],$A48),0)","v":31},0.18787878787878787,{"$f":"IFERROR(SUMIFS(D_D[INV],D_D[MT],2,D_D[CAT],TA_23,D_D[EP],-1, D_D[LOC],$A48),0)","v":8},{"$f":"IFERROR(SUMIFS(D_D[BL],D_D[MT],2,D_D[CAT],TA_23,D_D[EP],-1, D_D[LOC],$A48),0)","v":0},0,{"$f":"IFERROR(SUMIFS(D_D[INV],D_D[MT],2,D_D[CAT],TA_24,D_D[EP],-1, D_D[LOC],$A48),0)","v":157},{"$f":"IFERROR(SUMIFS(D_D[BL],D_D[MT],2,D_D[CAT],TA_24,D_D[EP],-1, D_D[LOC],$A48),0)","v":118},0.75159235668789814,{"$f":"IFERROR(SUMIFS(D_D[INV],D_D[MT],2,D_D[CAT],TA_25,D_D[EP],-1, D_D[LOC],$A48),0)","v":12},{"$f":"IFERROR(SUMIFS(D_D[INV],D_D[MT],2,D_D[CAT],TA_26,D_D[EP],-1, D_D[LOC],$A48),0)","v":3},{"$f":"IFERROR(SUMIFS(D_D[INV],D_D[MT],7,D_D[CAT],2,D_D[EP],TA_20, D_D[LOC],$A48),0)","v":2}]
["436","Fort Harrison ",{"$f":"IFERROR(SUMIFS(D_D[INV],D_D[MT],1,D_D[CAT],TA_20,D_D[EP],-1, D_D[LOC],$A49),0)","v":72},{"$f":"IFERROR(SUMIFS(D_D[ADP],D_D[MT],1,D_D[CAT],D$1,D_D[EP],-1, D_D[LOC],$A49),0)","v":125.68},{"$f":"IFERROR(SUMIFS(D_D[INV],D_D[MT],2,D_D[CAT],TA_21,D_D[EP],-1, D_D[LOC],$A49),0)","v":1406},{"$f":"IFERROR(SUMIFS(D_D[BL],D_D[MT],2,D_D[CAT],TA_21,D_D[EP],-1, D_D[LOC],$A49),0)","v":549},0.39046941678520625,{"$f":"IFERROR(SUMIFS(D_D[INV],D_D[MT],2,D_D[CAT],TA_22,D_D[EP],-1, D_D[LOC],$A49),0)","v":258},{"$f":"IFERROR(SUMIFS(D_D[BL],D_D[MT],2,D_D[CAT],TA_22,D_D[EP],-1, D_D[LOC],$A49),0)","v":69},0.26744186046511625,{"$f":"IFERROR(SUMIFS(D_D[INV],D_D[MT],2,D_D[CAT],TA_23,D_D[EP],-1, D_D[LOC],$A49),0)","v":7},{"$f":"IFERROR(SUMIFS(D_D[BL],D_D[MT],2,D_D[CAT],TA_23,D_D[EP],-1, D_D[LOC],$A49),0)","v":1},0.14285714285714285,{"$f":"IFERROR(SUMIFS(D_D[INV],D_D[MT],2,D_D[CAT],TA_24,D_D[EP],-1, D_D[LOC],$A49),0)","v":191},{"$f":"IFERROR(SUMIFS(D_D[BL],D_D[MT],2,D_D[CAT],TA_24,D_D[EP],-1, D_D[LOC],$A49),0)","v":135},0.70680628272251311,{"$f":"IFERROR(SUMIFS(D_D[INV],D_D[MT],2,D_D[CAT],TA_25,D_D[EP],-1, D_D[LOC],$A49),0)","v":8},{"$f":"IFERROR(SUMIFS(D_D[INV],D_D[MT],2,D_D[CAT],TA_26,D_D[EP],-1, D_D[LOC],$A49),0)","v":4},{"$f":"IFERROR(SUMIFS(D_D[INV],D_D[MT],7,D_D[CAT],2,D_D[EP],TA_20, D_D[LOC],$A49),0)","v":4}]
["362","Houston",{"$f":"IFERROR(SUMIFS(D_D[INV],D_D[MT],1,D_D[CAT],TA_20,D_D[EP],-1, D_D[LOC],$A50),0)","v":728},{"$f":"IFERROR(SUMIFS(D_D[ADP],D_D[MT],1,D_D[CAT],D$1,D_D[EP],-1, D_D[LOC],$A50),0)","v":66.47},{"$f":"IFERROR(SUMIFS(D_D[INV],D_D[MT],2,D_D[CAT],TA_21,D_D[EP],-1, D_D[LOC],$A50),0)","v":17160},{"$f":"IFERROR(SUMIFS(D_D[BL],D_D[MT],2,D_D[CAT],TA_21,D_D[EP],-1, D_D[LOC],$A50),0)","v":6153},0.35856643356643358,{"$f":"IFERROR(SUMIFS(D_D[INV],D_D[MT],2,D_D[CAT],TA_22,D_D[EP],-1, D_D[LOC],$A50),0)","v":2010},{"$f":"IFERROR(SUMIFS(D_D[BL],D_D[MT],2,D_D[CAT],TA_22,D_D[EP],-1, D_D[LOC],$A50),0)","v":434},0.21592039800995025,{"$f":"IFERROR(SUMIFS(D_D[INV],D_D[MT],2,D_D[CAT],TA_23,D_D[EP],-1, D_D[LOC],$A50),0)","v":73},{"$f":"IFERROR(SUMIFS(D_D[BL],D_D[MT],2,D_D[CAT],TA_23,D_D[EP],-1, D_D[LOC],$A50),0)","v":1},1.3698630136986301E-2,{"$f":"IFERROR(SUMIFS(D_D[INV],D_D[MT],2,D_D[CAT],TA_24,D_D[EP],-1, D_D[LOC],$A50),0)","v":1489},{"$f":"IFERROR(SUMIFS(D_D[BL],D_D[MT],2,D_D[CAT],TA_24,D_D[EP],-1, D_D[LOC],$A50),0)","v":892},0.5990597716588314,{"$f":"IFERROR(SUMIFS(D_D[INV],D_D[MT],2,D_D[CAT],TA_25,D_D[EP],-1, D_D[LOC],$A50),0)","v":39},{"$f":"IFERROR(SUMIFS(D_D[INV],D_D[MT],2,D_D[CAT],TA_26,D_D[EP],-1, D_D[LOC],$A50),0)","v":4},{"$f":"IFERROR(SUMIFS(D_D[INV],D_D[MT],7,D_D[CAT],2,D_D[EP],TA_20, D_D[LOC],$A50),0)","v":12}]
["334","Lincoln",{"$f":"IFERROR(SUMIFS(D_D[INV],D_D[MT],1,D_D[CAT],TA_20,D_D[EP],-1, D_D[LOC],$A51),0)","v":1247},{"$f":"IFERROR(SUMIFS(D_D[ADP],D_D[MT],1,D_D[CAT],D$1,D_D[EP],-1, D_D[LOC],$A51),0)","v":53.75},{"$f":"IFERROR(SUMIFS(D_D[INV],D_D[MT],2,D_D[CAT],TA_21,D_D[EP],-1, D_D[LOC],$A51),0)","v":2187},{"$f":"IFERROR(SUMIFS(D_D[BL],D_D[MT],2,D_D[CAT],TA_21,D_D[EP],-1, D_D[LOC],$A51),0)","v":802},0.36671239140374945,{"$f":"IFERROR(SUMIFS(D_D[INV],D_D[MT],2,D_D[CAT],TA_22,D_D[EP],-1, D_D[LOC],$A51),0)","v":1559},{"$f":"IFERROR(SUMIFS(D_D[BL],D_D[MT],2,D_D[CAT],TA_22,D_D[EP],-1, D_D[LOC],$A51),0)","v":251},0.16100064143681847,{"$f":"IFERROR(SUMIFS(D_D[INV],D_D[MT],2,D_D[CAT],TA_23,D_D[EP],-1, D_D[LOC],$A51),0)","v":15},{"$f":"IFERROR(SUMIFS(D_D[BL],D_D[MT],2,D_D[CAT],TA_23,D_D[EP],-1, D_D[LOC],$A51),0)","v":6},0.4,{"$f":"IFERROR(SUMIFS(D_D[INV],D_D[MT],2,D_D[CAT],TA_24,D_D[EP],-1, D_D[LOC],$A51),0)","v":786},{"$f":"IFERROR(SUMIFS(D_D[BL],D_D[MT],2,D_D[CAT],TA_24,D_D[EP],-1, D_D[LOC],$A51),0)","v":273},0.34732824427480918,{"$f":"IFERROR(SUMIFS(D_D[INV],D_D[MT],2,D_D[CAT],TA_25,D_D[EP],-1, D_D[LOC],$A51),0)","v":11},{"$f":"IFERROR(SUMIFS(D_D[INV],D_D[MT],2,D_D[CAT],TA_26,D_D[EP],-1, D_D[LOC],$A51),0)","v":7},{"$f":"IFERROR(SUMIFS(D_D[INV],D_D[MT],7,D_D[CAT],2,D_D[EP],TA_20, D_D[LOC],$A51),0)","v":2}]
["351","Muskogee",{"$f":"IFERROR(SUMIFS(D_D[INV],D_D[MT],1,D_D[CAT],TA_20,D_D[EP],-1, D_D[LOC],$A52),0)","v":636},{"$f":"IFERROR(SUMIFS(D_D[ADP],D_D[MT],1,D_D[CAT],D$1,D_D[EP],-1, D_D[LOC],$A52),0)","v":101.75},{"$f":"IFERROR(SUMIFS(D_D[INV],D_D[MT],2,D_D[CAT],TA_21,D_D[EP],-1, D_D[LOC],$A52),0)","v":5373},{"$f":"IFERROR(SUMIFS(D_D[BL],D_D[MT],2,D_D[CAT],TA_21,D_D[EP],-1, D_D[LOC],$A52),0)","v":1975},0.36757863391029222,{"$f":"IFERROR(SUMIFS(D_D[INV],D_D[MT],2,D_D[CAT],TA_22,D_D[EP],-1, D_D[LOC],$A52),0)","v":3739},{"$f":"IFERROR(SUMIFS(D_D[BL],D_D[MT],2,D_D[CAT],TA_22,D_D[EP],-1, D_D[LOC],$A52),0)","v":504},0.13479539983952929,{"$f":"IFERROR(SUMIFS(D_D[INV],D_D[MT],2,D_D[CAT],TA_23,D_D[EP],-1, D_D[LOC],$A52),0)","v":46},{"$f":"IFERROR(SUMIFS(D_D[BL],D_D[MT],2,D_D[CAT],TA_23,D_D[EP],-1, D_D[LOC],$A52),0)","v":0},0,{"$f":"IFERROR(SUMIFS(D_D[INV],D_D[MT],2,D_D[CAT],TA_24,D_D[EP],-1, D_D[LOC],$A52),0)","v":702},{"$f":"IFERROR(SUMIFS(D_D[BL],D_D[MT],2,D_D[CAT],TA_24,D_D[EP],-1, D_D[LOC],$A52),0)","v":427},0.60826210826210825,{"$f":"IFERROR(SUMIFS(D_D[INV],D_D[MT],2,D_D[CAT],TA_25,D_D[EP],-1, D_D[LOC],$A52),0)","v":23},{"$f":"IFERROR(SUMIFS(D_D[INV],D_D[MT],2,D_D[CAT],TA_26,D_D[EP],-1, D_D[LOC],$A52),0)","v":16},{"$f":"IFERROR(SUMIFS(D_D[INV],D_D[MT],7,D_D[CAT],2,D_D[EP],TA_20, D_D[LOC],$A52),0)","v":4}]
["438","Sioux Falls",{"$f":"IFERROR(SUMIFS(D_D[INV],D_D[MT],1,D_D[CAT],TA_20,D_D[EP],-1, D_D[LOC],$A53),0)","v":72},{"$f":"IFERROR(SUMIFS(D_D[ADP],D_D[MT],1,D_D[CAT],D$1,D_D[EP],-1, D_D[LOC],$A53),0)","v":72.72},{"$f":"IFERROR(SUMIFS(D_D[INV],D_D[MT],2,D_D[CAT],TA_21,D_D[EP],-1, D_D[LOC],$A53),0)","v":1250},{"$f":"IFERROR(SUMIFS(D_D[BL],D_D[MT],2,D_D[CAT],TA_21,D_D[EP],-1, D_D[LOC],$A53),0)","v":484},0.38719999999999999,{"$f":"IFERROR(SUMIFS(D_D[INV],D_D[MT],2,D_D[CAT],TA_22,D_D[EP],-1, D_D[LOC],$A53),0)","v":351},{"$f":"IFERROR(SUMIFS(D_D[BL],D_D[MT],2,D_D[CAT],TA_22,D_D[EP],-1, D_D[LOC],$A53),0)","v":85},0.24216524216524216,{"$f":"IFERROR(SUMIFS(D_D[INV],D_D[MT],2,D_D[CAT],TA_23,D_D[EP],-1, D_D[LOC],$A53),0)","v":5},{"$f":"IFERROR(SUMIFS(D_D[BL],D_D[MT],2,D_D[CAT],TA_23,D_D[EP],-1, D_D[LOC],$A53),0)","v":0},0,{"$f":"IFERROR(SUMIFS(D_D[INV],D_D[MT],2,D_D[CAT],TA_24,D_D[EP],-1, D_D[LOC],$A53),0)","v":121},{"$f":"IFERROR(SUMIFS(D_D[BL],D_D[MT],2,D_D[CAT],TA_24,D_D[EP],-1, D_D[LOC],$A53),0)","v":89},0.73553719008264462,{"$f":"IFERROR(SUMIFS(D_D[INV],D_D[MT],2,D_D[CAT],TA_25,D_D[EP],-1, D_D[LOC],$A53),0)","v":5},{"$f":"IFERROR(SUMIFS(D_D[INV],D_D[MT],2,D_D[CAT],TA_26,D_D[EP],-1, D_D[LOC],$A53),0)","v":2},{"$f":"IFERROR(SUMIFS(D_D[INV],D_D[MT],7,D_D[CAT],2,D_D[EP],TA_20, D_D[LOC],$A53),0)","v":1}]
["335","St. Paul",{"$f":"IFERROR(SUMIFS(D_D[INV],D_D[MT],1,D_D[CAT],TA_20,D_D[EP],-1, D_D[LOC],$A54),0)","v":1073},{"$f":"IFERROR(SUMIFS(D_D[ADP],D_D[MT],1,D_D[CAT],D$1,D_D[EP],-1, D_D[LOC],$A54),0)","v":70.95},{"$f":"IFERROR(SUMIFS(D_D[INV],D_D[MT],2,D_D[CAT],TA_21,D_D[EP],-1, D_D[LOC],$A54),0)","v":6611},{"$f":"IFERROR(SUMIFS(D_D[BL],D_D[MT],2,D_D[CAT],TA_21,D_D[EP],-1, D_D[LOC],$A54),0)","v":2909},0.44002420208743004,{"$f":"IFERROR(SUMIFS(D_D[INV],D_D[MT],2,D_D[CAT],TA_22,D_D[EP],-1, D_D[LOC],$A54),0)","v":5623},{"$f":"IFERROR(SUMIFS(D_D[BL],D_D[MT],2,D_D[CAT],TA_22,D_D[EP],-1, D_D[LOC],$A54),0)","v":696},0.12377734305530855,{"$f":"IFERROR(SUMIFS(D_D[INV],D_D[MT],2,D_D[CAT],TA_23,D_D[EP],-1, D_D[LOC],$A54),0)","v":48},{"$f":"IFERROR(SUMIFS(D_D[BL],D_D[MT],2,D_D[CAT],TA_23,D_D[EP],-1, D_D[LOC],$A54),0)","v":5},0.10416666666666667,{"$f":"IFERROR(SUMIFS(D_D[INV],D_D[MT],2,D_D[CAT],TA_24,D_D[EP],-1, D_D[LOC],$A54),0)","v":2642},{"$f":"IFERROR(SUMIFS(D_D[BL],D_D[MT],2,D_D[CAT],TA_24,D_D[EP],-1, D_D[LOC],$A54),0)","v":1685},0.63777441332323992,{"$f":"IFERROR(SUMIFS(D_D[INV],D_D[MT],2,D_D[CAT],TA_25,D_D[EP],-1, D_D[LOC],$A54),0)","v":602},{"$f":"IFERROR(SUMIFS(D_D[INV],D_D[MT],2,D_D[CAT],TA_26,D_D[EP],-1, D_D[LOC],$A54),0)","v":0},{"$f":"IFERROR(SUMIFS(D_D[INV],D_D[MT],7,D_D[CAT],2,D_D[EP],TA_20, D_D[LOC],$A54),0)","v":178}]
["349","Waco",{"$f":"IFERROR(SUMIFS(D_D[INV],D_D[MT],1,D_D[CAT],TA_20,D_D[EP],-1, D_D[LOC],$A55),0)","v":1120},{"$f":"IFERROR(SUMIFS(D_D[ADP],D_D[MT],1,D_D[CAT],D$1,D_D[EP],-1, D_D[LOC],$A55),0)","v":67.790000000000006},{"$f":"IFERROR(SUMIFS(D_D[INV],D_D[MT],2,D_D[CAT],TA_21,D_D[EP],-1, D_D[LOC],$A55),0)","v":18568},{"$f":"IFERROR(SUMIFS(D_D[BL],D_D[MT],2,D_D[CAT],TA_21,D_D[EP],-1, D_D[LOC],$A55),0)","v":6415},0.34548685911245153,{"$f":"IFERROR(SUMIFS(D_D[INV],D_D[MT],2,D_D[CAT],TA_22,D_D[EP],-1, D_D[LOC],$A55),0)","v":2814},{"$f":"IFERROR(SUMIFS(D_D[BL],D_D[MT],2,D_D[CAT],TA_22,D_D[EP],-1, D_D[LOC],$A55),0)","v":781},0.27754086709310588,{"$f":"IFERROR(SUMIFS(D_D[INV],D_D[MT],2,D_D[CAT],TA_23,D_D[EP],-1, D_D[LOC],$A55),0)","v":60},{"$f":"IFERROR(SUMIFS(D_D[BL],D_D[MT],2,D_D[CAT],TA_23,D_D[EP],-1, D_D[LOC],$A55),0)","v":3},0.05,{"$f":"IFERROR(SUMIFS(D_D[INV],D_D[MT],2,D_D[CAT],TA_24,D_D[EP],-1, D_D[LOC],$A55),0)","v":3179},{"$f":"IFERROR(SUMIFS(D_D[BL],D_D[MT],2,D_D[CAT],TA_24,D_D[EP],-1, D_D[LOC],$A55),0)","v":1665},0.52374960679458948,{"$f":"IFERROR(SUMIFS(D_D[INV],D_D[MT],2,D_D[CAT],TA_25,D_D[EP],-1, D_D[LOC],$A55),0)","v":85},{"$f":"IFERROR(SUMIFS(D_D[INV],D_D[MT],2,D_D[CAT],TA_26,D_D[EP],-1, D_D[LOC],$A55),0)","v":1309},{"$f":"IFERROR(SUMIFS(D_D[INV],D_D[MT],7,D_D[CAT],2,D_D[EP],TA_20, D_D[LOC],$A55),0)","v":4}]
["452","Wichita",{"$f":"IFERROR(SUMIFS(D_D[INV],D_D[MT],1,D_D[CAT],TA_20,D_D[EP],-1, D_D[LOC],$A56),0)","v":100},{"$f":"IFERROR(SUMIFS(D_D[ADP],D_D[MT],1,D_D[CAT],D$1,D_D[EP],-1, D_D[LOC],$A56),0)","v":64.66},{"$f":"IFERROR(SUMIFS(D_D[INV],D_D[MT],2,D_D[CAT],TA_21,D_D[EP],-1, D_D[LOC],$A56),0)","v":2577},{"$f":"IFERROR(SUMIFS(D_D[BL],D_D[MT],2,D_D[CAT],TA_21,D_D[EP],-1, D_D[LOC],$A56),0)","v":895},0.34730306558013191,{"$f":"IFERROR(SUMIFS(D_D[INV],D_D[MT],2,D_D[CAT],TA_22,D_D[EP],-1, D_D[LOC],$A56),0)","v":445},{"$f":"IFERROR(SUMIFS(D_D[BL],D_D[MT],2,D_D[CAT],TA_22,D_D[EP],-1, D_D[LOC],$A56),0)","v":125},0.2808988764044944,{"$f":"IFERROR(SUMIFS(D_D[INV],D_D[MT],2,D_D[CAT],TA_23,D_D[EP],-1, D_D[LOC],$A56),0)","v":16},{"$f":"IFERROR(SUMIFS(D_D[BL],D_D[MT],2,D_D[CAT],TA_23,D_D[EP],-1, D_D[LOC],$A56),0)","v":0},0,{"$f":"IFERROR(SUMIFS(D_D[INV],D_D[MT],2,D_D[CAT],TA_24,D_D[EP],-1, D_D[LOC],$A56),0)","v":195},{"$f":"IFERROR(SUMIFS(D_D[BL],D_D[MT],2,D_D[CAT],TA_24,D_D[EP],-1, D_D[LOC],$A56),0)","v":133},0.68205128205128207,{"$f":"IFERROR(SUMIFS(D_D[INV],D_D[MT],2,D_D[CAT],TA_25,D_D[EP],-1, D_D[LOC],$A56),0)","v":17},{"$f":"IFERROR(SUMIFS(D_D[INV],D_D[MT],2,D_D[CAT],TA_26,D_D[EP],-1, D_D[LOC],$A56),0)","v":3},{"$f":"IFERROR(SUMIFS(D_D[INV],D_D[MT],7,D_D[CAT],2,D_D[EP],TA_20, D_D[LOC],$A56),0)","v":3}]
[395,"Pacific",{"$f":"IFERROR(SUMIFS(D_D[INV],D_D[MT],1,D_D[CAT],TA_20,D_D[EP],-1, D_D[LOC],$A57),0)","v":5582},{"$f":"IFERROR(SUMIFS(D_D[ADP],D_D[MT],1,D_D[CAT],D$1,D_D[EP],-1, D_D[LOC],$A57),0)","v":58.32},{"$f":"IFERROR(SUMIFS(D_D[INV],D_D[MT],2,D_D[CAT],TA_21,D_D[EP],-1, D_D[LOC],$A57),0)","v":61851},{"$f":"IFERROR(SUMIFS(D_D[BL],D_D[MT],2,D_D[CAT],TA_21,D_D[EP],-1, D_D[LOC],$A57),0)","v":22165},0.35836122293899858,{"$f":"IFERROR(SUMIFS(D_D[INV],D_D[MT],2,D_D[CAT],TA_22,D_D[EP],-1, D_D[LOC],$A57),0)","v":15719},{"$f":"IFERROR(SUMIFS(D_D[BL],D_D[MT],2,D_D[CAT],TA_22,D_D[EP],-1, D_D[LOC],$A57),0)","v":2989},0.19015204529550225,{"$f":"IFERROR(SUMIFS(D_D[INV],D_D[MT],2,D_D[CAT],TA_23,D_D[EP],-1, D_D[LOC],$A57),0)","v":357},{"$f":"IFERROR(SUMIFS(D_D[BL],D_D[MT],2,D_D[CAT],TA_23,D_D[EP],-1, D_D[LOC],$A57),0)","v":12},3.3613445378151259E-2,{"$f":"IFERROR(SUMIFS(D_D[INV],D_D[MT],2,D_D[CAT],TA_24,D_D[EP],-1, D_D[LOC],$A57),0)","v":9957},{"$f":"IFERROR(SUMIFS(D_D[BL],D_D[MT],2,D_D[CAT],TA_24,D_D[EP],-1, D_D[LOC],$A57),0)","v":5067},0.50888821934317563,{"$f":"IFERROR(SUMIFS(D_D[INV],D_D[MT],2,D_D[CAT],TA_25,D_D[EP],-1, D_D[LOC],$A57),0)","v":337},{"$f":"IFERROR(SUMIFS(D_D[INV],D_D[MT],2,D_D[CAT],TA_26,D_D[EP],-1, D_D[LOC],$A57),0)","v":7446},{"$f":"IFERROR(SUMIFS(D_D[INV],D_D[MT],7,D_D[CAT],2,D_D[EP],TA_20, D_D[LOC],$A57),0)","v":138}]
["340","Albuquerque",{"$f":"IFERROR(SUMIFS(D_D[INV],D_D[MT],1,D_D[CAT],TA_20,D_D[EP],-1, D_D[LOC],$A58),0)","v":110},{"$f":"IFERROR(SUMIFS(D_D[ADP],D_D[MT],1,D_D[CAT],D$1,D_D[EP],-1, D_D[LOC],$A58),0)","v":68.62},{"$f":"IFERROR(SUMIFS(D_D[INV],D_D[MT],2,D_D[CAT],TA_21,D_D[EP],-1, D_D[LOC],$A58),0)","v":2268},{"$f":"IFERROR(SUMIFS(D_D[BL],D_D[MT],2,D_D[CAT],TA_21,D_D[EP],-1, D_D[LOC],$A58),0)","v":876},0.38624338624338622,{"$f":"IFERROR(SUMIFS(D_D[INV],D_D[MT],2,D_D[CAT],TA_22,D_D[EP],-1, D_D[LOC],$A58),0)","v":308},{"$f":"IFERROR(SUMIFS(D_D[BL],D_D[MT],2,D_D[CAT],TA_22,D_D[EP],-1, D_D[LOC],$A58),0)","v":70},0.22727272727272727,{"$f":"IFERROR(SUMIFS(D_D[INV],D_D[MT],2,D_D[CAT],TA_23,D_D[EP],-1, D_D[LOC],$A58),0)","v":14},{"$f":"IFERROR(SUMIFS(D_D[BL],D_D[MT],2,D_D[CAT],TA_23,D_D[EP],-1, D_D[LOC],$A58),0)","v":0},0,{"$f":"IFERROR(SUMIFS(D_D[INV],D_D[MT],2,D_D[CAT],TA_24,D_D[EP],-1, D_D[LOC],$A58),0)","v":304},{"$f":"IFERROR(SUMIFS(D_D[BL],D_D[MT],2,D_D[CAT],TA_24,D_D[EP],-1, D_D[LOC],$A58),0)","v":207},0.68092105263157898,{"$f":"IFERROR(SUMIFS(D_D[INV],D_D[MT],2,D_D[CAT],TA_25,D_D[EP],-1, D_D[LOC],$A58),0)","v":10},{"$f":"IFERROR(SUMIFS(D_D[INV],D_D[MT],2,D_D[CAT],TA_26,D_D[EP],-1, D_D[LOC],$A58),0)","v":2},{"$f":"IFERROR(SUMIFS(D_D[INV],D_D[MT],7,D_D[CAT],2,D_D[EP],TA_20, D_D[LOC],$A58),0)","v":4}]
["463","Anchorage",{"$f":"IFERROR(SUMIFS(D_D[INV],D_D[MT],1,D_D[CAT],TA_20,D_D[EP],-1, D_D[LOC],$A59),0)","v":39},{"$f":"IFERROR(SUMIFS(D_D[ADP],D_D[MT],1,D_D[CAT],D$1,D_D[EP],-1, D_D[LOC],$A59),0)","v":32.64},{"$f":"IFERROR(SUMIFS(D_D[INV],D_D[MT],2,D_D[CAT],TA_21,D_D[EP],-1, D_D[LOC],$A59),0)","v":1093},{"$f":"IFERROR(SUMIFS(D_D[BL],D_D[MT],2,D_D[CAT],TA_21,D_D[EP],-1, D_D[LOC],$A59),0)","v":443},0.40530649588289114,{"$f":"IFERROR(SUMIFS(D_D[INV],D_D[MT],2,D_D[CAT],TA_22,D_D[EP],-1, D_D[LOC],$A59),0)","v":177},{"$f":"IFERROR(SUMIFS(D_D[BL],D_D[MT],2,D_D[CAT],TA_22,D_D[EP],-1, D_D[LOC],$A59),0)","v":44},0.24858757062146894,{"$f":"IFERROR(SUMIFS(D_D[INV],D_D[MT],2,D_D[CAT],TA_23,D_D[EP],-1, D_D[LOC],$A59),0)","v":1},{"$f":"IFERROR(SUMIFS(D_D[BL],D_D[MT],2,D_D[CAT],TA_23,D_D[EP],-1, D_D[LOC],$A59),0)","v":0},0,{"$f":"IFERROR(SUMIFS(D_D[INV],D_D[MT],2,D_D[CAT],TA_24,D_D[EP],-1, D_D[LOC],$A59),0)","v":82},{"$f":"IFERROR(SUMIFS(D_D[BL],D_D[MT],2,D_D[CAT],TA_24,D_D[EP],-1, D_D[LOC],$A59),0)","v":63},0.76829268292682928,{"$f":"IFERROR(SUMIFS(D_D[INV],D_D[MT],2,D_D[CAT],TA_25,D_D[EP],-1, D_D[LOC],$A59),0)","v":3},{"$f":"IFERROR(SUMIFS(D_D[INV],D_D[MT],2,D_D[CAT],TA_26,D_D[EP],-1, D_D[LOC],$A59),0)","v":3},{"$f":"IFERROR(SUMIFS(D_D[INV],D_D[MT],7,D_D[CAT],2,D_D[EP],TA_20, D_D[LOC],$A59),0)","v":1}]
["347","Boise",{"$f":"IFERROR(SUMIFS(D_D[INV],D_D[MT],1,D_D[CAT],TA_20,D_D[EP],-1, D_D[LOC],$A60),0)","v":78},{"$f":"IFERROR(SUMIFS(D_D[ADP],D_D[MT],1,D_D[CAT],D$1,D_D[EP],-1, D_D[LOC],$A60),0)","v":86.44},{"$f":"IFERROR(SUMIFS(D_D[INV],D_D[MT],2,D_D[CAT],TA_21,D_D[EP],-1, D_D[LOC],$A60),0)","v":1950},{"$f":"IFERROR(SUMIFS(D_D[BL],D_D[MT],2,D_D[CAT],TA_21,D_D[EP],-1, D_D[LOC],$A60),0)","v":634},0.32512820512820512,{"$f":"IFERROR(SUMIFS(D_D[INV],D_D[MT],2,D_D[CAT],TA_22,D_D[EP],-1, D_D[LOC],$A60),0)","v":345},{"$f":"IFERROR(SUMIFS(D_D[BL],D_D[MT],2,D_D[CAT],TA_22,D_D[EP],-1, D_D[LOC],$A60),0)","v":106},0.30724637681159422,{"$f":"IFERROR(SUMIFS(D_D[INV],D_D[MT],2,D_D[CAT],TA_23,D_D[EP],-1, D_D[LOC],$A60),0)","v":10},{"$f":"IFERROR(SUMIFS(D_D[BL],D_D[MT],2,D_D[CAT],TA_23,D_D[EP],-1, D_D[LOC],$A60),0)","v":0},0,{"$f":"IFERROR(SUMIFS(D_D[INV],D_D[MT],2,D_D[CAT],TA_24,D_D[EP],-1, D_D[LOC],$A60),0)","v":216},{"$f":"IFERROR(SUMIFS(D_D[BL],D_D[MT],2,D_D[CAT],TA_24,D_D[EP],-1, D_D[LOC],$A60),0)","v":163},0.75462962962962965,{"$f":"IFERROR(SUMIFS(D_D[INV],D_D[MT],2,D_D[CAT],TA_25,D_D[EP],-1, D_D[LOC],$A60),0)","v":7},{"$f":"IFERROR(SUMIFS(D_D[INV],D_D[MT],2,D_D[CAT],TA_26,D_D[EP],-1, D_D[LOC],$A60),0)","v":9},{"$f":"IFERROR(SUMIFS(D_D[INV],D_D[MT],7,D_D[CAT],2,D_D[EP],TA_20, D_D[LOC],$A60),0)","v":4}]
["459","Honolulu",{"$f":"IFERROR(SUMIFS(D_D[INV],D_D[MT],1,D_D[CAT],TA_20,D_D[EP],-1, D_D[LOC],$A61),0)","v":108},{"$f":"IFERROR(SUMIFS(D_D[ADP],D_D[MT],1,D_D[CAT],D$1,D_D[EP],-1, D_D[LOC],$A61),0)","v":92.91},{"$f":"IFERROR(SUMIFS(D_D[INV],D_D[MT],2,D_D[CAT],TA_21,D_D[EP],-1, D_D[LOC],$A61),0)","v":2623},{"$f":"IFERROR(SUMIFS(D_D[BL],D_D[MT],2,D_D[CAT],TA_21,D_D[EP],-1, D_D[LOC],$A61),0)","v":782},0.29813191002668699,{"$f":"IFERROR(SUMIFS(D_D[INV],D_D[MT],2,D_D[CAT],TA_22,D_D[EP],-1, D_D[LOC],$A61),0)","v":398},{"$f":"IFERROR(SUMIFS(D_D[BL],D_D[MT],2,D_D[CAT],TA_22,D_D[EP],-1, D_D[LOC],$A61),0)","v":88},0.22110552763819097,{"$f":"IFERROR(SUMIFS(D_D[INV],D_D[MT],2,D_D[CAT],TA_23,D_D[EP],-1, D_D[LOC],$A61),0)","v":1},{"$f":"IFERROR(SUMIFS(D_D[BL],D_D[MT],2,D_D[CAT],TA_23,D_D[EP],-1, D_D[LOC],$A61),0)","v":1},1,{"$f":"IFERROR(SUMIFS(D_D[INV],D_D[MT],2,D_D[CAT],TA_24,D_D[EP],-1, D_D[LOC],$A61),0)","v":157},{"$f":"IFERROR(SUMIFS(D_D[BL],D_D[MT],2,D_D[CAT],TA_24,D_D[EP],-1, D_D[LOC],$A61),0)","v":97},0.61783439490445857,{"$f":"IFERROR(SUMIFS(D_D[INV],D_D[MT],2,D_D[CAT],TA_25,D_D[EP],-1, D_D[LOC],$A61),0)","v":7},{"$f":"IFERROR(SUMIFS(D_D[INV],D_D[MT],2,D_D[CAT],TA_26,D_D[EP],-1, D_D[LOC],$A61),0)","v":1},{"$f":"IFERROR(SUMIFS(D_D[INV],D_D[MT],7,D_D[CAT],2,D_D[EP],TA_20, D_D[LOC],$A61),0)","v":1}]
["344","Los Angeles",{"$f":"IFERROR(SUMIFS(D_D[INV],D_D[MT],1,D_D[CAT],TA_20,D_D[EP],-1, D_D[LOC],$A62),0)","v":389},{"$f":"IFERROR(SUMIFS(D_D[ADP],D_D[MT],1,D_D[CAT],D$1,D_D[EP],-1, D_D[LOC],$A62),0)","v":54.4},{"$f":"IFERROR(SUMIFS(D_D[INV],D_D[MT],2,D_D[CAT],TA_21,D_D[EP],-1, D_D[LOC],$A62),0)","v":7374},{"$f":"IFERROR(SUMIFS(D_D[BL],D_D[MT],2,D_D[CAT],TA_21,D_D[EP],-1, D_D[LOC],$A62),0)","v":1959},0.26566314076484948,{"$f":"IFERROR(SUMIFS(D_D[INV],D_D[MT],2,D_D[CAT],TA_22,D_D[EP],-1, D_D[LOC],$A62),0)","v":1059},{"$f":"IFERROR(SUMIFS(D_D[BL],D_D[MT],2,D_D[CAT],TA_22,D_D[EP],-1, D_D[LOC],$A62),0)","v":209},0.19735599622285174,{"$f":"IFERROR(SUMIFS(D_D[INV],D_D[MT],2,D_D[CAT],TA_23,D_D[EP],-1, D_D[LOC],$A62),0)","v":59},{"$f":"IFERROR(SUMIFS(D_D[BL],D_D[MT],2,D_D[CAT],TA_23,D_D[EP],-1, D_D[LOC],$A62),0)","v":0},0,{"$f":"IFERROR(SUMIFS(D_D[INV],D_D[MT],2,D_D[CAT],TA_24,D_D[EP],-1, D_D[LOC],$A62),0)","v":723},{"$f":"IFERROR(SUMIFS(D_D[BL],D_D[MT],2,D_D[CAT],TA_24,D_D[EP],-1, D_D[LOC],$A62),0)","v":365},0.50484094052558781,{"$f":"IFERROR(SUMIFS(D_D[INV],D_D[MT],2,D_D[CAT],TA_25,D_D[EP],-1, D_D[LOC],$A62),0)","v":37},{"$f":"IFERROR(SUMIFS(D_D[INV],D_D[MT],2,D_D[CAT],TA_26,D_D[EP],-1, D_D[LOC],$A62),0)","v":5},{"$f":"IFERROR(SUMIFS(D_D[INV],D_D[MT],7,D_D[CAT],2,D_D[EP],TA_20, D_D[LOC],$A62),0)","v":6}]
["358","Manila",{"$f":"IFERROR(SUMIFS(D_D[INV],D_D[MT],1,D_D[CAT],TA_20,D_D[EP],-1, D_D[LOC],$A63),0)","v":433},{"$f":"IFERROR(SUMIFS(D_D[ADP],D_D[MT],1,D_D[CAT],D$1,D_D[EP],-1, D_D[LOC],$A63),0)","v":37.29},{"$f":"IFERROR(SUMIFS(D_D[INV],D_D[MT],2,D_D[CAT],TA_21,D_D[EP],-1, D_D[LOC],$A63),0)","v":348},{"$f":"IFERROR(SUMIFS(D_D[BL],D_D[MT],2,D_D[CAT],TA_21,D_D[EP],-1, D_D[LOC],$A63),0)","v":135},0.38793103448275862,{"$f":"IFERROR(SUMIFS(D_D[INV],D_D[MT],2,D_D[CAT],TA_22,D_D[EP],-1, D_D[LOC],$A63),0)","v":602},{"$f":"IFERROR(SUMIFS(D_D[BL],D_D[MT],2,D_D[CAT],TA_22,D_D[EP],-1, D_D[LOC],$A63),0)","v":51},8.4717607973421927E-2,{"$f":"IFERROR(SUMIFS(D_D[INV],D_D[MT],2,D_D[CAT],TA_23,D_D[EP],-1, D_D[LOC],$A63),0)","v":3},{"$f":"IFERROR(SUMIFS(D_D[BL],D_D[MT],2,D_D[CAT],TA_23,D_D[EP],-1, D_D[LOC],$A63),0)","v":0},0,{"$f":"IFERROR(SUMIFS(D_D[INV],D_D[MT],2,D_D[CAT],TA_24,D_D[EP],-1, D_D[LOC],$A63),0)","v":93},{"$f":"IFERROR(SUMIFS(D_D[BL],D_D[MT],2,D_D[CAT],TA_24,D_D[EP],-1, D_D[LOC],$A63),0)","v":55},0.59139784946236562,{"$f":"IFERROR(SUMIFS(D_D[INV],D_D[MT],2,D_D[CAT],TA_25,D_D[EP],-1, D_D[LOC],$A63),0)","v":5},{"$f":"IFERROR(SUMIFS(D_D[INV],D_D[MT],2,D_D[CAT],TA_26,D_D[EP],-1, D_D[LOC],$A63),0)","v":2},{"$f":"IFERROR(SUMIFS(D_D[INV],D_D[MT],7,D_D[CAT],2,D_D[EP],TA_20, D_D[LOC],$A63),0)","v":90}]
["343","Oakland",{"$f":"IFERROR(SUMIFS(D_D[INV],D_D[MT],1,D_D[CAT],TA_20,D_D[EP],-1, D_D[LOC],$A64),0)","v":270},{"$f":"IFERROR(SUMIFS(D_D[ADP],D_D[MT],1,D_D[CAT],D$1,D_D[EP],-1, D_D[LOC],$A64),0)","v":47},{"$f":"IFERROR(SUMIFS(D_D[INV],D_D[MT],2,D_D[CAT],TA_21,D_D[EP],-1, D_D[LOC],$A64),0)","v":8846},{"$f":"IFERROR(SUMIFS(D_D[BL],D_D[MT],2,D_D[CAT],TA_21,D_D[EP],-1, D_D[LOC],$A64),0)","v":2859},0.3231969251639159,{"$f":"IFERROR(SUMIFS(D_D[INV],D_D[MT],2,D_D[CAT],TA_22,D_D[EP],-1, D_D[LOC],$A64),0)","v":1031},{"$f":"IFERROR(SUMIFS(D_D[BL],D_D[MT],2,D_D[CAT],TA_22,D_D[EP],-1, D_D[LOC],$A64),0)","v":261},0.25315227934044615,{"$f":"IFERROR(SUMIFS(D_D[INV],D_D[MT],2,D_D[CAT],TA_23,D_D[EP],-1, D_D[LOC],$A64),0)","v":72},{"$f":"IFERROR(SUMIFS(D_D[BL],D_D[MT],2,D_D[CAT],TA_23,D_D[EP],-1, D_D[LOC],$A64),0)","v":0},0,{"$f":"IFERROR(SUMIFS(D_D[INV],D_D[MT],2,D_D[CAT],TA_24,D_D[EP],-1, D_D[LOC],$A64),0)","v":950},{"$f":"IFERROR(SUMIFS(D_D[BL],D_D[MT],2,D_D[CAT],TA_24,D_D[EP],-1, D_D[LOC],$A64),0)","v":466},0.4905263157894737,{"$f":"IFERROR(SUMIFS(D_D[INV],D_D[MT],2,D_D[CAT],TA_25,D_D[EP],-1, D_D[LOC],$A64),0)","v":40},{"$f":"IFERROR(SUMIFS(D_D[INV],D_D[MT],2,D_D[CAT],TA_26,D_D[EP],-1, D_D[LOC],$A64),0)","v":3},{"$f":"IFERROR(SUMIFS(D_D[INV],D_D[MT],7,D_D[CAT],2,D_D[EP],TA_20, D_D[LOC],$A64),0)","v":5}]
["345","Phoenix",{"$f":"IFERROR(SUMIFS(D_D[INV],D_D[MT],1,D_D[CAT],TA_20,D_D[EP],-1, D_D[LOC],$A65),0)","v":305},{"$f":"IFERROR(SUMIFS(D_D[ADP],D_D[MT],1,D_D[CAT],D$1,D_D[EP],-1, D_D[LOC],$A65),0)","v":53.47},{"$f":"IFERROR(SUMIFS(D_D[INV],D_D[MT],2,D_D[CAT],TA_21,D_D[EP],-1, D_D[LOC],$A65),0)","v":5767},{"$f":"IFERROR(SUMIFS(D_D[BL],D_D[MT],2,D_D[CAT],TA_21,D_D[EP],-1, D_D[LOC],$A65),0)","v":1830},0.31732269810993585,{"$f":"IFERROR(SUMIFS(D_D[INV],D_D[MT],2,D_D[CAT],TA_22,D_D[EP],-1, D_D[LOC],$A65),0)","v":902},{"$f":"IFERROR(SUMIFS(D_D[BL],D_D[MT],2,D_D[CAT],TA_22,D_D[EP],-1, D_D[LOC],$A65),0)","v":251},0.27827050997782704,{"$f":"IFERROR(SUMIFS(D_D[INV],D_D[MT],2,D_D[CAT],TA_23,D_D[EP],-1, D_D[LOC],$A65),0)","v":25},{"$f":"IFERROR(SUMIFS(D_D[BL],D_D[MT],2,D_D[CAT],TA_23,D_D[EP],-1, D_D[LOC],$A65),0)","v":0},0,{"$f":"IFERROR(SUMIFS(D_D[INV],D_D[MT],2,D_D[CAT],TA_24,D_D[EP],-1, D_D[LOC],$A65),0)","v":1411},{"$f":"IFERROR(SUMIFS(D_D[BL],D_D[MT],2,D_D[CAT],TA_24,D_D[EP],-1, D_D[LOC],$A65),0)","v":643},0.45570517363571933,{"$f":"IFERROR(SUMIFS(D_D[INV],D_D[MT],2,D_D[CAT],TA_25,D_D[EP],-1, D_D[LOC],$A65),0)","v":48},{"$f":"IFERROR(SUMIFS(D_D[INV],D_D[MT],2,D_D[CAT],TA_26,D_D[EP],-1, D_D[LOC],$A65),0)","v":1030},{"$f":"IFERROR(SUMIFS(D_D[INV],D_D[MT],7,D_D[CAT],2,D_D[EP],TA_20, D_D[LOC],$A65),0)","v":8}]
["348","Portland",{"$f":"IFERROR(SUMIFS(D_D[INV],D_D[MT],1,D_D[CAT],TA_20,D_D[EP],-1, D_D[LOC],$A66),0)","v":141},{"$f":"IFERROR(SUMIFS(D_D[ADP],D_D[MT],1,D_D[CAT],D$1,D_D[EP],-1, D_D[LOC],$A66),0)","v":114.94},{"$f":"IFERROR(SUMIFS(D_D[INV],D_D[MT],2,D_D[CAT],TA_21,D_D[EP],-1, D_D[LOC],$A66),0)","v":3632},{"$f":"IFERROR(SUMIFS(D_D[BL],D_D[MT],2,D_D[CAT],TA_21,D_D[EP],-1, D_D[LOC],$A66),0)","v":1343},0.36976872246696035,{"$f":"IFERROR(SUMIFS(D_D[INV],D_D[MT],2,D_D[CAT],TA_22,D_D[EP],-1, D_D[LOC],$A66),0)","v":548},{"$f":"IFERROR(SUMIFS(D_D[BL],D_D[MT],2,D_D[CAT],TA_22,D_D[EP],-1, D_D[LOC],$A66),0)","v":157},0.28649635036496351,{"$f":"IFERROR(SUMIFS(D_D[INV],D_D[MT],2,D_D[CAT],TA_23,D_D[EP],-1, D_D[LOC],$A66),0)","v":15},{"$f":"IFERROR(SUMIFS(D_D[BL],D_D[MT],2,D_D[CAT],TA_23,D_D[EP],-1, D_D[LOC],$A66),0)","v":0},0,{"$f":"IFERROR(SUMIFS(D_D[INV],D_D[MT],2,D_D[CAT],TA_24,D_D[EP],-1, D_D[LOC],$A66),0)","v":479},{"$f":"IFERROR(SUMIFS(D_D[BL],D_D[MT],2,D_D[CAT],TA_24,D_D[EP],-1, D_D[LOC],$A66),0)","v":372},0.77661795407098122,{"$f":"IFERROR(SUMIFS(D_D[INV],D_D[MT],2,D_D[CAT],TA_25,D_D[EP],-1, D_D[LOC],$A66),0)","v":19},{"$f":"IFERROR(SUMIFS(D_D[INV],D_D[MT],2,D_D[CAT],TA_26,D_D[EP],-1, D_D[LOC],$A66),0)","v":3},{"$f":"IFERROR(SUMIFS(D_D[INV],D_D[MT],7,D_D[CAT],2,D_D[EP],TA_20, D_D[LOC],$A66),0)","v":5}]
["354","Reno",{"$f":"IFERROR(SUMIFS(D_D[INV],D_D[MT],1,D_D[CAT],TA_20,D_D[EP],-1, D_D[LOC],$A67),0)","v":91},{"$f":"IFERROR(SUMIFS(D_D[ADP],D_D[MT],1,D_D[CAT],D$1,D_D[EP],-1, D_D[LOC],$A67),0)","v":117.31},{"$f":"IFERROR(SUMIFS(D_D[INV],D_D[MT],2,D_D[CAT],TA_21,D_D[EP],-1, D_D[LOC],$A67),0)","v":3609},{"$f":"IFERROR(SUMIFS(D_D[BL],D_D[MT],2,D_D[CAT],TA_21,D_D[EP],-1, D_D[LOC],$A67),0)","v":1161},0.32169576059850374,{"$f":"IFERROR(SUMIFS(D_D[INV],D_D[MT],2,D_D[CAT],TA_22,D_D[EP],-1, D_D[LOC],$A67),0)","v":406},{"$f":"IFERROR(SUMIFS(D_D[BL],D_D[MT],2,D_D[CAT],TA_22,D_D[EP],-1, D_D[LOC],$A67),0)","v":126},0.31034482758620691,{"$f":"IFERROR(SUMIFS(D_D[INV],D_D[MT],2,D_D[CAT],TA_23,D_D[EP],-1, D_D[LOC],$A67),0)","v":16},{"$f":"IFERROR(SUMIFS(D_D[BL],D_D[MT],2,D_D[CAT],TA_23,D_D[EP],-1, D_D[LOC],$A67),0)","v":0},0,{"$f":"IFERROR(SUMIFS(D_D[INV],D_D[MT],2,D_D[CAT],TA_24,D_D[EP],-1, D_D[LOC],$A67),0)","v":361},{"$f":"IFERROR(SUMIFS(D_D[BL],D_D[MT],2,D_D[CAT],TA_24,D_D[EP],-1, D_D[LOC],$A67),0)","v":233},0.64542936288088648,{"$f":"IFERROR(SUMIFS(D_D[INV],D_D[MT],2,D_D[CAT],TA_25,D_D[EP],-1, D_D[LOC],$A67),0)","v":17},{"$f":"IFERROR(SUMIFS(D_D[INV],D_D[MT],2,D_D[CAT],TA_26,D_D[EP],-1, D_D[LOC],$A67),0)","v":1},{"$f":"IFERROR(SUMIFS(D_D[INV],D_D[MT],7,D_D[CAT],2,D_D[EP],TA_20, D_D[LOC],$A67),0)","v":4}]
["341","Salt Lake City",{"$f":"IFERROR(SUMIFS(D_D[INV],D_D[MT],1,D_D[CAT],TA_20,D_D[EP],-1, D_D[LOC],$A68),0)","v":1943},{"$f":"IFERROR(SUMIFS(D_D[ADP],D_D[MT],1,D_D[CAT],D$1,D_D[EP],-1, D_D[LOC],$A68),0)","v":46.01},{"$f":"IFERROR(SUMIFS(D_D[INV],D_D[MT],2,D_D[CAT],TA_21,D_D[EP],-1, D_D[LOC],$A68),0)","v":2168},{"$f":"IFERROR(SUMIFS(D_D[BL],D_D[MT],2,D_D[CAT],TA_21,D_D[EP],-1, D_D[LOC],$A68),0)","v":797},0.36761992619926198,{"$f":"IFERROR(SUMIFS(D_D[INV],D_D[MT],2,D_D[CAT],TA_22,D_D[EP],-1, D_D[LOC],$A68),0)","v":2358},{"$f":"IFERROR(SUMIFS(D_D[BL],D_D[MT],2,D_D[CAT],TA_22,D_D[EP],-1, D_D[LOC],$A68),0)","v":295},0.12510602205258695,{"$f":"IFERROR(SUMIFS(D_D[INV],D_D[MT],2,D_D[CAT],TA_23,D_D[EP],-1, D_D[LOC],$A68),0)","v":15},{"$f":"IFERROR(SUMIFS(D_D[BL],D_D[MT],2,D_D[CAT],TA_23,D_D[EP],-1, D_D[LOC],$A68),0)","v":0},0,{"$f":"IFERROR(SUMIFS(D_D[INV],D_D[MT],2,D_D[CAT],TA_24,D_D[EP],-1, D_D[LOC],$A68),0)","v":1263},{"$f":"IFERROR(SUMIFS(D_D[BL],D_D[MT],2,D_D[CAT],TA_24,D_D[EP],-1, D_D[LOC],$A68),0)","v":626},0.49564528899445764,{"$f":"IFERROR(SUMIFS(D_D[INV],D_D[MT],2,D_D[CAT],TA_25,D_D[EP],-1, D_D[LOC],$A68),0)","v":86},{"$f":"IFERROR(SUMIFS(D_D[INV],D_D[MT],2,D_D[CAT],TA_26,D_D[EP],-1, D_D[LOC],$A68),0)","v":6359},{"$f":"IFERROR(SUMIFS(D_D[INV],D_D[MT],7,D_D[CAT],2,D_D[EP],TA_20, D_D[LOC],$A68),0)","v":0}]
["377","San Diego",{"$f":"IFERROR(SUMIFS(D_D[INV],D_D[MT],1,D_D[CAT],TA_20,D_D[EP],-1, D_D[LOC],$A69),0)","v":1075},{"$f":"IFERROR(SUMIFS(D_D[ADP],D_D[MT],1,D_D[CAT],D$1,D_D[EP],-1, D_D[LOC],$A69),0)","v":62.31},{"$f":"IFERROR(SUMIFS(D_D[INV],D_D[MT],2,D_D[CAT],TA_21,D_D[EP],-1, D_D[LOC],$A69),0)","v":10512},{"$f":"IFERROR(SUMIFS(D_D[BL],D_D[MT],2,D_D[CAT],TA_21,D_D[EP],-1, D_D[LOC],$A69),0)","v":3839},{"$f":"IFERROR(F69/E69,\"0%\")","v":0.36520167427701672},{"$f":"IFERROR(SUMIFS(D_D[INV],D_D[MT],2,D_D[CAT],TA_22,D_D[EP],-1, D_D[LOC],$A69),0)","v":5534},{"$f":"IFERROR(SUMIFS(D_D[BL],D_D[MT],2,D_D[CAT],TA_22,D_D[EP],-1, D_D[LOC],$A69),0)","v":852},{"$f":"IFERROR(I69/H69,\"0%\")","v":0.15395735453559811},{"$f":"IFERROR(SUMIFS(D_D[INV],D_D[MT],2,D_D[CAT],TA_23,D_D[EP],-1, D_D[LOC],$A69),0)","v":92},{"$f":"IFERROR(SUMIFS(D_D[BL],D_D[MT],2,D_D[CAT],TA_23,D_D[EP],-1, D_D[LOC],$A69),0)","v":6},{"$f":"IFERROR(L69/K69,\"0%\")","v":6.5217391304347824E-2},{"$f":"IFERROR(SUMIFS(D_D[INV],D_D[MT],2,D_D[CAT],TA_24,D_D[EP],-1, D_D[LOC],$A69),0)","v":1068},{"$f":"IFERROR(SUMIFS(D_D[BL],D_D[MT],2,D_D[CAT],TA_24,D_D[EP],-1, D_D[LOC],$A69),0)","v":593},{"$f":"IFERROR(O69/N69,\"0%\")","v":0.55524344569288386},{"$f":"IFERROR(SUMIFS(D_D[INV],D_D[MT],2,D_D[CAT],TA_25,D_D[EP],-1, D_D[LOC],$A69),0)","v":14},{"$f":"IFERROR(SUMIFS(D_D[INV],D_D[MT],2,D_D[CAT],TA_26,D_D[EP],-1, D_D[LOC],$A69),0)","v":6},{"$f":"IFERROR(SUMIFS(D_D[INV],D_D[MT],7,D_D[CAT],2,D_D[EP],TA_20, D_D[LOC],$A69),0)","v":5}]
["346","Seattle",{"$f":"IFERROR(SUMIFS(D_D[INV],D_D[MT],1,D_D[CAT],TA_20,D_D[EP],-1, D_D[LOC],$A70),0)","v":600},{"$f":"IFERROR(SUMIFS(D_D[ADP],D_D[MT],1,D_D[CAT],D$1,D_D[EP],-1, D_D[LOC],$A70),0)","v":83.95},{"$f":"IFERROR(SUMIFS(D_D[INV],D_D[MT],2,D_D[CAT],TA_21,D_D[EP],-1, D_D[LOC],$A70),0)","v":11661},{"$f":"IFERROR(SUMIFS(D_D[BL],D_D[MT],2,D_D[CAT],TA_21,D_D[EP],-1, D_D[LOC],$A70),0)","v":5507},0.47225795386330505,{"$f":"IFERROR(SUMIFS(D_D[INV],D_D[MT],2,D_D[CAT],TA_22,D_D[EP],-1, D_D[LOC],$A70),0)","v":2051},{"$f":"IFERROR(SUMIFS(D_D[BL],D_D[MT],2,D_D[CAT],TA_22,D_D[EP],-1, D_D[LOC],$A70),0)","v":479},0.23354461238420282,{"$f":"IFERROR(SUMIFS(D_D[INV],D_D[MT],2,D_D[CAT],TA_23,D_D[EP],-1, D_D[LOC],$A70),0)","v":34},{"$f":"IFERROR(SUMIFS(D_D[BL],D_D[MT],2,D_D[CAT],TA_23,D_D[EP],-1, D_D[LOC],$A70),0)","v":5},0.14705882352941177,{"$f":"IFERROR(SUMIFS(D_D[INV],D_D[MT],2,D_D[CAT],TA_24,D_D[EP],-1, D_D[LOC],$A70),0)","v":2850},{"$f":"IFERROR(SUMIFS(D_D[BL],D_D[MT],2,D_D[CAT],TA_24,D_D[EP],-1, D_D[LOC],$A70),0)","v":1184},0.41543859649122805,{"$f":"IFERROR(SUMIFS(D_D[INV],D_D[MT],2,D_D[CAT],TA_25,D_D[EP],-1, D_D[LOC],$A70),0)","v":44},{"$f":"IFERROR(SUMIFS(D_D[INV],D_D[MT],2,D_D[CAT],TA_26,D_D[EP],-1, D_D[LOC],$A70),0)","v":22},{"$f":"IFERROR(SUMIFS(D_D[INV],D_D[MT],7,D_D[CAT],2,D_D[EP],TA_20, D_D[LOC],$A70),0)","v":5}]
[35,"Other",{"$f":"IFERROR(SUMIFS(D_D[INV],D_D[MT],1,D_D[CAT],TA_20,D_D[EP],-1, D_D[LOC],$A71),0)","v":7218},{"$f":"IFERROR(SUMIFS(D_D[ADP],D_D[MT],1,D_D[CAT],D$1,D_D[EP],-1, D_D[LOC],$A71),0)","v":56.22},{"$f":"IFERROR(SUMIFS(D_D[INV],D_D[MT],2,D_D[CAT],TA_21,D_D[EP],-1, D_D[LOC],$A71),0)","v":121784},{"$f":"IFERROR(SUMIFS(D_D[BL],D_D[MT],2,D_D[CAT],TA_21,D_D[EP],-1, D_D[LOC],$A71),0)","v":44035},0.36158280233856666,{"$f":"IFERROR(SUMIFS(D_D[INV],D_D[MT],2,D_D[CAT],TA_22,D_D[EP],-1, D_D[LOC],$A71),0)","v":8410},{"$f":"IFERROR(SUMIFS(D_D[BL],D_D[MT],2,D_D[CAT],TA_22,D_D[EP],-1, D_D[LOC],$A71),0)","v":1643},0.19536266349583828,{"$f":"IFERROR(SUMIFS(D_D[INV],D_D[MT],2,D_D[CAT],TA_23,D_D[EP],-1, D_D[LOC],$A71),0)","v":65},{"$f":"IFERROR(SUMIFS(D_D[BL],D_D[MT],2,D_D[CAT],TA_23,D_D[EP],-1, D_D[LOC],$A71),0)","v":23},0.35384615384615387,{"$f":"IFERROR(SUMIFS(D_D[INV],D_D[MT],2,D_D[CAT],TA_24,D_D[EP],-1, D_D[LOC],$A71),0)","v":138299},{"$f":"IFERROR(SUMIFS(D_D[BL],D_D[MT],2,D_D[CAT],TA_24,D_D[EP],-1, D_D[LOC],$A71),0)","v":11853},8.5705608861958507E-2,{"$f":"IFERROR(SUMIFS(D_D[INV],D_D[MT],2,D_D[CAT],TA_25,D_D[EP],-1, D_D[LOC],$A71),0)","v":1311},{"$f":"IFERROR(SUMIFS(D_D[INV],D_D[MT],2,D_D[CAT],TA_26,D_D[EP],-1, D_D[LOC],$A71),0)","v":799},{"$f":"IFERROR(SUMIFS(D_D[INV],D_D[MT],7,D_D[CAT],2,D_D[EP],TA_20, D_D[LOC],$A71),0)","v":29637}]
[]
[null,null,"Pension"]
[null,null,"Non-Rating",null,"Entitlement   ",null,null,"Award Adjustment ",null,null,"Program Review ",null,null,"Other",null,null,"Burial  ","Accrued  ","Appeals"]
[null,null,"Claims Pending","Avg. Days Pending","Claims Pending","Pending over 125 days","Percent Pending over 125 days","Claims Pending","Pending over 125 days","Percent Pending over 125 days","Claims Pending","Pending over 125 days","Percent Pending over 125 days","Claims Pending","Pending over 125 days","Percent Pending over 125 days","Claims Pending","Claims Pending","Appeals Pending"]
[100,"USA Pension",{"$f":"IFERROR(SUMIFS(D_D[INV],D_D[MT],1,D_D[CAT],TA_30,D_D[EP],-1, D_D[LOC],$A76),0)","v":995},{"$f":"IFERROR(SUMIFS(D_D[ADP],D_D[MT],1,D_D[CAT],TA_30,D_D[EP],-1, D_D[LOC],$A76),0)","v":33.76},{"$f":"IFERROR(SUMIFS(D_D[INV],D_D[MT],2,D_D[CAT],TA_31,D_D[EP],-1, D_D[LOC],$A76),0)","v":5061},{"$f":"IFERROR(SUMIFS(D_D[BL],D_D[MT],2,D_D[CAT],TA_31,D_D[EP],-1, D_D[LOC],$A76),0)","v":427},{"$f":"IFERROR(F76/E76,\"0%\")","v":8.4370677731673588E-2},{"$f":"IFERROR(SUMIFS(D_D[INV],D_D[MT],2,D_D[CAT],TA_32,D_D[EP],-1, D_D[LOC],$A76),0)","v":1033},{"$f":"IFERROR(SUMIFS(D_D[BL],D_D[MT],2,D_D[CAT],TA_32,D_D[EP],-1, D_D[LOC],$A76),0)","v":31},{"$f":"IFERROR(I76/H76,\"0%\")","v":3.0009680542110357E-2},{"$f":"IFERROR(SUMIFS(D_D[INV],D_D[MT],2,D_D[CAT],TA_33,D_D[EP],-1, D_D[LOC],$A76),0)","v":109},{"$f":"IFERROR(SUMIFS(D_D[BL],D_D[MT],2,D_D[CAT],TA_33,D_D[EP],-1, D_D[LOC],$A76),0)","v":105},{"$f":"IFERROR(L76/K76,\"0%\")","v":0.96330275229357798},{"$f":"IFERROR(SUMIFS(D_D[INV],D_D[MT],2,D_D[CAT],TA_34,D_D[EP],-1, D_D[LOC],$A76),0)","v":93},{"$f":"IFERROR(SUMIFS(D_D[BL],D_D[MT],2,D_D[CAT],TA_34,D_D[EP],-1, D_D[LOC],$A76),0)","v":13},{"$f":"IFERROR(O76/N76,\"0%\")","v":0.13978494623655913},{"$f":"IFERROR(SUMIFS(D_D[INV],D_D[MT],2,D_D[CAT],TA_35,D_D[EP],-1, D_D[LOC],$A76),0)","v":0},{"$f":"IFERROR(SUMIFS(D_D[INV],D_D[MT],2,D_D[CAT],TA_36,D_D[EP],-1, D_D[LOC],$A76),0)","v":1716},{"$f":"IFERROR(SUMIFS(D_D[INV],D_D[MT],7,D_D[CAT],2,D_D[EP],TA_30, D_D[LOC],$A76),0)","v":426}]
["310","Philadelphia PMC",{"$f":"IFERROR(SUMIFS(D_D[INV],D_D[MT],1,D_D[CAT],TA_30,D_D[EP],-1, D_D[LOC],$A77),0)","v":61},{"$f":"IFERROR(SUMIFS(D_D[ADP],D_D[MT],1,D_D[CAT],TA_30,D_D[EP],-1, D_D[LOC],$A77),0)","v":38.659999999999997},{"$f":"IFERROR(SUMIFS(D_D[INV],D_D[MT],2,D_D[CAT],TA_31,D_D[EP],-1, D_D[LOC],$A77),0)","v":441},{"$f":"IFERROR(SUMIFS(D_D[BL],D_D[MT],2,D_D[CAT],TA_31,D_D[EP],-1, D_D[LOC],$A77),0)","v":59},{"$f":"IFERROR(F77/E77,\"0%\")","v":0.13378684807256236},{"$f":"IFERROR(SUMIFS(D_D[INV],D_D[MT],2,D_D[CAT],TA_32,D_D[EP],-1, D_D[LOC],$A77),0)","v":69},{"$f":"IFERROR(SUMIFS(D_D[BL],D_D[MT],2,D_D[CAT],TA_32,D_D[EP],-1, D_D[LOC],$A77),0)","v":4},{"$f":"IFERROR(I77/H77,\"0%\")","v":5.7971014492753624E-2},{"$f":"IFERROR(SUMIFS(D_D[INV],D_D[MT],2,D_D[CAT],TA_33,D_D[EP],-1, D_D[LOC],$A77),0)","v":54},{"$f":"IFERROR(SUMIFS(D_D[BL],D_D[MT],2,D_D[CAT],TA_33,D_D[EP],-1, D_D[LOC],$A77),0)","v":53},{"$f":"IFERROR(L77/K77,\"0%\")","v":0.98148148148148151},{"$f":"IFERROR(SUMIFS(D_D[INV],D_D[MT],2,D_D[CAT],TA_34,D_D[EP],-1, D_D[LOC],$A77),0)","v":1},{"$f":"IFERROR(SUMIFS(D_D[BL],D_D[MT],2,D_D[CAT],TA_34,D_D[EP],-1, D_D[LOC],$A77),0)","v":1},{"$f":"IFERROR(O77/N77,\"0%\")","v":1},{"$f":"IFERROR(SUMIFS(D_D[INV],D_D[MT],2,D_D[CAT],TA_35,D_D[EP],-1, D_D[LOC],$A77),0)","v":0},{"$f":"IFERROR(SUMIFS(D_D[INV],D_D[MT],2,D_D[CAT],TA_36,D_D[EP],-1, D_D[LOC],$A77),0)","v":528},{"$f":"IFERROR(SUMIFS(D_D[INV],D_D[MT],7,D_D[CAT],2,D_D[EP],TA_30, D_D[LOC],$A77),0)","v":12}]
["330","Milwaukee PMC",{"$f":"IFERROR(SUMIFS(D_D[INV],D_D[MT],1,D_D[CAT],TA_30,D_D[EP],-1, D_D[LOC],$A78),0)","v":152},{"$f":"IFERROR(SUMIFS(D_D[ADP],D_D[MT],1,D_D[CAT],TA_30,D_D[EP],-1, D_D[LOC],$A78),0)","v":36.630000000000003},{"$f":"IFERROR(SUMIFS(D_D[INV],D_D[MT],2,D_D[CAT],TA_31,D_D[EP],-1, D_D[LOC],$A78),0)","v":494},{"$f":"IFERROR(SUMIFS(D_D[BL],D_D[MT],2,D_D[CAT],TA_31,D_D[EP],-1, D_D[LOC],$A78),0)","v":68},0.13765182186234817,{"$f":"IFERROR(SUMIFS(D_D[INV],D_D[MT],2,D_D[CAT],TA_32,D_D[EP],-1, D_D[LOC],$A78),0)","v":163},{"$f":"IFERROR(SUMIFS(D_D[BL],D_D[MT],2,D_D[CAT],TA_32,D_D[EP],-1, D_D[LOC],$A78),0)","v":9},5.5214723926380369E-2,{"$f":"IFERROR(SUMIFS(D_D[INV],D_D[MT],2,D_D[CAT],TA_33,D_D[EP],-1, D_D[LOC],$A78),0)","v":29},{"$f":"IFERROR(SUMIFS(D_D[BL],D_D[MT],2,D_D[CAT],TA_33,D_D[EP],-1, D_D[LOC],$A78),0)","v":28},0.96551724137931039,{"$f":"IFERROR(SUMIFS(D_D[INV],D_D[MT],2,D_D[CAT],TA_34,D_D[EP],-1, D_D[LOC],$A78),0)","v":0},{"$f":"IFERROR(SUMIFS(D_D[BL],D_D[MT],2,D_D[CAT],TA_34,D_D[EP],-1, D_D[LOC],$A78),0)","v":0},"0%",{"$f":"IFERROR(SUMIFS(D_D[INV],D_D[MT],2,D_D[CAT],TA_35,D_D[EP],-1, D_D[LOC],$A78),0)","v":0},{"$f":"IFERROR(SUMIFS(D_D[INV],D_D[MT],2,D_D[CAT],TA_36,D_D[EP],-1, D_D[LOC],$A78),0)","v":439},{"$f":"IFERROR(SUMIFS(D_D[INV],D_D[MT],7,D_D[CAT],2,D_D[EP],TA_30, D_D[LOC],$A78),0)","v":9}]
["335","St. Paul PMC",{"$f":"IFERROR(SUMIFS(D_D[INV],D_D[MT],1,D_D[CAT],TA_30,D_D[EP],-1, D_D[LOC],$A79),0)","v":134},{"$f":"IFERROR(SUMIFS(D_D[ADP],D_D[MT],1,D_D[CAT],TA_30,D_D[EP],-1, D_D[LOC],$A79),0)","v":33.31},{"$f":"IFERROR(SUMIFS(D_D[INV],D_D[MT],2,D_D[CAT],TA_31,D_D[EP],-1, D_D[LOC],$A79),0)","v":379},{"$f":"IFERROR(SUMIFS(D_D[BL],D_D[MT],2,D_D[CAT],TA_31,D_D[EP],-1, D_D[LOC],$A79),0)","v":79},0.20844327176781002,{"$f":"IFERROR(SUMIFS(D_D[INV],D_D[MT],2,D_D[CAT],TA_32,D_D[EP],-1, D_D[LOC],$A79),0)","v":143},{"$f":"IFERROR(SUMIFS(D_D[BL],D_D[MT],2,D_D[CAT],TA_32,D_D[EP],-1, D_D[LOC],$A79),0)","v":4},2.7972027972027972E-2,{"$f":"IFERROR(SUMIFS(D_D[INV],D_D[MT],2,D_D[CAT],TA_33,D_D[EP],-1, D_D[LOC],$A79),0)","v":23},{"$f":"IFERROR(SUMIFS(D_D[BL],D_D[MT],2,D_D[CAT],TA_33,D_D[EP],-1, D_D[LOC],$A79),0)","v":23},1,{"$f":"IFERROR(SUMIFS(D_D[INV],D_D[MT],2,D_D[CAT],TA_34,D_D[EP],-1, D_D[LOC],$A79),0)","v":0},{"$f":"IFERROR(SUMIFS(D_D[BL],D_D[MT],2,D_D[CAT],TA_34,D_D[EP],-1, D_D[LOC],$A79),0)","v":0},"0%",{"$f":"IFERROR(SUMIFS(D_D[INV],D_D[MT],2,D_D[CAT],TA_35,D_D[EP],-1, D_D[LOC],$A79),0)","v":0},{"$f":"IFERROR(SUMIFS(D_D[INV],D_D[MT],2,D_D[CAT],TA_36,D_D[EP],-1, D_D[LOC],$A79),0)","v":749},{"$f":"IFERROR(SUMIFS(D_D[INV],D_D[MT],7,D_D[CAT],2,D_D[EP],TA_30, D_D[LOC],$A79),0)","v":4}]
[-1,"Pension Other",{"$f":"IFERROR(SUMIFS(D_D[INV],D_D[MT],1,D_D[CAT],TA_30,D_D[EP],-1, D_D[LOC],$A80),0)","v":648},{"$f":"IFERROR(SUMIFS(D_D[ADP],D_D[MT],1,D_D[CAT],TA_30,D_D[EP],-1, D_D[LOC],$A80),0)","v":32.71},{"$f":"IFERROR(SUMIFS(D_D[INV],D_D[MT],2,D_D[CAT],TA_31,D_D[EP],-1, D_D[LOC],$A80),0)","v":3747},{"$f":"IFERROR(SUMIFS(D_D[BL],D_D[MT],2,D_D[CAT],TA_31,D_D[EP],-1, D_D[LOC],$A80),0)","v":221},5.8980517747531359E-2,{"$f":"IFERROR(SUMIFS(D_D[INV],D_D[MT],2,D_D[CAT],TA_32,D_D[EP],-1, D_D[LOC],$A80),0)","v":658},{"$f":"IFERROR(SUMIFS(D_D[BL],D_D[MT],2,D_D[CAT],TA_32,D_D[EP],-1, D_D[LOC],$A80),0)","v":14},2.1276595744680851E-2,{"$f":"IFERROR(SUMIFS(D_D[INV],D_D[MT],2,D_D[CAT],TA_33,D_D[EP],-1, D_D[LOC],$A80),0)","v":3},{"$f":"IFERROR(SUMIFS(D_D[BL],D_D[MT],2,D_D[CAT],TA_33,D_D[EP],-1, D_D[LOC],$A80),0)","v":1},0.33333333333333331,{"$f":"IFERROR(SUMIFS(D_D[INV],D_D[MT],2,D_D[CAT],TA_34,D_D[EP],-1, D_D[LOC],$A80),0)","v":92},{"$f":"IFERROR(SUMIFS(D_D[BL],D_D[MT],2,D_D[CAT],TA_34,D_D[EP],-1, D_D[LOC],$A80),0)","v":12},0.13043478260869565,{"$f":"IFERROR(SUMIFS(D_D[INV],D_D[MT],2,D_D[CAT],TA_35,D_D[EP],-1, D_D[LOC],$A80),0)","v":0},{"$f":"IFERROR(SUMIFS(D_D[INV],D_D[MT],2,D_D[CAT],TA_36,D_D[EP],-1, D_D[LOC],$A80),0)","v":0},{"$f":"IFERROR(SUMIFS(D_D[INV],D_D[MT],7,D_D[CAT],2,D_D[EP],TA_30, D_D[LOC],$A80),0)","v":401}]

{"sheet":"Data","index":10,"n_rows":2158,"n_cols":16,"rows_kept":2158,"cut":false,"hidden":true,"merged":[]}
["MT","CAT","LOC","EP","INV","BL","ADP","PROD_MTD","PROD_FYTD","ADCM","ADCF","DEV","EVD","DEC","AWD","AUT"]
["1","2000","-1","-1",7218,751,56.22,"NULL","NULL","NULL","NULL","NULL","NULL","NULL","NULL","NULL"]
["1","2000","100","-1",39792,5277,71.36,"NULL","NULL","NULL","NULL","NULL","NULL","NULL","NULL","NULL"]
["1","2000","301","-1",58,4,50.67,"NULL","NULL","NULL","NULL","NULL","NULL","NULL","NULL","NULL"]
["1","2000","304","-1",188,14,45.89,"NULL","NULL","NULL","NULL","NULL","NULL","NULL","NULL","NULL"]
["1","2000","306","-1",162,19,63.93,"NULL","NULL","NULL","NULL","NULL","NULL","NULL","NULL","NULL"]
["1","2000","307","-1",104,17,82.63,"NULL","NULL","NULL","NULL","NULL","NULL","NULL","NULL","NULL"]
["1","2000","308","-1",69,5,50.64,"NULL","NULL","NULL","NULL","NULL","NULL","NULL","NULL","NULL"]
["1","2000","309","-1",105,13,69.8,"NULL","NULL","NULL","NULL","NULL","NULL","NULL","NULL","NULL"]
["1","2000","310","-1",526,66,70.42,"NULL","NULL","NULL","NULL","NULL","NULL","NULL","NULL","NULL"]
["1","2000","311","-1",197,15,74.94,"NULL","NULL","NULL","NULL","NULL","NULL","NULL","NULL","NULL"]
["1","2000","313","-1",201,15,56.04,"NULL","NULL","NULL","NULL","NULL","NULL","NULL","NULL","NULL"]
["1","2000","314","-1",595,70,66.98,"NULL","NULL","NULL","NULL","NULL","NULL","NULL","NULL","NULL"]
["1","2000","315","-1",72,17,132.38999999999999,"NULL","NULL","NULL","NULL","NULL","NULL","NULL","NULL","NULL"]
["1","2000","316","-1",606,149,121.41,"NULL","NULL","NULL","NULL","NULL","NULL","NULL","NULL","NULL"]
["1","2000","317","-1",857,122,84.59,"NULL","NULL","NULL","NULL","NULL","NULL","NULL","NULL","NULL"]
["1","2000","318","-1",1256,152,61.33,"NULL","NULL","NULL","NULL","NULL","NULL","NULL","NULL","NULL"]
["1","2000","319","-1",3857,1007,123.6,"NULL","NULL","NULL","NULL","NULL","NULL","NULL","NULL","NULL"]
["1","2000","320","-1",749,92,56.56,"NULL","NULL","NULL","NULL","NULL","NULL","NULL","NULL","NULL"]
["1","2000","321","-1",202,17,56.71,"NULL","NULL","NULL","NULL","NULL","NULL","NULL","NULL","NULL"]
["1","2000","322","-1",270,37,63.7,"NULL","NULL","NULL","NULL","NULL","NULL","NULL","NULL","NULL"]
["1","2000","323","-1",185,27,80.459999999999994,"NULL","NULL","NULL","NULL","NULL","NULL","NULL","NULL","NULL"]
["1","2000","325","-1",461,89,99.31,"NULL","NULL","NULL","NULL","NULL","NULL","NULL","NULL","NULL"]
["1","2000","326","-1",3832,625,81.569999999999993,"NULL","NULL","NULL","NULL","NULL","NULL","NULL","NULL","NULL"]
["1","2000","327","-1",1925,241,67.87,"NULL","NULL","NULL","NULL","NULL","NULL","NULL","NULL","NULL"]
["1","2000","328","-1",214,30,64.59,"NULL","NULL","NULL","NULL","NULL","NULL","NULL","NULL","NULL"]
["1","2000","329","-1",1227,84,55.72,"NULL","NULL","NULL","NULL","NULL","NULL","NULL","NULL","NULL"]
["1","2000","330","-1",2379,184,53.08,"NULL","NULL","NULL","NULL","NULL","NULL","NULL","NULL","NULL"]
["1","2000","331","-1",314,63,96.31,"NULL","NULL","NULL","NULL","NULL","NULL","NULL","NULL","NULL"]
["1","2000","333","-1",91,15,121.86,"NULL","NULL","NULL","NULL","NULL","NULL","NULL","NULL","NULL"]
["1","2000","334","-1",1247,124,53.75,"NULL","NULL","NULL","NULL","NULL","NULL","NULL","NULL","NULL"]
["1","2000","335","-1",1073,146,70.95,"NULL","NULL","NULL","NULL","NULL","NULL","NULL","NULL","NULL"]
["1","2000","339","-1",214,21,53.17,"NULL","NULL","NULL","NULL","NULL","NULL","NULL","NULL","NULL"]
["1","2000","340","-1",110,20,68.62,"NULL","NULL","NULL","NULL","NULL","NULL","NULL","NULL","NULL"]
["1","2000","341","-1",1943,97,46.01,"NULL","NULL","NULL","NULL","NULL","NULL","NULL","NULL","NULL"]
["1","2000","343","-1",270,19,47,"NULL","NULL","NULL","NULL","NULL","NULL","NULL","NULL","NULL"]
["1","2000","344","-1",389,36,54.4,"NULL","NULL","NULL","NULL","NULL","NULL","NULL","NULL","NULL"]
["1","2000","345","-1",305,24,53.47,"NULL","NULL","NULL","NULL","NULL","NULL","NULL","NULL","NULL"]
["1","2000","346","-1",600,104,83.95,"NULL","NULL","NULL","NULL","NULL","NULL","NULL","NULL","NULL"]
["1","2000","347","-1",78,23,86.44,"NULL","NULL","NULL","NULL","NULL","NULL","NULL","NULL","NULL"]
["1","2000","348","-1",141,33,114.94,"NULL","NULL","NULL","NULL","NULL","NULL","NULL","NULL","NULL"]
["1","2000","349","-1",1120,143,67.790000000000006,"NULL","NULL","NULL","NULL","NULL","NULL","NULL","NULL","NULL"]
["1","2000","350","-1",381,63,73.099999999999994,"NULL","NULL","NULL","NULL","NULL","NULL","NULL","NULL","NULL"]
["1","2000","351","-1",636,139,101.75,"NULL","NULL","NULL","NULL","NULL","NULL","NULL","NULL","NULL"]
["1","2000","354","-1",91,13,117.31,"NULL","NULL","NULL","NULL","NULL","NULL","NULL","NULL","NULL"]
["1","2000","355","-1",82,5,42.65,"NULL","NULL","NULL","NULL","NULL","NULL","NULL","NULL","NULL"]
["1","2000","358","-1",433,17,37.29,"NULL","NULL","NULL","NULL","NULL","NULL","NULL","NULL","NULL"]
["1","2000","362","-1",728,77,66.47,"NULL","NULL","NULL","NULL","NULL","NULL","NULL","NULL","NULL"]
["1","2000","372","-1",234,3,32.6,"NULL","NULL","NULL","NULL","NULL","NULL","NULL","NULL","NULL"]
["1","2000","373","-1",92,14,60.68,"NULL","NULL","NULL","NULL","NULL","NULL","NULL","NULL","NULL"]
["1","2000","376","-1",18,4,117.17,"NULL","NULL","NULL","NULL","NULL","NULL","NULL","NULL","NULL"]
["1","2000","377","-1",1075,131,62.31,"NULL","NULL","NULL","NULL","NULL","NULL","NULL","NULL","NULL"]
["1","2000","402","-1",93,17,106.9,"NULL","NULL","NULL","NULL","NULL","NULL","NULL","NULL","NULL"]
["1","2000","405","-1",15,4,151,"NULL","NULL","NULL","NULL","NULL","NULL","NULL","NULL","NULL"]
["1","2000","436","-1",72,16,125.68,"NULL","NULL","NULL","NULL","NULL","NULL","NULL","NULL","NULL"]
["1","2000","437","-1",38,5,74.37,"NULL","NULL","NULL","NULL","NULL","NULL","NULL","NULL","NULL"]
["1","2000","438","-1",72,11,72.72,"NULL","NULL","NULL","NULL","NULL","NULL","NULL","NULL","NULL"]
["1","2000","442","-1",24,3,75.83,"NULL","NULL","NULL","NULL","NULL","NULL","NULL","NULL","NULL"]
["1","2000","452","-1",100,11,64.66,"NULL","NULL","NULL","NULL","NULL","NULL","NULL","NULL","NULL"]
["1","2000","459","-1",108,10,92.91,"NULL","NULL","NULL","NULL","NULL","NULL","NULL","NULL","NULL"]
["1","2000","460","-1",51,2,37.200000000000003,"NULL","NULL","NULL","NULL","NULL","NULL","NULL","NULL","NULL"]
["1","2000","463","-1",39,2,32.64,"NULL","NULL","NULL","NULL","NULL","NULL","NULL","NULL","NULL"]
["1","3000","-1","-1",648,14,32.71,"NULL","NULL","NULL","NULL","NULL","NULL","NULL","NULL","NULL"]
["1","3000","100","-1",995,29,33.76,"NULL","NULL","NULL","NULL","NULL","NULL","NULL","NULL","NULL"]
["1","3000","310","-1",61,3,38.659999999999997,"NULL","NULL","NULL","NULL","NULL","NULL","NULL","NULL","NULL"]
["1","3000","330","-1",152,9,36.630000000000003,"NULL","NULL","NULL","NULL","NULL","NULL","NULL","NULL","NULL"]
["1","3000","335","-1",134,3,33.31,"NULL","NULL","NULL","NULL","NULL","NULL","NULL","NULL","NULL"]
["1","2000","35","-1",7218,751,56.22,"NULL","NULL","NULL","NULL","NULL","NULL","NULL","NULL","NULL"]
["1","2000","384","-1",5415,711,70.180000000000007,"NULL","NULL","NULL","NULL","NULL","NULL","NULL","NULL","NULL"]
["1","2000","393","-1",11037,1999,90.34,"NULL","NULL","NULL","NULL","NULL","NULL","NULL","NULL","NULL"]
["1","2000","394","-1",10540,1287,69.349999999999994,"NULL","NULL","NULL","NULL","NULL","NULL","NULL","NULL","NULL"]
["1","2000","395","-1",5582,529,58.32,"NULL","NULL","NULL","NULL","NULL","NULL","NULL","NULL","NULL"]
["10","1","-1","-1",22952,"NULL","NULL","NULL","NULL","NULL","NULL","NULL","NULL","NULL","NULL","NULL"]
["11","2300","100","330",919,4,"NULL","NULL","NULL","NULL","NULL","NULL","NULL","NULL","NULL","NULL"]
["11","2400","100","400G",115,1,"NULL","NULL","NULL","NULL","NULL","NULL","NULL","NULL","NULL","NULL"]
["11","2100","100","010",13420,2044,"NULL","NULL","NULL","NULL","NULL","NULL","NULL","NULL","NULL","NULL"]
["11","2100","100","020",681,74,"NULL","NULL","NULL","NULL","NULL","NULL","NULL","NULL","NULL","NULL"]
["11","2100","100","110",2917,300,"NULL","NULL","NULL","NULL","NULL","NULL","NULL","NULL","NULL","NULL"]
["11","2200","100","130G",5,"NULL","NULL","NULL","NULL","NULL","NULL","NULL","NULL","NULL","NULL","NULL"]
["11","2200","100","290G",7,"NULL","NULL","NULL","NULL","NULL","NULL","NULL","NULL","NULL","NULL","NULL"]
["12","9000","100","1",15599,94,29.170395538175502,"NULL","NULL","NULL","NULL","NULL","NULL","NULL","NULL","NULL"]
["12","9000","100","1.1",14884,25,27.682343456060199,"NULL","NULL","NULL","NULL","NULL","NULL","NULL","NULL","NULL"]
["12","9000","100","1.2",715,69,60.146853146853097,"NULL","NULL","NULL","NULL","NULL","NULL","NULL","NULL","NULL"]
["12","9000","100","2",12034,3026,104.218547448895,"NULL","NULL","NULL","NULL","NULL","NULL","NULL","NULL","NULL"]
["12","9000","100","2.1",11849,2945,103.503249219343,"NULL","NULL","NULL","NULL","NULL","NULL","NULL","NULL","NULL"]
["12","9000","100","2.2",185,81,150.03243243243199,"NULL","NULL","NULL","NULL","NULL","NULL","NULL","NULL","NULL"]
["12","9000","100","3",3262,1511,162.92611894543199,"NULL","NULL","NULL","NULL","NULL","NULL","NULL","NULL","NULL"]
["12","9000","100","3.1",3185,1480,163.004395604396,"NULL","NULL","NULL","NULL","NULL","NULL","NULL","NULL","NULL"]
["12","9000","100","3.2",77,31,159.68831168831201,"NULL","NULL","NULL","NULL","NULL","NULL","NULL","NULL","NULL"]
["12","9000","100","4",530,98,72.332075471698104,"NULL","NULL","NULL","NULL","NULL","NULL","NULL","NULL","NULL"]
["12","9000","100","4.1",489,87,71.558282208589006,"NULL","NULL","NULL","NULL","NULL","NULL","NULL","NULL","NULL"]
["12","9000","100","4.2",41,11,81.560975609756099,"NULL","NULL","NULL","NULL","NULL","NULL","NULL","NULL","NULL"]
["2","2100","-1","-1",121784,44035,"NULL","NULL","NULL","NULL","NULL","NULL","NULL","NULL","NULL","NULL"]
["2","2100","100","-1",439471,157958,"NULL","NULL","NULL","NULL","NULL","NULL","NULL","NULL","NULL","NULL"]
["2","2100","301","-1",2359,773,"NULL","NULL","NULL","NULL","NULL","NULL","NULL","NULL","NULL","NULL"]
["2","2100","304","-1",2024,574,"NULL","NULL","NULL","NULL","NULL","NULL","NULL","NULL","NULL","NULL"]
["2","2100","306","-1",4243,1650,"NULL","NULL","NULL","NULL","NULL","NULL","NULL","NULL","NULL","NULL"]
["2","2100","307","-1",2875,918,"NULL","NULL","NULL","NULL","NULL","NULL","NULL","NULL","NULL","NULL"]
["2","2100","308","-1",1721,624,"NULL","NULL","NULL","NULL","NULL","NULL","NULL","NULL","NULL","NULL"]
["2","2100","309","-1",2835,1114,"NULL","NULL","NULL","NULL","NULL","NULL","NULL","NULL","NULL","NULL"]
["2","2100","310","-1",7433,2962,"NULL","NULL","NULL","NULL","NULL","NULL","NULL","NULL","NULL","NULL"]
["2","2100","311","-1",5385,2071,"NULL","NULL","NULL","NULL","NULL","NULL","NULL","NULL","NULL","NULL"]
["2","2100","313","-1",5558,1852,"NULL","NULL","NULL","NULL","NULL","NULL","NULL","NULL","NULL","NULL"]
["2","2100","314","-1",13516,4624,"NULL","NULL","NULL","NULL","NULL","NULL","NULL","NULL","NULL","NULL"]
["2","2100","315","-1",1840,694,"NULL","NULL","NULL","NULL","NULL","NULL","NULL","NULL","NULL","NULL"]
["2","2100","316","-1",16025,5847,"NULL","NULL","NULL","NULL","NULL","NULL","NULL","NULL","NULL","NULL"]
["2","2100","317","-1",25883,9806,"NULL","NULL","NULL","NULL","NULL","NULL","NULL","NULL","NULL","NULL"]
["2","2100","318","-1",15039,4953,"NULL","NULL","NULL","NULL","NULL","NULL","NULL","NULL","NULL","NULL"]
["2","2100","319","-1",7666,2669,"NULL","NULL","NULL","NULL","NULL","NULL","NULL","NULL","NULL","NULL"]
["2","2100","320","-1",7921,2796,"NULL","NULL","NULL","NULL","NULL","NULL","NULL","NULL","NULL","NULL"]
["2","2100","321","-1",4877,1419,"NULL","NULL","NULL","NULL","NULL","NULL","NULL","NULL","NULL","NULL"]
["2","2100","322","-1",6745,2400,"NULL","NULL","NULL","NULL","NULL","NULL","NULL","NULL","NULL","NULL"]
["2","2100","323","-1",4035,1597,"NULL","NULL","NULL","NULL","NULL","NULL","NULL","NULL","NULL","NULL"]
["2","2100","325","-1",8984,3694,"NULL","NULL","NULL","NULL","NULL","NULL","NULL","NULL","NULL","NULL"]
["2","2100","326","-1",5171,1783,"NULL","NULL","NULL","NULL","NULL","NULL","NULL","NULL","NULL","NULL"]
["2","2100","327","-1",3894,1279,"NULL","NULL","NULL","NULL","NULL","NULL","NULL","NULL","NULL","NULL"]
["2","2100","328","-1",6626,2124,"NULL","NULL","NULL","NULL","NULL","NULL","NULL","NULL","NULL","NULL"]
["2","2100","329","-1",5841,2021,"NULL","NULL","NULL","NULL","NULL","NULL","NULL","NULL","NULL","NULL"]
["2","2100","330","-1",6636,3097,"NULL","NULL","NULL","NULL","NULL","NULL","NULL","NULL","NULL","NULL"]
["2","2100","331","-1",5751,1821,"NULL","NULL","NULL","NULL","NULL","NULL","NULL","NULL","NULL","NULL"]
["2","2100","333","-1",2102,618,"NULL","NULL","NULL","NULL","NULL","NULL","NULL","NULL","NULL","NULL"]
["2","2100","334","-1",2187,802,"NULL","NULL","NULL","NULL","NULL","NULL","NULL","NULL","NULL","NULL"]
["2","2100","335","-1",6611,2909,"NULL","NULL","NULL","NULL","NULL","NULL","NULL","NULL","NULL","NULL"]
["2","2100","339","-1",5762,1718,"NULL","NULL","NULL","NULL","NULL","NULL","NULL","NULL","NULL","NULL"]
["2","2100","340","-1",2268,876,"NULL","NULL","NULL","NULL","NULL","NULL","NULL","NULL","NULL","NULL"]
["2","2100","341","-1",2168,797,"NULL","NULL","NULL","NULL","NULL","NULL","NULL","NULL","NULL","NULL"]
["2","2100","343","-1",8846,2859,"NULL","NULL","NULL","NULL","NULL","NULL","NULL","NULL","NULL","NULL"]
["2","2100","344","-1",7374,1959,"NULL","NULL","NULL","NULL","NULL","NULL","NULL","NULL","NULL","NULL"]
["2","2100","345","-1",5767,1830,"NULL","NULL","NULL","NULL","NULL","NULL","NULL","NULL","NULL","NULL"]
["2","2100","346","-1",11661,5507,"NULL","NULL","NULL","NULL","NULL","NULL","NULL","NULL","NULL","NULL"]
["2","2100","347","-1",1950,634,"NULL","NULL","NULL","NULL","NULL","NULL","NULL","NULL","NULL","NULL"]
["2","2100","348","-1",3632,1343,"NULL","NULL","NULL","NULL","NULL","NULL","NULL","NULL","NULL","NULL"]
["2","2100","349","-1",18568,6415,"NULL","NULL","NULL","NULL","NULL","NULL","NULL","NULL","NULL","NULL"]
["2","2100","350","-1",3701,1339,"NULL","NULL","NULL","NULL","NULL","NULL","NULL","NULL","NULL","NULL"]
["2","2100","351","-1",5373,1975,"NULL","NULL","NULL","NULL","NULL","NULL","NULL","NULL","NULL","NULL"]
["2","2100","354","-1",3609,1161,"NULL","NULL","NULL","NULL","NULL","NULL","NULL","NULL","NULL","NULL"]
["2","2100","355","-1",1733,806,"NULL","NULL","NULL","NULL","NULL","NULL","NULL","NULL","NULL","NULL"]
["2","2100","358","-1",348,135,"NULL","NULL","NULL","NULL","NULL","NULL","NULL","NULL","NULL","NULL"]
["2","2100","362","-1",17160,6153,"NULL","NULL","NULL","NULL","NULL","NULL","NULL","NULL","NULL","NULL"]
["2","2100","372","-1",213,95,"NULL","NULL","NULL","NULL","NULL","NULL","NULL","NULL","NULL","NULL"]
["2","2100","373","-1",869,317,"NULL","NULL","NULL","NULL","NULL","NULL","NULL","NULL","NULL","NULL"]
["2","2100","376","-1",1399,90,"NULL","NULL","NULL","NULL","NULL","NULL","NULL","NULL","NULL","NULL"]
["2","2100","377","-1",10512,3839,"NULL","NULL","NULL","NULL","NULL","NULL","NULL","NULL","NULL","NULL"]
["2","2100","402","-1",1246,511,"NULL","NULL","NULL","NULL","NULL","NULL","NULL","NULL","NULL","NULL"]
["2","2100","405","-1",321,121,"NULL","NULL","NULL","NULL","NULL","NULL","NULL","NULL","NULL","NULL"]
["2","2100","436","-1",1406,549,"NULL","NULL","NULL","NULL","NULL","NULL","NULL","NULL","NULL","NULL"]
["2","2100","437","-1",953,316,"NULL","NULL","NULL","NULL","NULL","NULL","NULL","NULL","NULL","NULL"]
["2","2100","438","-1",1250,484,"NULL","NULL","NULL","NULL","NULL","NULL","NULL","NULL","NULL","NULL"]
["2","2100","442","-1",826,303,"NULL","NULL","NULL","NULL","NULL","NULL","NULL","NULL","NULL","NULL"]
["2","2100","452","-1",2577,895,"NULL","NULL","NULL","NULL","NULL","NULL","NULL","NULL","NULL","NULL"]
["2","2100","459","-1",2623,782,"NULL","NULL","NULL","NULL","NULL","NULL","NULL","NULL","NULL","NULL"]
["2","2100","460","-1",696,180,"NULL","NULL","NULL","NULL","NULL","NULL","NULL","NULL","NULL","NULL"]
["2","2100","463","-1",1093,443,"NULL","NULL","NULL","NULL","NULL","NULL","NULL","NULL","NULL","NULL"]
["2","2200","-1","-1",8410,1643,"NULL","NULL","NULL","NULL","NULL","NULL","NULL","NULL","NULL","NULL"]
["2","2200","100","-1",97038,18436,"NULL","NULL","NULL","NULL","NULL","NULL","NULL","NULL","NULL","NULL"]
["2","2200","301","-1",434,111,"NULL","NULL","NULL","NULL","NULL","NULL","NULL","NULL","NULL","NULL"]
["2","2200","304","-1",560,143,"NULL","NULL","NULL","NULL","NULL","NULL","NULL","NULL","NULL","NULL"]
["2","2200","306","-1",765,192,"NULL","NULL","NULL","NULL","NULL","NULL","NULL","NULL","NULL","NULL"]
["2","2200","307","-1",589,157,"NULL","NULL","NULL","NULL","NULL","NULL","NULL","NULL","NULL","NULL"]
["2","2200","308","-1",411,111,"NULL","NULL","NULL","NULL","NULL","NULL","NULL","NULL","NULL","NULL"]
["2","2200","309","-1",411,102,"NULL","NULL","NULL","NULL","NULL","NULL","NULL","NULL","NULL","NULL"]
["2","2200","310","-1",3238,678,"NULL","NULL","NULL","NULL","NULL","NULL","NULL","NULL","NULL","NULL"]
["2","2200","311","-1",780,149,"NULL","NULL","NULL","NULL","NULL","NULL","NULL","NULL","NULL","NULL"]
["2","2200","313","-1",570,102,"NULL","NULL","NULL","NULL","NULL","NULL","NULL","NULL","NULL","NULL"]
["2","2200","314","-1",1572,421,"NULL","NULL","NULL","NULL","NULL","NULL","NULL","NULL","NULL","NULL"]
["2","2200","315","-1",336,135,"NULL","NULL","NULL","NULL","NULL","NULL","NULL","NULL","NULL","NULL"]
["2","2200","316","-1",2014,576,"NULL","NULL","NULL","NULL","NULL","NULL","NULL","NULL","NULL","NULL"]
["2","2200","317","-1",2665,723,"NULL","NULL","NULL","NULL","NULL","NULL","NULL","NULL","NULL","NULL"]
["2","2200","318","-1",5670,939,"NULL","NULL","NULL","NULL","NULL","NULL","NULL","NULL","NULL","NULL"]
["2","2200","319","-1",4844,1322,"NULL","NULL","NULL","NULL","NULL","NULL","NULL","NULL","NULL","NULL"]
["2","2200","320","-1",3843,441,"NULL","NULL","NULL","NULL","NULL","NULL","NULL","NULL","NULL","NULL"]
["2","2200","321","-1",710,146,"NULL","NULL","NULL","NULL","NULL","NULL","NULL","NULL","NULL","NULL"]
["2","2200","322","-1",856,194,"NULL","NULL","NULL","NULL","NULL","NULL","NULL","NULL","NULL","NULL"]
["2","2200","323","-1",582,142,"NULL","NULL","NULL","NULL","NULL","NULL","NULL","NULL","NULL","NULL"]
["2","2200","325","-1",1389,432,"NULL","NULL","NULL","NULL","NULL","NULL","NULL","NULL","NULL","NULL"]
["2","2200","326","-1",4527,806,"NULL","NULL","NULL","NULL","NULL","NULL","NULL","NULL","NULL","NULL"]
["2","2200","327","-1",2634,444,"NULL","NULL","NULL","NULL","NULL","NULL","NULL","NULL","NULL","NULL"]
["2","2200","328","-1",952,212,"NULL","NULL","NULL","NULL","NULL","NULL","NULL","NULL","NULL","NULL"]
["2","2200","329","-1",3906,372,"NULL","NULL","NULL","NULL","NULL","NULL","NULL","NULL","NULL","NULL"]
["2","2200","330","-1",6077,544,"NULL","NULL","NULL","NULL","NULL","NULL","NULL","NULL","NULL","NULL"]
["2","2200","331","-1",909,261,"NULL","NULL","NULL","NULL","NULL","NULL","NULL","NULL","NULL","NULL"]
["2","2200","333","-1",423,116,"NULL","NULL","NULL","NULL","NULL","NULL","NULL","NULL","NULL","NULL"]
["2","2200","334","-1",1559,251,"NULL","NULL","NULL","NULL","NULL","NULL","NULL","NULL","NULL","NULL"]
["2","2200","335","-1",5623,696,"NULL","NULL","NULL","NULL","NULL","NULL","NULL","NULL","NULL","NULL"]
["2","2200","339","-1",1016,211,"NULL","NULL","NULL","NULL","NULL","NULL","NULL","NULL","NULL","NULL"]
["2","2200","340","-1",308,70,"NULL","NULL","NULL","NULL","NULL","NULL","NULL","NULL","NULL","NULL"]
["2","2200","341","-1",2358,295,"NULL","NULL","NULL","NULL","NULL","NULL","NULL","NULL","NULL","NULL"]
["2","2200","343","-1",1031,261,"NULL","NULL","NULL","NULL","NULL","NULL","NULL","NULL","NULL","NULL"]
["2","2200","344","-1",1059,209,"NULL","NULL","NULL","NULL","NULL","NULL","NULL","NULL","NULL","NULL"]
["2","2200","345","-1",902,251,"NULL","NULL","NULL","NULL","NULL","NULL","NULL","NULL","NULL","NULL"]
["2","2200","346","-1",2051,479,"NULL","NULL","NULL","NULL","NULL","NULL","NULL","NULL","NULL","NULL"]
["2","2200","347","-1",345,106,"NULL","NULL","NULL","NULL","NULL","NULL","NULL","NULL","NULL","NULL"]
["2","2200","348","-1",548,157,"NULL","NULL","NULL","NULL","NULL","NULL","NULL","NULL","NULL","NULL"]
["2","2200","349","-1",2814,781,"NULL","NULL","NULL","NULL","NULL","NULL","NULL","NULL","NULL","NULL"]
["2","2200","350","-1",1600,200,"NULL","NULL","NULL","NULL","NULL","NULL","NULL","NULL","NULL","NULL"]
["2","2200","351","-1",3739,504,"NULL","NULL","NULL","NULL","NULL","NULL","NULL","NULL","NULL","NULL"]
["2","2200","354","-1",406,126,"NULL","NULL","NULL","NULL","NULL","NULL","NULL","NULL","NULL","NULL"]
["2","2200","355","-1",349,101,"NULL","NULL","NULL","NULL","NULL","NULL","NULL","NULL","NULL","NULL"]
["2","2200","358","-1",602,51,"NULL","NULL","NULL","NULL","NULL","NULL","NULL","NULL","NULL","NULL"]
["2","2200","362","-1",2010,434,"NULL","NULL","NULL","NULL","NULL","NULL","NULL","NULL","NULL","NULL"]
["2","2200","372","-1",285,15,"NULL","NULL","NULL","NULL","NULL","NULL","NULL","NULL","NULL","NULL"]
["2","2200","373","-1",245,54,"NULL","NULL","NULL","NULL","NULL","NULL","NULL","NULL","NULL","NULL"]
["2","2200","376","-1",19,4,"NULL","NULL","NULL","NULL","NULL","NULL","NULL","NULL","NULL","NULL"]
["2","2200","377","-1",5534,852,"NULL","NULL","NULL","NULL","NULL","NULL","NULL","NULL","NULL","NULL"]
["2","2200","402","-1",427,178,"NULL","NULL","NULL","NULL","NULL","NULL","NULL","NULL","NULL","NULL"]
["2","2200","405","-1",101,40,"NULL","NULL","NULL","NULL","NULL","NULL","NULL","NULL","NULL","NULL"]
["2","2200","436","-1",258,69,"NULL","NULL","NULL","NULL","NULL","NULL","NULL","NULL","NULL","NULL"]
["2","2200","437","-1",165,31,"NULL","NULL","NULL","NULL","NULL","NULL","NULL","NULL","NULL","NULL"]
["2","2200","438","-1",351,85,"NULL","NULL","NULL","NULL","NULL","NULL","NULL","NULL","NULL","NULL"]
["2","2200","442","-1",104,28,"NULL","NULL","NULL","NULL","NULL","NULL","NULL","NULL","NULL","NULL"]
["2","2200","452","-1",445,125,"NULL","NULL","NULL","NULL","NULL","NULL","NULL","NULL","NULL","NULL"]
["2","2200","459","-1",398,88,"NULL","NULL","NULL","NULL","NULL","NULL","NULL","NULL","NULL","NULL"]
["2","2200","460","-1",132,26,"NULL","NULL","NULL","NULL","NULL","NULL","NULL","NULL","NULL","NULL"]
["2","2200","463","-1",177,44,"NULL","NULL","NULL","NULL","NULL","NULL","NULL","NULL","NULL","NULL"]
["2","2300","-1","-1",65,23,"NULL","NULL","NULL","NULL","NULL","NULL","NULL","NULL","NULL","NULL"]
["2","2300","100","-1",2012,317,"NULL","NULL","NULL","NULL","NULL","NULL","NULL","NULL","NULL","NULL"]
["2","2300","301","-1",18,"NULL","NULL","NULL","NULL","NULL","NULL","NULL","NULL","NULL","NULL","NULL"]
["2","2300","304","-1",15,"NULL","NULL","NULL","NULL","NULL","NULL","NULL","NULL","NULL","NULL","NULL"]
["2","2300","306","-1",42,4,"NULL","NULL","NULL","NULL","NULL","NULL","NULL","NULL","NULL","NULL"]
["2","2300","307","-1",22,"NULL","NULL","NULL","NULL","NULL","NULL","NULL","NULL","NULL","NULL","NULL"]
["2","2300","308","-1",12,"NULL","NULL","NULL","NULL","NULL","NULL","NULL","NULL","NULL","NULL","NULL"]
["2","2300","309","-1",16,"NULL","NULL","NULL","NULL","NULL","NULL","NULL","NULL","NULL","NULL","NULL"]
["2","2300","310","-1",34,"NULL","NULL","NULL","NULL","NULL","NULL","NULL","NULL","NULL","NULL","NULL"]
["2","2300","311","-1",25,2,"NULL","NULL","NULL","NULL","NULL","NULL","NULL","NULL","NULL","NULL"]
["2","2300","313","-1",19,1,"NULL","NULL","NULL","NULL","NULL","NULL","NULL","NULL","NULL","NULL"]
["2","2300","314","-1",33,"NULL","NULL","NULL","NULL","NULL","NULL","NULL","NULL","NULL","NULL","NULL"]
["2","2300","315","-1",16,1,"NULL","NULL","NULL","NULL","NULL","NULL","NULL","NULL","NULL","NULL"]
["2","2300","316","-1",37,1,"NULL","NULL","NULL","NULL","NULL","NULL","NULL","NULL","NULL","NULL"]
["2","2300","317","-1",155,22,"NULL","NULL","NULL","NULL","NULL","NULL","NULL","NULL","NULL","NULL"]
["2","2300","318","-1",67,"NULL","NULL","NULL","NULL","NULL","NULL","NULL","NULL","NULL","NULL","NULL"]
["2","2300","319","-1",25,1,"NULL","NULL","NULL","NULL","NULL","NULL","NULL","NULL","NULL","NULL"]
["2","2300","320","-1",63,6,"NULL","NULL","NULL","NULL","NULL","NULL","NULL","NULL","NULL","NULL"]
["2","2300","321","-1",17,"NULL","NULL","NULL","NULL","NULL","NULL","NULL","NULL","NULL","NULL","NULL"]
["2","2300","322","-1",32,1,"NULL","NULL","NULL","NULL","NULL","NULL","NULL","NULL","NULL","NULL"]
["2","2300","323","-1",34,"NULL","NULL","NULL","NULL","NULL","NULL","NULL","NULL","NULL","NULL","NULL"]
["2","2300","325","-1",33,3,"NULL","NULL","NULL","NULL","NULL","NULL","NULL","NULL","NULL","NULL"]
["2","2300","326","-1",32,1,"NULL","NULL","NULL","NULL","NULL","NULL","NULL","NULL","NULL","NULL"]
["2","2300","327","-1",308,215,"NULL","NULL","NULL","NULL","NULL","NULL","NULL","NULL","NULL","NULL"]
["2","2300","328","-1",39,"NULL","NULL","NULL","NULL","NULL","NULL","NULL","NULL","NULL","NULL","NULL"]
["2","2300","329","-1",39,3,"NULL","NULL","NULL","NULL","NULL","NULL","NULL","NULL","NULL","NULL"]
["2","2300","330","-1",53,4,"NULL","NULL","NULL","NULL","NULL","NULL","NULL","NULL","NULL","NULL"]
["2","2300","331","-1",39,1,"NULL","NULL","NULL","NULL","NULL","NULL","NULL","NULL","NULL","NULL"]
["2","2300","333","-1",19,"NULL","NULL","NULL","NULL","NULL","NULL","NULL","NULL","NULL","NULL","NULL"]
["2","2300","334","-1",15,6,"NULL","NULL","NULL","NULL","NULL","NULL","NULL","NULL","NULL","NULL"]
["2","2300","335","-1",48,5,"NULL","NULL","NULL","NULL","NULL","NULL","NULL","NULL","NULL","NULL"]
["2","2300","339","-1",20,"NULL","NULL","NULL","NULL","NULL","NULL","NULL","NULL","NULL","NULL","NULL"]
["2","2300","340","-1",14,"NULL","NULL","NULL","NULL","NULL","NULL","NULL","NULL","NULL","NULL","NULL"]
["2","2300","341","-1",15,"NULL","NULL","NULL","NULL","NULL","NULL","NULL","NULL","NULL","NULL","NULL"]
["2","2300","343","-1",72,"NULL","NULL","NULL","NULL","NULL","NULL","NULL","NULL","NULL","NULL","NULL"]
["2","2300","344","-1",59,"NULL","NULL","NULL","NULL","NULL","NULL","NULL","NULL","NULL","NULL","NULL"]
["2","2300","345","-1",25,"NULL","NULL","NULL","NULL","NULL","NULL","NULL","NULL","NULL","NULL","NULL"]
["2","2300","346","-1",34,5,"NULL","NULL","NULL","NULL","NULL","NULL","NULL","NULL","NULL","NULL"]
["2","2300","347","-1",10,"NULL","NULL","NULL","NULL","NULL","NULL","NULL","NULL","NULL","NULL","NULL"]
["2","2300","348","-1",15,"NULL","NULL","NULL","NULL","NULL","NULL","NULL","NULL","NULL","NULL","NULL"]
["2","2300","349","-1",60,3,"NULL","NULL","NULL","NULL","NULL","NULL","NULL","NULL","NULL","NULL"]
["2","2300","350","-1",21,"NULL","NULL","NULL","NULL","NULL","NULL","NULL","NULL","NULL","NULL","NULL"]
["2","2300","351","-1",46,"NULL","NULL","NULL","NULL","NULL","NULL","NULL","NULL","NULL","NULL","NULL"]
["2","2300","354","-1",16,"NULL","NULL","NULL","NULL","NULL","NULL","NULL","NULL","NULL","NULL","NULL"]
["2","2300","355","-1",10,"NULL","NULL","NULL","NULL","NULL","NULL","NULL","NULL","NULL","NULL","NULL"]
["2","2300","358","-1",3,"NULL","NULL","NULL","NULL","NULL","NULL","NULL","NULL","NULL","NULL","NULL"]
["2","2300","362","-1",73,1,"NULL","NULL","NULL","NULL","NULL","NULL","NULL","NULL","NULL","NULL"]
["2","2300","372","-1",4,"NULL","NULL","NULL","NULL","NULL","NULL","NULL","NULL","NULL","NULL","NULL"]
["2","2300","377","-1",92,6,"NULL","NULL","NULL","NULL","NULL","NULL","NULL","NULL","NULL","NULL"]
["2","2300","402","-1",5,"NULL","NULL","NULL","NULL","NULL","NULL","NULL","NULL","NULL","NULL","NULL"]
["2","2300","405","-1",2,"NULL","NULL","NULL","NULL","NULL","NULL","NULL","NULL","NULL","NULL","NULL"]
["2","2300","436","-1",7,1,"NULL","NULL","NULL","NULL","NULL","NULL","NULL","NULL","NULL","NULL"]
["2","2300","437","-1",8,"NULL","NULL","NULL","NULL","NULL","NULL","NULL","NULL","NULL","NULL","NULL"]
["2","2300","438","-1",5,"NULL","NULL","NULL","NULL","NULL","NULL","NULL","NULL","NULL","NULL","NULL"]
["2","2300","442","-1",5,"NULL","NULL","NULL","NULL","NULL","NULL","NULL","NULL","NULL","NULL","NULL"]
["2","2300","452","-1",16,"NULL","NULL","NULL","NULL","NULL","NULL","NULL","NULL","NULL","NULL","NULL"]
["2","2300","459","-1",1,1,"NULL","NULL","NULL","NULL","NULL","NULL","NULL","NULL","NULL","NULL"]
["2","2300","460","-1",1,"NULL","NULL","NULL","NULL","NULL","NULL","NULL","NULL","NULL","NULL","NULL"]
["2","2300","463","-1",1,"NULL","NULL","NULL","NULL","NULL","NULL","NULL","NULL","NULL","NULL","NULL"]
["2","2400","-1","-1",138299,11853,"NULL","NULL","NULL","NULL","NULL","NULL","NULL","NULL","NULL","NULL"]
["2","2400","100","-1",195300,38527,"NULL","NULL","NULL","NULL","NULL","NULL","NULL","NULL","NULL","NULL"]
["2","2400","301","-1",154,105,"NULL","NULL","NULL","NULL","NULL","NULL","NULL","NULL","NULL","NULL"]
["2","2400","304","-1",226,142,"NULL","NULL","NULL","NULL","NULL","NULL","NULL","NULL","NULL","NULL"]
["2","2400","306","-1",248,167,"NULL","NULL","NULL","NULL","NULL","NULL","NULL","NULL","NULL","NULL"]
["2","2400","307","-1",233,153,"NULL","NULL","NULL","NULL","NULL","NULL","NULL","NULL","NULL","NULL"]
["2","2400","308","-1",296,139,"NULL","NULL","NULL","NULL","NULL","NULL","NULL","NULL","NULL","NULL"]
["2","2400","309","-1",172,104,"NULL","NULL","NULL","NULL","NULL","NULL","NULL","NULL","NULL","NULL"]
["2","2400","310","-1",1303,729,"NULL","NULL","NULL","NULL","NULL","NULL","NULL","NULL","NULL","NULL"]
["2","2400","311","-1",338,213,"NULL","NULL","NULL","NULL","NULL","NULL","NULL","NULL","NULL","NULL"]
["2","2400","313","-1",524,245,"NULL","NULL","NULL","NULL","NULL","NULL","NULL","NULL","NULL","NULL"]
["2","2400","314","-1",1767,934,"NULL","NULL","NULL","NULL","NULL","NULL","NULL","NULL","NULL","NULL"]
["2","2400","315","-1",667,231,"NULL","NULL","NULL","NULL","NULL","NULL","NULL","NULL","NULL","NULL"]
["2","2400","316","-1",785,514,"NULL","NULL","NULL","NULL","NULL","NULL","NULL","NULL","NULL","NULL"]
["2","2400","317","-1",5497,2414,"NULL","NULL","NULL","NULL","NULL","NULL","NULL","NULL","NULL","NULL"]
["2","2400","318","-1",1056,608,"NULL","NULL","NULL","NULL","NULL","NULL","NULL","NULL","NULL","NULL"]
["2","2400","319","-1",682,398,"NULL","NULL","NULL","NULL","NULL","NULL","NULL","NULL","NULL","NULL"]
["2","2400","320","-1",789,437,"NULL","NULL","NULL","NULL","NULL","NULL","NULL","NULL","NULL","NULL"]
["2","2400","321","-1",403,154,"NULL","NULL","NULL","NULL","NULL","NULL","NULL","NULL","NULL","NULL"]
["2","2400","322","-1",525,259,"NULL","NULL","NULL","NULL","NULL","NULL","NULL","NULL","NULL","NULL"]
["2","2400","323","-1",601,257,"NULL","NULL","NULL","NULL","NULL","NULL","NULL","NULL","NULL","NULL"]
["2","2400","325","-1",2098,1227,"NULL","NULL","NULL","NULL","NULL","NULL","NULL","NULL","NULL","NULL"]
["2","2400","326","-1",962,275,"NULL","NULL","NULL","NULL","NULL","NULL","NULL","NULL","NULL","NULL"]
["2","2400","327","-1",487,330,"NULL","NULL","NULL","NULL","NULL","NULL","NULL","NULL","NULL","NULL"]
["2","2400","328","-1",528,305,"NULL","NULL","NULL","NULL","NULL","NULL","NULL","NULL","NULL","NULL"]
["2","2400","329","-1",720,412,"NULL","NULL","NULL","NULL","NULL","NULL","NULL","NULL","NULL","NULL"]
["2","2400","330","-1",1190,876,"NULL","NULL","NULL","NULL","NULL","NULL","NULL","NULL","NULL","NULL"]
["2","2400","331","-1",1314,697,"NULL","NULL","NULL","NULL","NULL","NULL","NULL","NULL","NULL","NULL"]
["2","2400","333","-1",228,154,"NULL","NULL","NULL","NULL","NULL","NULL","NULL","NULL","NULL","NULL"]
["2","2400","334","-1",786,273,"NULL","NULL","NULL","NULL","NULL","NULL","NULL","NULL","NULL","NULL"]
["2","2400","335","-1",2642,1685,"NULL","NULL","NULL","NULL","NULL","NULL","NULL","NULL","NULL","NULL"]
["2","2400","339","-1",367,255,"NULL","NULL","NULL","NULL","NULL","NULL","NULL","NULL","NULL","NULL"]
["2","2400","340","-1",304,207,"NULL","NULL","NULL","NULL","NULL","NULL","NULL","NULL","NULL","NULL"]
["2","2400","341","-1",1263,626,"NULL","NULL","NULL","NULL","NULL","NULL","NULL","NULL","NULL","NULL"]
["2","2400","343","-1",950,466,"NULL","NULL","NULL","NULL","NULL","NULL","NULL","NULL","NULL","NULL"]
["2","2400","344","-1",723,365,"NULL","NULL","NULL","NULL","NULL","NULL","NULL","NULL","NULL","NULL"]
["2","2400","345","-1",1411,643,"NULL","NULL","NULL","NULL","NULL","NULL","NULL","NULL","NULL","NULL"]
["2","2400","346","-1",2850,1184,"NULL","NULL","NULL","NULL","NULL","NULL","NULL","NULL","NULL","NULL"]
["2","2400","347","-1",216,163,"NULL","NULL","NULL","NULL","NULL","NULL","NULL","NULL","NULL","NULL"]
["2","2400","348","-1",479,372,"NULL","NULL","NULL","NULL","NULL","NULL","NULL","NULL","NULL","NULL"]
["2","2400","349","-1",3179,1665,"NULL","NULL","NULL","NULL","NULL","NULL","NULL","NULL","NULL","NULL"]
["2","2400","350","-1",654,329,"NULL","NULL","NULL","NULL","NULL","NULL","NULL","NULL","NULL","NULL"]
["2","2400","351","-1",702,427,"NULL","NULL","NULL","NULL","NULL","NULL","NULL","NULL","NULL","NULL"]
["2","2400","354","-1",361,233,"NULL","NULL","NULL","NULL","NULL","NULL","NULL","NULL","NULL","NULL"]
["2","2400","355","-1",200,143,"NULL","NULL","NULL","NULL","NULL","NULL","NULL","NULL","NULL","NULL"]
["2","2400","358","-1",93,55,"NULL","NULL","NULL","NULL","NULL","NULL","NULL","NULL","NULL","NULL"]
["2","2400","362","-1",1489,892,"NULL","NULL","NULL","NULL","NULL","NULL","NULL","NULL","NULL","NULL"]
["2","2400","372","-1",14,1,"NULL","NULL","NULL","NULL","NULL","NULL","NULL","NULL","NULL","NULL"]
["2","2400","373","-1",105,63,"NULL","NULL","NULL","NULL","NULL","NULL","NULL","NULL","NULL","NULL"]
["2","2400","376","-1",11826,2695,"NULL","NULL","NULL","NULL","NULL","NULL","NULL","NULL","NULL","NULL"]
["2","2400","377","-1",1068,593,"NULL","NULL","NULL","NULL","NULL","NULL","NULL","NULL","NULL","NULL"]
["2","2400","402","-1",466,117,"NULL","NULL","NULL","NULL","NULL","NULL","NULL","NULL","NULL","NULL"]
["2","2400","405","-1",25,16,"NULL","NULL","NULL","NULL","NULL","NULL","NULL","NULL","NULL","NULL"]
["2","2400","436","-1",191,135,"NULL","NULL","NULL","NULL","NULL","NULL","NULL","NULL","NULL","NULL"]
["2","2400","437","-1",157,118,"NULL","NULL","NULL","NULL","NULL","NULL","NULL","NULL","NULL","NULL"]
["2","2400","438","-1",121,89,"NULL","NULL","NULL","NULL","NULL","NULL","NULL","NULL","NULL","NULL"]
["2","2400","442","-1",101,74,"NULL","NULL","NULL","NULL","NULL","NULL","NULL","NULL","NULL","NULL"]
["2","2400","452","-1",195,133,"NULL","NULL","NULL","NULL","NULL","NULL","NULL","NULL","NULL","NULL"]
["2","2400","459","-1",157,97,"NULL","NULL","NULL","NULL","NULL","NULL","NULL","NULL","NULL","NULL"]
["2","2400","460","-1",31,18,"NULL","NULL","NULL","NULL","NULL","NULL","NULL","NULL","NULL","NULL"]
["2","2400","463","-1",82,63,"NULL","NULL","NULL","NULL","NULL","NULL","NULL","NULL","NULL","NULL"]
["2","2500","-1","-1",1311,435,"NULL","NULL","NULL","NULL","NULL","NULL","NULL","NULL","NULL","NULL"]
["2","2500","100","-1",4530,1477,"NULL","NULL","NULL","NULL","NULL","NULL","NULL","NULL","NULL","NULL"]
["2","2500","301","-1",11,3,"NULL","NULL","NULL","NULL","NULL","NULL","NULL","NULL","NULL","NULL"]
["2","2500","304","-1",7,"NULL","NULL","NULL","NULL","NULL","NULL","NULL","NULL","NULL","NULL","NULL"]
["2","2500","306","-1",24,3,"NULL","NULL","NULL","NULL","NULL","NULL","NULL","NULL","NULL","NULL"]
["2","2500","307","-1",19,"NULL","NULL","NULL","NULL","NULL","NULL","NULL","NULL","NULL","NULL","NULL"]
["2","2500","308","-1",9,"NULL","NULL","NULL","NULL","NULL","NULL","NULL","NULL","NULL","NULL","NULL"]
["2","2500","309","-1",18,"NULL","NULL","NULL","NULL","NULL","NULL","NULL","NULL","NULL","NULL","NULL"]
["2","2500","310","-1",549,303,"NULL","NULL","NULL","NULL","NULL","NULL","NULL","NULL","NULL","NULL"]
["2","2500","311","-1",22,1,"NULL","NULL","NULL","NULL","NULL","NULL","NULL","NULL","NULL","NULL"]
["2","2500","313","-1",20,2,"NULL","NULL","NULL","NULL","NULL","NULL","NULL","NULL","NULL","NULL"]
["2","2500","314","-1",33,1,"NULL","NULL","NULL","NULL","NULL","NULL","NULL","NULL","NULL","NULL"]
["2","2500","315","-1",31,"NULL","NULL","NULL","NULL","NULL","NULL","NULL","NULL","NULL","NULL","NULL"]
["2","2500","316","-1",56,5,"NULL","NULL","NULL","NULL","NULL","NULL","NULL","NULL","NULL","NULL"]
["2","2500","317","-1",126,5,"NULL","NULL","NULL","NULL","NULL","NULL","NULL","NULL","NULL","NULL"]
["2","2500","318","-1",86,6,"NULL","NULL","NULL","NULL","NULL","NULL","NULL","NULL","NULL","NULL"]
["2","2500","319","-1",44,2,"NULL","NULL","NULL","NULL","NULL","NULL","NULL","NULL","NULL","NULL"]
["2","2500","320","-1",38,5,"NULL","NULL","NULL","NULL","NULL","NULL","NULL","NULL","NULL","NULL"]
["2","2500","321","-1",14,1,"NULL","NULL","NULL","NULL","NULL","NULL","NULL","NULL","NULL","NULL"]
["2","2500","322","-1",41,2,"NULL","NULL","NULL","NULL","NULL","NULL","NULL","NULL","NULL","NULL"]
["2","2500","323","-1",10,"NULL","NULL","NULL","NULL","NULL","NULL","NULL","NULL","NULL","NULL","NULL"]
["2","2500","325","-1",47,2,"NULL","NULL","NULL","NULL","NULL","NULL","NULL","NULL","NULL","NULL"]
["2","2500","326","-1",26,2,"NULL","NULL","NULL","NULL","NULL","NULL","NULL","NULL","NULL","NULL"]
["2","2500","327","-1",18,1,"NULL","NULL","NULL","NULL","NULL","NULL","NULL","NULL","NULL","NULL"]
["2","2500","328","-1",44,2,"NULL","NULL","NULL","NULL","NULL","NULL","NULL","NULL","NULL","NULL"]
["2","2500","329","-1",44,2,"NULL","NULL","NULL","NULL","NULL","NULL","NULL","NULL","NULL","NULL"]
["2","2500","330","-1",582,288,"NULL","NULL","NULL","NULL","NULL","NULL","NULL","NULL","NULL","NULL"]
["2","2500","331","-1",31,1,"NULL","NULL","NULL","NULL","NULL","NULL","NULL","NULL","NULL","NULL"]
["2","2500","333","-1",19,2,"NULL","NULL","NULL","NULL","NULL","NULL","NULL","NULL","NULL","NULL"]
["2","2500","334","-1",11,1,"NULL","NULL","NULL","NULL","NULL","NULL","NULL","NULL","NULL","NULL"]
["2","2500","335","-1",602,366,"NULL","NULL","NULL","NULL","NULL","NULL","NULL","NULL","NULL","NULL"]
["2","2500","339","-1",21,"NULL","NULL","NULL","NULL","NULL","NULL","NULL","NULL","NULL","NULL","NULL"]
["2","2500","340","-1",10,1,"NULL","NULL","NULL","NULL","NULL","NULL","NULL","NULL","NULL","NULL"]
["2","2500","341","-1",86,1,"NULL","NULL","NULL","NULL","NULL","NULL","NULL","NULL","NULL","NULL"]
["2","2500","343","-1",40,2,"NULL","NULL","NULL","NULL","NULL","NULL","NULL","NULL","NULL","NULL"]
["2","2500","344","-1",37,1,"NULL","NULL","NULL","NULL","NULL","NULL","NULL","NULL","NULL","NULL"]
["2","2500","345","-1",48,2,"NULL","NULL","NULL","NULL","NULL","NULL","NULL","NULL","NULL","NULL"]
["2","2500","346","-1",44,3,"NULL","NULL","NULL","NULL","NULL","NULL","NULL","NULL","NULL","NULL"]
["2","2500","347","-1",7,1,"NULL","NULL","NULL","NULL","NULL","NULL","NULL","NULL","NULL","NULL"]
["2","2500","348","-1",19,"NULL","NULL","NULL","NULL","NULL","NULL","NULL","NULL","NULL","NULL","NULL"]
["2","2500","349","-1",85,3,"NULL","NULL","NULL","NULL","NULL","NULL","NULL","NULL","NULL","NULL"]
["2","2500","350","-1",21,1,"NULL","NULL","NULL","NULL","NULL","NULL","NULL","NULL","NULL","NULL"]
["2","2500","351","-1",23,1,"NULL","NULL","NULL","NULL","NULL","NULL","NULL","NULL","NULL","NULL"]
["2","2500","354","-1",17,"NULL","NULL","NULL","NULL","NULL","NULL","NULL","NULL","NULL","NULL","NULL"]
["2","2500","355","-1",9,1,"NULL","NULL","NULL","NULL","NULL","NULL","NULL","NULL","NULL","NULL"]
["2","2500","358","-1",5,2,"NULL","NULL","NULL","NULL","NULL","NULL","NULL","NULL","NULL","NULL"]
["2","2500","362","-1",39,4,"NULL","NULL","NULL","NULL","NULL","NULL","NULL","NULL","NULL","NULL"]
["2","2500","373","-1",4,"NULL","NULL","NULL","NULL","NULL","NULL","NULL","NULL","NULL","NULL","NULL"]
["2","2500","376","-1",16,5,"NULL","NULL","NULL","NULL","NULL","NULL","NULL","NULL","NULL","NULL"]
["2","2500","377","-1",14,2,"NULL","NULL","NULL","NULL","NULL","NULL","NULL","NULL","NULL","NULL"]
["2","2500","402","-1",31,1,"NULL","NULL","NULL","NULL","NULL","NULL","NULL","NULL","NULL","NULL"]
["2","2500","405","-1",3,1,"NULL","NULL","NULL","NULL","NULL","NULL","NULL","NULL","NULL","NULL"]
["2","2500","436","-1",8,"NULL","NULL","NULL","NULL","NULL","NULL","NULL","NULL","NULL","NULL","NULL"]
["2","2500","437","-1",12,2,"NULL","NULL","NULL","NULL","NULL","NULL","NULL","NULL","NULL","NULL"]
["2","2500","438","-1",5,"NULL","NULL","NULL","NULL","NULL","NULL","NULL","NULL","NULL","NULL","NULL"]
["2","2500","442","-1",3,"NULL","NULL","NULL","NULL","NULL","NULL","NULL","NULL","NULL","NULL","NULL"]
["2","2500","452","-1",17,1,"NULL","NULL","NULL","NULL","NULL","NULL","NULL","NULL","NULL","NULL"]
["2","2500","459","-1",7,1,"NULL","NULL","NULL","NULL","NULL","NULL","NULL","NULL","NULL","NULL"]
["2","2500","460","-1",3,"NULL","NULL","NULL","NULL","NULL","NULL","NULL","NULL","NULL","NULL","NULL"]
["2","2500","463","-1",3,"NULL","NULL","NULL","NULL","NULL","NULL","NULL","NULL","NULL","NULL","NULL"]
["2","2600","-1","-1",799,201,"NULL","NULL","NULL","NULL","NULL","NULL","NULL","NULL","NULL","NULL"]
["2","2600","100","-1",10033,386,"NULL","NULL","NULL","NULL","NULL","NULL","NULL","NULL","NULL","NULL"]
["2","2600","301","-1",2,"NULL","NULL","NULL","NULL","NULL","NULL","NULL","NULL","NULL","NULL","NULL"]
["2","2600","304","-1",3,2,"NULL","NULL","NULL","NULL","NULL","NULL","NULL","NULL","NULL","NULL"]
["2","2600","307","-1",1,1,"NULL","NULL","NULL","NULL","NULL","NULL","NULL","NULL","NULL","NULL"]
["2","2600","308","-1",2,"NULL","NULL","NULL","NULL","NULL","NULL","NULL","NULL","NULL","NULL","NULL"]
["2","2600","309","-1",2,1,"NULL","NULL","NULL","NULL","NULL","NULL","NULL","NULL","NULL","NULL"]
["2","2600","313","-1",4,3,"NULL","NULL","NULL","NULL","NULL","NULL","NULL","NULL","NULL","NULL"]
["2","2600","314","-1",4,1,"NULL","NULL","NULL","NULL","NULL","NULL","NULL","NULL","NULL","NULL"]
["2","2600","315","-1",223,2,"NULL","NULL","NULL","NULL","NULL","NULL","NULL","NULL","NULL","NULL"]
["2","2600","316","-1",4,1,"NULL","NULL","NULL","NULL","NULL","NULL","NULL","NULL","NULL","NULL"]
["2","2600","317","-1",49,28,"NULL","NULL","NULL","NULL","NULL","NULL","NULL","NULL","NULL","NULL"]
["2","2600","318","-1",17,8,"NULL","NULL","NULL","NULL","NULL","NULL","NULL","NULL","NULL","NULL"]
["2","2600","319","-1",4,1,"NULL","NULL","NULL","NULL","NULL","NULL","NULL","NULL","NULL","NULL"]
["2","2600","320","-1",5,1,"NULL","NULL","NULL","NULL","NULL","NULL","NULL","NULL","NULL","NULL"]
["2","2600","321","-1",7,6,"NULL","NULL","NULL","NULL","NULL","NULL","NULL","NULL","NULL","NULL"]
["2","2600","322","-1",3,2,"NULL","NULL","NULL","NULL","NULL","NULL","NULL","NULL","NULL","NULL"]
["2","2600","323","-1",3,1,"NULL","NULL","NULL","NULL","NULL","NULL","NULL","NULL","NULL","NULL"]
["2","2600","325","-1",7,5,"NULL","NULL","NULL","NULL","NULL","NULL","NULL","NULL","NULL","NULL"]
["2","2600","326","-1",11,8,"NULL","NULL","NULL","NULL","NULL","NULL","NULL","NULL","NULL","NULL"]
["2","2600","327","-1",3,2,"NULL","NULL","NULL","NULL","NULL","NULL","NULL","NULL","NULL","NULL"]
["2","2600","328","-1",7,4,"NULL","NULL","NULL","NULL","NULL","NULL","NULL","NULL","NULL","NULL"]
["2","2600","329","-1",4,3,"NULL","NULL","NULL","NULL","NULL","NULL","NULL","NULL","NULL","NULL"]
["2","2600","331","-1",6,5,"NULL","NULL","NULL","NULL","NULL","NULL","NULL","NULL","NULL","NULL"]
["2","2600","333","-1",2,1,"NULL","NULL","NULL","NULL","NULL","NULL","NULL","NULL","NULL","NULL"]
["2","2600","334","-1",7,1,"NULL","NULL","NULL","NULL","NULL","NULL","NULL","NULL","NULL","NULL"]
["2","2600","340","-1",2,"NULL","NULL","NULL","NULL","NULL","NULL","NULL","NULL","NULL","NULL","NULL"]
["2","2600","341","-1",6359,13,"NULL","NULL","NULL","NULL","NULL","NULL","NULL","NULL","NULL","NULL"]
["2","2600","343","-1",3,1,"NULL","NULL","NULL","NULL","NULL","NULL","NULL","NULL","NULL","NULL"]
["2","2600","344","-1",5,3,"NULL","NULL","NULL","NULL","NULL","NULL","NULL","NULL","NULL","NULL"]
["2","2600","345","-1",1030,18,"NULL","NULL","NULL","NULL","NULL","NULL","NULL","NULL","NULL","NULL"]
["2","2600","346","-1",22,13,"NULL","NULL","NULL","NULL","NULL","NULL","NULL","NULL","NULL","NULL"]
["2","2600","347","-1",9,8,"NULL","NULL","NULL","NULL","NULL","NULL","NULL","NULL","NULL","NULL"]
["2","2600","348","-1",3,3,"NULL","NULL","NULL","NULL","NULL","NULL","NULL","NULL","NULL","NULL"]
["2","2600","349","-1",1309,13,"NULL","NULL","NULL","NULL","NULL","NULL","NULL","NULL","NULL","NULL"]
["2","2600","351","-1",16,7,"NULL","NULL","NULL","NULL","NULL","NULL","NULL","NULL","NULL","NULL"]
["2","2600","354","-1",1,1,"NULL","NULL","NULL","NULL","NULL","NULL","NULL","NULL","NULL","NULL"]
["2","2600","355","-1",1,"NULL","NULL","NULL","NULL","NULL","NULL","NULL","NULL","NULL","NULL","NULL"]
["2","2600","358","-1",2,1,"NULL","NULL","NULL","NULL","NULL","NULL","NULL","NULL","NULL","NULL"]
["2","2600","362","-1",4,1,"NULL","NULL","NULL","NULL","NULL","NULL","NULL","NULL","NULL","NULL"]
["2","2600","373","-1",3,3,"NULL","NULL","NULL","NULL","NULL","NULL","NULL","NULL","NULL","NULL"]
["2","2600","377","-1",6,2,"NULL","NULL","NULL","NULL","NULL","NULL","NULL","NULL","NULL","NULL"]
["2","2600","402","-1",58,1,"NULL","NULL","NULL","NULL","NULL","NULL","NULL","NULL","NULL","NULL"]
["2","2600","405","-1",4,3,"NULL","NULL","NULL","NULL","NULL","NULL","NULL","NULL","NULL","NULL"]
["2","2600","436","-1",4,3,"NULL","NULL","NULL","NULL","NULL","NULL","NULL","NULL","NULL","NULL"]
["2","2600","437","-1",3,"NULL","NULL","NULL","NULL","NULL","NULL","NULL","NULL","NULL","NULL","NULL"]
["2","2600","438","-1",2,"NULL","NULL","NULL","NULL","NULL","NULL","NULL","NULL","NULL","NULL","NULL"]
["2","2600","442","-1",1,1,"NULL","NULL","NULL","NULL","NULL","NULL","NULL","NULL","NULL","NULL"]
["2","2600","452","-1",3,2,"NULL","NULL","NULL","NULL","NULL","NULL","NULL","NULL","NULL","NULL"]
["2","2600","459","-1",1,1,"NULL","NULL","NULL","NULL","NULL","NULL","NULL","NULL","NULL","NULL"]
["2","2600","463","-1",3,"NULL","NULL","NULL","NULL","NULL","NULL","NULL","NULL","NULL","NULL","NULL"]
["2","3100","-1","-1",3747,221,"NULL","NULL","NULL","NULL","NULL","NULL","NULL","NULL","NULL","NULL"]
["2","3100","100","-1",5061,427,"NULL","NULL","NULL","NULL","NULL","NULL","NULL","NULL","NULL","NULL"]
["2","3100","310","-1",441,59,"NULL","NULL","NULL","NULL","NULL","NULL","NULL","NULL","NULL","NULL"]
["2","3100","330","-1",494,68,"NULL","NULL","NULL","NULL","NULL","NULL","NULL","NULL","NULL","NULL"]
["2","3100","335","-1",379,79,"NULL","NULL","NULL","NULL","NULL","NULL","NULL","NULL","NULL","NULL"]
["2","3200","-1","-1",658,14,"NULL","NULL","NULL","NULL","NULL","NULL","NULL","NULL","NULL","NULL"]
["2","3200","100","-1",1033,31,"NULL","NULL","NULL","NULL","NULL","NULL","NULL","NULL","NULL","NULL"]
["2","3200","310","-1",69,4,"NULL","NULL","NULL","NULL","NULL","NULL","NULL","NULL","NULL","NULL"]
["2","3200","330","-1",163,9,"NULL","NULL","NULL","NULL","NULL","NULL","NULL","NULL","NULL","NULL"]
["2","3200","335","-1",143,4,"NULL","NULL","NULL","NULL","NULL","NULL","NULL","NULL","NULL","NULL"]
["2","3300","-1","-1",3,1,"NULL","NULL","NULL","NULL","NULL","NULL","NULL","NULL","NULL","NULL"]
["2","3300","100","-1",109,105,"NULL","NULL","NULL","NULL","NULL","NULL","NULL","NULL","NULL","NULL"]
["2","3300","310","-1",54,53,"NULL","NULL","NULL","NULL","NULL","NULL","NULL","NULL","NULL","NULL"]
["2","3300","330","-1",29,28,"NULL","NULL","NULL","NULL","NULL","NULL","NULL","NULL","NULL","NULL"]
["2","3300","335","-1",23,23,"NULL","NULL","NULL","NULL","NULL","NULL","NULL","NULL","NULL","NULL"]
["2","3400","-1","-1",92,12,"NULL","NULL","NULL","NULL","NULL","NULL","NULL","NULL","NULL","NULL"]
["2","3400","100","-1",93,13,"NULL","NULL","NULL","NULL","NULL","NULL","NULL","NULL","NULL","NULL"]
["2","3400","310","-1",1,1,"NULL","NULL","NULL","NULL","NULL","NULL","NULL","NULL","NULL","NULL"]
["2","3600","100","-1",1716,843,"NULL","NULL","NULL","NULL","NULL","NULL","NULL","NULL","NULL","NULL"]
["2","3600","310","-1",528,212,"NULL","NULL","NULL","NULL","NULL","NULL","NULL","NULL","NULL","NULL"]
["2","3600","330","-1",439,194,"NULL","NULL","NULL","NULL","NULL","NULL","NULL","NULL","NULL","NULL"]
["2","3600","335","-1",749,437,"NULL","NULL","NULL","NULL","NULL","NULL","NULL","NULL","NULL","NULL"]
["2","2100","35","-1",121784,44035,"NULL","NULL","NULL","NULL","NULL","NULL","NULL","NULL","NULL","NULL"]
["2","2100","384","-1",64775,23137,"NULL","NULL","NULL","NULL","NULL","NULL","NULL","NULL","NULL","NULL"]
["2","2100","393","-1",112875,40229,"NULL","NULL","NULL","NULL","NULL","NULL","NULL","NULL","NULL","NULL"]
["2","2100","394","-1",78186,28392,"NULL","NULL","NULL","NULL","NULL","NULL","NULL","NULL","NULL","NULL"]
["2","2100","395","-1",61851,22165,"NULL","NULL","NULL","NULL","NULL","NULL","NULL","NULL","NULL","NULL"]
["2","2200","35","-1",8410,1643,"NULL","NULL","NULL","NULL","NULL","NULL","NULL","NULL","NULL","NULL"]
["2","2200","384","-1",18507,3331,"NULL","NULL","NULL","NULL","NULL","NULL","NULL","NULL","NULL","NULL"]
["2","2200","393","-1",27675,5784,"NULL","NULL","NULL","NULL","NULL","NULL","NULL","NULL","NULL","NULL"]
["2","2200","394","-1",26727,4689,"NULL","NULL","NULL","NULL","NULL","NULL","NULL","NULL","NULL","NULL"]
["2","2200","395","-1",15719,2989,"NULL","NULL","NULL","NULL","NULL","NULL","NULL","NULL","NULL","NULL"]
["2","2300","35","-1",65,23,"NULL","NULL","NULL","NULL","NULL","NULL","NULL","NULL","NULL","NULL"]
["2","2300","384","-1",322,16,"NULL","NULL","NULL","NULL","NULL","NULL","NULL","NULL","NULL","NULL"]
["2","2300","393","-1",818,247,"NULL","NULL","NULL","NULL","NULL","NULL","NULL","NULL","NULL","NULL"]
["2","2300","394","-1",450,19,"NULL","NULL","NULL","NULL","NULL","NULL","NULL","NULL","NULL","NULL"]
["2","2300","395","-1",357,12,"NULL","NULL","NULL","NULL","NULL","NULL","NULL","NULL","NULL","NULL"]
["2","2400","35","-1",138299,11853,"NULL","NULL","NULL","NULL","NULL","NULL","NULL","NULL","NULL","NULL"]
["2","2400","384","-1",10158,5900,"NULL","NULL","NULL","NULL","NULL","NULL","NULL","NULL","NULL","NULL"]
["2","2400","393","-1",14113,7008,"NULL","NULL","NULL","NULL","NULL","NULL","NULL","NULL","NULL","NULL"]
["2","2400","394","-1",22773,8699,"NULL","NULL","NULL","NULL","NULL","NULL","NULL","NULL","NULL","NULL"]
["2","2400","395","-1",9957,5067,"NULL","NULL","NULL","NULL","NULL","NULL","NULL","NULL","NULL","NULL"]
["2","2500","35","-1",1311,435,"NULL","NULL","NULL","NULL","NULL","NULL","NULL","NULL","NULL","NULL"]
["2","2500","384","-1",845,380,"NULL","NULL","NULL","NULL","NULL","NULL","NULL","NULL","NULL","NULL"]
["2","2500","393","-1",527,30,"NULL","NULL","NULL","NULL","NULL","NULL","NULL","NULL","NULL","NULL"]
["2","2500","394","-1",1510,616,"NULL","NULL","NULL","NULL","NULL","NULL","NULL","NULL","NULL","NULL"]
["2","2500","395","-1",337,16,"NULL","NULL","NULL","NULL","NULL","NULL","NULL","NULL","NULL","NULL"]
["2","2600","35","-1",799,201,"NULL","NULL","NULL","NULL","NULL","NULL","NULL","NULL","NULL","NULL"]
["2","2600","384","-1",1351,29,"NULL","NULL","NULL","NULL","NULL","NULL","NULL","NULL","NULL","NULL"]
["2","2600","393","-1",323,53,"NULL","NULL","NULL","NULL","NULL","NULL","NULL","NULL","NULL","NULL"]
["2","2600","394","-1",114,39,"NULL","NULL","NULL","NULL","NULL","NULL","NULL","NULL","NULL","NULL"]
["2","2600","395","-1",7446,64,"NULL","NULL","NULL","NULL","NULL","NULL","NULL","NULL","NULL","NULL"]
["3","2100","100","010",50226,23890,"NULL","NULL","NULL","NULL","NULL","NULL","NULL","NULL","NULL","NULL"]
["3","2100","100","020",211444,66630,"NULL","NULL","NULL","NULL","NULL","NULL","NULL","NULL","NULL","NULL"]
["3","2100","100","040",62099,24216,"NULL","NULL","NULL","NULL","NULL","NULL","NULL","NULL","NULL","NULL"]
["3","2100","100","095",8,2,"NULL","NULL","NULL","NULL","NULL","NULL","NULL","NULL","NULL","NULL"]
["3","2100","100","110",91940,40516,"NULL","NULL","NULL","NULL","NULL","NULL","NULL","NULL","NULL","NULL"]
["3","2100","100","140",7928,2650,"NULL","NULL","NULL","NULL","NULL","NULL","NULL","NULL","NULL","NULL"]
["3","2100","100","320",469,35,"NULL","NULL","NULL","NULL","NULL","NULL","NULL","NULL","NULL","NULL"]
["3","2100","100","410",48,16,"NULL","NULL","NULL","NULL","NULL","NULL","NULL","NULL","NULL","NULL"]
["3","2100","100","420",13,3,"NULL","NULL","NULL","NULL","NULL","NULL","NULL","NULL","NULL","NULL"]
["3","2200","100","130G",13007,1454,"NULL","NULL","NULL","NULL","NULL","NULL","NULL","NULL","NULL","NULL"]
["3","2200","100","133",4,"NULL","NULL","NULL","NULL","NULL","NULL","NULL","NULL","NULL","NULL","NULL"]
["3","2200","100","135",41,1,"NULL","NULL","NULL","NULL","NULL","NULL","NULL","NULL","NULL","NULL"]
["3","2200","100","290G",26785,3823,"NULL","NULL","NULL","NULL","NULL","NULL","NULL","NULL","NULL","NULL"]
["3","2200","100","310G",15758,4985,"NULL","NULL","NULL","NULL","NULL","NULL","NULL","NULL","NULL","NULL"]
["3","2200","100","450",8,6,"NULL","NULL","NULL","NULL","NULL","NULL","NULL","NULL","NULL","NULL"]
["3","2200","100","600G",41435,8167,"NULL","NULL","NULL","NULL","NULL","NULL","NULL","NULL","NULL","NULL"]
["3","2300","100","330",1552,45,"NULL","NULL","NULL","NULL","NULL","NULL","NULL","NULL","NULL","NULL"]
["3","2300","100","680G",42,31,"NULL","NULL","NULL","NULL","NULL","NULL","NULL","NULL","NULL","NULL"]
["3","2300","100","684",1,"NULL","NULL","NULL","NULL","NULL","NULL","NULL","NULL","NULL","NULL","NULL"]
["3","2300","100","685",289,220,"NULL","NULL","NULL","NULL","NULL","NULL","NULL","NULL","NULL","NULL"]
["3","2300","100","690",3,"NULL","NULL","NULL","NULL","NULL","NULL","NULL","NULL","NULL","NULL","NULL"]
["3","2300","100","690G",125,21,"NULL","NULL","NULL","NULL","NULL","NULL","NULL","NULL","NULL","NULL"]
["3","2400","100","293",2,"NULL","NULL","NULL","NULL","NULL","NULL","NULL","NULL","NULL","NULL","NULL"]
["3","2400","100","335",17685,16624,"NULL","NULL","NULL","NULL","NULL","NULL","NULL","NULL","NULL","NULL"]
["3","2400","100","400G",10399,1325,"NULL","NULL","NULL","NULL","NULL","NULL","NULL","NULL","NULL","NULL"]
["3","2400","100","409",8,6,"NULL","NULL","NULL","NULL","NULL","NULL","NULL","NULL","NULL","NULL"]
["3","2400","100","500G",273,26,"NULL","NULL","NULL","NULL","NULL","NULL","NULL","NULL","NULL","NULL"]
["3","2400","100","510",40955,10833,"NULL","NULL","NULL","NULL","NULL","NULL","NULL","NULL","NULL","NULL"]
["3","2400","100","681",619,212,"NULL","NULL","NULL","NULL","NULL","NULL","NULL","NULL","NULL","NULL"]
["3","2400","100","687",42999,71,"NULL","NULL","NULL","NULL","NULL","NULL","NULL","NULL","NULL","NULL"]
["3","2400","100","688",71522,1473,"NULL","NULL","NULL","NULL","NULL","NULL","NULL","NULL","NULL","NULL"]
["3","2400","100","930G",10220,7819,"NULL","NULL","NULL","NULL","NULL","NULL","NULL","NULL","NULL","NULL"]
["3","2400","100","960G",618,138,"NULL","NULL","NULL","NULL","NULL","NULL","NULL","NULL","NULL","NULL"]
["3","2500","100","160G",4530,1477,"NULL","NULL","NULL","NULL","NULL","NULL","NULL","NULL","NULL","NULL"]
["3","2600","100","165",10033,386,"NULL","NULL","NULL","NULL","NULL","NULL","NULL","NULL","NULL","NULL"]
["3","3100","100","120",954,59,"NULL","NULL","NULL","NULL","NULL","NULL","NULL","NULL","NULL","NULL"]
["3","3100","100","180",2152,203,"NULL","NULL","NULL","NULL","NULL","NULL","NULL","NULL","NULL","NULL"]
["3","3100","100","190",1955,165,"NULL","NULL","NULL","NULL","NULL","NULL","NULL","NULL","NULL","NULL"]
["3","3200","100","135",26,2,"NULL","NULL","NULL","NULL","NULL","NULL","NULL","NULL","NULL","NULL"]
["3","3200","100","137",2,1,"NULL","NULL","NULL","NULL","NULL","NULL","NULL","NULL","NULL","NULL"]
["3","3200","100","150G",992,27,"NULL","NULL","NULL","NULL","NULL","NULL","NULL","NULL","NULL","NULL"]
["3","3200","100","297",1,1,"NULL","NULL","NULL","NULL","NULL","NULL","NULL","NULL","NULL","NULL"]
["3","3200","100","607",12,"NULL","NULL","NULL","NULL","NULL","NULL","NULL","NULL","NULL","NULL","NULL"]
["3","3300","100","154",4,2,"NULL","NULL","NULL","NULL","NULL","NULL","NULL","NULL","NULL","NULL"]
["3","3300","100","696",105,103,"NULL","NULL","NULL","NULL","NULL","NULL","NULL","NULL","NULL","NULL"]
["3","3400","100","407",90,11,"NULL","NULL","NULL","NULL","NULL","NULL","NULL","NULL","NULL","NULL"]
["3","3400","100","937",3,2,"NULL","NULL","NULL","NULL","NULL","NULL","NULL","NULL","NULL","NULL"]
["3","3600","100","165",1716,843,"NULL","NULL","NULL","NULL","NULL","NULL","NULL","NULL","NULL","NULL"]
["3.1","2100","100","040",77395,24216,"NULL","NULL","NULL","NULL","NULL","NULL","NULL","NULL","NULL","NULL"]
["4","0","-1","-1",232759,47990,101.64,31849,360521,96.38,73.510000000000005,3597,140071,86477,1725,886]
["4","0","100","-1",591099,181570,141.08000000000001,98255,1344665,114.08,111.45,11768,444032,128642,4755,1896]
["4","0","301","-1",2579,875,143.74,445,5978,121.36,117.25,63,2227,258,21,10]
["4","0","304","-1",2234,700,140.37,1434,18340,47.42,41.34,42,1546,413,183,48]
["4","0","306","-1",4626,1813,162.34,806,10277,138.57,138.82,100,4059,427,22,18]
["4","0","307","-1",3336,1116,152.32,490,6794,132.28,142.74,90,2881,332,24,9]
["4","0","308","-1",1950,743,159.44,344,4040,122.4,132.22999999999999,42,1710,179,11,8]
["4","0","309","-1",3090,1235,164.2,504,6997,140.26,143.29,66,2727,274,17,6]
["4","0","310","-1",8941,3597,175.18,1755,30422,122.24,110.2,221,7605,985,99,31]
["4","0","311","-1",5822,2263,155.5,937,11688,133.72999999999999,136.21,85,5067,614,35,21]
["4","0","313","-1",5883,1982,137.01,1257,16892,111.91,120.35,167,4879,776,49,12]
["4","0","314","-1",15386,5534,154.85,2593,44192,113.93,120.06,323,12791,2133,107,32]
["4","0","315","-1",2433,847,169.02,398,5785,126.43,134.53,50,2020,330,22,11]
["4","0","316","-1",17157,6393,156.06,3209,44437,127.1,130.84,418,14628,1912,154,45]
["4","0","317","-1",29663,11652,183.78,4854,73601,142.77000000000001,147.74,681,24953,3746,207,76]
["4","0","318","-1",16364,5484,146.82,3309,45549,116.83,127.53,375,13880,1928,129,52]
["4","0","319","-1",8284,2969,155.52000000000001,1662,26515,111.63,106.53,206,7045,957,53,22]
["4","0","320","-1",8642,3147,156.22999999999999,1723,21508,119.2,130.68,240,7347,964,64,27]
["4","0","321","-1",5217,1555,129.16,951,10958,112.81,121.32,169,4476,517,42,13]
["4","0","322","-1",7168,2623,164.02,1417,16412,135.63,151.77000000000001,208,6090,782,61,27]
["4","0","323","-1",4341,1764,173.61,728,11180,141.51,144.62,66,3749,492,18,16]
["4","0","325","-1",11072,4785,207.23,1709,26312,141.66999999999999,155.49,310,9226,1421,86,29]
["4","0","326","-1",5612,1999,161.88999999999999,959,12214,130.75,141.47999999999999,116,4863,595,25,13]
["4","0","327","-1",4276,1467,153,750,9896,115.48,130.53,89,3706,428,38,15]
["4","0","328","-1",7205,2359,139.35,1154,15603,115.67,125.7,141,6216,791,48,9]
["4","0","329","-1",6453,2308,166.31,1065,15063,136.41,143.54,126,5580,692,34,21]
["4","0","330","-1",7829,3816,221.65,1552,30606,148.63,126.83,186,6733,789,77,44]
["4","0","331","-1",6987,2410,155.22,1122,13835,120.19,128.47,200,5863,856,52,16]
["4","0","333","-1",2306,729,149.33000000000001,350,4600,131.13,137.61000000000001,59,1989,239,15,4]
["4","0","334","-1",2917,1027,174.12,474,6530,126.35,144.01,72,2481,320,39,5]
["4","0","335","-1",8756,4240,219.16,1679,35656,135.38999999999999,113.25,219,7432,991,78,36]
["4","0","339","-1",6287,1959,131.87,1189,15904,95.79,105.85,132,5396,702,49,8]
["4","0","340","-1",2533,1029,185.52,372,7173,154.69999999999999,143.09,48,2192,266,17,10]
["4","0","341","-1",3475,1385,208.94,536,8001,128.4,127.2,103,2793,541,33,5]
["4","0","343","-1",9844,3248,149.88,1513,22924,119.59,123.35,188,8386,1189,61,20]
["4","0","344","-1",8014,2224,122.79,1556,20538,104.34,105.13,177,6850,887,80,20]
["4","0","345","-1",7248,2431,153.18,1258,22881,135.47,83.3,241,6026,909,53,19]
["4","0","346","-1",12845,6201,221.15,3576,65497,102.27,103.99,277,10208,2080,248,32]
["4","0","347","-1",2180,783,153.6,354,4991,128.97,137.25,57,1894,213,11,5]
["4","0","348","-1",4102,1650,191.33,653,9536,137.13999999999999,146.56,56,3587,422,27,10]
["4","0","349","-1",21507,7801,161.75,3820,53745,118.31,129.66999999999999,516,18109,2667,163,52]
["4","0","350","-1",4029,1510,164.52,713,10347,128.16999999999999,133.03,76,3481,428,31,13]
["4","0","351","-1",5964,2330,184.4,1165,17140,128.94999999999999,137.68,140,5031,733,38,22]
["4","0","354","-1",4030,1377,152.07,706,9877,107.18,120.81,85,3498,420,20,7]
["4","0","355","-1",1873,889,217.57,386,4202,176.08,187.33,60,1678,123,12,"NULL"]
["4","0","358","-1",400,175,183.26,54,917,132.94,138.36000000000001,9,356,29,6,"NULL"]
["4","0","362","-1",18287,6746,164.8,3515,51509,116.14,128.38999999999999,421,15524,2132,178,32]
["4","0","372","-1",258,108,157.09,61,1081,142.38,125.19,2,216,36,3,1]
["4","0","373","-1",972,363,154.88999999999999,175,2021,127.77,142.24,11,850,97,7,7]
["4","0","376","-1",1424,92,112.6,342,2986,117.43,51.48,"NULL",1250,156,13,5]
["4","0","377","-1",11798,4484,169.87,2338,37277,122.62,127.09,131,10091,1450,89,37]
["4","0","402","-1",1681,585,161.54,250,3295,121.76,139.93,47,1433,191,8,2]
["4","0","405","-1",376,146,152.27000000000001,47,699,162.43,131.04,10,326,37,2,1]
["4","0","436","-1",1585,656,171.01,264,3306,139.66999999999999,142.88,24,1391,160,7,3]
["4","0","437","-1",1089,402,165.91,206,2800,126.74,134.97999999999999,26,904,148,9,2]
["4","0","438","-1",1376,566,182.23,229,3137,152.72999999999999,151.63999999999999,18,1197,152,4,5]
["4","0","442","-1",927,374,185.9,128,1807,141.84,163.19,19,813,89,3,3]
["4","0","452","-1",2882,1044,151.94,499,6212,121.94,125.87,45,2505,307,16,9]
["4","0","459","-1",2840,870,134.66999999999999,533,7202,119.48,120.26,82,2456,281,19,2]
["4","0","460","-1",757,204,115.21,145,1617,131.30000000000001,121.77,18,662,71,6,"NULL"]
["4","0","463","-1",1228,516,189.02,193,3642,137.69999999999999,153.37,22,1089,108,7,2]
["4","11","-1","-1",229867,47156,101.77,30535,330891,98.44,76.930000000000007,3497,137624,86227,1658,858]
["4","11","301","-1",2534,871,145.03,419,5772,126.64,120.27,61,2191,252,21,9]
["4","11","304","-1",2197,694,141.53,1419,18208,44.63,40.99,42,1516,408,181,48]
["4","11","306","-1",4529,1799,164.5,756,9932,145.87,142.66,94,3978,420,22,15]
["4","11","307","-1",3282,1111,153.99,454,6554,141.76,147.13999999999999,86,2840,325,22,9]
["4","11","308","-1",1905,738,161.82,321,3914,129.41,135.16,42,1672,174,11,6]
["4","11","309","-1",3018,1228,166.85,465,6770,150.06,147.19999999999999,58,2675,263,17,5]
["4","11","310","-1",8676,3560,178.23,1592,25238,129.49,118.93,204,7390,976,83,23]
["4","11","311","-1",5735,2256,157.13,896,11385,139.15,139.24,83,4998,605,32,17]
["4","11","313","-1",5814,1974,137.99,1214,16603,115.23,121.96,164,4822,769,47,12]
["4","11","314","-1",15219,5522,155.96,2501,43532,117,121.38,313,12663,2112,100,31]
["4","11","315","-1",2392,844,171.1,368,5602,133.71,137.88999999999999,49,1988,322,22,11]
["4","11","316","-1",16894,6367,157.61000000000001,3040,43462,132.75,133.09,396,14426,1877,152,43]
["4","11","317","-1",29208,11613,185.8,4609,71894,149.04,150.62,650,24600,3696,195,67]
["4","11","318","-1",16142,5470,148.18,3183,44654,119.37,129.38,357,13708,1904,124,49]
["4","11","319","-1",8153,2963,157.19,1557,25906,117.59,108.41,201,6936,943,50,22]
["4","11","320","-1",8480,3137,158.30000000000001,1618,20867,125.32,133.96,227,7222,946,62,23]
["4","11","321","-1",5115,1546,130.47,903,10566,117.55,124.96,160,4398,507,38,12]
["4","11","322","-1",7020,2613,166.48,1322,15751,143.62,157.12,195,5974,767,59,25]
["4","11","323","-1",4261,1761,176.02,700,10880,142.52000000000001,147.72,61,3686,482,17,15]
["4","11","325","-1",10876,4768,210.03,1603,25577,149.13,159.12,296,9075,1395,82,28]
["4","11","326","-1",5516,1993,163.89,897,11780,137.87,145.28,108,4783,590,23,12]
["4","11","327","-1",4184,1461,154.77000000000001,681,9486,123.23,134.49,84,3635,420,32,13]
["4","11","328","-1",7058,2347,141.19999999999999,1076,15074,121.37,129.24,134,6097,779,41,7]
["4","11","329","-1",6297,2302,168.82,974,14457,147.05000000000001,148.49,108,5467,675,30,17]
["4","11","330","-1",6642,3277,227.95,1133,19321,161.16999999999999,149.80000000000001,139,5735,692,55,21]
["4","11","331","-1",6844,2402,157.58000000000001,1052,13374,126.01,131.91999999999999,183,5760,843,48,10]
["4","11","333","-1",2246,727,152.16,320,4381,140.43,143.1,53,1940,237,14,2]
["4","11","334","-1",2879,1022,175.61,454,6367,130.22,146.43,67,2450,318,39,5]
["4","11","335","-1",7573,3549,215.69,1331,23227,140.18,127.98,196,6399,889,61,28]
["4","11","339","-1",6219,1955,132.66999999999999,1142,15604,98.74,107.45,127,5337,699,48,8]
["4","11","340","-1",2483,1028,188.5,344,7007,165.34,145.94,43,2152,264,16,8]
["4","11","341","-1",3435,1380,210.1,504,7764,134.55000000000001,129.36000000000001,98,2764,537,32,4]
["4","11","343","-1",9684,3233,151.47,1398,22296,127.38,126.15,176,8258,1176,54,20]
["4","11","344","-1",7865,2212,124.12,1472,20000,108.7,107.21,168,6731,872,75,19]
["4","11","345","-1",7123,2421,155.08000000000001,1173,22386,141.24,84.47,227,5929,901,49,17]
["4","11","346","-1",12714,6188,222.8,3503,64998,103.43,104.54,269,10102,2065,246,32]
["4","11","347","-1",2149,778,154.9,333,4870,135.71,139.99,53,1872,209,10,5]
["4","11","348","-1",4025,1637,193.06,615,9243,144.18,149.96,53,3525,414,24,9]
["4","11","349","-1",21184,7769,163.33000000000001,3651,52516,122.21,131.68,483,17853,2647,153,48]
["4","11","350","-1",3942,1503,167.14,658,10004,137.21,136.74,67,3412,423,29,11]
["4","11","351","-1",5852,2320,186.78,1090,16637,136.19,140.80000000000001,129,4943,724,34,22]
["4","11","354","-1",3964,1373,153.82,662,9636,112.1,123.2,79,3443,416,19,7]
["4","11","355","-1",1833,885,221.09,368,4019,182.92,193.87,54,1646,121,12,"NULL"]
["4","11","358","-1",386,174,187.74,43,794,160.63,143.69999999999999,7,348,26,5,"NULL"]
["4","11","362","-1",18086,6733,166.12,3352,50622,120.46,130.22,406,15357,2119,173,31]
["4","11","372","-1",257,107,157.13999999999999,61,1078,142.38,125.44,2,215,36,3,1]
["4","11","373","-1",951,360,157.01,164,1935,133.99,146.83000000000001,10,836,93,7,5]
["4","11","376","-1",1357,81,112.48,330,2350,106.96,57.1,"NULL",1192,150,10,5]
["4","11","377","-1",11703,4475,170.75,2273,36820,125.29,128.25,128,10016,1438,86,35]
["4","11","402","-1",1643,578,163.65,236,3157,127.54,144.63,43,1402,188,8,2]
["4","11","405","-1",364,145,155.69999999999999,46,676,165.8,134.71,10,315,36,2,1]
["4","11","436","-1",1553,651,173.01,250,3206,146.13,146.33000000000001,23,1364,158,5,3]
["4","11","437","-1",1065,397,167.76,194,2716,117.95,137.07,25,884,146,8,2]
["4","11","438","-1",1355,558,183.36,221,3066,156.44999999999999,154.18,17,1180,150,4,4]
["4","11","442","-1",915,371,187.26,121,1760,143.44,165.7,18,803,88,3,3]
["4","11","452","-1",2835,1041,153.55000000000001,479,6037,126.01,128.76,43,2466,305,12,9]
["4","11","459","-1",2808,867,135.44,507,7079,124.03,121.75,80,2428,279,19,2]
["4","11","460","-1",741,203,116.34,141,1566,134.75,125.2,18,650,69,4,"NULL"]
["4","11","463","-1",1213,512,189.65,189,3599,140.16,154.44,22,1076,106,7,2]
["4","11","100","-1",580260,179006,141.83000000000001,92913,1264866,117.77,115.22,11186,435147,127668,4495,1758]
["4","12","-1","-1",7311,1016,62.51,4229,48777,35.49,30.79,477,5899,647,193,95]
["4","12","310","-1",257,35,73.989999999999995,163,5167,51.36,67.56,17,208,8,16,8]
["4","12","330","-1",1179,536,186.54,412,11240,115.85,87.59,47,991,96,22,23]
["4","12","335","-1",1165,684,242.93,345,12376,117.55,85.7,22,1018,100,17,8]
["4","12","100","-1",9912,2271,98.77,5149,77560,47.92,50.23,563,8116,851,248,134]
["4","13","-1","-1",851,268,122.89,172,1925,109.63,101.1,19,704,112,12,4]
["4","13","318","-1",15,4,116,5,70,51.6,99.41,"NULL",13,2,"NULL","NULL"]
["4","13","341","-1",12,4,162.91999999999999,4,45,50.5,85.11,"NULL",10,2,"NULL","NULL"]
["4","13","100","-1",878,276,123.32,181,2040,106.72,100.69,19,727,116,12,4]
["4","14","-1","-1",40,15,116.88,8,152,123.75,92.76,"NULL",34,6,"NULL","NULL"]
["4","14","318","-1",6,2,98.33,4,28,12,57.96,"NULL",6,"NULL","NULL","NULL"]
["4","14","377","-1",3,"NULL",56,"NULL",19,"NULL",37.26,"NULL",2,1,"NULL","NULL"]
["4","14","100","-1",49,17,110.88,12,199,86.5,82.57,"NULL",42,7,"NULL","NULL"]
["4","0","384","-1",73883,27874,169.26,13518,202346,120.9,126.71,1691,62772,8640,599,181]
["4","0","35","-1",232759,47990,101.64,31849,360521,96.38,73.510000000000005,3597,140071,86477,1725,886]
["4","0","395","-1",70537,26373,170.56,13642,220456,117.34,114.82,1476,59426,8795,671,169]
["4","0","393","-1",124833,45834,162.55000000000001,22693,324582,126.58,132.81,2961,105844,14740,938,349]
["4","0","394","-1",89087,33499,167.33,16553,236760,122.75,123.74,2043,75919,9990,822,311]
["4","11","395","-1",69552,26278,172.11,13016,216492,121.38,116.3,1403,58644,8703,642,160]
["4","11","394","-1",86236,32794,169.13,15249,214721,127.71,129.43,1885,73609,9738,749,253]
["4","11","35","-1",229867,47156,101.77,30535,330891,98.44,76.930000000000007,3497,137624,86227,1658,858]
["4","11","384","-1",71762,27093,169.53,12605,186139,124.83,131.31,1587,60976,8480,554,165]
["4","11","393","-1",122843,45685,164.32,21508,316623,131.83000000000001,135.41999999999999,2814,104294,14520,892,322]
["5","0","-1","-1",1007,210,131.75,"NULL","NULL","NULL","NULL",378,283,70,214,62]
["5","0","100","-1",591099,181570,141.08000000000001,98255,1344665,114.08,111.45,11768,444032,128642,4755,1896]
["5","0","101","-1",3008,274,57.95,"NULL",44,"NULL",10.86,1698,1113,167,24,6]
["5","0","283","-1","NULL","NULL","NULL","NULL",2,"NULL",12,"NULL","NULL","NULL","NULL","NULL"]
["5","0","301","-1",484,135,118.96,977,11724,134.56,106.22,51,263,145,19,6]
["5","0","304","-1",1267,245,93.55,2181,26784,84.25,72.53,90,496,408,214,57]
["5","0","306","-1",828,318,153.77000000000001,1034,15871,149.5,103.78,119,483,177,29,20]
["5","0","307","-1",627,234,134.76,696,8092,185.99,136.25,95,288,199,32,13]
["5","0","308","-1",588,295,181.54,719,9622,176.73,108.93,60,361,134,28,5]
["5","0","309","-1",412,139,121.27,742,8215,155.22999999999999,107.94,55,237,89,19,12]
["5","0","310","-1",2753,750,123.53,3517,57524,97.17,98.2,202,1185,1153,157,56]
["5","0","311","-1",715,327,173.23,1071,12319,170.76,130.96,84,449,139,38,5]
["5","0","313","-1",434,108,94.66,661,7023,151.08000000000001,107.96,121,213,75,16,9]
["5","0","314","-1",1803,560,122.08,1191,25917,130.11000000000001,123.3,243,1079,436,31,14]
["5","0","315","-1",837,192,138.88999999999999,711,15037,192.09,132.69,26,484,276,41,8]
["5","0","316","-1",3200,786,101.92,4353,51374,125.96,125.45,383,1771,795,221,30]
["5","0","317","-1",5913,1288,110.07,3921,75450,116.86,127.78,634,3105,1773,116,283]
["5","0","318","-1",3294,484,77.88,7112,81358,74.44,120.66,367,1162,1318,348,99]
["5","0","319","-1",2075,665,130.08000000000001,2654,38327,118.69,101.37,185,1298,508,56,28]
["5","0","320","-1",1300,200,80.36,2810,31971,84.31,109.01,191,520,487,68,34]
["5","0","321","-1",715,204,117.85,1361,15466,118.38,110.53,115,334,199,53,14]
["5","0","322","-1",828,238,113.15,1593,18178,120.94,119.74,142,384,227,45,30]
["5","0","323","-1",776,222,118.01,1331,15459,126.78,113.2,49,419,247,48,13]
["5","0","325","-1",2264,1105,159.28,1475,18414,176.36,169.24,263,1486,394,93,28]
["5","0","326","-1",745,230,131.78,1554,18058,115.96,124.59,91,395,241,14,4]
["5","0","327","-1",1012,297,129.85,2077,24432,150.74,165.42,70,619,261,41,21]
["5","0","328","-1",527,167,121.9,768,10305,128.13999999999999,88.58,88,262,128,36,13]
["5","0","329","-1",1025,235,95.06,1851,23059,94.77,98.75,121,405,409,48,42]
["5","0","330","-1",1610,238,78.16,3232,46117,74.180000000000007,75.19,217,573,498,195,127]
["5","0","331","-1",3405,1614,147.32,1060,21668,115,151.4,213,2588,534,33,37]
["5","0","333","-1",605,233,142.86000000000001,1016,11664,139.69,97.79,49,243,231,52,30]
["5","0","334","-1",1002,257,126.42,953,17887,144.28,136.66,61,535,350,40,16]
["5","0","335","-1",2370,507,107.19,4679,74237,82.19,79.989999999999995,356,1063,720,142,89]
["5","0","339","-1",903,239,114.72,2101,21537,107.04,103.56,95,502,201,84,21]
["5","0","340","-1",435,159,120.06,623,6811,171.19,108.5,29,253,112,41,"NULL"]
["5","0","341","-1",4084,1256,128.27000000000001,808,25205,97.6,141.5,79,3266,598,140,1]
["5","0","343","-1",845,104,107.59,480,17837,89.43,106.62,102,227,500,9,7]
["5","0","344","-1",1528,335,96.18,1811,21020,134.26,126.89,205,795,374,99,55]
["5","0","345","-1",2329,832,141.03,1268,34611,146.72,99.68,177,1327,761,48,16]
["5","0","346","-1",3506,720,88.27,5835,70835,81.19,85.6,387,1458,1284,277,100]
["5","0","347","-1",427,142,127.51,773,9513,149.86000000000001,97.02,43,162,128,23,71]
["5","0","348","-1",1281,517,150.44999999999999,1238,15718,161.94,137.16999999999999,85,803,357,25,11]
["5","0","349","-1",5142,1529,123.85,2958,64655,140.16999999999999,132.66999999999999,384,3299,1202,249,8]
["5","0","350","-1",566,163,119.48,1186,11738,119.08,97.01,57,232,204,68,5]
["5","0","351","-1",1520,339,107,3266,33890,102.54,109.52,96,665,559,139,61]
["5","0","354","-1",368,86,126.8,391,8589,146.16999999999999,89.97,59,146,139,15,9]
["5","0","355","-1",579,199,148.94999999999999,911,10282,171.06,138.93,69,326,149,35,"NULL"]
["5","0","358","-1",218,89,153.13999999999999,632,5313,175.15,132.84,39,118,32,20,9]
["5","0","362","-1",2470,421,79.58,3611,41271,94.65,101.68,308,1119,701,292,50]
["5","0","372","-1",3,"NULL",40.33,"NULL",3,"NULL",121.67,2,"NULL",1,"NULL","NULL"]
["5","0","373","-1",234,101,152.72,397,3891,191.27,126.3,9,130,69,17,9]
["5","0","377","-1",2532,522,89.36,5462,59435,87.08,103.46,119,1363,770,130,150]
["5","0","383","-1",3210,3134,304.45999999999998,2,16,568,262.75,6,1492,1618,78,16]
["5","0","387","-1","NULL","NULL","NULL","NULL",124,"NULL",113.74,"NULL","NULL","NULL","NULL","NULL"]
["5","0","392","-1",5825,4696,432.92,4,28,487,302.75,"NULL",5795,18,12,"NULL"]
["5","0","397","-1","NULL","NULL","NULL",171,564,210.41,175.47,"NULL","NULL","NULL","NULL","NULL"]
["5","0","398","-1",10,7,138.5,"NULL","NULL","NULL","NULL",1,5,2,2,"NULL"]
["5","0","402","-1",938,176,115.58,789,17149,148.22999999999999,124.86,132,496,255,52,3]
["5","0","405","-1",126,54,169.87,173,2287,158.76,115.18,9,73,38,3,3]
["5","0","436","-1",426,184,154.12,571,7061,181.48,121.88,18,263,135,9,1]
["5","0","437","-1",189,84,153.77000000000001,500,5296,174.55,111.78,20,63,87,11,8]
["5","0","438","-1",412,112,109.48,863,8748,134.32,100.78,11,201,116,44,40]
["5","0","442","-1",120,52,156.88999999999999,167,2349,141.34,102.52,14,70,30,5,1]
["5","0","452","-1",332,140,163.87,700,7485,157.05000000000001,104.95,25,156,113,26,12]
["5","0","459","-1",283,102,132.72999999999999,577,8005,147.34,109.07,61,96,112,13,1]
["5","0","460","-1",103,43,144.27000000000001,203,2423,171.89,118.4,14,42,46,"NULL",1]
["5","0","463","-1",139,39,124.58,166,3017,159.5,108.92,26,79,24,10,"NULL"]
["5","0","499","-1",502587,152237,140.81,135,1359,138.79,119.06,2270,394914,105119,268,16]
["5","0","-1","-1","NULL","NULL","NULL",2183,25002,100.4,103.41,"NULL","NULL","NULL","NULL","NULL"]
["5","11","-1","-1",12852,8177,292.01,1375,13425,165.56,171.82,2025,8551,1865,327,84]
["5","11","301","-1",479,133,118.85,972,11671,134.91999999999999,105.98,49,261,145,19,5]
["5","11","304","-1",1264,245,93.58,2175,26741,84.18,72.510000000000005,90,496,406,213,57]
["5","11","306","-1",819,315,154.71,1033,15569,149.59,105.2,114,481,175,29,20]
["5","11","307","-1",622,234,135.80000000000001,695,7890,185.91,138.44999999999999,92,286,199,32,13]
["5","11","308","-1",585,294,182.01,719,9599,176.73,108.98,59,359,134,28,5]
["5","11","309","-1",404,137,121.62,740,8189,155.51,108.06,49,235,89,19,12]
["5","11","310","-1",2717,746,124.53,3181,46956,102.68,111.71,186,1177,1151,151,52]
["5","11","311","-1",711,327,174.14,1070,12306,170.71,130.99,82,448,138,38,5]
["5","11","313","-1",433,108,94.88,659,6995,151.44999999999999,108.12,120,213,75,16,9]
["5","11","314","-1",1794,559,122.59,1190,25871,129.82,123.37,236,1078,436,30,14]
["5","11","315","-1",818,185,138.58000000000001,709,14994,191.59,132.75,25,467,276,40,8]
["5","11","316","-1",3171,782,102.5,4343,51118,126.06,125.66,364,1764,793,221,29]
["5","11","317","-1",5883,1284,110.4,3915,75346,116.99,127.84,612,3099,1771,116,283]
["5","11","318","-1",3276,484,78.260000000000005,7095,81224,74.47,120.73,353,1160,1317,348,98]
["5","11","319","-1",2062,662,130.44,2649,38278,118.79,101.41,181,1294,504,55,28]
["5","11","320","-1",1285,200,81.13,2803,31787,84.41,109.31,179,519,485,68,34]
["5","11","321","-1",699,203,119.82,1358,15410,118.42,110.44,107,330,196,52,14]
["5","11","322","-1",816,238,114.78,1590,18149,120.73,119.72,130,384,227,45,30]
["5","11","323","-1",765,218,118.18,1323,15374,126.28,112.54,45,416,244,47,13]
["5","11","325","-1",2247,1101,159.96,1474,18391,176.45,169.27,253,1480,393,93,28]
["5","11","326","-1",736,229,132.85,1553,18032,116.01,124.56,84,395,239,14,4]
["5","11","327","-1",998,293,130.01,2063,24173,150.1,165.63,65,614,258,40,21]
["5","11","328","-1",519,166,123.42,767,10285,128.19,88.59,81,261,128,36,13]
["5","11","329","-1",1008,234,96.41,1842,23012,94.76,98.8,107,404,407,48,42]
["5","11","330","-1",1065,198,88.97,1833,23984,93.35,90.28,146,375,390,113,41]
["5","11","331","-1",3388,1613,147.94,1058,21628,115.21,151.53,199,2585,534,33,37]
["5","11","333","-1",597,232,144.28,1014,11632,139.81,97.87,43,243,230,51,30]
["5","11","334","-1",996,256,126.91,952,17868,144.38999999999999,136.66,56,534,350,40,16]
["5","11","335","-1",1807,400,114.17,3022,42443,99.05,91.22,283,713,640,92,79]
["5","11","339","-1",901,239,114.97,2098,21497,107.1,103.58,93,502,201,84,21]
["5","11","340","-1",430,158,120.96,623,6793,171.19,108.55,26,253,111,40,"NULL"]
["5","11","341","-1",4073,1252,128.27000000000001,805,25161,97.78,141.55000000000001,75,3259,598,140,1]
["5","11","343","-1",835,104,108.85,480,17806,89.43,106.28,92,227,500,9,7]
["5","11","344","-1",1519,334,96.55,1806,20977,134.30000000000001,126.91,199,793,374,98,55]
["5","11","345","-1",2311,827,141.71,1266,34562,146.87,99.72,164,1322,761,48,16]
["5","11","346","-1",3487,715,88.42,5822,70734,81.209999999999994,85.61,379,1453,1279,276,100]
["5","11","347","-1",424,142,128.38999999999999,771,9501,149.71,96.99,40,162,128,23,71]
["5","11","348","-1",1275,516,150.61000000000001,1237,15690,161.91,137.12,83,801,355,25,11]
["5","11","349","-1",5099,1522,124.45,2950,64537,140.27000000000001,132.72,359,3287,1199,246,8]
["5","11","350","-1",559,163,120.71,1184,11718,119.04,97.07,51,232,203,68,5]
["5","11","351","-1",1509,339,107.7,3262,33837,102.49,109.48,89,663,558,138,61]
["5","11","354","-1",362,86,128.86000000000001,389,8570,146.54,89.95,53,146,139,15,9]
["5","11","355","-1",573,199,150.47,910,10248,171.07,139,63,326,149,35,"NULL"]
["5","11","358","-1",217,89,153.82,632,5295,175.15,132.58000000000001,38,118,32,20,9]
["5","11","362","-1",2455,421,80.02,3605,41209,94.63,101.7,297,1117,700,292,49]
["5","11","372","-1",3,"NULL",40.33,"NULL",3,"NULL",121.67,2,"NULL",1,"NULL","NULL"]
["5","11","373","-1",232,101,154.01,395,3876,191.57,126.37,7,130,69,17,9]
["5","11","377","-1",2528,522,89.47,5445,59351,87.14,103.5,117,1362,769,130,150]
["5","11","402","-1",911,161,113.6,787,17121,148.52000000000001,124.92,130,474,252,52,3]
["5","11","405","-1",124,53,170.44,172,2279,159.41,114.9,8,73,38,2,3]
["5","11","436","-1",423,182,153.07,569,7041,181.93,122.01,17,262,134,9,1]
["5","11","437","-1",187,84,154.19999999999999,497,5284,168.91,111.23,20,63,85,11,8]
["5","11","438","-1",409,111,109.44,859,8724,134.76,100.85,10,200,115,44,40]
["5","11","442","-1",119,52,158.18,166,2345,141.97999999999999,102.4,13,70,30,5,1]
["5","11","452","-1",329,139,164.53,699,7465,156.6,104.95,24,155,112,26,12]
["5","11","459","-1",281,101,132.53,577,7992,147.34,109.1,59,96,112,13,1]
["5","11","460","-1",102,42,142.80000000000001,203,2422,171.89,118.42,14,42,45,"NULL",1]
["5","11","463","-1",138,39,125.1,165,3003,160.21,109.11,26,79,24,9,"NULL"]
["5","11","499","-1",493769,149829,141.25,128,1280,143.15,121.66,2248,386504,104762,239,16]
["5","11","100","-1",580400,178775,141.63,93674,1264661,117.27,114.96,11211,434793,128030,4568,1792]
["5","12","-1","-1",587,180,113.01,1003,13371,34.82,36.659999999999997,357,206,16,8,"NULL"]
["5","12","310","-1",33,3,40.94,335,10531,45.15,38.04,16,5,2,6,4]
["5","12","330","-1",545,40,57.04,1392,22091,49.07,58.84,71,198,108,82,86]
["5","12","335","-1",558,105,83.73,1655,31734,51.3,65,72,348,78,50,10]
["5","12","499","-1",8049,2174,115.5,3,38,108.67,81.319999999999993,22,7713,285,29,"NULL"]
["5","12","100","-1",9772,2502,110.02,4388,77765,46.39,54.74,538,8470,489,175,100]
["5","13","-1","-1",146,53,130.07,161,1848,112.06,101.71,19,63,49,12,3]
["5","13","318","-1",4,"NULL",24.5,14,111,76.430000000000007,87.11,"NULL",2,1,"NULL",1]
["5","13","341","-1",4,3,180.75,2,41,59,116.41,"NULL",4,"NULL","NULL","NULL"]
["5","13","499","-1",724,220,122.19,4,40,21.75,74.75,"NULL",658,66,"NULL","NULL"]
["5","13","100","-1",878,276,123.32,181,2040,106.72,100.69,19,727,116,12,4]
["5","14","-1","-1",4,3,197.25,9,169,112.78,87.51,"NULL",3,1,"NULL","NULL"]
["5","14","318","-1","NULL","NULL","NULL",3,22,7.67,70.5,"NULL","NULL","NULL","NULL","NULL"]
["5","14","377","-1","NULL","NULL","NULL","NULL",7,"NULL",12.71,"NULL","NULL","NULL","NULL","NULL"]
["5","14","499","-1",45,14,103.2,"NULL",1,"NULL",1,"NULL",39,6,"NULL","NULL"]
["5","14","100","-1",49,17,110.88,12,199,86.5,82.57,"NULL",42,7,"NULL","NULL"]
["5","0","35","-1",515647,160558,144.63,2495,27139,111.01,105.89,4353,403602,106994,598,100]
["5","0","384","-1",15491,4097,114.89,21385,296080,113.19,106.73,1437,8179,4445,1093,337]
["5","0","393","-1",22898,5498,109.14,31211,414989,112.53,122.19,2531,11733,6880,1171,579]
["5","0","394","-1",19088,6514,129.83000000000001,23100,320548,121.08,107.25,2036,10425,5132,1043,450]
["5","0","395","-1",17975,4903,114.62,20064,285909,109.78,105.97,1411,10093,5191,850,430]
["5","11","35","-1",506621,158006,145.08000000000001,1503,14705,163.65,167.45,4273,395055,106627,566,100]
["5","11","384","-1",14831,3977,116.46,19693,263882,118.26,111.75,1304,7809,4354,1038,326]
["5","11","393","-1",22699,5470,109.64,31132,413690,112.47,122.24,2411,11683,6859,1165,577]
["5","11","394","-1",18369,6437,132.54,21328,286949,127.07,113.66,1872,10175,5008,953,359]
["5","11","395","-1",17880,4885,114.93,20018,285435,109.85,105.96,1351,10071,5182,846,430]
["5","0","AK-1","499",256,97,140.97,"NULL","NULL","NULL","NULL",16,146,70,19,5]
["5","11","AK-1","499",253,96,141.33000000000001,"NULL","NULL","NULL","NULL",15,144,70,19,5]
["5","12","AK-1","499",3,1,110.67,"NULL","NULL","NULL","NULL",1,2,"NULL","NULL","NULL"]
["5","0","AK463","499",26,4,66.23,"NULL","NULL","NULL","NULL",17,7,2,"NULL","NULL"]
["5","11","AK463","499",26,4,66.23,"NULL","NULL","NULL","NULL",17,7,2,"NULL","NULL"]
["5","0","AK499","499",1538,549,156.78,"NULL","NULL","NULL","NULL",3,1337,198,"NULL","NULL"]
["5","11","AK499","499",1524,544,156.18,"NULL","NULL","NULL","NULL",3,1323,198,"NULL","NULL"]
["5","12","AK499","499",11,4,255.18,"NULL","NULL","NULL","NULL","NULL",11,"NULL","NULL","NULL"]
["5","13","AK499","499",3,1,102.33,"NULL","NULL","NULL","NULL","NULL",3,"NULL","NULL","NULL"]
["5","0","AL-1","499",2155,732,150.57,"NULL","NULL","NULL","NULL",141,1171,650,128,65]
["5","11","AL-1","499",2115,721,151.07,"NULL","NULL","NULL","NULL",138,1148,643,124,62]
["5","12","AL-1","499",38,9,117.5,"NULL","NULL","NULL","NULL",3,21,7,4,3]
["5","13","AL-1","499",2,2,256.5,"NULL","NULL","NULL","NULL","NULL",2,"NULL","NULL","NULL"]
["5","0","AL322","499",244,37,70.08,"NULL","NULL","NULL","NULL",126,71,35,7,5]
["5","11","AL322","499",232,37,73.59,"NULL","NULL","NULL","NULL",114,71,35,7,5]
["5","12","AL322","499",12,"NULL",2.25,"NULL","NULL","NULL","NULL",12,"NULL","NULL","NULL","NULL"]
["5","0","AL499","499",12494,3916,143.62,"NULL","NULL","NULL","NULL",53,9776,2655,9,1]
["5","11","AL499","499",12243,3845,143.75,"NULL","NULL","NULL","NULL",52,9537,2644,9,1]
["5","12","AL499","499",230,65,126.55,"NULL","NULL","NULL","NULL",1,218,11,"NULL","NULL"]
["5","13","AL499","499",20,6,268.55,"NULL","NULL","NULL","NULL","NULL",20,"NULL","NULL","NULL"]
["5","14","AL499","499",1,"NULL",6,"NULL","NULL","NULL","NULL","NULL",1,"NULL","NULL","NULL"]
["5","0","AR-1","499",941,356,166.2,"NULL","NULL","NULL","NULL",49,568,255,40,29]
["5","11","AR-1","499",922,354,168.43,"NULL","NULL","NULL","NULL",46,560,250,38,28]
["5","12","AR-1","499",16,1,49.44,"NULL","NULL","NULL","NULL",3,7,5,"NULL",1]
["5","13","AR-1","499",3,1,103.33,"NULL","NULL","NULL","NULL","NULL",1,"NULL",2,"NULL"]
["5","0","AR350","499",98,14,72.39,"NULL","NULL","NULL","NULL",34,35,23,6,"NULL"]
["5","11","AR350","499",94,14,75.38,"NULL","NULL","NULL","NULL",30,35,23,6,"NULL"]
["5","12","AR350","499",4,"NULL",2,"NULL","NULL","NULL","NULL",4,"NULL","NULL","NULL","NULL"]
["5","0","AR499","499",5927,1697,142.21,"NULL","NULL","NULL","NULL",18,4538,1364,7,"NULL"]
["5","11","AR499","499",5804,1665,143.07,"NULL","NULL","NULL","NULL",18,4421,1360,5,"NULL"]
["5","12","AR499","499",113,28,93.38,"NULL","NULL","NULL","NULL","NULL",108,3,2,"NULL"]
["5","13","AR499","499",10,4,189.8,"NULL","NULL","NULL","NULL","NULL",9,1,"NULL","NULL"]
["5","0","AZ-1","499",1741,642,155.9,"NULL","NULL","NULL","NULL",131,1002,472,96,40]
["5","11","AZ-1","499",1706,636,157.1,"NULL","NULL","NULL","NULL",123,983,467,95,38]
["5","12","AZ-1","499",34,5,84.71,"NULL","NULL","NULL","NULL",8,18,5,1,2]
["5","13","AZ-1","499",1,1,541,"NULL","NULL","NULL","NULL","NULL",1,"NULL","NULL","NULL"]
["5","0","AZ345","499",314,55,64.989999999999995,"NULL","NULL","NULL","NULL",141,101,66,4,2]
["5","11","AZ345","499",301,55,67.67,"NULL","NULL","NULL","NULL",128,101,66,4,2]
["5","12","AZ345","499",13,"NULL",3.08,"NULL","NULL","NULL","NULL",13,"NULL","NULL","NULL","NULL"]
["5","0","AZ499","499",11738,3451,138.25,"NULL","NULL","NULL","NULL",66,9035,2626,11,"NULL"]
["5","11","AZ499","499",11503,3383,138.74,"NULL","NULL","NULL","NULL",66,8811,2618,8,"NULL"]
["5","12","AZ499","499",216,61,115.17,"NULL","NULL","NULL","NULL","NULL",208,5,3,"NULL"]
["5","13","AZ499","499",18,7,106.94,"NULL","NULL","NULL","NULL","NULL",15,3,"NULL","NULL"]
["5","14","AZ499","499",1,"NULL",26,"NULL","NULL","NULL","NULL","NULL",1,"NULL","NULL","NULL"]
["5","0","CA-1","499",5699,2137,165.18,"NULL","NULL","NULL","NULL",388,3452,1459,298,102]
["5","11","CA-1","499",5575,2111,166.7,"NULL","NULL","NULL","NULL",361,3389,1440,288,97]
["5","12","CA-1","499",109,21,95.11,"NULL","NULL","NULL","NULL",24,58,13,9,5]
["5","13","CA-1","499",14,4,105.21,"NULL","NULL","NULL","NULL",3,4,6,1,"NULL"]
["5","14","CA-1","499",1,1,179,"NULL","NULL","NULL","NULL","NULL",1,"NULL","NULL","NULL"]
["5","0","CA343","499",226,33,76.569999999999993,"NULL","NULL","NULL","NULL",88,76,60,2,"NULL"]
["5","11","CA343","499",216,33,80,"NULL","NULL","NULL","NULL",78,76,60,2,"NULL"]
["5","12","CA343","499",10,"NULL",2.6,"NULL","NULL","NULL","NULL",10,"NULL","NULL","NULL","NULL"]
["5","0","CA344","499",427,61,62.26,"NULL","NULL","NULL","NULL",116,183,95,20,13]
["5","11","CA344","499",420,61,63.26,"NULL","NULL","NULL","NULL",110,182,95,20,13]
["5","12","CA344","499",6,"NULL",2.67,"NULL","NULL","NULL","NULL",6,"NULL","NULL","NULL","NULL"]
["5","13","CA344","499",1,"NULL",2,"NULL","NULL","NULL","NULL","NULL",1,"NULL","NULL","NULL"]
["5","0","CA377","499",612,73,60.29,"NULL","NULL","NULL","NULL",71,298,195,25,23]
["5","11","CA377","499",610,73,60.48,"NULL","NULL","NULL","NULL",69,298,195,25,23]
["5","12","CA377","499",2,"NULL",2.5,"NULL","NULL","NULL","NULL",2,"NULL","NULL","NULL","NULL"]
["5","0","CA499","499",38483,11805,143.52000000000001,"NULL","NULL","NULL","NULL",213,31050,7198,22,"NULL"]
["5","11","CA499","499",37793,11600,143.83000000000001,"NULL","NULL","NULL","NULL",212,30385,7176,20,"NULL"]
["5","12","CA499","499",638,198,130.63,"NULL","NULL","NULL","NULL",1,620,15,2,"NULL"]
["5","13","CA499","499",50,7,76.12,"NULL","NULL","NULL","NULL","NULL",44,6,"NULL","NULL"]
["5","14","CA499","499",2,"NULL",66,"NULL","NULL","NULL","NULL","NULL",1,1,"NULL","NULL"]
["5","0","CO-1","499",1365,483,141.61000000000001,"NULL","NULL","NULL","NULL",101,787,390,65,22]
["5","11","CO-1","499",1347,482,142.66999999999999,"NULL","NULL","NULL","NULL",96,782,385,63,21]
["5","12","CO-1","499",15,1,65.87,"NULL","NULL","NULL","NULL",5,4,3,2,1]
["5","13","CO-1","499",3,"NULL",48.33,"NULL","NULL","NULL","NULL","NULL",1,2,"NULL","NULL"]
["5","0","CO339","499",192,23,53.1,"NULL","NULL","NULL","NULL",61,87,30,12,2]
["5","11","CO339","499",190,23,53.64,"NULL","NULL","NULL","NULL",59,87,30,12,2]
["5","12","CO339","499",2,"NULL",2,"NULL","NULL","NULL","NULL",2,"NULL","NULL","NULL","NULL"]
["5","0","CO499","499",9405,2706,130.75,"NULL","NULL","NULL","NULL",40,7515,1846,3,1]
["5","11","CO499","499",9278,2671,130.97,"NULL","NULL","NULL","NULL",40,7391,1843,3,1]
["5","12","CO499","499",114,32,116.04,"NULL","NULL","NULL","NULL","NULL",112,2,"NULL","NULL"]
["5","13","CO499","499",12,3,110.67,"NULL","NULL","NULL","NULL","NULL",12,"NULL","NULL","NULL"]
["5","14","CO499","499",1,"NULL",16,"NULL","NULL","NULL","NULL","NULL","NULL",1,"NULL","NULL"]
["5","0","CT-1","499",455,178,163.19999999999999,"NULL","NULL","NULL","NULL",18,304,106,17,10]
["5","11","CT-1","499",447,176,164.05,"NULL","NULL","NULL","NULL",18,299,105,16,9]
["5","12","CT-1","499",7,2,128.57,"NULL","NULL","NULL","NULL","NULL",5,"NULL",1,1]
["5","13","CT-1","499",1,"NULL",27,"NULL","NULL","NULL","NULL","NULL","NULL",1,"NULL","NULL"]
["5","0","CT308","499",44,13,122.7,"NULL","NULL","NULL","NULL",19,18,5,2,"NULL"]
["5","11","CT308","499",44,13,122.7,"NULL","NULL","NULL","NULL",19,18,5,2,"NULL"]
["5","0","CT499","499",3025,1107,160.84,"NULL","NULL","NULL","NULL",7,2514,503,"NULL",1]
["5","11","CT499","499",2955,1085,161.49,"NULL","NULL","NULL","NULL",7,2447,500,"NULL",1]
["5","12","CT499","499",63,18,133.97999999999999,"NULL","NULL","NULL","NULL","NULL",61,2,"NULL","NULL"]
["5","13","CT499","499",7,4,125.57,"NULL","NULL","NULL","NULL","NULL",6,1,"NULL","NULL"]
["5","0","DC-1","499",103,32,148.91,"NULL","NULL","NULL","NULL",11,60,24,7,1]
["5","11","DC-1","499",102,32,149.97999999999999,"NULL","NULL","NULL","NULL",11,60,24,6,1]
["5","12","DC-1","499",1,"NULL",40,"NULL","NULL","NULL","NULL","NULL","NULL","NULL",1,"NULL"]
["5","0","DC499","499",562,182,147.57,"NULL","NULL","NULL","NULL",2,431,128,1,"NULL"]
["5","11","DC499","499",552,181,148.81,"NULL","NULL","NULL","NULL",2,422,127,1,"NULL"]
["5","12","DC499","499",9,1,86.44,"NULL","NULL","NULL","NULL","NULL",9,"NULL","NULL","NULL"]
["5","13","DC499","499",1,"NULL",9,"NULL","NULL","NULL","NULL","NULL","NULL",1,"NULL","NULL"]
["5","0","DE-1","499",209,76,141.65,"NULL","NULL","NULL","NULL",14,109,69,15,2]
["5","11","DE-1","499",205,75,143.32,"NULL","NULL","NULL","NULL",14,108,67,14,2]
["5","12","DE-1","499",3,1,61.33,"NULL","NULL","NULL","NULL","NULL",1,1,1,"NULL"]
["5","13","DE-1","499",1,"NULL",39,"NULL","NULL","NULL","NULL","NULL","NULL",1,"NULL","NULL"]
["5","0","DE460","499",19,4,77,"NULL","NULL","NULL","NULL",10,4,5,"NULL","NULL"]
["5","11","DE460","499",19,4,77,"NULL","NULL","NULL","NULL",10,4,5,"NULL","NULL"]
["5","0","DE499","499",1399,431,138.69999999999999,"NULL","NULL","NULL","NULL",6,1103,290,"NULL","NULL"]
["5","11","DE499","499",1372,424,139.72999999999999,"NULL","NULL","NULL","NULL",6,1079,287,"NULL","NULL"]
["5","12","DE499","499",22,5,74.09,"NULL","NULL","NULL","NULL","NULL",21,1,"NULL","NULL"]
["5","13","DE499","499",5,2,139.4,"NULL","NULL","NULL","NULL","NULL",3,2,"NULL","NULL"]
["5","0","FL-1","499",6650,2271,143.07,"NULL","NULL","NULL","NULL",511,3856,1771,354,158]
["5","11","FL-1","499",6514,2234,143.82,"NULL","NULL","NULL","NULL",494,3791,1746,339,144]
["5","12","FL-1","499",118,30,103.42,"NULL","NULL","NULL","NULL",14,55,22,14,13]
["5","13","FL-1","499",17,6,119.88,"NULL","NULL","NULL","NULL",3,10,2,1,1]
["5","14","FL-1","499",1,1,295,"NULL","NULL","NULL","NULL","NULL","NULL",1,"NULL","NULL"]
["5","0","FL317","499",1139,196,80.209999999999994,"NULL","NULL","NULL","NULL",370,458,256,25,30]
["5","11","FL317","499",1111,194,81.430000000000007,"NULL","NULL","NULL","NULL",348,453,255,25,30]
["5","12","FL317","499",24,1,16.579999999999998,"NULL","NULL","NULL","NULL",22,2,"NULL","NULL","NULL"]
["5","13","FL317","499",4,1,121.5,"NULL","NULL","NULL","NULL","NULL",3,1,"NULL","NULL"]
["5","0","FL499","499",44205,12910,134.22,"NULL","NULL","NULL","NULL",191,34830,9163,18,3]
["5","11","FL499","499",43477,12711,134.63999999999999,"NULL","NULL","NULL","NULL",189,34134,9134,17,3]
["5","12","FL499","499",656,168,104.76,"NULL","NULL","NULL","NULL",2,629,24,1,"NULL"]
["5","13","FL499","499",70,30,149.79,"NULL","NULL","NULL","NULL","NULL",65,5,"NULL","NULL"]
["5","14","FL499","499",2,1,101,"NULL","NULL","NULL","NULL","NULL",2,"NULL","NULL","NULL"]
["5","0","GA-1","499",3275,1205,154.62,"NULL","NULL","NULL","NULL",263,1695,1023,190,104]
["5","11","GA-1","499",3211,1188,155.71,"NULL","NULL","NULL","NULL",253,1667,1008,184,99]
["5","12","GA-1","499",57,16,103.46,"NULL","NULL","NULL","NULL",9,25,14,5,4]
["5","13","GA-1","499",7,1,72.86,"NULL","NULL","NULL","NULL",1,3,1,1,1]
["5","0","GA316","499",1054,167,67.8,"NULL","NULL","NULL","NULL",265,478,228,69,14]
["5","11","GA316","499",1035,166,68.790000000000006,"NULL","NULL","NULL","NULL",248,476,228,69,14]
["5","12","GA316","499",17,"NULL",2.88,"NULL","NULL","NULL","NULL",17,"NULL","NULL","NULL","NULL"]
["5","13","GA316","499",2,1,111,"NULL","NULL","NULL","NULL","NULL",2,"NULL","NULL","NULL"]
["5","0","GA499","499",23601,7203,135.85,"NULL","NULL","NULL","NULL",139,19162,4281,18,1]
["5","11","GA499","499",23211,7085,136.04,"NULL","NULL","NULL","NULL",139,18788,4268,15,1]
["5","12","GA499","499",348,106,126.34,"NULL","NULL","NULL","NULL","NULL",335,10,3,"NULL"]
["5","13","GA499","499",38,10,106.58,"NULL","NULL","NULL","NULL","NULL",35,3,"NULL","NULL"]
["5","14","GA499","499",4,2,150.25,"NULL","NULL","NULL","NULL","NULL",4,"NULL","NULL","NULL"]
["5","0","HI-1","499",461,165,159.08000000000001,"NULL","NULL","NULL","NULL",31,254,140,32,4]
["5","11","HI-1","499",456,164,160.04,"NULL","NULL","NULL","NULL",30,252,139,32,3]
["5","12","HI-1","499",3,"NULL",34.67,"NULL","NULL","NULL","NULL",1,1,1,"NULL","NULL"]
["5","13","HI-1","499",2,1,127,"NULL","NULL","NULL","NULL","NULL",1,"NULL","NULL",1]
["5","0","HI459","499",35,6,57.43,"NULL","NULL","NULL","NULL",21,8,6,"NULL","NULL"]
["5","11","HI459","499",35,6,57.43,"NULL","NULL","NULL","NULL",21,8,6,"NULL","NULL"]
["5","0","HI499","499",2997,981,149.19,"NULL","NULL","NULL","NULL",13,2555,427,2,"NULL"]
["5","11","HI499","499",2955,970,149.06,"NULL","NULL","NULL","NULL",13,2513,427,2,"NULL"]
["5","12","HI499","499",39,10,162.9,"NULL","NULL","NULL","NULL","NULL",39,"NULL","NULL","NULL"]
["5","13","HI499","499",2,1,94.5,"NULL","NULL","NULL","NULL","NULL",2,"NULL","NULL","NULL"]
["5","14","HI499","499",1,"NULL",92,"NULL","NULL","NULL","NULL","NULL",1,"NULL","NULL","NULL"]
["5","0","IA-1","499",796,323,163.68,"NULL","NULL","NULL","NULL",57,489,201,34,15]
["5","11","IA-1","499",781,319,163.88,"NULL","NULL","NULL","NULL",53,482,200,33,13]
["5","12","IA-1","499",15,4,153.27000000000001,"NULL","NULL","NULL","NULL",4,7,1,1,2]
["5","0","IA333","499",87,12,53.99,"NULL","NULL","NULL","NULL",42,31,13,1,"NULL"]
["5","11","IA333","499",81,12,57.83,"NULL","NULL","NULL","NULL",36,31,13,1,"NULL"]
["5","12","IA333","499",6,"NULL",2.17,"NULL","NULL","NULL","NULL",6,"NULL","NULL","NULL","NULL"]
["5","0","IA499","499",4459,1431,150.58000000000001,"NULL","NULL","NULL","NULL",10,3398,1049,2,"NULL"]
["5","11","IA499","499",4355,1410,152.02000000000001,"NULL","NULL","NULL","NULL",10,3297,1046,2,"NULL"]
["5","12","IA499","499",100,20,88.6,"NULL","NULL","NULL","NULL","NULL",98,2,"NULL","NULL"]
["5","13","IA499","499",4,1,124,"NULL","NULL","NULL","NULL","NULL",3,1,"NULL","NULL"]
["5","0","ID-1","499",505,204,167.95,"NULL","NULL","NULL","NULL",29,336,111,21,8]
["5","11","ID-1","499",492,200,169.15,"NULL","NULL","NULL","NULL",28,328,109,20,7]
["5","12","ID-1","499",12,3,120.83,"NULL","NULL","NULL","NULL",1,8,1,1,1]
["5","13","ID-1","499",1,1,143,"NULL","NULL","NULL","NULL","NULL","NULL",1,"NULL","NULL"]
["5","0","ID347","499",44,2,29.55,"NULL","NULL","NULL","NULL",31,6,5,"NULL",2]
["5","11","ID347","499",41,2,31.56,"NULL","NULL","NULL","NULL",28,6,5,"NULL",2]
["5","12","ID347","499",3,"NULL",2,"NULL","NULL","NULL","NULL",3,"NULL","NULL","NULL","NULL"]
["5","0","ID499","499",3175,925,135.04,"NULL","NULL","NULL","NULL",19,2503,652,1,"NULL"]
["5","11","ID499","499",3136,912,135.16,"NULL","NULL","NULL","NULL",19,2466,650,1,"NULL"]
["5","12","ID499","499",36,13,131.5,"NULL","NULL","NULL","NULL","NULL",35,1,"NULL","NULL"]
["5","13","ID499","499",2,"NULL",31.5,"NULL","NULL","NULL","NULL","NULL",1,1,"NULL","NULL"]
["5","14","ID499","499",1,"NULL",78,"NULL","NULL","NULL","NULL","NULL",1,"NULL","NULL","NULL"]
["5","0","IL-1","499",1862,736,163.51,"NULL","NULL","NULL","NULL",117,1110,502,91,42]
["5","11","IL-1","499",1811,722,165.09,"NULL","NULL","NULL","NULL",113,1076,499,84,39]
["5","12","IL-1","499",49,13,105.55,"NULL","NULL","NULL","NULL",4,32,3,7,3]
["5","13","IL-1","499",1,1,250,"NULL","NULL","NULL","NULL","NULL",1,"NULL","NULL","NULL"]
["5","14","IL-1","499",1,"NULL",52,"NULL","NULL","NULL","NULL","NULL",1,"NULL","NULL","NULL"]
["5","0","IL328","499",186,24,55.04,"NULL","NULL","NULL","NULL",74,77,27,6,2]
["5","11","IL328","499",180,24,56.79,"NULL","NULL","NULL","NULL",68,77,27,6,2]
["5","12","IL328","499",6,"NULL",2.5,"NULL","NULL","NULL","NULL",6,"NULL","NULL","NULL","NULL"]
["5","0","IL499","499",12035,3718,142.12,"NULL","NULL","NULL","NULL",58,9366,2604,7,"NULL"]
["5","11","IL499","499",11785,3651,142.88999999999999,"NULL","NULL","NULL","NULL",58,9125,2595,7,"NULL"]
["5","12","IL499","499",228,59,104.89,"NULL","NULL","NULL","NULL","NULL",223,5,"NULL","NULL"]
["5","13","IL499","499",21,7,114.76,"NULL","NULL","NULL","NULL","NULL",18,3,"NULL","NULL"]
["5","14","IL499","499",1,1,143,"NULL","NULL","NULL","NULL","NULL","NULL",1,"NULL","NULL"]
["5","0","IN-1","499",1439,543,156.33000000000001,"NULL","NULL","NULL","NULL",102,848,400,59,30]
["5","11","IN-1","499",1410,535,157.88,"NULL","NULL","NULL","NULL",95,834,395,57,29]
["5","12","IN-1","499",29,8,80.83,"NULL","NULL","NULL","NULL",7,14,5,2,1]
["5","0","IN326","499",160,29,69.61,"NULL","NULL","NULL","NULL",61,55,39,3,2]
["5","11","IN326","499",153,29,72.69,"NULL","NULL","NULL","NULL",54,55,39,3,2]
["5","12","IN326","499",7,"NULL",2.14,"NULL","NULL","NULL","NULL",7,"NULL","NULL","NULL","NULL"]
["5","0","IN499","499",9436,2945,144.77000000000001,"NULL","NULL","NULL","NULL",35,7455,1943,3,"NULL"]
["5","11","IN499","499",9296,2905,145.22,"NULL","NULL","NULL","NULL",35,7319,1939,3,"NULL"]
["5","12","IN499","499",131,37,111.45,"NULL","NULL","NULL","NULL","NULL",128,3,"NULL","NULL"]
["5","13","IN499","499",9,3,170,"NULL","NULL","NULL","NULL","NULL",8,1,"NULL","NULL"]
["5","0","KS-1","499",668,279,166.63,"NULL","NULL","NULL","NULL",46,398,167,44,13]
["5","11","KS-1","499",652,275,168.54,"NULL","NULL","NULL","NULL",41,394,166,38,13]
["5","12","KS-1","499",16,4,88.94,"NULL","NULL","NULL","NULL",5,4,1,6,"NULL"]
["5","0","KS452","499",54,2,30.17,"NULL","NULL","NULL","NULL",22,23,7,1,1]
["5","11","KS452","499",53,2,30.7,"NULL","NULL","NULL","NULL",21,23,7,1,1]
["5","12","KS452","499",1,"NULL",2,"NULL","NULL","NULL","NULL",1,"NULL","NULL","NULL","NULL"]
["5","0","KS499","499",4174,1389,146.41,"NULL","NULL","NULL","NULL",11,3320,842,1,"NULL"]
["5","11","KS499","499",4096,1365,147.12,"NULL","NULL","NULL","NULL",11,3242,842,1,"NULL"]
["5","12","KS499","499",71,22,112.72,"NULL","NULL","NULL","NULL","NULL",71,"NULL","NULL","NULL"]
["5","13","KS499","499",7,2,70.290000000000006,"NULL","NULL","NULL","NULL","NULL",7,"NULL","NULL","NULL"]
["5","0","KY-1","499",1119,385,150.75,"NULL","NULL","NULL","NULL",72,631,318,67,31]
["5","11","KY-1","499",1100,381,151.61000000000001,"NULL","NULL","NULL","NULL",70,623,317,62,28]
["5","12","KY-1","499",19,4,100.79,"NULL","NULL","NULL","NULL",2,8,1,5,3]
["5","0","KY327","499",119,13,56.91,"NULL","NULL","NULL","NULL",47,51,13,2,6]
["5","11","KY327","499",114,13,59.3,"NULL","NULL","NULL","NULL",42,51,13,2,6]
["5","12","KY327","499",5,"NULL",2.4,"NULL","NULL","NULL","NULL",5,"NULL","NULL","NULL","NULL"]
["5","0","KY499","499",7326,2029,135.11000000000001,"NULL","NULL","NULL","NULL",33,5621,1669,3,"NULL"]
["5","11","KY499","499",7207,1997,135.58000000000001,"NULL","NULL","NULL","NULL",33,5507,1665,2,"NULL"]
["5","12","KY499","499",107,32,112.85,"NULL","NULL","NULL","NULL","NULL",103,3,1,"NULL"]
["5","13","KY499","499",10,"NULL",58.3,"NULL","NULL","NULL","NULL","NULL",10,"NULL","NULL","NULL"]
["5","14","KY499","499",2,"NULL",20.5,"NULL","NULL","NULL","NULL","NULL",1,1,"NULL","NULL"]
["5","0","LA-1","499",1442,480,152.13,"NULL","NULL","NULL","NULL",116,821,389,82,34]
["5","11","LA-1","499",1410,474,153.84,"NULL","NULL","NULL","NULL",111,808,386,77,28]
["5","12","LA-1","499",30,5,60.97,"NULL","NULL","NULL","NULL",5,13,2,4,6]
["5","13","LA-1","499",2,1,319,"NULL","NULL","NULL","NULL","NULL","NULL",1,1,"NULL"]
["5","0","LA321","499",153,15,53.37,"NULL","NULL","NULL","NULL",96,30,20,5,2]
["5","11","LA321","499",143,15,56.92,"NULL","NULL","NULL","NULL",88,29,19,5,2]
["5","12","LA321","499",10,"NULL",2.5,"NULL","NULL","NULL","NULL",8,1,1,"NULL","NULL"]
["5","0","LA499","499",8855,2586,141.15,"NULL","NULL","NULL","NULL",44,6879,1927,5,"NULL"]
["5","11","LA499","499",8716,2550,141.4,"NULL","NULL","NULL","NULL",44,6746,1921,5,"NULL"]
["5","12","LA499","499",130,33,117.33,"NULL","NULL","NULL","NULL","NULL",125,5,"NULL","NULL"]
["5","13","LA499","499",9,3,243.78,"NULL","NULL","NULL","NULL","NULL",8,1,"NULL","NULL"]
["5","0","MA-1","499",860,322,153.1,"NULL","NULL","NULL","NULL",64,520,212,45,19]
["5","11","MA-1","499",847,317,154,"NULL","NULL","NULL","NULL",64,510,212,44,17]
["5","12","MA-1","499",12,5,95.5,"NULL","NULL","NULL","NULL","NULL",10,"NULL","NULL",2]
["5","13","MA-1","499",1,"NULL",81,"NULL","NULL","NULL","NULL","NULL","NULL","NULL",1,"NULL"]
["5","0","MA301","499",82,12,74.739999999999995,"NULL","NULL","NULL","NULL",31,31,16,3,1]
["5","11","MA301","499",80,12,76.56,"NULL","NULL","NULL","NULL",29,31,16,3,1]
["5","12","MA301","499",2,"NULL",2,"NULL","NULL","NULL","NULL",2,"NULL","NULL","NULL","NULL"]
["5","0","MA499","499",5297,1930,159.68,"NULL","NULL","NULL","NULL",18,4295,980,4,"NULL"]
["5","11","MA499","499",5208,1903,160.27000000000001,"NULL","NULL","NULL","NULL",18,4209,977,4,"NULL"]
["5","12","MA499","499",83,24,123.96,"NULL","NULL","NULL","NULL","NULL",81,2,"NULL","NULL"]
["5","13","MA499","499",6,3,144.5,"NULL","NULL","NULL","NULL","NULL",5,1,"NULL","NULL"]
["5","0","MD-1","499",1438,407,117.62,"NULL","NULL","NULL","NULL",104,811,396,98,29]
["5","11","MD-1","499",1414,401,118,"NULL","NULL","NULL","NULL",101,801,392,92,28]
["5","12","MD-1","499",20,5,104.65,"NULL","NULL","NULL","NULL",3,9,3,4,1]
["5","13","MD-1","499",4,1,44.75,"NULL","NULL","NULL","NULL","NULL",1,1,2,"NULL"]
["5","0","MD313","499",149,14,36.26,"NULL","NULL","NULL","NULL",82,50,13,2,2]
["5","11","MD313","499",148,14,36.49,"NULL","NULL","NULL","NULL",81,50,13,2,2]
["5","12","MD313","499",1,"NULL",2,"NULL","NULL","NULL","NULL",1,"NULL","NULL","NULL","NULL"]
["5","0","MD499","499",8365,2535,131.82,"NULL","NULL","NULL","NULL",48,6598,1713,6,"NULL"]
["5","11","MD499","499",8226,2491,132.13,"NULL","NULL","NULL","NULL",48,6476,1696,6,"NULL"]
["5","12","MD499","499",117,37,113.62,"NULL","NULL","NULL","NULL","NULL",104,13,"NULL","NULL"]
["5","13","MD499","499",21,6,104.43,"NULL","NULL","NULL","NULL","NULL",17,4,"NULL","NULL"]
["5","14","MD499","499",1,1,309,"NULL","NULL","NULL","NULL","NULL",1,"NULL","NULL","NULL"]
["5","0","ME-1","499",395,153,173.29,"NULL","NULL","NULL","NULL",19,249,110,11,6]
["5","11","ME-1","499",392,153,173.89,"NULL","NULL","NULL","NULL",19,246,110,11,6]
["5","12","ME-1","499",3,"NULL",94.33,"NULL","NULL","NULL","NULL","NULL",3,"NULL","NULL","NULL"]
["5","0","ME402","499",30,4,65,"NULL","NULL","NULL","NULL",17,9,4,"NULL","NULL"]
["5","11","ME402","499",27,4,67.89,"NULL","NULL","NULL","NULL",15,8,4,"NULL","NULL"]
["5","12","ME402","499",2,"NULL",2,"NULL","NULL","NULL","NULL",2,"NULL","NULL","NULL","NULL"]
["5","13","ME402","499",1,"NULL",113,"NULL","NULL","NULL","NULL","NULL",1,"NULL","NULL","NULL"]
["5","0","ME499","499",2317,843,166.39,"NULL","NULL","NULL","NULL",8,1796,512,1,"NULL"]
["5","11","ME499","499",2281,834,167.36,"NULL","NULL","NULL","NULL",7,1764,509,1,"NULL"]
["5","12","ME499","499",33,8,105.82,"NULL","NULL","NULL","NULL",1,29,3,"NULL","NULL"]
["5","13","ME499","499",3,1,93.67,"NULL","NULL","NULL","NULL","NULL",3,"NULL","NULL","NULL"]
["5","0","MI-1","499",1639,662,168.18,"NULL","NULL","NULL","NULL",98,1065,374,68,34]
["5","11","MI-1","499",1588,649,168.77,"NULL","NULL","NULL","NULL",94,1034,365,66,29]
["5","12","MI-1","499",51,13,150.06,"NULL","NULL","NULL","NULL",4,31,9,2,5]
["5","0","MI329","499",229,31,60.38,"NULL","NULL","NULL","NULL",78,91,50,5,5]
["5","11","MI329","499",215,31,64.17,"NULL","NULL","NULL","NULL",64,91,50,5,5]
["5","12","MI329","499",14,"NULL",2.29,"NULL","NULL","NULL","NULL",14,"NULL","NULL","NULL","NULL"]
["5","0","MI499","499",11287,3365,143.04,"NULL","NULL","NULL","NULL",54,8539,2688,6,"NULL"]
["5","11","MI499","499",11033,3285,143.18,"NULL","NULL","NULL","NULL",52,8294,2681,6,"NULL"]
["5","12","MI499","499",242,77,140.58000000000001,"NULL","NULL","NULL","NULL",2,233,7,"NULL","NULL"]
["5","13","MI499","499",12,3,70,"NULL","NULL","NULL","NULL","NULL",12,"NULL","NULL","NULL"]
["5","0","MN-1","499",1094,439,169.84,"NULL","NULL","NULL","NULL",81,701,253,42,17]
["5","11","MN-1","499",1080,438,171.48,"NULL","NULL","NULL","NULL",78,694,250,41,17]
["5","12","MN-1","499",12,1,48.17,"NULL","NULL","NULL","NULL",2,7,2,1,"NULL"]
["5","13","MN-1","499",2,"NULL",12,"NULL","NULL","NULL","NULL",1,"NULL",1,"NULL","NULL"]
["5","0","MN335","499",104,17,70.540000000000006,"NULL","NULL","NULL","NULL",33,43,21,4,3]
["5","11","MN335","499",95,14,67.72,"NULL","NULL","NULL","NULL",33,38,18,3,3]
["5","12","MN335","499",9,3,100.33,"NULL","NULL","NULL","NULL","NULL",5,3,1,"NULL"]
["5","0","MN499","499",6988,2335,155.02000000000001,"NULL","NULL","NULL","NULL",19,5290,1674,5,"NULL"]
["5","11","MN499","499",6877,2301,155.65,"NULL","NULL","NULL","NULL",19,5183,1671,4,"NULL"]
["5","12","MN499","499",106,32,114.59,"NULL","NULL","NULL","NULL","NULL",102,3,1,"NULL"]
["5","13","MN499","499",5,2,149.4,"NULL","NULL","NULL","NULL","NULL",5,"NULL","NULL","NULL"]
["5","0","MO-1","499",1544,580,161.52000000000001,"NULL","NULL","NULL","NULL",101,923,390,94,36]
["5","11","MO-1","499",1501,574,164.34,"NULL","NULL","NULL","NULL",92,903,382,92,32]
["5","12","MO-1","499",38,5,64.239999999999995,"NULL","NULL","NULL","NULL",8,18,6,2,4]
["5","13","MO-1","499",5,1,53.4,"NULL","NULL","NULL","NULL",1,2,2,"NULL","NULL"]
["5","0","MO331","499",257,56,83.56,"NULL","NULL","NULL","NULL",126,100,29,1,1]
["5","11","MO331","499",243,56,88.24,"NULL","NULL","NULL","NULL",112,100,29,1,1]
["5","12","MO331","499",14,"NULL",2.36,"NULL","NULL","NULL","NULL",14,"NULL","NULL","NULL","NULL"]
["5","0","MO499","499",10396,3206,145.97,"NULL","NULL","NULL","NULL",46,7961,2384,5,"NULL"]
["5","11","MO499","499",10184,3158,146.81,"NULL","NULL","NULL","NULL",46,7758,2375,5,"NULL"]
["5","12","MO499","499",194,42,104.08,"NULL","NULL","NULL","NULL","NULL",185,9,"NULL","NULL"]
["5","13","MO499","499",17,6,128,"NULL","NULL","NULL","NULL","NULL",17,"NULL","NULL","NULL"]
["5","14","MO499","499",1,"NULL",16,"NULL","NULL","NULL","NULL","NULL",1,"NULL","NULL","NULL"]
["5","0","MS-1","499",1037,349,154.88999999999999,"NULL","NULL","NULL","NULL",82,570,298,64,23]
["5","11","MS-1","499",1013,345,156.85,"NULL","NULL","NULL","NULL",77,560,292,62,22]
["5","12","MS-1","499",21,3,67.430000000000007,"NULL","NULL","NULL","NULL",5,8,5,2,1]
["5","13","MS-1","499",3,1,103.33,"NULL","NULL","NULL","NULL","NULL",2,1,"NULL","NULL"]
["5","0","MS323","499",123,10,62.28,"NULL","NULL","NULL","NULL",36,61,21,3,2]
["5","11","MS323","499",119,10,64.3,"NULL","NULL","NULL","NULL",32,61,21,3,2]
["5","12","MS323","499",4,"NULL",2.25,"NULL","NULL","NULL","NULL",4,"NULL","NULL","NULL","NULL"]
["5","0","MS499","499",6244,1772,136.66999999999999,"NULL","NULL","NULL","NULL",20,4909,1310,5,"NULL"]
["5","11","MS499","499",6128,1744,136.93,"NULL","NULL","NULL","NULL",19,4798,1306,5,"NULL"]
["5","12","MS499","499",105,25,123.7,"NULL","NULL","NULL","NULL",1,101,3,"NULL","NULL"]
["5","13","MS499","499",10,3,119,"NULL","NULL","NULL","NULL","NULL",9,1,"NULL","NULL"]
["5","14","MS499","499",1,"NULL",77,"NULL","NULL","NULL","NULL","NULL",1,"NULL","NULL","NULL"]
["5","0","MT-1","499",325,138,177.53,"NULL","NULL","NULL","NULL",21,207,75,10,12]
["5","11","MT-1","499",319,137,179.11,"NULL","NULL","NULL","NULL",21,202,74,10,12]
["5","12","MT-1","499",6,1,93.33,"NULL","NULL","NULL","NULL","NULL",5,1,"NULL","NULL"]
["5","0","MT436","499",36,2,33,"NULL","NULL","NULL","NULL",12,20,4,"NULL","NULL"]
["5","11","MT436","499",35,2,33.89,"NULL","NULL","NULL","NULL",11,20,4,"NULL","NULL"]
["5","12","MT436","499",1,"NULL",2,"NULL","NULL","NULL","NULL",1,"NULL","NULL","NULL","NULL"]
["5","0","MT499","499",2330,842,157.55000000000001,"NULL","NULL","NULL","NULL",7,1845,478,"NULL","NULL"]
["5","11","MT499","499",2300,835,158.31,"NULL","NULL","NULL","NULL",7,1816,477,"NULL","NULL"]
["5","12","MT499","499",25,5,98.4,"NULL","NULL","NULL","NULL","NULL",24,1,"NULL","NULL"]
["5","13","MT499","499",4,2,123.5,"NULL","NULL","NULL","NULL","NULL",4,"NULL","NULL","NULL"]
["5","14","MT499","499",1,"NULL",21,"NULL","NULL","NULL","NULL","NULL",1,"NULL","NULL","NULL"]
["5","0","NC-1","499",3213,1120,149.05000000000001,"NULL","NULL","NULL","NULL",244,1772,971,137,89]
["5","11","NC-1","499",3153,1105,149.5,"NULL","NULL","NULL","NULL",237,1733,964,131,88]
["5","12","NC-1","499",54,14,128.5,"NULL","NULL","NULL","NULL",6,36,5,6,1]
["5","13","NC-1","499",6,1,95.33,"NULL","NULL","NULL","NULL",1,3,2,"NULL","NULL"]
["5","0","NC318","499",594,70,58,"NULL","NULL","NULL","NULL",197,158,188,35,16]
["5","11","NC318","499",579,70,59.37,"NULL","NULL","NULL","NULL",184,157,188,35,15]
["5","12","NC318","499",13,"NULL",2.31,"NULL","NULL","NULL","NULL",13,"NULL","NULL","NULL","NULL"]
["5","13","NC318","499",2,"NULL",22,"NULL","NULL","NULL","NULL","NULL",1,"NULL","NULL",1]
["5","0","NC499","499",21479,6002,129.47,"NULL","NULL","NULL","NULL",110,17080,4273,13,3]
["5","11","NC499","499",21107,5921,129.94999999999999,"NULL","NULL","NULL","NULL",109,16736,4249,10,3]
["5","12","NC499","499",341,74,102.69,"NULL","NULL","NULL","NULL",1,316,21,3,"NULL"]
["5","13","NC499","499",26,5,93.73,"NULL","NULL","NULL","NULL","NULL",23,3,"NULL","NULL"]
["5","14","NC499","499",5,2,102.4,"NULL","NULL","NULL","NULL","NULL",5,"NULL","NULL","NULL"]
["5","0","ND-1","499",186,82,187.01,"NULL","NULL","NULL","NULL",12,112,52,5,5]
["5","11","ND-1","499",182,81,187.75,"NULL","NULL","NULL","NULL",12,110,50,5,5]
["5","12","ND-1","499",3,1,197.67,"NULL","NULL","NULL","NULL","NULL",2,1,"NULL","NULL"]
["5","13","ND-1","499",1,"NULL",21,"NULL","NULL","NULL","NULL","NULL","NULL",1,"NULL","NULL"]
["5","0","ND437","499",15,3,73,"NULL","NULL","NULL","NULL",5,8,2,"NULL","NULL"]
["5","11","ND437","499",15,3,73,"NULL","NULL","NULL","NULL",5,8,2,"NULL","NULL"]
["5","0","ND499","499",1177,378,144.93,"NULL","NULL","NULL","NULL",5,894,275,3,"NULL"]
["5","11","ND499","499",1159,374,145.5,"NULL","NULL","NULL","NULL",5,877,275,2,"NULL"]
["5","12","ND499","499",16,3,80.13,"NULL","NULL","NULL","NULL","NULL",15,"NULL",1,"NULL"]
["5","13","ND499","499",2,1,332.5,"NULL","NULL","NULL","NULL","NULL",2,"NULL","NULL","NULL"]
["5","0","NE-1","499",532,202,147.34,"NULL","NULL","NULL","NULL",37,325,126,36,8]
["5","11","NE-1","499",520,199,148.94999999999999,"NULL","NULL","NULL","NULL",36,318,122,36,8]
["5","12","NE-1","499",12,3,77.25,"NULL","NULL","NULL","NULL",1,7,4,"NULL","NULL"]
["5","0","NE334","499",61,8,55.87,"NULL","NULL","NULL","NULL",37,11,9,3,1]
["5","11","NE334","499",57,8,59.58,"NULL","NULL","NULL","NULL",33,11,9,3,1]
["5","12","NE334","499",4,"NULL",3,"NULL","NULL","NULL","NULL",4,"NULL","NULL","NULL","NULL"]
["5","0","NE499","499",3277,952,134.54,"NULL","NULL","NULL","NULL",13,2553,710,1,"NULL"]
["5","11","NE499","499",3234,937,134.59,"NULL","NULL","NULL","NULL",13,2514,706,1,"NULL"]
["5","12","NE499","499",37,14,143.97,"NULL","NULL","NULL","NULL","NULL",35,2,"NULL","NULL"]
["5","13","NE499","499",5,1,57,"NULL","NULL","NULL","NULL","NULL",4,1,"NULL","NULL"]
["5","14","NE499","499",1,"NULL",1,"NULL","NULL","NULL","NULL","NULL","NULL",1,"NULL","NULL"]
["5","0","NH-1","499",287,114,175.78,"NULL","NULL","NULL","NULL",14,170,82,14,7]
["5","11","NH-1","499",282,113,176.45,"NULL","NULL","NULL","NULL",14,168,80,14,6]
["5","12","NH-1","499",4,"NULL",14.25,"NULL","NULL","NULL","NULL","NULL",1,2,"NULL",1]
["5","13","NH-1","499",1,1,634,"NULL","NULL","NULL","NULL","NULL",1,"NULL","NULL","NULL"]
["5","0","NH373","499",17,2,39.06,"NULL","NULL","NULL","NULL",5,11,"NULL",1,"NULL"]
["5","11","NH373","499",16,2,41.38,"NULL","NULL","NULL","NULL",4,11,"NULL",1,"NULL"]
["5","12","NH373","499",1,"NULL",2,"NULL","NULL","NULL","NULL",1,"NULL","NULL","NULL","NULL"]
["5","0","NH499","499",1696,652,170.59,"NULL","NULL","NULL","NULL",2,1372,322,"NULL","NULL"]
["5","11","NH499","499",1667,642,170.32,"NULL","NULL","NULL","NULL",2,1346,319,"NULL","NULL"]
["5","12","NH499","499",27,9,184.37,"NULL","NULL","NULL","NULL","NULL",25,2,"NULL","NULL"]
["5","13","NH499","499",2,1,210,"NULL","NULL","NULL","NULL","NULL",1,1,"NULL","NULL"]
["5","0","NJ-1","499",1048,429,168.18,"NULL","NULL","NULL","NULL",64,626,281,49,28]
["5","11","NJ-1","499",1018,426,171.02,"NULL","NULL","NULL","NULL",60,613,276,43,26]
["5","12","NJ-1","499",28,3,76.5,"NULL","NULL","NULL","NULL",3,12,5,6,2]
["5","13","NJ-1","499",2,"NULL",8,"NULL","NULL","NULL","NULL",1,1,"NULL","NULL","NULL"]
["5","0","NJ309","499",63,15,66.97,"NULL","NULL","NULL","NULL",34,21,7,1,"NULL"]
["5","11","NJ309","499",57,15,73.790000000000006,"NULL","NULL","NULL","NULL",28,21,7,1,"NULL"]
["5","12","NJ309","499",6,"NULL",2.17,"NULL","NULL","NULL","NULL",6,"NULL","NULL","NULL","NULL"]
["5","0","NJ499","499",6254,2345,162.13,"NULL","NULL","NULL","NULL",25,5119,1107,2,1]
["5","11","NJ499","499",6107,2299,163.16,"NULL","NULL","NULL","NULL",24,4977,1103,2,1]
["5","12","NJ499","499",134,41,119.26,"NULL","NULL","NULL","NULL",1,129,4,"NULL","NULL"]
["5","13","NJ499","499",13,5,116.77,"NULL","NULL","NULL","NULL","NULL",13,"NULL","NULL","NULL"]
["5","0","NM-1","499",521,157,147.74,"NULL","NULL","NULL","NULL",37,307,136,25,16]
["5","11","NM-1","499",506,155,150.75,"NULL","NULL","NULL","NULL",32,300,135,24,15]
["5","12","NM-1","499",14,2,45.93,"NULL","NULL","NULL","NULL",5,7,"NULL",1,1]
["5","13","NM-1","499",1,"NULL",52,"NULL","NULL","NULL","NULL","NULL","NULL",1,"NULL","NULL"]
["5","0","NM340","499",65,3,40.479999999999997,"NULL","NULL","NULL","NULL",23,29,12,1,"NULL"]
["5","11","NM340","499",61,3,42.84,"NULL","NULL","NULL","NULL",20,29,12,"NULL","NULL"]
["5","12","NM340","499",4,"NULL",4.5,"NULL","NULL","NULL","NULL",3,"NULL","NULL",1,"NULL"]
["5","0","NM499","499",3686,952,134.24,"NULL","NULL","NULL","NULL",19,2803,863,1,"NULL"]
["5","11","NM499","499",3597,933,134.93,"NULL","NULL","NULL","NULL",19,2716,862,"NULL","NULL"]
["5","12","NM499","499",81,15,96.99,"NULL","NULL","NULL","NULL","NULL",80,"NULL",1,"NULL"]
["5","13","NM499","499",7,4,221.71,"NULL","NULL","NULL","NULL","NULL",6,1,"NULL","NULL"]
["5","14","NM499","499",1,"NULL",50,"NULL","NULL","NULL","NULL","NULL",1,"NULL","NULL","NULL"]
["5","0","NV-1","499",1019,338,149.16999999999999,"NULL","NULL","NULL","NULL",66,621,265,46,21]
["5","11","NV-1","499",1005,335,150.09,"NULL","NULL","NULL","NULL",64,613,262,45,21]
["5","12","NV-1","499",11,3,94.45,"NULL","NULL","NULL","NULL",2,6,2,1,"NULL"]
["5","13","NV-1","499",3,"NULL",41,"NULL","NULL","NULL","NULL","NULL",2,1,"NULL","NULL"]
["5","0","NV354","499",90,10,50.4,"NULL","NULL","NULL","NULL",53,14,20,2,1]
["5","11","NV354","499",84,10,53.82,"NULL","NULL","NULL","NULL",47,14,20,2,1]
["5","12","NV354","499",6,"NULL",2.5,"NULL","NULL","NULL","NULL",6,"NULL","NULL","NULL","NULL"]
["5","0","NV499","499",6121,1722,134.54,"NULL","NULL","NULL","NULL",26,4824,1271,"NULL","NULL"]
["5","11","NV499","499",6019,1693,134.86000000000001,"NULL","NULL","NULL","NULL",26,4723,1270,"NULL","NULL"]
["5","12","NV499","499",92,24,116.85,"NULL","NULL","NULL","NULL","NULL",92,"NULL","NULL","NULL"]
["5","13","NV499","499",9,4,96,"NULL","NULL","NULL","NULL","NULL",8,1,"NULL","NULL"]
["5","14","NV499","499",1,1,179,"NULL","NULL","NULL","NULL","NULL",1,"NULL","NULL","NULL"]
["5","0","NY-1","499",1971,792,164.37,"NULL","NULL","NULL","NULL",116,1164,545,105,41]
["5","11","NY-1","499",1920,772,165.56,"NULL","NULL","NULL","NULL",109,1136,538,100,37]
["5","12","NY-1","499",44,15,108.64,"NULL","NULL","NULL","NULL",7,24,5,4,4]
["5","13","NY-1","499",7,5,188.57,"NULL","NULL","NULL","NULL","NULL",4,2,1,"NULL"]
["5","0","NY306","499",119,18,75.41,"NULL","NULL","NULL","NULL",56,37,16,3,7]
["5","11","NY306","499",114,18,78.63,"NULL","NULL","NULL","NULL",51,37,16,3,7]
["5","12","NY306","499",5,"NULL",2,"NULL","NULL","NULL","NULL",5,"NULL","NULL","NULL","NULL"]
["5","0","NY307","499",107,20,83.1,"NULL","NULL","NULL","NULL",55,26,16,4,6]
["5","11","NY307","499",103,20,86.24,"NULL","NULL","NULL","NULL",52,25,16,4,6]
["5","12","NY307","499",4,"NULL",2.25,"NULL","NULL","NULL","NULL",3,1,"NULL","NULL","NULL"]
["5","0","NY499","499",13277,4750,156.63999999999999,"NULL","NULL","NULL","NULL",48,10594,2628,7,"NULL"]
["5","11","NY499","499",13010,4669,157.13999999999999,"NULL","NULL","NULL","NULL",48,10338,2617,7,"NULL"]
["5","12","NY499","499",244,73,129.74,"NULL","NULL","NULL","NULL","NULL",234,10,"NULL","NULL"]
["5","13","NY499","499",22,8,159.55000000000001,"NULL","NULL","NULL","NULL","NULL",21,1,"NULL","NULL"]
["5","14","NY499","499",1,"NULL",51,"NULL","NULL","NULL","NULL","NULL",1,"NULL","NULL","NULL"]
["5","0","OH-1","499",2384,864,157.72,"NULL","NULL","NULL","NULL",155,1450,616,112,50]
["5","11","OH-1","499",2340,849,159.01,"NULL","NULL","NULL","NULL",149,1429,606,109,46]
["5","12","OH-1","499",41,14,87.78,"NULL","NULL","NULL","NULL",5,20,9,3,4]
["5","13","OH-1","499",3,1,114,"NULL","NULL","NULL","NULL",1,1,1,"NULL","NULL"]
["5","0","OH325","499",320,85,87.62,"NULL","NULL","NULL","NULL",143,130,33,11,3]
["5","11","OH325","499",309,85,90.28,"NULL","NULL","NULL","NULL",133,129,33,11,3]
["5","12","OH325","499",11,"NULL",12.73,"NULL","NULL","NULL","NULL",10,1,"NULL","NULL","NULL"]
["5","0","OH499","499",15781,4653,143.03,"NULL","NULL","NULL","NULL",77,12068,3624,11,1]
["5","11","OH499","499",15448,4580,144.04,"NULL","NULL","NULL","NULL",75,11754,3607,11,1]
["5","12","OH499","499",314,69,96.7,"NULL","NULL","NULL","NULL",2,295,17,"NULL","NULL"]
["5","13","OH499","499",18,3,78.11,"NULL","NULL","NULL","NULL","NULL",18,"NULL","NULL","NULL"]
["5","14","OH499","499",1,1,158,"NULL","NULL","NULL","NULL","NULL",1,"NULL","NULL","NULL"]
["5","0","OK-1","499",1473,483,149.82,"NULL","NULL","NULL","NULL",90,819,453,82,29]
["5","11","OK-1","499",1441,473,150.71,"NULL","NULL","NULL","NULL",82,802,448,81,28]
["5","12","OK-1","499",28,9,113.29,"NULL","NULL","NULL","NULL",8,14,4,1,1]
["5","13","OK-1","499",4,1,84.75,"NULL","NULL","NULL","NULL","NULL",3,1,"NULL","NULL"]
["5","0","OK351","499",249,22,43.42,"NULL","NULL","NULL","NULL",77,95,61,7,9]
["5","11","OK351","499",240,22,44.96,"NULL","NULL","NULL","NULL",70,94,60,7,9]
["5","12","OK351","499",9,"NULL",2.33,"NULL","NULL","NULL","NULL",7,1,1,"NULL","NULL"]
["5","0","OK499","499",9109,2341,134.31,"NULL","NULL","NULL","NULL",48,6763,2292,5,1]
["5","11","OK499","499",8961,2298,134.34,"NULL","NULL","NULL","NULL",47,6620,2288,5,1]
["5","12","OK499","499",136,39,132.15,"NULL","NULL","NULL","NULL",1,131,4,"NULL","NULL"]
["5","13","OK499","499",11,3,110.55,"NULL","NULL","NULL","NULL","NULL",11,"NULL","NULL","NULL"]
["5","14","OK499","499",1,1,417,"NULL","NULL","NULL","NULL","NULL",1,"NULL","NULL","NULL"]
["5","0","OR-1","499",1087,427,167.47,"NULL","NULL","NULL","NULL",67,678,276,48,17]
["5","11","OR-1","499",1061,422,169.12,"NULL","NULL","NULL","NULL",64,660,273,48,15]
["5","12","OR-1","499",23,4,103.48,"NULL","NULL","NULL","NULL",3,17,1,"NULL",2]
["5","13","OR-1","499",3,1,77,"NULL","NULL","NULL","NULL","NULL",1,2,"NULL","NULL"]
["5","0","OR348","499",115,23,78.17,"NULL","NULL","NULL","NULL",30,50,30,2,3]
["5","11","OR348","499",113,23,79.5,"NULL","NULL","NULL","NULL",28,50,30,2,3]
["5","12","OR348","499",2,"NULL",2.5,"NULL","NULL","NULL","NULL",2,"NULL","NULL","NULL","NULL"]
["5","0","OR499","499",6928,2208,155.97999999999999,"NULL","NULL","NULL","NULL",26,5259,1637,6,"NULL"]
["5","11","OR499","499",6813,2162,156.03,"NULL","NULL","NULL","NULL",25,5154,1630,4,"NULL"]
["5","12","OR499","499",104,43,157.61000000000001,"NULL","NULL","NULL","NULL",1,96,5,2,"NULL"]
["5","13","OR499","499",11,3,113,"NULL","NULL","NULL","NULL","NULL",9,2,"NULL","NULL"]
["5","0","OT-1","499",1343,384,146.72,"NULL","NULL","NULL","NULL",125,918,232,58,10]
["5","11","OT-1","499",1318,377,146.88999999999999,"NULL","NULL","NULL","NULL",120,903,231,54,10]
["5","12","OT-1","499",24,7,143.16999999999999,"NULL","NULL","NULL","NULL",4,15,1,4,"NULL"]
["5","13","OT-1","499",1,"NULL",5,"NULL","NULL","NULL","NULL",1,"NULL","NULL","NULL","NULL"]
["5","0","OT499","499",9284,2741,149.49,"NULL","NULL","NULL","NULL",7,7581,1694,1,1]
["5","11","OT499","499",9183,2715,149.71,"NULL","NULL","NULL","NULL",6,7485,1690,1,1]
["5","12","OT499","499",97,25,127.86,"NULL","NULL","NULL","NULL",1,93,3,"NULL","NULL"]
["5","13","OT499","499",4,1,155.75,"NULL","NULL","NULL","NULL","NULL",3,1,"NULL","NULL"]
["5","0","PA-1","499",2213,904,173.08,"NULL","NULL","NULL","NULL",120,1336,593,116,47]
["5","11","PA-1","499",2152,895,175.8,"NULL","NULL","NULL","NULL",111,1314,579,107,40]
["5","12","PA-1","499",60,8,75.08,"NULL","NULL","NULL","NULL",9,22,13,9,7]
["5","13","PA-1","499",1,1,198,"NULL","NULL","NULL","NULL","NULL","NULL",1,"NULL","NULL"]
["5","0","PA310","499",238,51,109.39,"NULL","NULL","NULL","NULL",76,69,81,7,5]
["5","11","PA310","499",228,50,112.94,"NULL","NULL","NULL","NULL",69,69,80,6,4]
["5","12","PA310","499",10,1,28.5,"NULL","NULL","NULL","NULL",7,"NULL",1,1,1]
["5","0","PA311","499",74,9,53.12,"NULL","NULL","NULL","NULL",35,24,13,2,"NULL"]
["5","11","PA311","499",72,9,54.54,"NULL","NULL","NULL","NULL",33,24,13,2,"NULL"]
["5","12","PA311","499",2,"NULL",2,"NULL","NULL","NULL","NULL",2,"NULL","NULL","NULL","NULL"]
["5","0","PA499","499",14105,4687,153.12,"NULL","NULL","NULL","NULL",53,10846,3199,7,"NULL"]
["5","11","PA499","499",13768,4592,154.03,"NULL","NULL","NULL","NULL",52,10521,3188,7,"NULL"]
["5","12","PA499","499",318,93,118.87,"NULL","NULL","NULL","NULL",1,306,11,"NULL","NULL"]
["5","13","PA499","499",18,2,66.39,"NULL","NULL","NULL","NULL","NULL",18,"NULL","NULL","NULL"]
["5","14","PA499","499",1,"NULL",35,"NULL","NULL","NULL","NULL","NULL",1,"NULL","NULL","NULL"]
["5","0","PR-1","499",219,56,134.87,"NULL","NULL","NULL","NULL",29,110,57,18,5]
["5","11","PR-1","499",203,52,136.38,"NULL","NULL","NULL","NULL",26,104,54,16,3]
["5","12","PR-1","499",13,2,52.62,"NULL","NULL","NULL","NULL",1,6,2,2,2]
["5","13","PR-1","499",3,2,389.33,"NULL","NULL","NULL","NULL",2,"NULL",1,"NULL","NULL"]
["5","0","PR355","499",320,126,169.86,"NULL","NULL","NULL","NULL",57,151,88,24,"NULL"]
["5","11","PR355","499",315,126,172.5,"NULL","NULL","NULL","NULL",52,151,88,24,"NULL"]
["5","12","PR355","499",5,"NULL",3.8,"NULL","NULL","NULL","NULL",5,"NULL","NULL","NULL","NULL"]
["5","0","PR499","499",3959,1722,195.25,"NULL","NULL","NULL","NULL",9,3384,566,"NULL","NULL"]
["5","11","PR499","499",3867,1689,196.71,"NULL","NULL","NULL","NULL",9,3293,565,"NULL","NULL"]
["5","12","PR499","499",88,31,132.72999999999999,"NULL","NULL","NULL","NULL","NULL",87,1,"NULL","NULL"]
["5","13","PR499","499",4,2,157.25,"NULL","NULL","NULL","NULL","NULL",4,"NULL","NULL","NULL"]
["5","0","RI-1","499",202,78,160.01,"NULL","NULL","NULL","NULL",12,125,48,12,5]
["5","11","RI-1","499",198,76,156.44999999999999,"NULL","NULL","NULL","NULL",12,123,48,10,5]
["5","12","RI-1","499",4,2,336.25,"NULL","NULL","NULL","NULL","NULL",2,"NULL",2,"NULL"]
["5","0","RI304","499",29,8,111.24,"NULL","NULL","NULL","NULL",8,12,9,"NULL","NULL"]
["5","11","RI304","499",29,8,111.24,"NULL","NULL","NULL","NULL",8,12,9,"NULL","NULL"]
["5","0","RI499","499",1368,487,158.9,"NULL","NULL","NULL","NULL",2,1106,260,"NULL","NULL"]
["5","11","RI499","499",1337,479,160.03,"NULL","NULL","NULL","NULL",2,1078,257,"NULL","NULL"]
["5","12","RI499","499",30,8,113.37,"NULL","NULL","NULL","NULL","NULL",27,3,"NULL","NULL"]
["5","13","RI499","499",1,"NULL",10,"NULL","NULL","NULL","NULL","NULL",1,"NULL","NULL","NULL"]
["5","0","SC-1","499",2043,754,154.08000000000001,"NULL","NULL","NULL","NULL",175,1122,614,94,36]
["5","11","SC-1","499",2006,739,153.86000000000001,"NULL","NULL","NULL","NULL",172,1094,609,93,36]
["5","12","SC-1","499",35,14,164.2,"NULL","NULL","NULL","NULL",3,26,5,1,"NULL"]
["5","13","SC-1","499",2,1,202,"NULL","NULL","NULL","NULL","NULL",2,"NULL","NULL","NULL"]
["5","0","SC319","499",283,35,54.83,"NULL","NULL","NULL","NULL",108,111,48,11,5]
["5","11","SC319","499",278,35,55.78,"NULL","NULL","NULL","NULL",104,110,48,11,5]
["5","12","SC319","499",5,"NULL",2.2000000000000002,"NULL","NULL","NULL","NULL",4,1,"NULL","NULL","NULL"]
["5","0","SC499","499",13259,4065,140.03,"NULL","NULL","NULL","NULL",68,10397,2784,10,"NULL"]
["5","11","SC499","499",13024,4002,140.58000000000001,"NULL","NULL","NULL","NULL",68,10177,2771,8,"NULL"]
["5","12","SC499","499",211,56,109.07,"NULL","NULL","NULL","NULL","NULL",199,10,2,"NULL"]
["5","13","SC499","499",23,7,115.22,"NULL","NULL","NULL","NULL","NULL",20,3,"NULL","NULL"]
["5","14","SC499","499",1,"NULL",45,"NULL","NULL","NULL","NULL","NULL",1,"NULL","NULL","NULL"]
["5","0","SD-1","499",302,137,194.44,"NULL","NULL","NULL","NULL",20,178,93,5,6]
["5","11","SD-1","499",299,137,196.19,"NULL","NULL","NULL","NULL",19,178,92,5,5]
["5","12","SD-1","499",3,"NULL",19.670000000000002,"NULL","NULL","NULL","NULL",1,"NULL",1,"NULL",1]
["5","0","SD438","499",26,3,39.65,"NULL","NULL","NULL","NULL",9,15,2,"NULL","NULL"]
["5","11","SD438","499",25,3,41.12,"NULL","NULL","NULL","NULL",8,15,2,"NULL","NULL"]
["5","12","SD438","499",1,"NULL",3,"NULL","NULL","NULL","NULL",1,"NULL","NULL","NULL","NULL"]
["5","0","SD499","499",1890,626,151.87,"NULL","NULL","NULL","NULL",4,1497,388,1,"NULL"]
["5","11","SD499","499",1874,621,152.22,"NULL","NULL","NULL","NULL",4,1482,387,1,"NULL"]
["5","12","SD499","499",14,4,85.86,"NULL","NULL","NULL","NULL","NULL",13,1,"NULL","NULL"]
["5","13","SD499","499",2,1,281.5,"NULL","NULL","NULL","NULL","NULL",2,"NULL","NULL","NULL"]
["5","0","TN-1","499",2222,765,149.61000000000001,"NULL","NULL","NULL","NULL",138,1236,645,153,50]
["5","11","TN-1","499",2177,752,150.22,"NULL","NULL","NULL","NULL",132,1207,641,150,47]
["5","12","TN-1","499",43,11,117.58,"NULL","NULL","NULL","NULL",6,27,4,3,3]
["5","13","TN-1","499",2,2,178,"NULL","NULL","NULL","NULL","NULL",2,"NULL","NULL","NULL"]
["5","0","TN320","499",224,14,41.13,"NULL","NULL","NULL","NULL",140,41,39,3,1]
["5","11","TN320","499",211,14,43.18,"NULL","NULL","NULL","NULL",128,41,38,3,1]
["5","12","TN320","499",12,"NULL",2.5,"NULL","NULL","NULL","NULL",12,"NULL","NULL","NULL","NULL"]
["5","13","TN320","499",1,"NULL",73,"NULL","NULL","NULL","NULL","NULL","NULL",1,"NULL","NULL"]
["5","0","TN499","499",13816,4271,143.79,"NULL","NULL","NULL","NULL",60,10534,3221,1,"NULL"]
["5","11","TN499","499",13534,4196,144.5,"NULL","NULL","NULL","NULL",60,10275,3198,1,"NULL"]
["5","12","TN499","499",256,69,110.25,"NULL","NULL","NULL","NULL","NULL",240,16,"NULL","NULL"]
["5","13","TN499","499",25,6,107.28,"NULL","NULL","NULL","NULL","NULL",19,6,"NULL","NULL"]
["5","14","TN499","499",1,"NULL",20,"NULL","NULL","NULL","NULL","NULL","NULL",1,"NULL","NULL"]
["5","0","TX-1","499",7374,2380,143.21,"NULL","NULL","NULL","NULL",544,3969,2236,445,179]
["5","11","TX-1","499",7270,2344,143.13999999999999,"NULL","NULL","NULL","NULL",532,3907,2221,435,174]
["5","12","TX-1","499",88,28,146.47999999999999,"NULL","NULL","NULL","NULL",11,54,8,10,5]
["5","13","TX-1","499",15,7,149.80000000000001,"NULL","NULL","NULL","NULL",1,7,7,"NULL","NULL"]
["5","14","TX-1","499",1,1,263,"NULL","NULL","NULL","NULL","NULL",1,"NULL","NULL","NULL"]
["5","0","TX349","499",1054,182,82.59,"NULL","NULL","NULL","NULL",279,537,187,46,5]
["5","11","TX349","499",1024,181,84.58,"NULL","NULL","NULL","NULL",256,532,187,44,5]
["5","12","TX349","499",30,1,14.9,"NULL","NULL","NULL","NULL",23,5,"NULL",2,"NULL"]
["5","0","TX362","499",888,97,54.52,"NULL","NULL","NULL","NULL",236,349,204,91,8]
["5","11","TX362","499",877,97,55.16,"NULL","NULL","NULL","NULL",226,349,203,91,8]
["5","12","TX362","499",10,"NULL",3,"NULL","NULL","NULL","NULL",9,"NULL",1,"NULL","NULL"]
["5","13","TX362","499",1,"NULL",6,"NULL","NULL","NULL","NULL",1,"NULL","NULL","NULL","NULL"]
["5","0","TX499","499",51955,14001,129.13999999999999,"NULL","NULL","NULL","NULL",277,40808,10841,28,1]
["5","11","TX499","499",51176,13820,129.47999999999999,"NULL","NULL","NULL","NULL",273,40054,10824,24,1]
["5","12","TX499","499",714,159,104.95,"NULL","NULL","NULL","NULL",4,692,14,4,"NULL"]
["5","13","TX499","499",60,19,121.1,"NULL","NULL","NULL","NULL","NULL",57,3,"NULL","NULL"]
["5","14","TX499","499",5,3,124.6,"NULL","NULL","NULL","NULL","NULL",5,"NULL","NULL","NULL"]
["5","0","UT-1","499",429,141,147.09,"NULL","NULL","NULL","NULL",28,248,122,23,8]
["5","11","UT-1","499",418,139,148.82,"NULL","NULL","NULL","NULL",27,242,121,21,7]
["5","12","UT-1","499",11,2,81.36,"NULL","NULL","NULL","NULL",1,6,1,2,1]
["5","0","UT341","499",50,10,63.08,"NULL","NULL","NULL","NULL",27,22,1,"NULL","NULL"]
["5","11","UT341","499",46,10,68.37,"NULL","NULL","NULL","NULL",23,22,1,"NULL","NULL"]
["5","12","UT341","499",4,"NULL",2.25,"NULL","NULL","NULL","NULL",4,"NULL","NULL","NULL","NULL"]
["5","0","UT499","499",2785,751,130.27000000000001,"NULL","NULL","NULL","NULL",21,2098,665,1,"NULL"]
["5","11","UT499","499",2740,742,130.69,"NULL","NULL","NULL","NULL",21,2055,663,1,"NULL"]
["5","12","UT499","499",41,6,88.49,"NULL","NULL","NULL","NULL","NULL",40,1,"NULL","NULL"]
["5","13","UT499","499",4,3,268.5,"NULL","NULL","NULL","NULL","NULL",3,1,"NULL","NULL"]
["5","0","VA-1","499",2989,953,134.53,"NULL","NULL","NULL","NULL",227,1603,943,159,57]
["5","11","VA-1","499",2935,938,134.94,"NULL","NULL","NULL","NULL",219,1578,931,153,54]
["5","12","VA-1","499",41,8,95.44,"NULL","NULL","NULL","NULL",7,21,5,5,3]
["5","13","VA-1","499",13,7,164.23,"NULL","NULL","NULL","NULL",1,4,7,1,"NULL"]
["5","0","VA314","499",351,41,47.22,"NULL","NULL","NULL","NULL",164,140,43,3,1]
["5","11","VA314","499",344,41,48.13,"NULL","NULL","NULL","NULL",157,140,43,3,1]
["5","12","VA314","499",7,"NULL",2.29,"NULL","NULL","NULL","NULL",7,"NULL","NULL","NULL","NULL"]
["5","0","VA499","499",18520,5399,129.69,"NULL","NULL","NULL","NULL",87,14421,3998,13,1]
["5","11","VA499","499",18259,5337,130.13999999999999,"NULL","NULL","NULL","NULL",87,14177,3982,12,1]
["5","12","VA499","499",227,54,99.89,"NULL","NULL","NULL","NULL","NULL",211,15,1,"NULL"]
["5","13","VA499","499",30,8,88.87,"NULL","NULL","NULL","NULL","NULL",29,1,"NULL","NULL"]
["5","14","VA499","499",4,"NULL",76.25,"NULL","NULL","NULL","NULL","NULL",4,"NULL","NULL","NULL"]
["5","0","VT-1","499",117,52,157.35,"NULL","NULL","NULL","NULL",8,70,33,5,1]
["5","11","VT-1","499",116,52,158.06,"NULL","NULL","NULL","NULL",8,69,33,5,1]
["5","12","VT-1","499",1,"NULL",75,"NULL","NULL","NULL","NULL","NULL",1,"NULL","NULL","NULL"]
["5","0","VT405","499",6,2,78.17,"NULL","NULL","NULL","NULL",4,2,"NULL","NULL","NULL"]
["5","11","VT405","499",6,2,78.17,"NULL","NULL","NULL","NULL",4,2,"NULL","NULL","NULL"]
["5","0","VT499","499",699,305,185.59,"NULL","NULL","NULL","NULL",2,580,116,1,"NULL"]
["5","11","VT499","499",684,301,187.26,"NULL","NULL","NULL","NULL",2,566,116,"NULL","NULL"]
["5","12","VT499","499",12,3,120.17,"NULL","NULL","NULL","NULL","NULL",11,"NULL",1,"NULL"]
["5","13","VT499","499",3,1,67.33,"NULL","NULL","NULL","NULL","NULL",3,"NULL","NULL","NULL"]
["5","0","WA-1","499",1779,652,160.07,"NULL","NULL","NULL","NULL",103,1123,453,71,29]
["5","11","WA-1","499",1752,645,160.66,"NULL","NULL","NULL","NULL",99,1106,449,69,29]
["5","12","WA-1","499",24,6,123.42,"NULL","NULL","NULL","NULL",3,17,3,1,"NULL"]
["5","13","WA-1","499",3,1,113,"NULL","NULL","NULL","NULL",1,"NULL",1,1,"NULL"]
["5","0","WA346","499",286,29,45.41,"NULL","NULL","NULL","NULL",105,100,55,18,8]
["5","11","WA346","499",279,29,46.49,"NULL","NULL","NULL","NULL",100,100,54,17,8]
["5","12","WA346","499",7,"NULL",2.4300000000000002,"NULL","NULL","NULL","NULL",5,"NULL",1,1,"NULL"]
["5","0","WA499","499",11086,3064,133.57,"NULL","NULL","NULL","NULL",43,8701,2338,4,"NULL"]
["5","11","WA499","499",10897,3001,133.5,"NULL","NULL","NULL","NULL",42,8521,2330,4,"NULL"]
["5","12","WA499","499",157,56,142.22999999999999,"NULL","NULL","NULL","NULL",1,151,5,"NULL","NULL"]
["5","13","WA499","499",31,7,116,"NULL","NULL","NULL","NULL","NULL",28,3,"NULL","NULL"]
["5","14","WA499","499",1,"NULL",113,"NULL","NULL","NULL","NULL","NULL",1,"NULL","NULL","NULL"]
["5","0","WI-1","499",1265,545,178.91,"NULL","NULL","NULL","NULL",70,790,327,45,33]
["5","11","WI-1","499",1251,542,179.41,"NULL","NULL","NULL","NULL",67,780,327,44,33]
["5","12","WI-1","499",13,2,96.54,"NULL","NULL","NULL","NULL",3,9,"NULL",1,"NULL"]
["5","13","WI-1","499",1,1,621,"NULL","NULL","NULL","NULL","NULL",1,"NULL","NULL","NULL"]
["5","0","WI330","499",120,18,58.5,"NULL","NULL","NULL","NULL",51,37,23,7,2]
["5","11","WI330","499",105,17,63.36,"NULL","NULL","NULL","NULL",45,33,22,5,"NULL"]
["5","12","WI330","499",15,1,24.47,"NULL","NULL","NULL","NULL",6,4,1,2,2]
["5","0","WI499","499",7673,2709,153,"NULL","NULL","NULL","NULL",37,5959,1675,2,"NULL"]
["5","11","WI499","499",7545,2673,153.57,"NULL","NULL","NULL","NULL",36,5836,1672,1,"NULL"]
["5","12","WI499","499",121,32,113.69,"NULL","NULL","NULL","NULL",1,117,2,1,"NULL"]
["5","13","WI499","499",6,3,186.33,"NULL","NULL","NULL","NULL","NULL",5,1,"NULL","NULL"]
["5","14","WI499","499",1,1,375,"NULL","NULL","NULL","NULL","NULL",1,"NULL","NULL","NULL"]
["5","0","WV-1","499",561,223,173.12,"NULL","NULL","NULL","NULL",34,316,169,33,9]
["5","11","WV-1","499",550,223,175.73,"NULL","NULL","NULL","NULL",34,309,166,32,9]
["5","12","WV-1","499",11,"NULL",42.18,"NULL","NULL","NULL","NULL","NULL",7,3,1,"NULL"]
["5","0","WV315","499",43,7,71.28,"NULL","NULL","NULL","NULL",15,14,12,1,1]
["5","11","WV315","499",42,7,72.930000000000007,"NULL","NULL","NULL","NULL",14,14,12,1,1]
["5","12","WV315","499",1,"NULL",2,"NULL","NULL","NULL","NULL",1,"NULL","NULL","NULL","NULL"]
["5","0","WV499","499",4036,1205,144.93,"NULL","NULL","NULL","NULL",17,2987,1029,3,"NULL"]
["5","11","WV499","499",3971,1191,145.80000000000001,"NULL","NULL","NULL","NULL",17,2929,1022,3,"NULL"]
["5","12","WV499","499",57,11,85.82,"NULL","NULL","NULL","NULL","NULL",52,5,"NULL","NULL"]
["5","13","WV499","499",8,3,134.88,"NULL","NULL","NULL","NULL","NULL",6,2,"NULL","NULL"]
["5","0","WY-1","499",189,84,186.66,"NULL","NULL","NULL","NULL",11,127,40,8,3]
["5","11","WY-1","499",186,82,184.18,"NULL","NULL","NULL","NULL",11,124,40,8,3]
["5","12","WY-1","499",3,2,340.33,"NULL","NULL","NULL","NULL","NULL",3,"NULL","NULL","NULL"]
["5","0","WY442","499",21,3,40.950000000000003,"NULL","NULL","NULL","NULL",13,4,3,1,"NULL"]
["5","11","WY442","499",20,3,42.85,"NULL","NULL","NULL","NULL",12,4,3,1,"NULL"]
["5","12","WY442","499",1,"NULL",3,"NULL","NULL","NULL","NULL",1,"NULL","NULL","NULL","NULL"]
["5","0","WY499","499",1309,460,153.9,"NULL","NULL","NULL","NULL",3,1065,239,2,"NULL"]
["5","11","WY499","499",1293,457,154.97999999999999,"NULL","NULL","NULL","NULL",3,1049,239,2,"NULL"]
["5","12","WY499","499",13,1,44.31,"NULL","NULL","NULL","NULL","NULL",13,"NULL","NULL","NULL"]
["5","13","WY499","499",3,2,165,"NULL","NULL","NULL","NULL","NULL",3,"NULL","NULL","NULL"]
["5","11","AK100","499",1803,644,152.80000000000001,"NULL","NULL","NULL","NULL",35,1474,270,19,5]
["5","12","AK100","499",14,5,224.21,"NULL","NULL","NULL","NULL",1,13,"NULL","NULL","NULL"]
["5","13","AK100","499",3,1,102.33,"NULL","NULL","NULL","NULL","NULL",3,"NULL","NULL","NULL"]
["5","0","AK100","499",1820,650,153.26,"NULL","NULL","NULL","NULL",36,1490,270,19,5]
["5","11","AL100","499",14590,4603,143.69999999999999,"NULL","NULL","NULL","NULL",304,10756,3322,140,68]
["5","12","AL100","499",280,74,120,"NULL","NULL","NULL","NULL",16,239,18,4,3]
["5","13","AL100","499",22,8,267.45,"NULL","NULL","NULL","NULL","NULL",22,"NULL","NULL","NULL"]
["5","14","AL100","499",1,"NULL",6,"NULL","NULL","NULL","NULL","NULL",1,"NULL","NULL","NULL"]
["5","0","AL100","499",14893,4685,143.41999999999999,"NULL","NULL","NULL","NULL",320,11018,3340,144,71]
["5","11","AR100","499",6820,2033,145.57,"NULL","NULL","NULL","NULL",94,5016,1633,49,28]
["5","12","AR100","499",133,29,85.35,"NULL","NULL","NULL","NULL",7,115,8,2,1]
["5","13","AR100","499",13,5,169.85,"NULL","NULL","NULL","NULL","NULL",10,1,2,"NULL"]
["5","0","AR100","499",6966,2067,144.47,"NULL","NULL","NULL","NULL",101,5141,1642,53,29]
["5","11","AZ100","499",13510,4074,139.47,"NULL","NULL","NULL","NULL",317,9895,3151,107,40]
["5","12","AZ100","499",263,66,105.69,"NULL","NULL","NULL","NULL",21,226,10,4,2]
["5","13","AZ100","499",19,8,129.79,"NULL","NULL","NULL","NULL","NULL",16,3,"NULL","NULL"]
["5","14","AZ100","499",1,"NULL",26,"NULL","NULL","NULL","NULL","NULL",1,"NULL","NULL","NULL"]
["5","0","AZ100","499",13793,4148,138.81,"NULL","NULL","NULL","NULL",338,10138,3164,111,42]
["5","11","CA100","499",44614,13878,144.47999999999999,"NULL","NULL","NULL","NULL",830,34330,8966,355,133]
["5","12","CA100","499",765,219,122.55,"NULL","NULL","NULL","NULL",43,678,28,11,5]
["5","13","CA100","499",65,11,81.25,"NULL","NULL","NULL","NULL",3,49,12,1,"NULL"]
["5","14","CA100","499",3,1,103.67,"NULL","NULL","NULL","NULL","NULL",2,1,"NULL","NULL"]
["5","0","CA100","499",45447,14109,144.02000000000001,"NULL","NULL","NULL","NULL",876,35059,9007,367,138]
["5","11","CO100","499",10815,3176,131.06,"NULL","NULL","NULL","NULL",195,8260,2258,78,24]
["5","12","CO100","499",131,33,108.55,"NULL","NULL","NULL","NULL",7,116,5,2,1]
["5","13","CO100","499",15,3,98.2,"NULL","NULL","NULL","NULL","NULL",13,2,"NULL","NULL"]
["5","14","CO100","499",1,"NULL",16,"NULL","NULL","NULL","NULL","NULL","NULL",1,"NULL","NULL"]
["5","0","CO100","499",10962,3212,130.74,"NULL","NULL","NULL","NULL",202,8389,2266,80,25]
["5","11","CT100","499",3446,1274,161.33000000000001,"NULL","NULL","NULL","NULL",44,2764,610,18,10]
["5","12","CT100","499",70,20,133.44,"NULL","NULL","NULL","NULL","NULL",66,2,1,1]
["5","13","CT100","499",8,4,113.25,"NULL","NULL","NULL","NULL","NULL",6,2,"NULL","NULL"]
["5","0","CT100","499",3524,1298,160.66999999999999,"NULL","NULL","NULL","NULL",44,2836,614,19,11]
["5","11","DC100","499",654,213,149,"NULL","NULL","NULL","NULL",13,482,151,7,1]
["5","12","DC100","499",10,1,81.8,"NULL","NULL","NULL","NULL","NULL",9,"NULL",1,"NULL"]
["5","13","DC100","499",1,"NULL",9,"NULL","NULL","NULL","NULL","NULL","NULL",1,"NULL","NULL"]
["5","0","DC100","499",665,214,147.77000000000001,"NULL","NULL","NULL","NULL",13,491,152,8,1]
["5","11","DE100","499",1596,503,139.44999999999999,"NULL","NULL","NULL","NULL",30,1191,359,14,2]
["5","12","DE100","499",25,6,72.56,"NULL","NULL","NULL","NULL","NULL",22,2,1,"NULL"]
["5","13","DE100","499",6,2,122.67,"NULL","NULL","NULL","NULL","NULL",3,3,"NULL","NULL"]
["5","0","DE100","499",1627,511,138.36000000000001,"NULL","NULL","NULL","NULL",30,1216,364,15,2]
["5","11","FL100","499",51102,15139,134.65,"NULL","NULL","NULL","NULL",1031,38378,11135,381,177]
["5","12","FL100","499",798,199,101.91,"NULL","NULL","NULL","NULL",38,686,46,15,13]
["5","13","FL100","499",91,37,142.96,"NULL","NULL","NULL","NULL",3,78,8,1,1]
["5","14","FL100","499",3,2,165.67,"NULL","NULL","NULL","NULL","NULL",2,1,"NULL","NULL"]
["5","0","FL100","499",51994,15377,134.16999999999999,"NULL","NULL","NULL","NULL",1072,39144,11190,397,191]
["5","11","GA100","499",27457,8439,135.81,"NULL","NULL","NULL","NULL",640,20931,5504,268,114]
["5","12","GA100","499",422,122,118.28,"NULL","NULL","NULL","NULL",26,360,24,8,4]
["5","13","GA100","499",47,12,101.74,"NULL","NULL","NULL","NULL",1,40,4,1,1]
["5","14","GA100","499",4,2,150.25,"NULL","NULL","NULL","NULL","NULL",4,"NULL","NULL","NULL"]
["5","0","GA100","499",27930,8575,135.49,"NULL","NULL","NULL","NULL",667,21335,5532,277,119]
["5","11","HI100","499",3446,1140,149.58000000000001,"NULL","NULL","NULL","NULL",64,2773,572,34,3]
["5","12","HI100","499",42,10,153.74,"NULL","NULL","NULL","NULL",1,40,1,"NULL","NULL"]
["5","13","HI100","499",4,2,110.75,"NULL","NULL","NULL","NULL","NULL",3,"NULL","NULL",1]
["5","14","HI100","499",1,"NULL",92,"NULL","NULL","NULL","NULL","NULL",1,"NULL","NULL","NULL"]
["5","0","HI100","499",3493,1152,149.57,"NULL","NULL","NULL","NULL",65,2817,573,34,4]
["5","11","IA100","499",5217,1741,152.34,"NULL","NULL","NULL","NULL",99,3810,1259,36,13]
["5","12","IA100","499",121,24,92.33,"NULL","NULL","NULL","NULL",10,105,3,1,2]
["5","13","IA100","499",4,1,124,"NULL","NULL","NULL","NULL","NULL",3,1,"NULL","NULL"]
["5","0","IA100","499",5342,1766,150.96,"NULL","NULL","NULL","NULL",109,3918,1263,37,15]
["5","11","ID100","499",3669,1114,138.56,"NULL","NULL","NULL","NULL",75,2800,764,21,9]
["5","12","ID100","499",51,16,121.37,"NULL","NULL","NULL","NULL",4,43,2,1,1]
["5","13","ID100","499",3,1,68.67,"NULL","NULL","NULL","NULL","NULL",1,2,"NULL","NULL"]
["5","14","ID100","499",1,"NULL",78,"NULL","NULL","NULL","NULL","NULL",1,"NULL","NULL","NULL"]
["5","0","ID100","499",3724,1131,138.25,"NULL","NULL","NULL","NULL",79,2845,768,22,10]
["5","11","IL100","499",13776,4397,144.69,"NULL","NULL","NULL","NULL",239,10278,3121,97,41]
["5","12","IL100","499",283,72,102.83,"NULL","NULL","NULL","NULL",10,255,8,7,3]
["5","13","IL100","499",22,8,120.91,"NULL","NULL","NULL","NULL","NULL",19,3,"NULL","NULL"]
["5","14","IL100","499",2,1,97.5,"NULL","NULL","NULL","NULL","NULL",1,1,"NULL","NULL"]
["5","0","IL100","499",14083,4478,143.80000000000001,"NULL","NULL","NULL","NULL",249,10553,3133,104,44]
["5","11","IN100","499",10859,3469,145.84,"NULL","NULL","NULL","NULL",184,8208,2373,63,31]
["5","12","IN100","499",167,45,101.55,"NULL","NULL","NULL","NULL",14,142,8,2,1]
["5","13","IN100","499",9,3,170,"NULL","NULL","NULL","NULL","NULL",8,1,"NULL","NULL"]
["5","0","IN100","499",11035,3517,145.19,"NULL","NULL","NULL","NULL",198,8358,2382,65,32]
["5","11","KS100","499",4801,1642,148.75,"NULL","NULL","NULL","NULL",73,3659,1015,40,14]
["5","12","KS100","499",88,26,107.14,"NULL","NULL","NULL","NULL",6,75,1,6,"NULL"]
["5","13","KS100","499",7,2,70.290000000000006,"NULL","NULL","NULL","NULL","NULL",7,"NULL","NULL","NULL"]
["5","0","KS100","499",4896,1670,147.88999999999999,"NULL","NULL","NULL","NULL",79,3741,1016,46,14]
["5","11","KY100","499",8421,2391,136.63999999999999,"NULL","NULL","NULL","NULL",145,6181,1995,66,34]
["5","12","KY100","499",131,36,106.89,"NULL","NULL","NULL","NULL",7,111,4,6,3]
["5","13","KY100","499",10,"NULL",58.3,"NULL","NULL","NULL","NULL","NULL",10,"NULL","NULL","NULL"]
["5","14","KY100","499",2,"NULL",20.5,"NULL","NULL","NULL","NULL","NULL",1,1,"NULL","NULL"]
["5","0","KY100","499",8564,2427,136.07,"NULL","NULL","NULL","NULL",152,6303,2000,72,37]
["5","11","LA100","499",10269,3039,141.93,"NULL","NULL","NULL","NULL",243,7583,2326,87,30]
["5","12","LA100","499",170,38,100.63,"NULL","NULL","NULL","NULL",13,139,8,4,6]
["5","13","LA100","499",11,4,257.45,"NULL","NULL","NULL","NULL","NULL",8,2,1,"NULL"]
["5","0","LA100","499",10450,3081,141.38,"NULL","NULL","NULL","NULL",256,7730,2336,92,36]
["5","11","MA100","499",6135,2232,158.31,"NULL","NULL","NULL","NULL",111,4750,1205,51,18]
["5","12","MA100","499",97,29,117.93,"NULL","NULL","NULL","NULL",2,91,2,"NULL",2]
["5","13","MA100","499",7,3,135.43,"NULL","NULL","NULL","NULL","NULL",5,1,1,"NULL"]
["5","0","MA100","499",6239,2264,157.65,"NULL","NULL","NULL","NULL",113,4846,1208,52,20]
["5","11","MD100","499",9788,2906,128.63999999999999,"NULL","NULL","NULL","NULL",230,7327,2101,100,30]
["5","12","MD100","499",138,42,111.51,"NULL","NULL","NULL","NULL",4,113,16,4,1]
["5","13","MD100","499",25,7,94.88,"NULL","NULL","NULL","NULL","NULL",18,5,2,"NULL"]
["5","14","MD100","499",1,1,309,"NULL","NULL","NULL","NULL","NULL",1,"NULL","NULL","NULL"]
["5","0","MD100","499",9952,2956,128.34,"NULL","NULL","NULL","NULL",234,7459,2122,106,31]
["5","11","ME100","499",2700,991,167.31,"NULL","NULL","NULL","NULL",41,2018,623,12,6]
["5","12","ME100","499",38,8,99.45,"NULL","NULL","NULL","NULL",3,32,3,"NULL","NULL"]
["5","13","ME100","499",4,1,98.5,"NULL","NULL","NULL","NULL","NULL",4,"NULL","NULL","NULL"]
["5","0","ME100","499",2742,1000,166.27,"NULL","NULL","NULL","NULL",44,2054,626,12,6]
["5","11","MI100","499",12836,3965,145.02000000000001,"NULL","NULL","NULL","NULL",210,9419,3096,77,34]
["5","12","MI100","499",307,90,135.85,"NULL","NULL","NULL","NULL",20,264,16,2,5]
["5","13","MI100","499",12,3,70,"NULL","NULL","NULL","NULL","NULL",12,"NULL","NULL","NULL"]
["5","0","MI100","499",13155,4058,144.74,"NULL","NULL","NULL","NULL",230,9695,3112,79,39]
["5","11","MN100","499",8052,2753,156.72999999999999,"NULL","NULL","NULL","NULL",130,5915,1939,48,20]
["5","12","MN100","499",127,36,107.31,"NULL","NULL","NULL","NULL",2,114,8,3,"NULL"]
["5","13","MN100","499",7,2,110.14,"NULL","NULL","NULL","NULL",1,5,1,"NULL","NULL"]
["5","0","MN100","499",8186,2791,155.93,"NULL","NULL","NULL","NULL",133,6034,1948,51,20]
["5","11","MO100","499",11928,3788,147.82,"NULL","NULL","NULL","NULL",250,8761,2786,98,33]
["5","12","MO100","499",246,47,92.13,"NULL","NULL","NULL","NULL",22,203,15,2,4]
["5","13","MO100","499",22,7,111.05,"NULL","NULL","NULL","NULL",1,19,2,"NULL","NULL"]
["5","14","MO100","499",1,"NULL",16,"NULL","NULL","NULL","NULL","NULL",1,"NULL","NULL","NULL"]
["5","0","MO100","499",12197,3842,146.62,"NULL","NULL","NULL","NULL",273,8984,2803,100,37]
["5","11","MS100","499",7260,2099,138.52000000000001,"NULL","NULL","NULL","NULL",128,5419,1619,70,24]
["5","12","MS100","499",130,28,110.87,"NULL","NULL","NULL","NULL",10,109,8,2,1]
["5","13","MS100","499",13,4,115.38,"NULL","NULL","NULL","NULL","NULL",11,2,"NULL","NULL"]
["5","14","MS100","499",1,"NULL",77,"NULL","NULL","NULL","NULL","NULL",1,"NULL","NULL","NULL"]
["5","0","MS100","499",7404,2131,137.97999999999999,"NULL","NULL","NULL","NULL",138,5540,1629,72,25]
["5","11","MT100","499",2654,974,159.16999999999999,"NULL","NULL","NULL","NULL",39,2038,555,10,12]
["5","12","MT100","499",32,6,94.44,"NULL","NULL","NULL","NULL",1,29,2,"NULL","NULL"]
["5","13","MT100","499",4,2,123.5,"NULL","NULL","NULL","NULL","NULL",4,"NULL","NULL","NULL"]
["5","14","MT100","499",1,"NULL",21,"NULL","NULL","NULL","NULL","NULL",1,"NULL","NULL","NULL"]
["5","0","MT100","499",2691,982,158.30000000000001,"NULL","NULL","NULL","NULL",40,2072,557,10,12]
["5","11","NC100","499",24839,7096,130.79,"NULL","NULL","NULL","NULL",530,18626,5401,176,106]
["5","12","NC100","499",408,88,102.9,"NULL","NULL","NULL","NULL",20,352,26,9,1]
["5","13","NC100","499",34,6,89.79,"NULL","NULL","NULL","NULL",1,27,5,"NULL",1]
["5","14","NC100","499",5,2,102.4,"NULL","NULL","NULL","NULL","NULL",5,"NULL","NULL","NULL"]
["5","0","NC100","499",25286,7192,130.27000000000001,"NULL","NULL","NULL","NULL",551,19010,5432,185,108]
["5","11","ND100","499",1356,458,150.37,"NULL","NULL","NULL","NULL",22,995,327,7,5]
["5","12","ND100","499",19,4,98.68,"NULL","NULL","NULL","NULL","NULL",17,1,1,"NULL"]
["5","13","ND100","499",3,1,228.67,"NULL","NULL","NULL","NULL","NULL",2,1,"NULL","NULL"]
["5","0","ND100","499",1378,463,149.82,"NULL","NULL","NULL","NULL",22,1014,329,8,5]
["5","11","NE100","499",3811,1144,135.43,"NULL","NULL","NULL","NULL",82,2843,837,40,9]
["5","12","NE100","499",53,17,118.23,"NULL","NULL","NULL","NULL",5,42,6,"NULL","NULL"]
["5","13","NE100","499",5,1,57,"NULL","NULL","NULL","NULL","NULL",4,1,"NULL","NULL"]
["5","14","NE100","499",1,"NULL",1,"NULL","NULL","NULL","NULL","NULL","NULL",1,"NULL","NULL"]
["5","0","NE100","499",3870,1162,135.06,"NULL","NULL","NULL","NULL",87,2889,845,40,9]
["5","11","NH100","499",1965,757,170.15,"NULL","NULL","NULL","NULL",20,1525,399,15,6]
["5","12","NH100","499",32,9,157.41,"NULL","NULL","NULL","NULL",1,26,4,"NULL",1]
["5","13","NH100","499",3,2,351.33,"NULL","NULL","NULL","NULL","NULL",2,1,"NULL","NULL"]
["5","0","NH100","499",2000,768,170.22,"NULL","NULL","NULL","NULL",21,1553,404,15,7]
["5","11","NJ100","499",7182,2740,163.57,"NULL","NULL","NULL","NULL",112,5611,1386,46,27]
["5","12","NJ100","499",168,44,107.95,"NULL","NULL","NULL","NULL",10,141,9,6,2]
["5","13","NJ100","499",15,5,102.27,"NULL","NULL","NULL","NULL",1,14,"NULL","NULL","NULL"]
["5","0","NJ100","499",7365,2789,162.16999999999999,"NULL","NULL","NULL","NULL",123,5766,1395,52,29]
["5","11","NM100","499",4164,1091,135.5,"NULL","NULL","NULL","NULL",71,3045,1009,24,15]
["5","12","NM100","499",99,17,86.03,"NULL","NULL","NULL","NULL",8,87,"NULL",3,1]
["5","13","NM100","499",8,4,200.5,"NULL","NULL","NULL","NULL","NULL",6,2,"NULL","NULL"]
["5","14","NM100","499",1,"NULL",50,"NULL","NULL","NULL","NULL","NULL",1,"NULL","NULL","NULL"]
["5","0","NM100","499",4272,1112,134.46,"NULL","NULL","NULL","NULL",79,3139,1011,27,16]
["5","11","NV100","499",7108,2038,136.06,"NULL","NULL","NULL","NULL",137,5350,1552,47,22]
["5","12","NV100","499",109,27,108.29,"NULL","NULL","NULL","NULL",8,98,2,1,"NULL"]
["5","13","NV100","499",12,4,82.25,"NULL","NULL","NULL","NULL","NULL",10,2,"NULL","NULL"]
["5","14","NV100","499",1,1,179,"NULL","NULL","NULL","NULL","NULL",1,"NULL","NULL","NULL"]
["5","0","NV100","499",7230,2070,135.56,"NULL","NULL","NULL","NULL",145,5459,1556,48,22]
["5","11","NY100","499",15147,5479,157.13999999999999,"NULL","NULL","NULL","NULL",260,11536,3187,114,50]
["5","12","NY100","499",297,88,122.74,"NULL","NULL","NULL","NULL",15,259,15,4,4]
["5","13","NY100","499",29,13,166.55,"NULL","NULL","NULL","NULL","NULL",25,3,1,"NULL"]
["5","14","NY100","499",1,"NULL",51,"NULL","NULL","NULL","NULL","NULL",1,"NULL","NULL","NULL"]
["5","0","NY100","499",15474,5580,156.49,"NULL","NULL","NULL","NULL",275,11821,3205,119,54]
["5","11","OH100","499",18097,5514,145.06,"NULL","NULL","NULL","NULL",357,13312,4246,131,50]
["5","12","OH100","499",366,83,93.18,"NULL","NULL","NULL","NULL",17,316,26,3,4]
["5","13","OH100","499",21,4,83.24,"NULL","NULL","NULL","NULL",1,19,1,"NULL","NULL"]
["5","14","OH100","499",1,1,158,"NULL","NULL","NULL","NULL","NULL",1,"NULL","NULL","NULL"]
["5","0","OH100","499",18485,5602,143.96,"NULL","NULL","NULL","NULL",375,13648,4273,134,54]
["5","11","OK100","499",10642,2793,134.54,"NULL","NULL","NULL","NULL",199,7516,2796,93,38]
["5","12","OK100","499",173,48,122.34,"NULL","NULL","NULL","NULL",16,146,9,1,1]
["5","13","OK100","499",15,4,103.67,"NULL","NULL","NULL","NULL","NULL",14,1,"NULL","NULL"]
["5","14","OK100","499",1,1,417,"NULL","NULL","NULL","NULL","NULL",1,"NULL","NULL","NULL"]
["5","0","OK100","499",10831,2846,134.33000000000001,"NULL","NULL","NULL","NULL",215,7677,2806,94,39]
["5","11","OR100","499",7987,2607,156.68,"NULL","NULL","NULL","NULL",117,5864,1933,54,18]
["5","12","OR100","499",129,47,145.55000000000001,"NULL","NULL","NULL","NULL",6,113,6,2,2]
["5","13","OR100","499",14,4,105.29,"NULL","NULL","NULL","NULL","NULL",10,4,"NULL","NULL"]
["5","0","OR100","499",8130,2658,156.41999999999999,"NULL","NULL","NULL","NULL",123,5987,1943,56,20]
["5","11","OT100","499",10501,3092,149.36000000000001,"NULL","NULL","NULL","NULL",126,8388,1921,55,11]
["5","12","OT100","499",121,32,130.88999999999999,"NULL","NULL","NULL","NULL",5,108,4,4,"NULL"]
["5","13","OT100","499",5,1,125.6,"NULL","NULL","NULL","NULL",1,3,1,"NULL","NULL"]
["5","0","OT100","499",10627,3125,149.13999999999999,"NULL","NULL","NULL","NULL",132,8499,1926,59,11]
["5","11","PA100","499",16220,5546,155.9,"NULL","NULL","NULL","NULL",265,11928,3860,122,44]
["5","12","PA100","499",390,102,109.22,"NULL","NULL","NULL","NULL",19,328,25,10,8]
["5","13","PA100","499",19,3,73.319999999999993,"NULL","NULL","NULL","NULL","NULL",18,1,"NULL","NULL"]
["5","14","PA100","499",1,"NULL",35,"NULL","NULL","NULL","NULL","NULL",1,"NULL","NULL","NULL"]
["5","0","PA100","499",16630,5651,154.69999999999999,"NULL","NULL","NULL","NULL",284,12275,3886,132,52]
["5","11","PR100","499",4385,1867,192.18,"NULL","NULL","NULL","NULL",87,3548,707,40,3]
["5","12","PR100","499",106,33,116.82,"NULL","NULL","NULL","NULL",6,93,3,2,2]
["5","13","PR100","499",7,4,256.70999999999998,"NULL","NULL","NULL","NULL",2,4,1,"NULL","NULL"]
["5","0","PR100","499",4498,1904,190.5,"NULL","NULL","NULL","NULL",95,3645,711,42,5]
["5","11","RI100","499",1564,563,158.66999999999999,"NULL","NULL","NULL","NULL",22,1213,314,10,5]
["5","12","RI100","499",34,10,139.59,"NULL","NULL","NULL","NULL","NULL",29,3,2,"NULL"]
["5","13","RI100","499",1,"NULL",10,"NULL","NULL","NULL","NULL","NULL",1,"NULL","NULL","NULL"]
["5","0","RI100","499",1599,573,158.18,"NULL","NULL","NULL","NULL",22,1243,317,12,5]
["5","11","SC100","499",15308,4776,140.78,"NULL","NULL","NULL","NULL",344,11381,3428,112,41]
["5","12","SC100","499",251,70,114.63,"NULL","NULL","NULL","NULL",7,226,15,3,"NULL"]
["5","13","SC100","499",25,8,122.16,"NULL","NULL","NULL","NULL","NULL",22,3,"NULL","NULL"]
["5","14","SC100","499",1,"NULL",45,"NULL","NULL","NULL","NULL","NULL",1,"NULL","NULL","NULL"]
["5","0","SC100","499",15585,4854,140.33000000000001,"NULL","NULL","NULL","NULL",351,11630,3446,115,41]
["5","11","SD100","499",2198,761,156.94,"NULL","NULL","NULL","NULL",31,1675,481,6,5]
["5","12","SD100","499",18,4,70.22,"NULL","NULL","NULL","NULL",2,13,2,"NULL",1]
["5","13","SD100","499",2,1,281.5,"NULL","NULL","NULL","NULL","NULL",2,"NULL","NULL","NULL"]
["5","0","SD100","499",2218,766,156.35,"NULL","NULL","NULL","NULL",33,1690,483,6,6]
["5","11","TN100","499",15922,4962,143.94,"NULL","NULL","NULL","NULL",320,11523,3877,154,48]
["5","12","TN100","499",311,80,107.11,"NULL","NULL","NULL","NULL",18,267,20,3,3]
["5","13","TN100","499",28,8,111.11,"NULL","NULL","NULL","NULL","NULL",21,7,"NULL","NULL"]
["5","14","TN100","499",1,"NULL",20,"NULL","NULL","NULL","NULL","NULL","NULL",1,"NULL","NULL"]
["5","0","TN100","499",16262,5050,143.16999999999999,"NULL","NULL","NULL","NULL",338,11811,3905,157,51]
["5","11","TX100","499",60347,16442,129.29,"NULL","NULL","NULL","NULL",1287,44842,13435,594,188]
["5","12","TX100","499",842,188,104.87,"NULL","NULL","NULL","NULL",47,751,23,16,5]
["5","13","TX100","499",76,26,125.25,"NULL","NULL","NULL","NULL",2,64,10,"NULL","NULL"]
["5","14","TX100","499",6,4,147.66999999999999,"NULL","NULL","NULL","NULL","NULL",6,"NULL","NULL","NULL"]
["5","0","TX100","499",61271,16660,128.94999999999999,"NULL","NULL","NULL","NULL",1336,45663,13468,610,193]
["5","11","UT100","499",3204,891,132.16,"NULL","NULL","NULL","NULL",71,2319,785,22,7]
["5","12","UT100","499",56,8,80.930000000000007,"NULL","NULL","NULL","NULL",5,46,2,2,1]
["5","13","UT100","499",4,3,268.5,"NULL","NULL","NULL","NULL","NULL",3,1,"NULL","NULL"]
["5","0","UT100","499",3264,902,131.44999999999999,"NULL","NULL","NULL","NULL",76,2368,788,24,8]
["5","11","VA100","499",21538,6316,129.47999999999999,"NULL","NULL","NULL","NULL",463,15895,4956,168,56]
["5","12","VA100","499",275,62,96.74,"NULL","NULL","NULL","NULL",14,232,20,6,3]
["5","13","VA100","499",43,15,111.65,"NULL","NULL","NULL","NULL",1,33,8,1,"NULL"]
["5","14","VA100","499",4,"NULL",76.25,"NULL","NULL","NULL","NULL","NULL",4,"NULL","NULL","NULL"]
["5","0","VA100","499",21860,6393,129.02000000000001,"NULL","NULL","NULL","NULL",478,16164,4984,175,59]
["5","11","VT100","499",806,355,182.24,"NULL","NULL","NULL","NULL",14,637,149,5,1]
["5","12","VT100","499",13,3,116.69,"NULL","NULL","NULL","NULL","NULL",12,"NULL",1,"NULL"]
["5","13","VT100","499",3,1,67.33,"NULL","NULL","NULL","NULL","NULL",3,"NULL","NULL","NULL"]
["5","0","VT100","499",822,359,180.79,"NULL","NULL","NULL","NULL",14,652,149,6,1]
["5","11","WA100","499",12928,3675,135.30000000000001,"NULL","NULL","NULL","NULL",241,9727,2833,90,37]
["5","12","WA100","499",188,62,134.62,"NULL","NULL","NULL","NULL",9,168,9,2,"NULL"]
["5","13","WA100","499",34,8,115.74,"NULL","NULL","NULL","NULL",1,28,4,1,"NULL"]
["5","14","WA100","499",1,"NULL",113,"NULL","NULL","NULL","NULL","NULL",1,"NULL","NULL","NULL"]
["5","0","WA100","499",13151,3745,135.24,"NULL","NULL","NULL","NULL",251,9924,2846,93,37]
["5","11","WI100","499",8901,3232,156.13999999999999,"NULL","NULL","NULL","NULL",148,6649,2021,50,33]
["5","12","WI100","499",149,35,103.21,"NULL","NULL","NULL","NULL",10,130,3,4,2]
["5","13","WI100","499",7,4,248.43,"NULL","NULL","NULL","NULL","NULL",6,1,"NULL","NULL"]
["5","14","WI100","499",1,1,375,"NULL","NULL","NULL","NULL","NULL",1,"NULL","NULL","NULL"]
["5","0","WI100","499",9058,3272,155.36000000000001,"NULL","NULL","NULL","NULL",158,6786,2025,54,35]
["5","11","WV100","499",4563,1421,148.74,"NULL","NULL","NULL","NULL",65,3252,1200,36,10]
["5","12","WV100","499",69,11,77.650000000000006,"NULL","NULL","NULL","NULL",1,59,8,1,"NULL"]
["5","13","WV100","499",8,3,134.88,"NULL","NULL","NULL","NULL","NULL",6,2,"NULL","NULL"]
["5","0","WV100","499",4640,1435,147.66,"NULL","NULL","NULL","NULL",66,3317,1210,37,10]
["5","11","WY100","499",1499,542,157.11000000000001,"NULL","NULL","NULL","NULL",26,1177,282,11,3]
["5","12","WY100","499",17,3,94.12,"NULL","NULL","NULL","NULL",1,16,"NULL","NULL","NULL"]
["5","13","WY100","499",3,2,165,"NULL","NULL","NULL","NULL","NULL",3,"NULL","NULL","NULL"]
["5","0","WY100","499",1519,547,156.41999999999999,"NULL","NULL","NULL","NULL",27,1196,282,11,3]
["5","0","35","499",10627,3125,149.13999999999999,854,10943,163.79,138.37,132,8499,1926,59,11]
["5","0","384","499",113164,32865,135.51,19636,270005,104.69,104.58,2283,84283,25263,993,341]
["5","0","393","499",216332,65171,137.47,38009,510162,112.28,111.52,4585,161788,47357,1818,782]
["5","0","394","499",146652,48732,149.5,22284,302281,124.67,120.4,2700,110236,32170,1084,460]
["5","0","395","499",104324,31677,141.96,17472,251274,112.64,106.74,2068,79226,21926,801,302]
["5","11","35","499",10501,3092,149.36000000000001,828,10356,167.43,142.44999999999999,126,8388,1921,55,11]
["5","11","384","499",111392,32426,135.96,18842,256173,107.06,107.36,2183,82730,25184,963,331]
["5","11","393","499",212474,64181,137.99,36369,481162,115.18,114.88,4394,158489,47103,1747,739]
["5","11","394","499",143600,47924,150.33000000000001,20983,279698,129.32,125.42,2550,107609,31987,1030,422]
["5","11","395","499",102433,31152,142.38999999999999,16652,237272,115.71,109.77,1958,77577,21835,773,289]
["5","12","35","499",121,32,130.88999999999999,26,572,47.85,65.8,5,108,4,4,"NULL"]
["5","12","384","499",1621,389,106.07,763,13426,45.65,51.93,97,1424,60,30,10]
["5","12","393","499",3484,870,106.23,1554,28074,43.42,54.17,183,2988,208,65,40]
["5","12","394","499",2830,734,109.89,1259,22122,48.64,57.39,147,2438,157,50,38]
["5","12","395","499",1716,477,120.21,786,13571,49.36,53.88,106,1512,60,26,12]
["5","13","35","499",5,1,125.6,"NULL",14,"NULL",77.64,1,3,1,"NULL","NULL"]
["5","13","384","499",141,45,119.35,29,375,107.45,93.77,3,121,17,"NULL","NULL"]
["5","13","393","499",352,114,135.49,80,840,133.94,101.7,8,292,43,6,3]
["5","13","394","499",214,70,118.45,40,424,79.73,96.52,3,182,25,4,"NULL"]
["5","13","395","499",166,46,107.09,32,387,71.75,110.59,4,129,30,2,1]
["5","14","35","499","NULL","NULL","NULL","NULL",1,"NULL",255,"NULL","NULL","NULL","NULL","NULL"]
["5","14","384","499",10,5,134.1,2,31,201,114.55,"NULL",8,2,"NULL","NULL"]
["5","14","393","499",22,6,95.64,6,86,43.17,76.81,"NULL",19,3,"NULL","NULL"]
["5","14","394","499",8,4,142.38,2,37,80.5,92.97,"NULL",7,1,"NULL","NULL"]
["5","14","395","499",9,2,94.33,2,44,108,58.61,"NULL",8,1,"NULL","NULL"]
["5","0","499","499",502587,152237,140.81,135,1359,138.79,119.06,2270,394914,105119,268,16]
["5","11","499","499",493769,149829,141.25,128,1280,143.15,121.66,2248,386504,104762,239,16]
["5","12","499","499",8049,2174,115.5,3,38,108.67,81.319999999999993,22,7713,285,29,"NULL"]
["5","13","499","499",724,220,122.19,4,40,21.75,74.75,"NULL",658,66,"NULL","NULL"]
["5","14","499","499",45,14,103.2,"NULL",1,"NULL",1,"NULL",39,6,"NULL","NULL"]
["6","0","100","-1",591099,181570,141.08000000000001,98255,1344665,114.08,111.45,"NULL","NULL","NULL","NULL","NULL"]
["6","11","100","-1",580260,179006,141.83000000000001,92913,1264866,117.77,115.22,"NULL","NULL","NULL","NULL","NULL"]
["6","11","AK","-1",1799,643,152.66999999999999,300,4576,128.77000000000001,126.31,"NULL","NULL","NULL","NULL","NULL"]
["6","11","AL","-1",14566,4598,143.75,2634,30819,129.21,128.5,"NULL","NULL","NULL","NULL","NULL"]
["6","11","AR","-1",6810,2032,145.63999999999999,995,13218,121.17,116.97,"NULL","NULL","NULL","NULL","NULL"]
["6","11","AZ","-1",13499,4074,139.51,2272,28019,128.30000000000001,119.61,"NULL","NULL","NULL","NULL","NULL"]
["6","11","CA","-1",44571,13869,144.49,7474,113817,112.78,105.26,"NULL","NULL","NULL","NULL","NULL"]
["6","11","CO","-1",10817,3183,131.15,1789,26206,99.15,95.23,"NULL","NULL","NULL","NULL","NULL"]
["6","11","CT","-1",3450,1282,162.26,501,6199,136.47999999999999,136.19,"NULL","NULL","NULL","NULL","NULL"]
["6","11","DC","-1",655,214,149.15,116,1649,117.61,122.73,"NULL","NULL","NULL","NULL","NULL"]
["6","11","DE","-1",1595,504,139.54,283,3603,115.01,117.56,"NULL","NULL","NULL","NULL","NULL"]
["6","11","FL","-1",51115,15183,135.03,8160,110955,117.05,112.15,"NULL","NULL","NULL","NULL","NULL"]
["6","11","GA","-1",27481,8469,136.29,4939,67587,115.09,109.64,"NULL","NULL","NULL","NULL","NULL"]
["6","11","HI","-1",3449,1143,149.94999999999999,562,8214,112.26,111.03,"NULL","NULL","NULL","NULL","NULL"]
["6","11","IA","-1",5216,1743,152.36000000000001,662,8766,136.86000000000001,129.85,"NULL","NULL","NULL","NULL","NULL"]
["6","11","ID","-1",3659,1110,138.68,522,7494,113.43,119.18,"NULL","NULL","NULL","NULL","NULL"]
["6","11","IL","-1",13768,4398,144.72,1814,26354,124.3,122.4,"NULL","NULL","NULL","NULL","NULL"]
["6","11","IN","-1",10846,3460,145.68,1512,19830,130.31,126.88,"NULL","NULL","NULL","NULL","NULL"]
["6","11","KS","-1",4801,1643,148.80000000000001,762,9530,116.61,116.4,"NULL","NULL","NULL","NULL","NULL"]
["6","11","KY","-1",8414,2387,136.55000000000001,1261,15605,116.57,123.64,"NULL","NULL","NULL","NULL","NULL"]
["6","11","LA","-1",10255,3038,142.04,1673,21123,116.93,122.84,"NULL","NULL","NULL","NULL","NULL"]
["6","11","MA","-1",6137,2239,158.78,916,12861,135.11000000000001,129.91999999999999,"NULL","NULL","NULL","NULL","NULL"]
["6","11","MD","-1",9793,2921,129.16,2039,28035,101.11,109.3,"NULL","NULL","NULL","NULL","NULL"]
["6","11","ME","-1",2699,989,167.36,368,4830,146.47,142.18,"NULL","NULL","NULL","NULL","NULL"]
["6","11","MI","-1",12823,3963,145.13,1722,24181,128.88999999999999,118.54,"NULL","NULL","NULL","NULL","NULL"]
["6","11","MN","-1",8044,2754,156.85,1081,15550,115.89,121.51,"NULL","NULL","NULL","NULL","NULL"]
["6","11","MO","-1",11905,3785,147.97,1710,22349,126.74,119.54,"NULL","NULL","NULL","NULL","NULL"]
["6","11","MS","-1",7255,2100,138.63,1126,14829,113.45,124.73,"NULL","NULL","NULL","NULL","NULL"]
["6","11","MT","-1",2650,972,159.09,391,4510,146.57,136.15,"NULL","NULL","NULL","NULL","NULL"]
["6","11","NC","-1",24861,7128,131.30000000000001,4696,64401,105.58,108.82,"NULL","NULL","NULL","NULL","NULL"]
["6","11","ND","-1",1358,458,150.22,216,3001,104.08,109.54,"NULL","NULL","NULL","NULL","NULL"]
["6","11","NE","-1",3808,1144,135.68,639,8192,112.93,108.51,"NULL","NULL","NULL","NULL","NULL"]
["6","11","NH","-1",1967,761,170.83,269,3710,157.37,148.72999999999999,"NULL","NULL","NULL","NULL","NULL"]
["6","11","NJ","-1",7200,2752,163.86,1038,14389,138.22999999999999,135.25,"NULL","NULL","NULL","NULL","NULL"]
["6","11","NM","-1",4161,1088,135.29,523,7736,119.87,124.22,"NULL","NULL","NULL","NULL","NULL"]
["6","11","NV","-1",7098,2036,136.05000000000001,1133,16209,107.86,104.2,"NULL","NULL","NULL","NULL","NULL"]
["6","11","NY","-1",15156,5507,157.9,2078,28397,147.25,133.55000000000001,"NULL","NULL","NULL","NULL","NULL"]
["6","11","OH","-1",18075,5506,145.07,2520,33606,127.78,120.21,"NULL","NULL","NULL","NULL","NULL"]
["6","11","OK","-1",10623,2792,134.62,1742,22842,104.89,100.38,"NULL","NULL","NULL","NULL","NULL"]
["6","11","OR","-1",7976,2606,156.88999999999999,1132,14667,128.66,125.24,"NULL","NULL","NULL","NULL","NULL"]
["6","11","OT","-1",10512,3095,149.22999999999999,817,10354,168.97,142.69999999999999,"NULL","NULL","NULL","NULL","NULL"]
["6","11","PA","-1",16303,5590,156.38999999999999,2373,30626,130.76,132.88,"NULL","NULL","NULL","NULL","NULL"]
["6","11","PR","-1",4385,1875,192.83,732,7592,165.61,158.74,"NULL","NULL","NULL","NULL","NULL"]
["6","11","RI","-1",1569,567,159.71,251,2848,139.13,141.88999999999999,"NULL","NULL","NULL","NULL","NULL"]
["6","11","SC","-1",15327,4801,141.30000000000001,2678,33886,113.19,112.81,"NULL","NULL","NULL","NULL","NULL"]
["6","11","SD","-1",2198,762,157.07,287,3876,135.43,126.56,"NULL","NULL","NULL","NULL","NULL"]
["6","11","TN","-1",15919,4962,143.94,2807,34967,115.19,117.71,"NULL","NULL","NULL","NULL","NULL"]
["6","11","TX","-1",60288,16443,129.37,10940,150818,103.12,105.52,"NULL","NULL","NULL","NULL","NULL"]
["6","11","UT","-1",3204,888,131.9,515,7626,113.57,108.85,"NULL","NULL","NULL","NULL","NULL"]
["6","11","VA","-1",21535,6326,129.72999999999999,3747,58711,105.64,112.27,"NULL","NULL","NULL","NULL","NULL"]
["6","11","VT","-1",805,356,182.99,78,1241,142.28,149.79,"NULL","NULL","NULL","NULL","NULL"]
["6","11","WA","-1",12910,3676,135.43,2051,28456,112.32,105.25,"NULL","NULL","NULL","NULL","NULL"]
["6","11","WI","-1",8895,3231,156.05000000000001,1262,15584,137.99,132.08000000000001,"NULL","NULL","NULL","NULL","NULL"]
["6","11","WV","-1",4557,1419,148.99,623,7846,131.07,133.16999999999999,"NULL","NULL","NULL","NULL","NULL"]
["6","11","WY","-1",1498,541,156.80000000000001,182,2576,143.07,129.34,"NULL","NULL","NULL","NULL","NULL"]
["6","12","100","-1",9912,2271,98.77,5149,77560,47.92,50.23,"NULL","NULL","NULL","NULL","NULL"]
["6","12","AK","-1",18,6,221.17,9,118,68,62.51,"NULL","NULL","NULL","NULL","NULL"]
["6","12","AL","-1",304,79,119.34,162,2536,38.72,52.82,"NULL","NULL","NULL","NULL","NULL"]
["6","12","AR","-1",143,30,86.15,84,1249,52.06,54.08,"NULL","NULL","NULL","NULL","NULL"]
["6","12","AZ","-1",274,66,105.22,147,2148,66.94,51.16,"NULL","NULL","NULL","NULL","NULL"]
["6","12","CA","-1",808,228,123.14,420,6325,55.33,53.62,"NULL","NULL","NULL","NULL","NULL"]
["6","12","CO","-1",129,26,100.98,78,1208,47.21,51.36,"NULL","NULL","NULL","NULL","NULL"]
["6","12","CT","-1",66,12,83.11,38,532,32.869999999999997,48.14,"NULL","NULL","NULL","NULL","NULL"]
["6","12","DC","-1",9,"NULL",63.44,6,82,97.67,54.67,"NULL","NULL","NULL","NULL","NULL"]
["6","12","DE","-1",26,5,69.459999999999994,11,219,12,32.39,"NULL","NULL","NULL","NULL","NULL"]
["6","12","FL","-1",785,155,76.45,406,6242,40.33,40.909999999999997,"NULL","NULL","NULL","NULL","NULL"]
["6","12","GA","-1",398,92,83.74,230,3304,32.11,42.89,"NULL","NULL","NULL","NULL","NULL"]
["6","12","HI","-1",39,7,121.79,28,296,45.68,60.91,"NULL","NULL","NULL","NULL","NULL"]
["6","12","IA","-1",122,22,91.62,53,808,53.75,57.57,"NULL","NULL","NULL","NULL","NULL"]
["6","12","ID","-1",61,20,117.3,31,481,35.32,46.25,"NULL","NULL","NULL","NULL","NULL"]
["6","12","IL","-1",291,71,102.24,140,2060,63.87,58.11,"NULL","NULL","NULL","NULL","NULL"]
["6","12","IN","-1",180,54,114.12,100,1460,51.18,59.07,"NULL","NULL","NULL","NULL","NULL"]
["6","12","KS","-1",88,25,104.25,36,755,56.53,51.76,"NULL","NULL","NULL","NULL","NULL"]
["6","12","KY","-1",138,40,113.71,96,1271,52,54.85,"NULL","NULL","NULL","NULL","NULL"]
["6","12","LA","-1",184,39,97.7,91,1426,45.73,57.76,"NULL","NULL","NULL","NULL","NULL"]
["6","12","MA","-1",95,22,86.8,50,840,39.5,42.11,"NULL","NULL","NULL","NULL","NULL"]
["6","12","MD","-1",133,27,72.83,79,1075,45.1,43.15,"NULL","NULL","NULL","NULL","NULL"]
["6","12","ME","-1",39,10,97.97,19,301,29.89,32.33,"NULL","NULL","NULL","NULL","NULL"]
["6","12","MI","-1",320,92,131.69,145,2410,48.61,56.85,"NULL","NULL","NULL","NULL","NULL"]
["6","12","MN","-1",135,35,103.28,69,1084,34.04,43.56,"NULL","NULL","NULL","NULL","NULL"]
["6","12","MO","-1",269,50,90.28,108,1775,48.7,55.44,"NULL","NULL","NULL","NULL","NULL"]
["6","12","MS","-1",135,27,106.04,60,994,90.98,55.64,"NULL","NULL","NULL","NULL","NULL"]
["6","12","MT","-1",36,8,107.61,27,337,68.41,51.16,"NULL","NULL","NULL","NULL","NULL"]
["6","12","NC","-1",386,56,68.36,206,3008,53.58,40.840000000000003,"NULL","NULL","NULL","NULL","NULL"]
["6","12","ND","-1",17,4,104,9,149,39.44,57.62,"NULL","NULL","NULL","NULL","NULL"]
["6","12","NE","-1",56,17,102.29,27,415,44.56,52.92,"NULL","NULL","NULL","NULL","NULL"]
["6","12","NH","-1",30,5,111.6,19,259,45.16,36.72,"NULL","NULL","NULL","NULL","NULL"]
["6","12","NJ","-1",150,32,87.12,83,1341,39.020000000000003,49.55,"NULL","NULL","NULL","NULL","NULL"]
["6","12","NM","-1",102,20,95.89,43,625,52.6,56.01,"NULL","NULL","NULL","NULL","NULL"]
["6","12","NV","-1",119,29,110.92,61,923,34.72,52.37,"NULL","NULL","NULL","NULL","NULL"]
["6","12","NY","-1",288,60,81.47,155,2183,42.29,44.39,"NULL","NULL","NULL","NULL","NULL"]
["6","12","OH","-1",388,91,95.85,203,2894,68.069999999999993,60.79,"NULL","NULL","NULL","NULL","NULL"]
["6","12","OK","-1",192,49,119.17,113,1587,66.22,52.07,"NULL","NULL","NULL","NULL","NULL"]
["6","12","OR","-1",140,48,134.88999999999999,70,1066,53.61,57.76,"NULL","NULL","NULL","NULL","NULL"]
["6","12","OT","-1",110,29,141.21,37,574,49.59,61.54,"NULL","NULL","NULL","NULL","NULL"]
["6","12","PA","-1",307,58,70.489999999999995,155,2727,44.75,47.14,"NULL","NULL","NULL","NULL","NULL"]
["6","12","PR","-1",106,25,89.95,45,689,34,60.69,"NULL","NULL","NULL","NULL","NULL"]
["6","12","RI","-1",29,6,80.28,9,158,22.22,53.54,"NULL","NULL","NULL","NULL","NULL"]
["6","12","SC","-1",232,45,78.569999999999993,144,2010,28.38,40.07,"NULL","NULL","NULL","NULL","NULL"]
["6","12","SD","-1",18,3,53.67,12,210,30.33,50.08,"NULL","NULL","NULL","NULL","NULL"]
["6","12","TN","-1",314,80,107.54,161,2492,32.75,50.49,"NULL","NULL","NULL","NULL","NULL"]
["6","12","TX","-1",901,187,101.09,481,7042,39.659999999999997,51.11,"NULL","NULL","NULL","NULL","NULL"]
["6","12","UT","-1",56,11,95.96,38,510,49.66,55.36,"NULL","NULL","NULL","NULL","NULL"]
["6","12","VA","-1",278,52,77.81,127,1923,63.89,40.89,"NULL","NULL","NULL","NULL","NULL"]
["6","12","VT","-1",14,2,78.14,2,89,7,38.43,"NULL","NULL","NULL","NULL","NULL"]
["6","12","WA","-1",206,61,126.28,107,1537,44.05,51.95,"NULL","NULL","NULL","NULL","NULL"]
["6","12","WI","-1",155,36,110.35,70,1123,70.33,63.31,"NULL","NULL","NULL","NULL","NULL"]
["6","12","WV","-1",75,13,68.31,40,553,44.3,37.6,"NULL","NULL","NULL","NULL","NULL"]
["6","12","WY","-1",18,4,123.11,9,137,116.89,62.01,"NULL","NULL","NULL","NULL","NULL"]
["6","13","100","-1",878,276,123.32,181,2040,106.72,100.69,"NULL","NULL","NULL","NULL","NULL"]
["6","13","AK","-1",3,1,102.33,"NULL",5,"NULL",229.6,"NULL","NULL","NULL","NULL","NULL"]
["6","13","AL","-1",22,8,267.45,2,39,1470.5,209,"NULL","NULL","NULL","NULL","NULL"]
["6","13","AR","-1",13,5,169.85,2,13,44,144.85,"NULL","NULL","NULL","NULL","NULL"]
["6","13","AZ","-1",19,8,129.79,4,50,104.25,108.82,"NULL","NULL","NULL","NULL","NULL"]
["6","13","CA","-1",65,11,81.25,13,168,45.69,124.71,"NULL","NULL","NULL","NULL","NULL"]
["6","13","CO","-1",15,3,98.2,1,44,267,57.82,"NULL","NULL","NULL","NULL","NULL"]
["6","13","CT","-1",8,4,113.25,"NULL",12,"NULL",64.75,"NULL","NULL","NULL","NULL","NULL"]
["6","13","DC","-1",1,"NULL",9,"NULL",4,"NULL",31.5,"NULL","NULL","NULL","NULL","NULL"]
["6","13","DE","-1",6,2,122.67,2,11,17,42.18,"NULL","NULL","NULL","NULL","NULL"]
["6","13","FL","-1",91,37,142.96,16,216,119.56,95.11,"NULL","NULL","NULL","NULL","NULL"]
["6","13","GA","-1",47,12,101.74,9,120,132.78,89.44,"NULL","NULL","NULL","NULL","NULL"]
["6","13","HI","-1",4,2,110.75,2,22,57.5,59.86,"NULL","NULL","NULL","NULL","NULL"]
["6","13","IA","-1",4,1,124,"NULL",13,"NULL",117.15,"NULL","NULL","NULL","NULL","NULL"]
["6","13","ID","-1",3,1,68.67,1,12,128,142.33000000000001,"NULL","NULL","NULL","NULL","NULL"]
["6","13","IL","-1",22,8,120.91,"NULL",34,"NULL",113.53,"NULL","NULL","NULL","NULL","NULL"]
["6","13","IN","-1",9,3,170,1,29,610,174.34,"NULL","NULL","NULL","NULL","NULL"]
["6","13","KS","-1",7,2,70.290000000000006,"NULL",18,"NULL",73.67,"NULL","NULL","NULL","NULL","NULL"]
["6","13","KY","-1",10,"NULL",58.3,4,19,62.25,97.05,"NULL","NULL","NULL","NULL","NULL"]
["6","13","LA","-1",11,4,257.45,2,36,25.5,102.39,"NULL","NULL","NULL","NULL","NULL"]
["6","13","MA","-1",7,3,135.43,4,21,24.5,93.29,"NULL","NULL","NULL","NULL","NULL"]
["6","13","MD","-1",25,7,94.88,4,53,29.5,101.25,"NULL","NULL","NULL","NULL","NULL"]
["6","13","ME","-1",4,1,98.5,"NULL",1,"NULL",51,"NULL","NULL","NULL","NULL","NULL"]
["6","13","MI","-1",12,3,70,3,32,50.67,84.75,"NULL","NULL","NULL","NULL","NULL"]
["6","13","MN","-1",7,2,110.14,3,21,38.33,75.099999999999994,"NULL","NULL","NULL","NULL","NULL"]
["6","13","MO","-1",22,7,111.05,6,29,50.17,81.86,"NULL","NULL","NULL","NULL","NULL"]
["6","13","MS","-1",13,4,115.38,6,47,134.5,78.02,"NULL","NULL","NULL","NULL","NULL"]
["6","13","MT","-1",4,2,123.5,"NULL",7,"NULL",102.14,"NULL","NULL","NULL","NULL","NULL"]
["6","13","NC","-1",34,6,89.79,3,89,39.33,103.4,"NULL","NULL","NULL","NULL","NULL"]
["6","13","ND","-1",3,1,228.67,"NULL",4,"NULL",83.75,"NULL","NULL","NULL","NULL","NULL"]
["6","13","NE","-1",5,1,57,2,14,154,100.57,"NULL","NULL","NULL","NULL","NULL"]
["6","13","NH","-1",3,2,351.33,2,6,45.5,50.17,"NULL","NULL","NULL","NULL","NULL"]
["6","13","NJ","-1",15,5,102.27,2,25,42,115.04,"NULL","NULL","NULL","NULL","NULL"]
["6","13","NM","-1",8,4,200.5,1,9,65,144.44,"NULL","NULL","NULL","NULL","NULL"]
["6","13","NV","-1",12,4,82.25,1,23,11,65,"NULL","NULL","NULL","NULL","NULL"]
["6","13","NY","-1",29,13,166.55,4,45,62.5,87.56,"NULL","NULL","NULL","NULL","NULL"]
["6","13","OH","-1",21,4,83.24,7,53,168.14,110.19,"NULL","NULL","NULL","NULL","NULL"]
["6","13","OK","-1",15,4,103.67,2,33,95.5,111.52,"NULL","NULL","NULL","NULL","NULL"]
["6","13","OR","-1",14,4,105.29,2,27,205,134.81,"NULL","NULL","NULL","NULL","NULL"]
["6","13","OT","-1",5,1,125.6,"NULL",14,"NULL",77.64,"NULL","NULL","NULL","NULL","NULL"]
["6","13","PA","-1",19,3,73.319999999999993,2,40,103.5,91.68,"NULL","NULL","NULL","NULL","NULL"]
["6","13","PR","-1",7,4,256.70999999999998,5,25,82.8,135.36000000000001,"NULL","NULL","NULL","NULL","NULL"]
["6","13","RI","-1",1,"NULL",10,1,6,42,51,"NULL","NULL","NULL","NULL","NULL"]
["6","13","SC","-1",25,8,122.16,7,51,55.57,91.8,"NULL","NULL","NULL","NULL","NULL"]
["6","13","SD","-1",2,1,281.5,"NULL",7,"NULL",175.71,"NULL","NULL","NULL","NULL","NULL"]
["6","13","TN","-1",28,8,111.11,5,54,108.2,96.94,"NULL","NULL","NULL","NULL","NULL"]
["6","13","TX","-1",76,26,125.25,21,211,106.43,97.33,"NULL","NULL","NULL","NULL","NULL"]
["6","13","UT","-1",4,3,268.5,1,14,215,113.14,"NULL","NULL","NULL","NULL","NULL"]
["6","13","VA","-1",43,15,111.65,18,118,106.44,98.42,"NULL","NULL","NULL","NULL","NULL"]
["6","13","VT","-1",3,1,67.33,"NULL","NULL","NULL","NULL","NULL","NULL","NULL","NULL","NULL"]
["6","13","WA","-1",34,8,115.74,7,57,48.71,73.91,"NULL","NULL","NULL","NULL","NULL"]
["6","13","WI","-1",7,4,248.43,2,23,12.5,54.3,"NULL","NULL","NULL","NULL","NULL"]
["6","13","WV","-1",8,3,134.88,1,13,93,61.69,"NULL","NULL","NULL","NULL","NULL"]
["6","13","WY","-1",3,2,165,"NULL",3,"NULL",96.67,"NULL","NULL","NULL","NULL","NULL"]
["6","14","100","-1",49,17,110.88,12,199,86.5,82.57,"NULL","NULL","NULL","NULL","NULL"]
["6","14","AL","-1",1,"NULL",6,"NULL",9,"NULL",128.33000000000001,"NULL","NULL","NULL","NULL","NULL"]
["6","14","AR","-1","NULL","NULL","NULL","NULL","NULL","NULL","NULL","NULL","NULL","NULL","NULL","NULL"]
["6","14","AZ","-1",1,"NULL",26,"NULL",3,"NULL",129.33000000000001,"NULL","NULL","NULL","NULL","NULL"]
["6","14","CA","-1",3,1,103.67,"NULL",21,"NULL",28,"NULL","NULL","NULL","NULL","NULL"]
["6","14","CO","-1",1,"NULL",16,"NULL",5,"NULL",57.4,"NULL","NULL","NULL","NULL","NULL"]
["6","14","DC","-1","NULL","NULL","NULL","NULL",1,"NULL",148,"NULL","NULL","NULL","NULL","NULL"]
["6","14","FL","-1",3,2,165.67,"NULL",15,"NULL",84.13,"NULL","NULL","NULL","NULL","NULL"]
["6","14","GA","-1",4,2,150.25,1,11,10,46.09,"NULL","NULL","NULL","NULL","NULL"]
["6","14","HI","-1",1,"NULL",92,"NULL",4,"NULL",97.25,"NULL","NULL","NULL","NULL","NULL"]
["6","14","IA","-1","NULL","NULL","NULL",1,3,240,211.67,"NULL","NULL","NULL","NULL","NULL"]
["6","14","ID","-1",1,"NULL",78,"NULL","NULL","NULL","NULL","NULL","NULL","NULL","NULL","NULL"]
["6","14","IL","-1",2,1,97.5,"NULL",3,"NULL",128.33000000000001,"NULL","NULL","NULL","NULL","NULL"]
["6","14","IN","-1","NULL","NULL","NULL","NULL",2,"NULL",128,"NULL","NULL","NULL","NULL","NULL"]
["6","14","KS","-1","NULL","NULL","NULL","NULL",1,"NULL",4,"NULL","NULL","NULL","NULL","NULL"]
["6","14","KY","-1",2,"NULL",20.5,"NULL",2,"NULL",30.5,"NULL","NULL","NULL","NULL","NULL"]
["6","14","LA","-1","NULL","NULL","NULL",1,1,108,108,"NULL","NULL","NULL","NULL","NULL"]
["6","14","MA","-1","NULL","NULL","NULL","NULL",1,"NULL",193,"NULL","NULL","NULL","NULL","NULL"]
["6","14","MD","-1",1,1,309,2,7,80.5,160.43,"NULL","NULL","NULL","NULL","NULL"]
["6","14","ME","-1","NULL","NULL","NULL","NULL",1,"NULL",4,"NULL","NULL","NULL","NULL","NULL"]
["6","14","MI","-1","NULL","NULL","NULL","NULL",4,"NULL",44,"NULL","NULL","NULL","NULL","NULL"]
["6","14","MN","-1","NULL","NULL","NULL","NULL",1,"NULL",3,"NULL","NULL","NULL","NULL","NULL"]
["6","14","MO","-1",1,"NULL",16,"NULL",2,"NULL",94.5,"NULL","NULL","NULL","NULL","NULL"]
["6","14","MS","-1",1,"NULL",77,"NULL",2,"NULL",39.5,"NULL","NULL","NULL","NULL","NULL"]
["6","14","MT","-1",1,"NULL",21,"NULL","NULL","NULL","NULL","NULL","NULL","NULL","NULL","NULL"]
["6","14","NC","-1",5,2,102.4,3,17,12,53.53,"NULL","NULL","NULL","NULL","NULL"]
["6","14","NE","-1",1,"NULL",1,"NULL","NULL","NULL","NULL","NULL","NULL","NULL","NULL","NULL"]
["6","14","NJ","-1","NULL","NULL","NULL","NULL",1,"NULL",2,"NULL","NULL","NULL","NULL","NULL"]
["6","14","NM","-1",1,"NULL",50,"NULL","NULL","NULL","NULL","NULL","NULL","NULL","NULL","NULL"]
["6","14","NV","-1",1,1,179,1,2,198,130,"NULL","NULL","NULL","NULL","NULL"]
["6","14","NY","-1",1,"NULL",51,"NULL",3,"NULL",19.670000000000002,"NULL","NULL","NULL","NULL","NULL"]
["6","14","OH","-1",1,1,158,"NULL",6,"NULL",68.83,"NULL","NULL","NULL","NULL","NULL"]
["6","14","OK","-1",1,1,417,"NULL",1,"NULL",280,"NULL","NULL","NULL","NULL","NULL"]
["6","14","OR","-1","NULL","NULL","NULL","NULL",5,"NULL",110,"NULL","NULL","NULL","NULL","NULL"]
["6","14","OT","-1","NULL","NULL","NULL","NULL",1,"NULL",255,"NULL","NULL","NULL","NULL","NULL"]
["6","14","PA","-1",1,"NULL",35,"NULL",5,"NULL",76.400000000000006,"NULL","NULL","NULL","NULL","NULL"]
["6","14","PR","-1","NULL","NULL","NULL","NULL",2,"NULL",38,"NULL","NULL","NULL","NULL","NULL"]
["6","14","SC","-1",1,"NULL",45,"NULL",1,"NULL",1,"NULL","NULL","NULL","NULL","NULL"]
["6","14","SD","-1","NULL","NULL","NULL","NULL",1,"NULL",58,"NULL","NULL","NULL","NULL","NULL"]
["6","14","TN","-1",1,"NULL",20,1,5,105,102,"NULL","NULL","NULL","NULL","NULL"]
["6","14","TX","-1",6,4,147.66999999999999,1,19,162,120.21,"NULL","NULL","NULL","NULL","NULL"]
["6","14","UT","-1","NULL","NULL","NULL","NULL",1,"NULL",4,"NULL","NULL","NULL","NULL","NULL"]
["6","14","VA","-1",4,"NULL",76.25,"NULL",21,"NULL",92.24,"NULL","NULL","NULL","NULL","NULL"]
["6","14","WA","-1",1,"NULL",113,1,8,18,50,"NULL","NULL","NULL","NULL","NULL"]
["6","14","WI","-1",1,1,375,"NULL",1,"NULL",110,"NULL","NULL","NULL","NULL","NULL"]
["6","0","AK","-1",1820,650,153.26,309,4699,127,124.81,"NULL","NULL","NULL","NULL","NULL"]
["6","0","AL","-1",14893,4685,143.41999999999999,2798,33403,124.93,122.85,"NULL","NULL","NULL","NULL","NULL"]
["6","0","AR","-1",6966,2067,144.47,1081,14480,115.66,111.57,"NULL","NULL","NULL","NULL","NULL"]
["6","0","AZ","-1",13793,4148,138.81,2423,30220,124.54,114.73,"NULL","NULL","NULL","NULL","NULL"]
["6","0","CA","-1",45447,14109,144.02000000000001,7907,120331,109.62,102.56,"NULL","NULL","NULL","NULL","NULL"]
["6","0","CO","-1",10962,3212,130.74,1868,27463,97.07,93.24,"NULL","NULL","NULL","NULL","NULL"]
["6","0","CT","-1",3524,1298,160.66999999999999,539,6743,129.18,129.12,"NULL","NULL","NULL","NULL","NULL"]
["6","0","DC","-1",665,214,147.77000000000001,122,1736,116.63,119.32,"NULL","NULL","NULL","NULL","NULL"]
["6","0","DE","-1",1627,511,138.36000000000001,296,3833,110.52,112.47,"NULL","NULL","NULL","NULL","NULL"]
["6","0","FL","-1",51994,15377,134.16999999999999,8582,117428,113.42,108.33,"NULL","NULL","NULL","NULL","NULL"]
["6","0","GA","-1",27930,8575,135.49,5179,71022,111.41,106.49,"NULL","NULL","NULL","NULL","NULL"]
["6","0","HI","-1",3493,1152,149.57,592,8536,108.93,109.15,"NULL","NULL","NULL","NULL","NULL"]
["6","0","IA","-1",5342,1766,150.96,716,9590,130.85,123.77,"NULL","NULL","NULL","NULL","NULL"]
["6","0","ID","-1",3724,1131,138.25,554,7987,109.08,114.82,"NULL","NULL","NULL","NULL","NULL"]
["6","0","IL","-1",14083,4478,143.80000000000001,1954,28451,119.97,117.73,"NULL","NULL","NULL","NULL","NULL"]
["6","0","IN","-1",11035,3517,145.19,1613,21321,125.7,122.3,"NULL","NULL","NULL","NULL","NULL"]
["6","0","KS","-1",4896,1670,147.88999999999999,798,10304,113.9,111.58,"NULL","NULL","NULL","NULL","NULL"]
["6","0","KY","-1",8564,2427,136.07,1361,16897,111.85,118.42,"NULL","NULL","NULL","NULL","NULL"]
["6","0","LA","-1",10450,3081,141.38,1767,22586,113.15,118.7,"NULL","NULL","NULL","NULL","NULL"]
["6","0","MA","-1",6239,2264,157.65,970,13723,129.72999999999999,124.49,"NULL","NULL","NULL","NULL","NULL"]
["6","0","MD","-1",9952,2956,128.34,2124,29170,98.87,106.86,"NULL","NULL","NULL","NULL","NULL"]
["6","0","ME","-1",2742,1000,166.27,387,5133,140.75,135.69,"NULL","NULL","NULL","NULL","NULL"]
["6","0","MI","-1",13155,4058,144.74,1870,26627,122.54,112.91,"NULL","NULL","NULL","NULL","NULL"]
["6","0","MN","-1",8186,2791,155.93,1153,16656,110.79,116.37,"NULL","NULL","NULL","NULL","NULL"]
["6","0","MO","-1",12197,3842,146.62,1824,24155,121.87,114.78,"NULL","NULL","NULL","NULL","NULL"]
["6","0","MS","-1",7404,2131,137.97999999999999,1192,15872,112.43,120.26,"NULL","NULL","NULL","NULL","NULL"]
["6","0","MT","-1",2691,982,158.30000000000001,418,4854,141.52000000000001,130.19999999999999,"NULL","NULL","NULL","NULL","NULL"]
["6","0","NC","-1",25286,7192,130.27000000000001,4908,67515,103.3,105.77,"NULL","NULL","NULL","NULL","NULL"]
["6","0","ND","-1",1378,463,149.82,225,3154,101.5,107.06,"NULL","NULL","NULL","NULL","NULL"]
["6","0","NE","-1",3870,1162,135.06,668,8621,110.29,105.82,"NULL","NULL","NULL","NULL","NULL"]
["6","0","NH","-1",2000,768,170.22,290,3975,149.24,141.28,"NULL","NULL","NULL","NULL","NULL"]
["6","0","NJ","-1",7365,2789,162.16999999999999,1123,15756,130.72,127.91,"NULL","NULL","NULL","NULL","NULL"]
["6","0","NM","-1",4272,1112,134.46,567,8370,114.68,119.15,"NULL","NULL","NULL","NULL","NULL"]
["6","0","NV","-1",7230,2070,135.56,1196,17157,104.13,101.36,"NULL","NULL","NULL","NULL","NULL"]
["6","0","NY","-1",15474,5580,156.49,2237,30628,139.83000000000001,127.12,"NULL","NULL","NULL","NULL","NULL"]
["6","0","OH","-1",18485,5602,143.96,2730,36559,123.44,115.48,"NULL","NULL","NULL","NULL","NULL"]
["6","0","OK","-1",10831,2846,134.33000000000001,1857,24463,102.53,97.27,"NULL","NULL","NULL","NULL","NULL"]
["6","0","OR","-1",8130,2658,156.41999999999999,1204,15765,124.42,120.69,"NULL","NULL","NULL","NULL","NULL"]
["6","0","OT","-1",10627,3125,149.13999999999999,854,10943,163.79,138.37,"NULL","NULL","NULL","NULL","NULL"]
["6","0","PA","-1",16630,5651,154.69999999999999,2530,33398,125.47,125.82,"NULL","NULL","NULL","NULL","NULL"]
["6","0","PR","-1",4498,1904,190.5,782,8308,157.51,150.51,"NULL","NULL","NULL","NULL","NULL"]
["6","0","RI","-1",1599,573,158.18,261,3012,134.72999999999999,137.07,"NULL","NULL","NULL","NULL","NULL"]
["6","0","SC","-1",15585,4854,140.33000000000001,2829,35948,108.73,108.71,"NULL","NULL","NULL","NULL","NULL"]
["6","0","SD","-1",2218,766,156.35,299,4094,131.21,122.7,"NULL","NULL","NULL","NULL","NULL"]
["6","0","TN","-1",16262,5050,143.16999999999999,2974,37518,110.71,113.22,"NULL","NULL","NULL","NULL","NULL"]
["6","0","TX","-1",61271,16660,128.94999999999999,11443,158090,100.47,103.09,"NULL","NULL","NULL","NULL","NULL"]
["6","0","UT","-1",3264,902,131.44999999999999,554,8151,109.37,105.5,"NULL","NULL","NULL","NULL","NULL"]
["6","0","VA","-1",21860,6393,129.02000000000001,3892,60773,104.28,109.98,"NULL","NULL","NULL","NULL","NULL"]
["6","0","VT","-1",822,359,180.79,80,1330,138.9,142.34,"NULL","NULL","NULL","NULL","NULL"]
["6","0","WA","-1",13151,3745,135.24,2166,30058,108.7,102.45,"NULL","NULL","NULL","NULL","NULL"]
["6","0","WI","-1",9058,3272,155.36000000000001,1334,16731,134.25,127.35,"NULL","NULL","NULL","NULL","NULL"]
["6","0","WV","-1",4640,1435,147.66,664,8412,125.78,126.78,"NULL","NULL","NULL","NULL","NULL"]
["6","0","WY","-1",1519,547,156.41999999999999,191,2716,141.83000000000001,125.91,"NULL","NULL","NULL","NULL","NULL"]
["6","0","35","-1",10627,3125,149.13999999999999,854,10943,163.79,138.37,"NULL","NULL","NULL","NULL","NULL"]
["6","0","384","-1",113164,32865,135.51,19636,270005,104.69,104.58,"NULL","NULL","NULL","NULL","NULL"]
["6","0","393","-1",216332,65171,137.47,38009,510162,112.28,111.52,"NULL","NULL","NULL","NULL","NULL"]
["6","0","394","-1",146652,48732,149.5,22284,302281,124.67,120.4,"NULL","NULL","NULL","NULL","NULL"]
["6","0","395","-1",104324,31677,141.96,17472,251274,112.64,106.74,"NULL","NULL","NULL","NULL","NULL"]
["6","11","35","-1",10512,3095,149.22999999999999,817,10354,168.97,142.69999999999999,"NULL","NULL","NULL","NULL","NULL"]
["6","11","384","-1",111301,32435,136.04,18691,255867,107.53,107.46,"NULL","NULL","NULL","NULL","NULL"]
["6","11","393","-1",212480,64318,138.29,36071,481539,115.76,115.3,"NULL","NULL","NULL","NULL","NULL"]
["6","11","394","-1",143641,48025,150.6,20850,280292,129.68,125.65,"NULL","NULL","NULL","NULL","NULL"]
["6","11","395","-1",102326,31133,142.41999999999999,16484,236814,116.16,109.9,"NULL","NULL","NULL","NULL","NULL"]
["6","12","35","-1",110,29,141.21,37,574,49.59,61.54,"NULL","NULL","NULL","NULL","NULL"]
["6","12","384","-1",1712,380,102.71,914,13732,46.27,51.28,"NULL","NULL","NULL","NULL","NULL"]
["6","12","393","-1",3478,733,87.58,1852,27697,43.64,46.08,"NULL","NULL","NULL","NULL","NULL"]
["6","12","394","-1",2789,633,95.22,1392,21528,50.99,52.51,"NULL","NULL","NULL","NULL","NULL"]
["6","12","395","-1",1823,496,119.29,954,14029,53.25,53.44,"NULL","NULL","NULL","NULL","NULL"]
["6","13","35","-1",5,1,125.6,"NULL",14,"NULL",77.64,"NULL","NULL","NULL","NULL","NULL"]
["6","13","384","-1",141,45,119.35,29,375,107.45,93.77,"NULL","NULL","NULL","NULL","NULL"]
["6","13","393","-1",352,114,135.49,80,840,133.94,101.7,"NULL","NULL","NULL","NULL","NULL"]
["6","13","394","-1",214,70,118.45,40,424,79.73,96.52,"NULL","NULL","NULL","NULL","NULL"]
["6","13","395","-1",166,46,107.09,32,387,71.75,110.59,"NULL","NULL","NULL","NULL","NULL"]
["6","14","35","-1","NULL","NULL","NULL","NULL",1,"NULL",255,"NULL","NULL","NULL","NULL","NULL"]
["6","14","384","-1",10,5,134.1,2,31,201,114.55,"NULL","NULL","NULL","NULL","NULL"]
["6","14","393","-1",22,6,95.64,6,86,43.17,76.81,"NULL","NULL","NULL","NULL","NULL"]
["6","14","394","-1",8,4,142.38,2,37,80.5,92.97,"NULL","NULL","NULL","NULL","NULL"]
["6","14","395","-1",9,2,94.33,2,44,108,58.61,"NULL","NULL","NULL","NULL","NULL"]
["7","1","100","7",3,"NULL",719.33,"NULL","NULL","NULL","NULL","NULL","NULL","NULL","NULL","NULL"]
["7","1","100","8",30,"NULL",888.6,"NULL","NULL","NULL","NULL","NULL","NULL","NULL","NULL","NULL"]
["7","1","100","3",29173,"NULL",280.70999999999998,"NULL","NULL","NULL","NULL","NULL","NULL","NULL","NULL","NULL"]
["7","1","100","2",585,"NULL",809.76,"NULL","NULL","NULL","NULL","NULL","NULL","NULL","NULL","NULL"]
["7","1","100","1",1493,"NULL",1253.3499999999999,"NULL","NULL","NULL","NULL","NULL","NULL","NULL","NULL","NULL"]
["7","1","100","9",485,"NULL",1459.75,"NULL","NULL","NULL","NULL","NULL","NULL","NULL","NULL","NULL"]
["7","1","100","10",16129,"NULL",29.59,"NULL","NULL","NULL","NULL","NULL","NULL","NULL","NULL","NULL"]
["7","1","100","6",33,"NULL",873.21,"NULL","NULL","NULL","NULL","NULL","NULL","NULL","NULL","NULL"]
["7","2","-1","2000",27716,"NULL",273.39,"NULL","NULL","NULL","NULL","NULL","NULL","NULL","NULL","NULL"]
["7","2","304","2000",3,"NULL",105,"NULL","NULL","NULL","NULL","NULL","NULL","NULL","NULL","NULL"]
["7","2","306","2000",5,"NULL",441.4,"NULL","NULL","NULL","NULL","NULL","NULL","NULL","NULL","NULL"]
["7","2","307","2000",5,"NULL",120.6,"NULL","NULL","NULL","NULL","NULL","NULL","NULL","NULL","NULL"]
["7","2","308","2000",2,"NULL",1307.5,"NULL","NULL","NULL","NULL","NULL","NULL","NULL","NULL","NULL"]
["7","2","309","2000",4,"NULL",349,"NULL","NULL","NULL","NULL","NULL","NULL","NULL","NULL","NULL"]
["7","2","310","2000",11,"NULL",524.17999999999995,"NULL","NULL","NULL","NULL","NULL","NULL","NULL","NULL","NULL"]
["7","2","311","2000",205,"NULL",713.81,"NULL","NULL","NULL","NULL","NULL","NULL","NULL","NULL","NULL"]
["7","2","313","2000",3,"NULL",1138.67,"NULL","NULL","NULL","NULL","NULL","NULL","NULL","NULL","NULL"]
["7","2","314","2000",4,"NULL",431.5,"NULL","NULL","NULL","NULL","NULL","NULL","NULL","NULL","NULL"]
["7","2","315","2000",2,"NULL",1055.5,"NULL","NULL","NULL","NULL","NULL","NULL","NULL","NULL","NULL"]
["7","2","316","2000",16,"NULL",992,"NULL","NULL","NULL","NULL","NULL","NULL","NULL","NULL","NULL"]
["7","2","317","2000",51,"NULL",1040.55,"NULL","NULL","NULL","NULL","NULL","NULL","NULL","NULL","NULL"]
["7","2","318","2000",11,"NULL",599.36,"NULL","NULL","NULL","NULL","NULL","NULL","NULL","NULL","NULL"]
["7","2","319","2000",6,"NULL",133.33000000000001,"NULL","NULL","NULL","NULL","NULL","NULL","NULL","NULL","NULL"]
["7","2","320","2000",9,"NULL",737.67,"NULL","NULL","NULL","NULL","NULL","NULL","NULL","NULL","NULL"]
["7","2","321","2000",2,"NULL",45,"NULL","NULL","NULL","NULL","NULL","NULL","NULL","NULL","NULL"]
["7","2","322","2000",7,"NULL",185.29,"NULL","NULL","NULL","NULL","NULL","NULL","NULL","NULL","NULL"]
["7","2","323","2000",48,"NULL",449.67,"NULL","NULL","NULL","NULL","NULL","NULL","NULL","NULL","NULL"]
["7","2","325","2000",10,"NULL",212.4,"NULL","NULL","NULL","NULL","NULL","NULL","NULL","NULL","NULL"]
["7","2","326","2000",3,"NULL",803.67,"NULL","NULL","NULL","NULL","NULL","NULL","NULL","NULL","NULL"]
["7","2","327","2000",363,"NULL",485.32,"NULL","NULL","NULL","NULL","NULL","NULL","NULL","NULL","NULL"]
["7","2","328","2000",11,"NULL",862.82,"NULL","NULL","NULL","NULL","NULL","NULL","NULL","NULL","NULL"]
["7","2","329","2000",12,"NULL",1038.33,"NULL","NULL","NULL","NULL","NULL","NULL","NULL","NULL","NULL"]
["7","2","330","2000",5,"NULL",740.4,"NULL","NULL","NULL","NULL","NULL","NULL","NULL","NULL","NULL"]
["7","2","331","2000",6,"NULL",639.83000000000004,"NULL","NULL","NULL","NULL","NULL","NULL","NULL","NULL","NULL"]
["7","2","333","2000",4,"NULL",644.75,"NULL","NULL","NULL","NULL","NULL","NULL","NULL","NULL","NULL"]
["7","2","334","2000",2,"NULL",381.5,"NULL","NULL","NULL","NULL","NULL","NULL","NULL","NULL","NULL"]
["7","2","335","2000",178,"NULL",600.44000000000005,"NULL","NULL","NULL","NULL","NULL","NULL","NULL","NULL","NULL"]
["7","2","339","2000",14,"NULL",865.93,"NULL","NULL","NULL","NULL","NULL","NULL","NULL","NULL","NULL"]
["7","2","340","2000",4,"NULL",416.5,"NULL","NULL","NULL","NULL","NULL","NULL","NULL","NULL","NULL"]
["7","2","343","2000",5,"NULL",1112.2,"NULL","NULL","NULL","NULL","NULL","NULL","NULL","NULL","NULL"]
["7","2","344","2000",6,"NULL",319.17,"NULL","NULL","NULL","NULL","NULL","NULL","NULL","NULL","NULL"]
["7","2","345","2000",8,"NULL",168.63,"NULL","NULL","NULL","NULL","NULL","NULL","NULL","NULL","NULL"]
["7","2","346","2000",5,"NULL",97.8,"NULL","NULL","NULL","NULL","NULL","NULL","NULL","NULL","NULL"]
["7","2","347","2000",4,"NULL",222.75,"NULL","NULL","NULL","NULL","NULL","NULL","NULL","NULL","NULL"]
["7","2","348","2000",5,"NULL",244.4,"NULL","NULL","NULL","NULL","NULL","NULL","NULL","NULL","NULL"]
["7","2","349","2000",4,"NULL",1615.25,"NULL","NULL","NULL","NULL","NULL","NULL","NULL","NULL","NULL"]
["7","2","350","2000",4,"NULL",73.5,"NULL","NULL","NULL","NULL","NULL","NULL","NULL","NULL","NULL"]
["7","2","351","2000",4,"NULL",224.5,"NULL","NULL","NULL","NULL","NULL","NULL","NULL","NULL","NULL"]
["7","2","354","2000",4,"NULL",322.75,"NULL","NULL","NULL","NULL","NULL","NULL","NULL","NULL","NULL"]
["7","2","355","2000",9,"NULL",1743.11,"NULL","NULL","NULL","NULL","NULL","NULL","NULL","NULL","NULL"]
["7","2","358","2000",90,"NULL",584.64,"NULL","NULL","NULL","NULL","NULL","NULL","NULL","NULL","NULL"]
["7","2","362","2000",12,"NULL",1182.92,"NULL","NULL","NULL","NULL","NULL","NULL","NULL","NULL","NULL"]
["7","2","373","2000",1,"NULL",285,"NULL","NULL","NULL","NULL","NULL","NULL","NULL","NULL","NULL"]
["7","2","377","2000",5,"NULL",1537.8,"NULL","NULL","NULL","NULL","NULL","NULL","NULL","NULL","NULL"]
["7","2","397","2000",1921,"NULL",1073.83,"NULL","NULL","NULL","NULL","NULL","NULL","NULL","NULL","NULL"]
["7","2","402","2000",2,"NULL",413,"NULL","NULL","NULL","NULL","NULL","NULL","NULL","NULL","NULL"]
["7","2","436","2000",4,"NULL",606.5,"NULL","NULL","NULL","NULL","NULL","NULL","NULL","NULL","NULL"]
["7","2","437","2000",2,"NULL",586,"NULL","NULL","NULL","NULL","NULL","NULL","NULL","NULL","NULL"]
["7","2","438","2000",1,"NULL",3244,"NULL","NULL","NULL","NULL","NULL","NULL","NULL","NULL","NULL"]
["7","2","442","2000",2,"NULL",173.5,"NULL","NULL","NULL","NULL","NULL","NULL","NULL","NULL","NULL"]
["7","2","452","2000",3,"NULL",1407,"NULL","NULL","NULL","NULL","NULL","NULL","NULL","NULL","NULL"]
["7","2","459","2000",1,"NULL",72,"NULL","NULL","NULL","NULL","NULL","NULL","NULL","NULL","NULL"]
["7","2","463","2000",1,"NULL",3,"NULL","NULL","NULL","NULL","NULL","NULL","NULL","NULL","NULL"]
["7","2","100","2000",30825,"NULL",336.41,"NULL","NULL","NULL","NULL","NULL","NULL","NULL","NULL","NULL"]
["7","2","-1","3000",401,"NULL",395.9,"NULL","NULL","NULL","NULL","NULL","NULL","NULL","NULL","NULL"]
["7","2","310","3000",12,"NULL",220.17,"NULL","NULL","NULL","NULL","NULL","NULL","NULL","NULL","NULL"]
["7","2","330","3000",9,"NULL",288.44,"NULL","NULL","NULL","NULL","NULL","NULL","NULL","NULL","NULL"]
["7","2","335","3000",4,"NULL",114.25,"NULL","NULL","NULL","NULL","NULL","NULL","NULL","NULL","NULL"]
["7","2","100","3000",426,"NULL",386.04,"NULL","NULL","NULL","NULL","NULL","NULL","NULL","NULL","NULL"]
["7","2","35","2000",29637,"NULL",325.27,"NULL","NULL","NULL","NULL","NULL","NULL","NULL","NULL","NULL"]
["7","2","384","2000",230,"NULL",675.25,"NULL","NULL","NULL","NULL","NULL","NULL","NULL","NULL","NULL"]
["7","2","393","2000",532,"NULL",567.70000000000005,"NULL","NULL","NULL","NULL","NULL","NULL","NULL","NULL","NULL"]
["7","2","394","2000",288,"NULL",686.76,"NULL","NULL","NULL","NULL","NULL","NULL","NULL","NULL","NULL"]
["7","2","395","2000",138,"NULL",541.78,"NULL","NULL","NULL","NULL","NULL","NULL","NULL","NULL","NULL"]
["8","11","316","12-AUG-21",0.95709,0.87280999999999997,0.86197000000000001,8.6300000000000002E-2,0.88859999999999995,6.991E-2,"NULL","NULL","NULL","NULL","NULL","NULL"]
["8","11","317","12-AUG-21",0.95713999999999999,0.85938000000000003,0.88173999999999997,8.7040000000000006E-2,0.92803000000000002,6.1350000000000002E-2,"NULL","NULL","NULL","NULL","NULL","NULL"]
["8","11","322","12-AUG-21",0.93957000000000002,0.79108000000000001,0.83296000000000003,7.8939999999999996E-2,0.90278000000000003,7.8079999999999997E-2,"NULL","NULL","NULL","NULL","NULL","NULL"]
["8","11","329","12-AUG-21",0.91759999999999997,0.70816999999999997,0.84182000000000001,9.5460000000000003E-2,0.91652,7.0440000000000003E-2,"NULL","NULL","NULL","NULL","NULL","NULL"]
["8","11","334","12-AUG-21",1,1,0.98414999999999997,2.3810000000000001E-2,0.96813000000000005,4.922E-2,"NULL","NULL","NULL","NULL","NULL","NULL"]
["8","11","347","12-AUG-21",0.97294999999999998,0.91366000000000003,0.95340000000000003,5.6689999999999997E-2,0.89263000000000003,8.1790000000000002E-2,"NULL","NULL","NULL","NULL","NULL","NULL"]
["8","11","460","12-AUG-21",0.9677,0.83333000000000002,0.89725999999999995,7.9219999999999999E-2,0.97113000000000005,4.335E-2,"NULL","NULL","NULL","NULL","NULL","NULL"]
["8","11","395","12-AUG-21",0.94943,0.93111999999999995,0.91019000000000005,3.5520000000000003E-2,0.90969,4.3099999999999999E-2,"NULL","NULL","NULL","NULL","NULL","NULL"]
["8","11","306","12-AUG-21",0.89056000000000002,0.73829999999999996,0.83977000000000002,0.10231999999999999,0.83187999999999995,9.1189999999999993E-2,"NULL","NULL","NULL","NULL","NULL","NULL"]
["8","11","307","12-AUG-21",0.98294999999999999,0.91178000000000003,0.89844000000000002,6.93E-2,0.95750000000000002,4.8099999999999997E-2,"NULL","NULL","NULL","NULL","NULL","NULL"]
["8","11","311","12-AUG-21",0.98575000000000002,0.92978000000000005,0.89914000000000005,8.3640000000000006E-2,0.96109999999999995,4.7960000000000003E-2,"NULL","NULL","NULL","NULL","NULL","NULL"]
["8","11","323","12-AUG-21",0.93786999999999998,0.71357999999999999,0.78437000000000001,9.8760000000000001E-2,0.90815000000000001,7.8030000000000002E-2,"NULL","NULL","NULL","NULL","NULL","NULL"]
["8","11","330","12-AUG-21",0.98197999999999996,0.92708000000000002,0.89956000000000003,8.6290000000000006E-2,0.95743,5.2359999999999997E-2,"NULL","NULL","NULL","NULL","NULL","NULL"]
["8","11","344","12-AUG-21",0.95611000000000002,0.81735000000000002,0.89027999999999996,9.085E-2,0.84194999999999998,0.10962,"NULL","NULL","NULL","NULL","NULL","NULL"]
["8","11","436","12-AUG-21",0.98997000000000002,0.92200000000000004,0.91525000000000001,8.6209999999999995E-2,0.84928999999999999,0.16739000000000001,"NULL","NULL","NULL","NULL","NULL","NULL"]
["8","11","393","12-AUG-21",0.96033000000000002,0.88846000000000003,0.88336999999999999,2.725E-2,0.92527999999999999,2.801E-2,"NULL","NULL","NULL","NULL","NULL","NULL"]
["8","11","NULL","12-AUG-21",0.92966000000000004,0.87905999999999995,0.89903,2.0459999999999999E-2,0.91588999999999998,2.562E-2,"NULL","NULL","NULL","NULL","NULL","NULL"]
["8","11","304","12-AUG-21",0.94608000000000003,0.88858999999999999,0.92837999999999998,7.5560000000000002E-2,0.90307000000000004,0.10473,"NULL","NULL","NULL","NULL","NULL","NULL"]
["8","11","318","12-AUG-21",0.94101000000000001,0.89671999999999996,0.88497000000000003,7.7420000000000003E-2,0.91046000000000005,7.1249999999999994E-2,"NULL","NULL","NULL","NULL","NULL","NULL"]
["8","11","328","12-AUG-21",0.90998000000000001,0.89407999999999999,0.91525999999999996,7.8130000000000005E-2,0.88617000000000001,8.2790000000000002E-2,"NULL","NULL","NULL","NULL","NULL","NULL"]
["8","11","346","12-AUG-21",0.85558000000000001,0.89193999999999996,0.87409000000000003,0.13097,0.91898000000000002,8.9020000000000002E-2,"NULL","NULL","NULL","NULL","NULL","NULL"]
["8","11","350","12-AUG-21",0.94642999999999999,0.90193000000000001,0.85251999999999994,7.0499999999999993E-2,0.91159000000000001,6.9620000000000001E-2,"NULL","NULL","NULL","NULL","NULL","NULL"]
["8","11","362","12-AUG-21",0.87512000000000001,0.82950999999999997,0.86719000000000002,8.8340000000000002E-2,0.87234,8.7489999999999998E-2,"NULL","NULL","NULL","NULL","NULL","NULL"]
["8","11","372","12-AUG-21","NULL","NULL","NULL","NULL",0.80796000000000001,6.7750000000000005E-2,"NULL","NULL","NULL","NULL","NULL","NULL"]
["8","11","438","12-AUG-21",0.94821999999999995,0.77612000000000003,0.90246000000000004,9.0380000000000002E-2,0.94472,5.4480000000000001E-2,"NULL","NULL","NULL","NULL","NULL","NULL"]
["8","11","384","12-AUG-21",0.94664999999999999,0.89751000000000003,0.90827000000000002,3.0599999999999999E-2,0.92513000000000001,3.6900000000000002E-2,"NULL","NULL","NULL","NULL","NULL","NULL"]
["8","11","321","12-AUG-21",1,1,0.86389000000000005,7.2700000000000001E-2,0.86643999999999999,8.6650000000000005E-2,"NULL","NULL","NULL","NULL","NULL","NULL"]
["8","11","339","12-AUG-21",0.94991999999999999,0.92174999999999996,0.95213999999999999,5.4269999999999999E-2,0.87414000000000003,9.5829999999999999E-2,"NULL","NULL","NULL","NULL","NULL","NULL"]
["8","11","345","12-AUG-21",1,1,0.97963,2.3519999999999999E-2,0.96791000000000005,3.9109999999999999E-2,"NULL","NULL","NULL","NULL","NULL","NULL"]
["8","11","354","12-AUG-21",0.98097000000000001,0.88998999999999995,0.91449999999999998,8.4019999999999997E-2,0.93435999999999997,5.6239999999999998E-2,"NULL","NULL","NULL","NULL","NULL","NULL"]
["8","11","377","12-AUG-21",1,1,0.94530999999999998,4.3139999999999998E-2,0.90886,7.1669999999999998E-2,"NULL","NULL","NULL","NULL","NULL","NULL"]
["8","11","437","12-AUG-21",0.99204000000000003,0.93667999999999996,0.89778000000000002,7.6090000000000005E-2,0.88504000000000005,7.5749999999999998E-2,"NULL","NULL","NULL","NULL","NULL","NULL"]
["8","11","301","12-AUG-21",0.95896999999999999,0.91839999999999999,0.89641000000000004,9.6339999999999995E-2,0.96204000000000001,4.5740000000000003E-2,"NULL","NULL","NULL","NULL","NULL","NULL"]
["8","11","308","12-AUG-21",0.98099999999999998,0.94725000000000004,0.88705999999999996,6.4369999999999997E-2,0.91801999999999995,6.2829999999999997E-2,"NULL","NULL","NULL","NULL","NULL","NULL"]
["8","11","309","12-AUG-21",1,1,0.90039999999999998,6.6430000000000003E-2,0.81181999999999999,0.13657,"NULL","NULL","NULL","NULL","NULL","NULL"]
["8","11","319","12-AUG-21",1,1,0.89881999999999995,6.5689999999999998E-2,0.93693000000000004,6.8989999999999996E-2,"NULL","NULL","NULL","NULL","NULL","NULL"]
["8","11","331","12-AUG-21",0.97294000000000003,0.94059999999999999,0.89454,7.8159999999999993E-2,0.91781000000000001,6.9870000000000002E-2,"NULL","NULL","NULL","NULL","NULL","NULL"]
["8","11","373","12-AUG-21",0.97985999999999995,1,0.95679999999999998,4.1250000000000002E-2,0.83396000000000003,0.10072,"NULL","NULL","NULL","NULL","NULL","NULL"]
["8","11","442","12-AUG-21",1,1,0.86448999999999998,8.1629999999999994E-2,0.82181000000000004,0.11311,"NULL","NULL","NULL","NULL","NULL","NULL"]
["8","11","452","12-AUG-21",0.93,0.88966000000000001,0.92654999999999998,8.2470000000000002E-2,0.91847999999999996,6.7890000000000006E-2,"NULL","NULL","NULL","NULL","NULL","NULL"]
["8","11","463","12-AUG-21",0.96886000000000005,0.81028,0.89124000000000003,7.9939999999999997E-2,0.90705000000000002,6.9599999999999995E-2,"NULL","NULL","NULL","NULL","NULL","NULL"]
["8","11","313","12-AUG-21",0.96435999999999999,0.81925999999999999,0.83230000000000004,8.9230000000000004E-2,0.85555999999999999,8.4370000000000001E-2,"NULL","NULL","NULL","NULL","NULL","NULL"]
["8","11","314","12-AUG-21",0.99456999999999995,0.94782999999999995,0.99095999999999995,1.3690000000000001E-2,0.96394000000000002,4.4850000000000001E-2,"NULL","NULL","NULL","NULL","NULL","NULL"]
["8","11","333","12-AUG-21",0.97655000000000003,0.92057999999999995,0.90871000000000002,8.3559999999999995E-2,0.91190000000000004,7.868E-2,"NULL","NULL","NULL","NULL","NULL","NULL"]
["8","11","349","12-AUG-21",0.89742999999999995,0.87222999999999995,0.87004999999999999,8.788E-2,0.81877999999999995,0.10049,"NULL","NULL","NULL","NULL","NULL","NULL"]
["8","11","405","12-AUG-21",1,1,0.88592000000000004,6.948E-2,0.89359,8.3589999999999998E-2,"NULL","NULL","NULL","NULL","NULL","NULL"]
["8","11","1","12-AUG-21",0.94767999999999997,0.89807999999999999,0.89829999999999999,1.473E-2,0.92005999999999999,1.636E-2,"NULL","NULL","NULL","NULL","NULL","NULL"]
["8","11","315","12-AUG-21",0.96372999999999998,0.93725999999999998,0.94130999999999998,5.2319999999999998E-2,0.90075000000000005,9.5699999999999993E-2,"NULL","NULL","NULL","NULL","NULL","NULL"]
["8","11","341","12-AUG-21",0.98448999999999998,0.95696000000000003,0.87605999999999995,8.4680000000000005E-2,0.90132000000000001,8.4830000000000003E-2,"NULL","NULL","NULL","NULL","NULL","NULL"]
["8","11","348","12-AUG-21",0.94759000000000004,0.92452000000000001,0.87627999999999995,9.1179999999999997E-2,0.93813999999999997,6.7949999999999997E-2,"NULL","NULL","NULL","NULL","NULL","NULL"]
["8","11","351","12-AUG-21",0.97052000000000005,0.92264000000000002,0.95313000000000003,5.3609999999999998E-2,0.92981999999999998,7.8939999999999996E-2,"NULL","NULL","NULL","NULL","NULL","NULL"]
["8","11","358","12-AUG-21",0.97870999999999997,0.89751000000000003,0.87573999999999996,7.3599999999999999E-2,0.97658999999999996,3.5069999999999997E-2,"NULL","NULL","NULL","NULL","NULL","NULL"]
["8","11","402","12-AUG-21",0.95881000000000005,0.92554000000000003,0.94079000000000002,5.9839999999999997E-2,0.97606999999999999,2.9270000000000001E-2,"NULL","NULL","NULL","NULL","NULL","NULL"]
["8","11","310","12-AUG-21",0.83369000000000004,0.93049000000000004,0.96135999999999999,4.7390000000000002E-2,0.98651,2.0369999999999999E-2,"NULL","NULL","NULL","NULL","NULL","NULL"]
["8","11","320","12-AUG-21",0.96031999999999995,0.83062999999999998,0.87092999999999998,0.1094,0.95808000000000004,5.314E-2,"NULL","NULL","NULL","NULL","NULL","NULL"]
["8","11","325","12-AUG-21",0.97748999999999997,0.91391999999999995,0.88300999999999996,9.1060000000000002E-2,0.82913000000000003,0.14480000000000001,"NULL","NULL","NULL","NULL","NULL","NULL"]
["8","11","326","12-AUG-21",0.90608,0.73604000000000003,0.85287000000000002,8.8590000000000002E-2,0.88027,8.3750000000000005E-2,"NULL","NULL","NULL","NULL","NULL","NULL"]
["8","11","327","12-AUG-21",0.96509,0.92591000000000001,0.86860999999999999,8.3349999999999994E-2,0.89249000000000001,0.10195,"NULL","NULL","NULL","NULL","NULL","NULL"]
["8","11","335","12-AUG-21",0.98511000000000004,0.95489000000000002,0.92684,5.3159999999999999E-2,0.97358,4.0460000000000003E-2,"NULL","NULL","NULL","NULL","NULL","NULL"]
["8","11","340","12-AUG-21",0.95862000000000003,0.82226999999999995,0.90036000000000005,7.5819999999999999E-2,0.91283999999999998,6.9720000000000004E-2,"NULL","NULL","NULL","NULL","NULL","NULL"]
["8","11","343","12-AUG-21",0.98297999999999996,0.91929000000000005,0.89646999999999999,7.6359999999999997E-2,0.91722999999999999,6.9870000000000002E-2,"NULL","NULL","NULL","NULL","NULL","NULL"]
["8","11","355","12-AUG-21",0.96960999999999997,0.87399000000000004,0.89658000000000004,6.9099999999999995E-2,0.84721000000000002,7.0389999999999994E-2,"NULL","NULL","NULL","NULL","NULL","NULL"]
["8","11","459","12-AUG-21",0.97750999999999999,1,0.90117000000000003,8.2210000000000005E-2,0.89075000000000004,8.9749999999999996E-2,"NULL","NULL","NULL","NULL","NULL","NULL"]
["8","12","1","12-AUG-21","NULL",0.94818000000000002,0.95147999999999999,3.4810000000000001E-2,0.95098000000000005,2.6669999999999999E-2,"NULL","NULL","NULL","NULL","NULL","NULL"]
["8","12","310","12-AUG-21","NULL",0.97882999999999998,0.94504999999999995,3.7350000000000001E-2,0.92542999999999997,4.9910000000000003E-2,"NULL","NULL","NULL","NULL","NULL","NULL"]
["8","12","335","12-AUG-21","NULL",0.89702000000000004,0.94398000000000004,6.2789999999999999E-2,0.95594999999999997,4.8710000000000003E-2,"NULL","NULL","NULL","NULL","NULL","NULL"]
["8","12","330","12-AUG-21","NULL",1,0.96631999999999996,4.2459999999999998E-2,0.97241,2.9659999999999999E-2,"NULL","NULL","NULL","NULL","NULL","NULL"]
["9","1","307","20-AUG-21",4392,4095,297,"NULL","NULL","NULL","NULL","NULL","NULL","NULL","NULL","NULL"]
["9","1","351","20-AUG-21",5012,4838,174,"NULL","NULL","NULL","NULL","NULL","NULL","NULL","NULL","NULL"]
["9","1","1","20-AUG-21",9404,8933,471,"NULL","NULL","NULL","NULL","NULL","NULL","NULL","NULL","NULL"]
["9","2","307","20-AUG-21",36235,29639,6596,"NULL","NULL","NULL","NULL","NULL","NULL","NULL","NULL","NULL"]
["9","2","351","20-AUG-21",56099,49214,6885,"NULL","NULL","NULL","NULL","NULL","NULL","NULL","NULL","NULL"]
["9","2","1","20-AUG-21",92334,78853,13481,"NULL","NULL","NULL","NULL","NULL","NULL","NULL","NULL","NULL"]

{"sheet":"Driver","index":11,"n_rows":226,"n_cols":27,"rows_kept":226,"cut":false,"hidden":true,"merged":[]}
["DIST_ID","DIST_DEF",null,null,null,"ROO","RO","ROI","ROD","RODS",null,"STO","ST","STI","STD","STDS",null,"ROO","RO","ROI","ROD"]
[1,"DIST_NE",null,null,null,1,0,100,"USA","1",null,1,0,100,"USA",100,null,1,0,100,"USA",null,null,null,null,null,"-Total"]
[2,"DIST_SE",null,null,null,2,1,394,"Northeast District","394",null,2,1,"394","Northeast District","394",null,2,1,"310","Philadelphia",null,null,"Northeast District",null," "]
[3,"DIST_CN",null,null,null,3,1,"313","Baltimore","394",null,3,1,"CT","Connecticut","394",null,3,1,"330","Milwaukee",null,null,"Connecticut","CT100",{"$f":"X4&$AA$2","v":"Connecticut-Total"},"-Other RO"]
[4,"DIST_PC",null,null,null,4,1,"301","Boston","394",null,4,1,"DE","Delaware","394",null,4,1,"335","St. Paul",null,null,null,"CT308","Hartford RO","-NWQ"]
[5,"DIST_OT",null,null,null,5,1,"307","Buffalo","394",null,5,1,"DC","District of Columbia","394",null,5,1,"-1","Other",null,null," ","CT-1",{"$f":"X4&$AA$4","v":"Connecticut-Other RO"}]
[null,null,null,null,null,6,1,"328","Chicago","394",null,6,1,"IL","Illinois","394",null,6,2,"318","Winston-Salem",null,null," ","CT499",{"$f":"X4&$AA$5","v":"Connecticut-NWQ"}]
[null,null,null,null,null,7,1,"325","Cleveland","394",null,7,1,"IN","Indiana","394",null,7,2,"341","Salt Lake City",null,null,"Delaware","DE100",{"$f":"X8&$AA$2","v":"Delaware-Total"}]
[null,"CONTROLLER for SOJ District Selection",null,null,null,8,1,"329","Detroit","394",null,8,1,"ME","Maine","394",null,8,2,"-1","Other",null,null,null,"DE460","Wilmington RO"]
[null,"ACTIVE SELECTION",null,1,null,9,1,"308","Hartford","394",null,9,1,"MD","Maryland","394",null,9,3,"318","Winston-Salem",null,null," ","DE-1",{"$f":"X8&$AA$4","v":"Delaware-Other RO"}]
[null,"MODIFIED SELECTION",{"$f":"IF(D20=12,\"DIST_P\",IF(D20=13,\"DIST_B\",IF(D20=14,\"DIST_Q\",DS_RO_STG)))","v":"DIST_NE"},null,null,10,1,"326","Indianapolis","394",null,10,1,"MA","Massachusetts","394",null,10,3,"377","San Diego",null,null," ","DE499",{"$f":"X8&$AA$5","v":"Delaware-NWQ"}]
[null,null,null,null,null,11,1,"373","Manchester","394",null,11,1,"MI","Michigan","394",null,11,3,"-1","Other",null,null,"DC","DC100",{"$f":"X12&$AA$2","v":"DC-Total"}]
[null,"DISTRICT-RO",{"$f":"INDEX(DIST_DEF,(MATCH($D$10,DIST_ID,0)))","v":"DIST_NE"},null,null,12,1,"330","Milwaukee","394",null,12,1,"MO","Missouri","394",null,null,null,null,null,null,null," ","DC372","Washington DC RO"]
[null,"DISTRICT-STATE",{"$f":"INDEX(DIST_DEF,(MATCH($D$10,DIST_ID,0)))&\"_ST\"","v":"DIST_NE_ST"},null,null,13,1,"306","New York","394",null,13,1,"NH","New Hampshire","394",null,null,null,null,null,null,null," ","DC-1",{"$f":"X12&$AA$4","v":"DC-Other RO"}]
[null,"DISTRICT-NWQ",{"$f":"INDEX(DIST_DEF,(MATCH($D$10,DIST_ID,0)))&\"_NWQ\"","v":"DIST_NE_NWQ"},{"$f":"INDEX(DIST_DEF,(MATCH($D$10,DIST_ID,0)))&\"_NWQD\"","v":"DIST_NE_NWQD"},null,14,1,"309","Newark","394",null,14,1,"NJ","New Jersey","394",null,null,null,"ROI","ROD",null,null," ","DC499",{"$f":"X12&$AA$5","v":"DC-NWQ"}]
[null,null,{"$f":"INDEX(DIST_DEF,(MATCH($D$10,DIST_ID,0)))&\"_NWQI\"","v":"DIST_NE_NWQI"},null,null,15,1,"310","Philadelphia","394",null,15,1,"NY","New York","394",null,null,null,100,"USA",null,null,"Illinois","IL100",{"$f":"X16&$AA$2","v":"Illinois-Total"}]
[null,null,null,null,null,16,1,"311","Pittsburgh","394",null,16,1,"OH","Ohio","394",null,null,null,"310","Philadelphia",null,null,null,"IL328","Chicago RO"]
[null,"CONTROLLER for Mission Selection",null,null,null,17,1,"304","Providence","394",null,17,1,"PA","Pennsylvania","394",null,null,null,"330","Milwaukee",null,null," ","IL-1",{"$f":"X16&$AA$4","v":"Illinois-Other RO"}]
[null,"ACTIVE SELECTION",null,1,null,18,1,"376","St. Louis RMC","394",null,18,1,"RI","Rhode Island","394",null,null,null,"335","St. Paul",null,null," ","IL499",{"$f":"X16&$AA$5","v":"Illinois-NWQ"}]
[null,"MODIFIED SELECTION",{"$f":"INDEX(SMD,(MATCH($D$19,DIST_ID,0)))","v":"USA - All Missions"},{"$f":"IF(SMSA=1,0,SMSA+9)","v":0},null,19,1,"331","St. Louis","394",null,19,1,"VT","Vermont","394",null,null,null,499,"NWQ",null,null,"Indiana","IN100",{"$f":"X20&$AA$2","v":"Indiana-Total"}]
[null,"USA - All Missions",null,1,null,20,1,"402","Togus","394",null,20,1,"WI","Wisconsin","394",null,null,null,"-1","Other",null,null,null,"IN326","Indianapolis RO"]
[null,"Compensation",null,11,null,21,1,"372","Washington","394",null,21,2,"393","Southeast District","393",null,null,null,"318","Winston-Salem",null,null," ","IN-1",{"$f":"X20&$AA$4","v":"Indiana-Other RO"}]
[null,"Pension",null,12,null,22,1,"405","White River Junction","394",null,22,2,"AL","Alabama","393",null,null,null,"341","Salt Lake City",null,null," ","IN499",{"$f":"X20&$AA$5","v":"Indiana-NWQ"}]
[null,"BDD",null,13,null,23,1,"460","Wilmington","394",null,23,2,"AR","Arkansas","393",null,null,null,499,"NWQ",null,null,"Maine","ME100",{"$f":"X24&$AA$2","v":"Maine-Total"}]
[null,"Quickstart",null,14,null,24,2,"393","Southeast District","393",null,24,2,"FL","Florida","393",null,null,null,"-1","Other",null,null,null,"ME402","Togus RO"]
[null,null,null,null,null,25,2,"316","Atlanta","393",null,25,2,"GA","Georgia","393",null,null,null,"318","Winston-Salem",null,null,null,"ME-1",{"$f":"X24&$AA$4","v":"Maine-Other RO"}]
[null,"TRADITIONAL AGGREGATE CODES",null,null,null,26,2,"319","Columbia","393",null,26,2,"KY","Kentucky","393",null,null,null,"377","San Diego",null,null,null,"ME499",{"$f":"X24&$AA$5","v":"Maine-NWQ"}]
[null,"ALL",1000,null,null,27,2,315,"Huntington","393",null,27,2,"LA","Louisiana","393",null,null,null,499,"NWQ",null,null,"Maryland","MD100",{"$f":"X28&$AA$2","v":"Maryland-Total"}]
[null,"Non-Rating/Appeals Compensation",2000,null,null,28,2,"323","Jackson","393",null,28,2,"MS","Mississippi","393",null,null,null,"-1","Other",null,null,null,"MD313","Baltimore RO"]
[null,"Non-Rating/Appeals Pension",3000,null,null,29,2,"350","Little Rock","393",null,29,2,"NC","North Carolina","393",null,null,null,null,null,null,null,null,"MD-1",{"$f":"X28&$AA$4","v":"Maryland-Other RO"}]
[null,"Compensation Entitlement",2100,null,null,30,2,"327","Louisville","393",null,30,2,"PR","Puerto Rico","393",null,null,null,null,null,null,null,null,"MD499",{"$f":"X28&$AA$5","v":"Maryland-NWQ"}]
[null,"Compensation Award Adjustment",2200,null,null,31,2,"322","Montgomery","393",null,31,2,"SC","South Carolina","393",null,null,null,null,null,null,null,"Massachusetts","MA100",{"$f":"X32&$AA$2","v":"Massachusetts-Total"}]
[null,"Compensation Program Review",2300,null,null,32,2,"320","Nashville","393",null,32,2,"TN","Tennessee","393",null,null,null,null,null,null,null,null,"MA301","Boston RO"]
[null,"Compensation Other",2400,null,null,33,2,"321","New Orleans","393",null,33,2,"VA","Virginia","393",null,null,null,null,null,null,null,null,"MA-1",{"$f":"X32&$AA$4","v":"Massachusetts-Other RO"}]
[null,"Compensation Burial",2500,null,null,34,2,"314","Roanoke","393",null,34,2,"WV","West Virginia","393",null,null,null,null,null,null,null,null,"MA499",{"$f":"X32&$AA$5","v":"Massachusetts-NWQ"}]
[null,"Compensation Accrued",2600,null,null,35,2,"355","San Juan","393",null,35,3,"384","Continental District","384",null,null,null,null,null,null,null,"Michigan","MI100",{"$f":"X36&$AA$2","v":"Michigan-Total"}]
[null,"Pension Entitlement",3100,null,null,36,2,"317","St. Petersburg","393",null,36,3,"CO","Colorado","384",null,null,null,null,null,null,null,null,"MI329","Detroit RO"]
[null,"Pension Award Adjustment",3200,null,null,37,2,"318","Winston-Salem","393",null,37,3,"IA","Iowa","384",null,null,null,null,null,null,null,null,"MI-1",{"$f":"X36&$AA$4","v":"Michigan-Other RO"}]
[null,"Pension Program Review",3300,null,null,38,3,"384","Continental District","384",null,38,3,"KS","Kansas","384",null,null,null,null,null,null,null,null,"MI499",{"$f":"X36&$AA$5","v":"Michigan-NWQ"}]
[null,"Pension Other",3400,null,null,39,3,"442","Cheyenne ","384",null,39,3,"MN","Minnesota","384",null,null,null,null,null,null,null,"Missouri","MO100",{"$f":"X40&$AA$2","v":"Missouri-Total"}]
[null,"Pension Burial",3500,null,null,40,3,"339","Denver","384",null,40,3,"MT","Montana","384",null,null,null,null,null,null,null,null,"MO331","St. Louis RO"]
[null,"Pension Accrued",3600,null,null,41,3,"333","Des Moines","384",null,41,3,"NE","Nebraska","384",null,null,null,null,null,null,null,null,"MO-1",{"$f":"X40&$AA$4","v":"Missouri-Other RO"}]
[null,null,null,null,null,42,3,"437","Fargo","384",null,42,3,"ND","North Dakota","384",null,null,null,null,null,null,null,null,"MO499",{"$f":"X40&$AA$5","v":"Missouri-NWQ"}]
[null,"CONTROLLER for SOJ District Selection",null,null,null,43,3,"436","Fort Harrison ","384",null,43,3,"OK","Oklahoma","384",null,null,null,null,null,null,null,"New Hampshire","NH100",{"$f":"X44&$AA$2","v":"New Hampshire-Total"}]
[null,"ACTIVE SELECTION",null,6,null,44,3,"362","Houston","384",null,44,3,"SD","South Dakota","384",null,null,null,null,null,null,null,null,"NH373","Manchester RO"]
[null,"MODIFIED SELECTION",{"$f":"IF(D10=6,DS_RO&\"_N\",IF(D20>11,DS_RO&\"_N\",DS_RO))","v":"DIST_NE"},null,null,45,3,"334","Lincoln","384",null,45,3,"TX","Texas","384",null,null,null,null,null,null,null,null,"NH-1",{"$f":"X44&$AA$4","v":"New Hampshire-Other RO"}]
[null,null,null,null,null,46,3,"351","Muskogee","384",null,46,3,"WY","Wyoming","384",null,null,null,null,null,null,null,null,"NH499",{"$f":"X44&$AA$5","v":"New Hampshire-NWQ"}]
[null,null,null,null,null,47,3,"438","Sioux Falls","384",null,47,4,"395","Pacific District","395",null,null,null,null,null,null,null,"New Jersey","NJ100",{"$f":"X48&$AA$2","v":"New Jersey-Total"}]
[null,null,null,null,null,48,3,"335","St. Paul","384",null,48,4,"AK","Alaska","395",null,null,null,null,null,null,null,null,"NJ309","Newark RO"]
[null,null,null,null,null,49,3,"349","Waco","384",null,49,4,"AZ","Arizona","395",null,null,null,null,null,null,null,null,"NJ-1",{"$f":"X48&$AA$4","v":"New Jersey-Other RO"}]
[null,null,null,null,null,50,3,"452","Wichita","384",null,50,4,"CA","California","395",null,null,null,null,null,null,null,null,"NJ499",{"$f":"X48&$AA$5","v":"New Jersey-NWQ"}]
[null,null,null,null,null,51,4,"395","Pacific District","395",null,51,4,"HI","Hawaii","395",null,null,null,null,null,null,null,"New York","NY100",{"$f":"X52&$AA$2","v":"New York-Total"}]
[null,null,null,null,null,52,4,"340","Albuquerque","395",null,52,4,"ID","Idaho","395",null,null,null,null,null,null,null,null,"NY307","Buffalo RO"]
[null,null,null,null,null,53,4,"463","Anchorage","395",null,53,4,"NV","Nevada","395",null,null,null,null,null,null,null,null,"NY306","New York RO"]
[null,null,null,null,null,54,4,"347","Boise","395",null,54,4,"NM","New Mexico","395",null,null,null,null,null,null,null,null,"NY-1",{"$f":"X52&$AA$4","v":"New York-Other RO"}]
[null,null,null,null,null,55,4,"459","Honolulu","395",null,55,4,"OR","Oregon","395",null,null,null,null,null,null,null,null,"NY499",{"$f":"X52&$AA$5","v":"New York-NWQ"}]
[null,null,null,null,null,56,4,"344","Los Angeles","395",null,56,4,"PI","Philippines","395",null,null,null,null,null,null,null,"Ohio","OH100",{"$f":"X57&$AA$2","v":"Ohio-Total"}]
[null,null,null,null,null,57,4,"358","Manila","395",null,57,4,"UT","Utah","395",null,null,null,null,null,null,null,null,"OH325","Cleveland RO"]
[null,null,null,null,null,58,4,"343","Oakland","395",null,58,4,"WA","Washington","395",null,null,null,null,null,null,null,null,"OH-1",{"$f":"X57&$AA$4","v":"Ohio-Other RO"}]
[null,null,null,null,null,59,4,"345","Phoenix","395",null,59,5,"35","Other District","35",null,null,null,null,null,null,null,null,"OH499",{"$f":"X57&$AA$5","v":"Ohio-NWQ"}]
[null,null,null,null,null,60,4,"348","Portland","395",null,60,5,"35","Outside US","35",null,null,null,null,null,null,null,"Pennsylvania","PA100",{"$f":"X61&$AA$2","v":"Pennsylvania-Total"}]
[null,null,null,null,null,61,4,"354","Reno","395",null,null,null,null,null,null,null,null,null,null,null,null,null,null,"PA310","Philadelphia RO"]
[null,null,null,null,null,62,4,"341","Salt Lake City","395",null,null,null,null,null,null,null,null,null,null,null,null,null,null,"PA311","Pittsburgh RO"]
[null,null,null,null,null,63,4,"377","San Diego","395",null,null,null,null,null,null,null,null,null,null,null,null,null,null,"PA-1",{"$f":"X61&$AA$4","v":"Pennsylvania-Other RO"}]
[null,null,null,null,null,64,4,"346","Seattle","395",null,null,null,null,null,null,null,null,null,null,null,null,null,null,"PA499",{"$f":"X61&$AA$5","v":"Pennsylvania-NWQ"}]
[null,null,null,null,null,65,5,"35","Other District","35",null,null,null,null,null,null,null,null,null,null,null,null,null,"Rhode Island","RI100",{"$f":"X66&$AA$2","v":"Rhode Island-Total"}]
[null,null,null,null,null,66,5,"499","NWQ","35",null,null,null,null,null,null,null,null,null,null,null,null,null,null,"RI304","Providence RO"]
[null,null,null,null,null,67,5,"-1","Other","35",null,null,null,null,null,null,null,null,null,null,null,null,null,null,"RI-1",{"$f":"X66&$AA$4","v":"Rhode Island-Other RO"}]
[null,null,null,null,null,null,null,null,null,null,null,null,null,null,null,null,null,null,null,null,null,null,null,null,"RI499",{"$f":"X66&$AA$5","v":"Rhode Island-NWQ"}]
[null,null,null,null,null,null,null,null,null,null,null,null,null,null,null,null,null,null,null,null,null,null,null,"Vermont","VT100",{"$f":"X70&$AA$2","v":"Vermont-Total"}]
[null,null,null,null,null,null,null,null,null,null,null,null,null,null,null,null,null,null,null,null,null,null,null,null,"VT405","White River RO"]
[null,null,null,null,null,null,null,null,null,null,null,null,null,null,null,null,null,null,null,null,null,null,null,null,"VT-1",{"$f":"X70&$AA$4","v":"Vermont-Other RO"}]
[null,null,null,null,null,null,null,null,null,null,null,null,null,null,null,null,null,null,null,null,null,null,null,null,"VT499",{"$f":"X70&$AA$5","v":"Vermont-NWQ"}]
[null,null,null,null,null,null,null,null,null,null,null,null,null,null,null,null,null,null,null,null,null,null,null,"Wisconsin","WI100",{"$f":"X74&$AA$2","v":"Wisconsin-Total"}]
[null,null,null,null,null,null,null,null,null,null,null,null,null,null,null,null,null,null,null,null,null,null,null,null,"WI330","Milwaukee RO"]
[null,null,null,null,null,null,null,null,null,null,null,null,null,null,null,null,null,null,null,null,null,null,null,null,"WI-1",{"$f":"X74&$AA$4","v":"Wisconsin-Other RO"}]
[null,null,null,null,null,null,null,null,null,null,null,null,null,null,null,null,null,null,null,null,null,null,null,null,"WI499",{"$f":"X74&$AA$5","v":"Wisconsin-NWQ"}]
[null,null,null,null,null,null,null,null,null,null,null,null,null,null,null,null,null,null,null,null,null,null,null,"Southeast District",null," "]
[null,null,null,null,null,null,null,null,null,null,null,null,null,null,null,null,null,null,null,null,null,null,null,"Alabama","AL100",{"$f":"X79&$AA$2","v":"Alabama-Total"}]
[null,null,null,null,null,null,null,null,null,null,null,null,null,null,null,null,null,null,null,null,null,null,null,null,"AL322","Montgomery RO"]
[null,null,null,null,null,null,null,null,null,null,null,null,null,null,null,null,null,null,null,null,null,null,null," ","AL-1",{"$f":"X79&$AA$4","v":"Alabama-Other RO"}]
[null,null,null,null,null,null,null,null,null,null,null,null,null,null,null,null,null,null,null,null,null,null,null," ","AL499",{"$f":"X79&$AA$5","v":"Alabama-NWQ"}]
[null,null,null,null,null,null,null,null,null,null,null,null,null,null,null,null,null,null,null,null,null,null,null,"Arkansas","AR100",{"$f":"X83&$AA$2","v":"Arkansas-Total"}]
[null,null,null,null,null,null,null,null,null,null,null,null,null,null,null,null,null,null,null,null,null,null,null,null,"AR350","Little Rock RO"]
[null,null,null,null,null,null,null,null,null,null,null,null,null,null,null,null,null,null,null,null,null,null,null," ","AR-1",{"$f":"X83&$AA$4","v":"Arkansas-Other RO"}]
[null,null,null,null,null,null,null,null,null,null,null,null,null,null,null,null,null,null,null,null,null,null,null," ","AR499",{"$f":"X83&$AA$5","v":"Arkansas-NWQ"}]
[null,null,null,null,null,null,null,null,null,null,null,null,null,null,null,null,null,null,null,null,null,null,null,"Florida","FL100",{"$f":"X87&$AA$2","v":"Florida-Total"}]
[null,null,null,null,null,null,null,null,null,null,null,null,null,null,null,null,null,null,null,null,null,null,null,null,"FL317","St. Petersburg RO"]
[null,null,null,null,null,null,null,null,null,null,null,null,null,null,null,null,null,null,null,null,null,null,null," ","FL-1",{"$f":"X87&$AA$4","v":"Florida-Other RO"}]
[null,null,null,null,null,null,null,null,null,null,null,null,null,null,null,null,null,null,null,null,null,null,null," ","FL499",{"$f":"X87&$AA$5","v":"Florida-NWQ"}]
[null,null,null,null,null,null,null,null,null,null,null,null,null,null,null,null,null,null,null,null,null,null,null,"Georgia","GA100",{"$f":"X91&$AA$2","v":"Georgia-Total"}]
[null,null,null,null,null,null,null,null,null,null,null,null,null,null,null,null,null,null,null,null,null,null,null," ","GA316","Atlanta RO"]
[null,null,null,null,null,null,null,null,null,null,null,null,null,null,null,null,null,null,null,null,null,null,null," ","GA-1",{"$f":"X91&$AA$4","v":"Georgia-Other RO"}]
[null,null,null,null,null,null,null,null,null,null,null,null,null,null,null,null,null,null,null,null,null,null,null," ","GA499",{"$f":"X91&$AA$5","v":"Georgia-NWQ"}]
[null,null,null,null,null,null,null,null,null,null,null,null,null,null,null,null,null,null,null,null,null,null,null,"Kentucky","KY100",{"$f":"X95&$AA$2","v":"Kentucky-Total"}]
[null,null,null,null,null,null,null,null,null,null,null,null,null,null,null,null,null,null,null,null,null,null,null,null,"KY327","Louisville RO"]
[null,null,null,null,null,null,null,null,null,null,null,null,null,null,null,null,null,null,null,null,null,null,null,null,"KY-1",{"$f":"X95&$AA$4","v":"Kentucky-Other RO"}]
[null,null,null,null,null,null,null,null,null,null,null,null,null,null,null,null,null,null,null,null,null,null,null,null,"KY499",{"$f":"X95&$AA$5","v":"Kentucky-NWQ"}]
[null,null,null,null,null,null,null,null,null,null,null,null,null,null,null,null,null,null,null,null,null,null,null,"Louisiana","LA100",{"$f":"X99&$AA$2","v":"Louisiana-Total"}]
[null,null,null,null,null,null,null,null,null,null,null,null,null,null,null,null,null,null,null,null,null,null,null," ","LA321","New Orleans RO"]
[null,null,null,null,null,null,null,null,null,null,null,null,null,null,null,null,null,null,null,null,null,null,null," ","LA-1",{"$f":"X99&$AA$4","v":"Louisiana-Other RO"}]
[null,null,null,null,null,null,null,null,null,null,null,null,null,null,null,null,null,null,null,null,null,null,null," ","LA499",{"$f":"X99&$AA$5","v":"Louisiana-NWQ"}]
[null,null,null,null,null,null,null,null,null,null,null,null,null,null,null,null,null,null,null,null,null,null,null,"Mississippi","MS100",{"$f":"X103&$AA$2","v":"Mississippi-Total"}]
[null,null,null,null,null,null,null,null,null,null,null,null,null,null,null,null,null,null,null,null,null,null,null,null,"MS323","Jackson RO"]
[null,null,null,null,null,null,null,null,null,null,null,null,null,null,null,null,null,null,null,null,null,null,null,null,"MS-1",{"$f":"X103&$AA$4","v":"Mississippi-Other RO"}]
[null,null,null,null,null,null,null,null,null,null,null,null,null,null,null,null,null,null,null,null,null,null,null,null,"MS499",{"$f":"X103&$AA$5","v":"Mississippi-NWQ"}]
[null,null,null,null,null,null,null,null,null,null,null,null,null,null,null,null,null,null,null,null,null,null,null,"North Carolina","NC100",{"$f":"X107&$AA$2","v":"North Carolina-Total"}]
[null,null,null,null,null,null,null,null,null,null,null,null,null,null,null,null,null,null,null,null,null,null,null,null,"NC318","Winston-Salem RO"]
[null,null,null,null,null,null,null,null,null,null,null,null,null,null,null,null,null,null,null,null,null,null,null,null,"NC-1",{"$f":"X107&$AA$4","v":"North Carolina-Other RO"}]
[null,null,null,null,null,null,null,null,null,null,null,null,null,null,null,null,null,null,null,null,null,null,null,null,"NC499",{"$f":"X107&$AA$5","v":"North Carolina-NWQ"}]
[null,null,null,null,null,null,null,null,null,null,null,null,null,null,null,null,null,null,null,null,null,null,null,"Puerto Rico","PR100",{"$f":"X111&$AA$2","v":"Puerto Rico-Total"}]
[null,null,null,null,null,null,null,null,null,null,null,null,null,null,null,null,null,null,null,null,null,null,null,null,"PR355","San Juan RO"]
[null,null,null,null,null,null,null,null,null,null,null,null,null,null,null,null,null,null,null,null,null,null,null,null,"PR-1",{"$f":"X111&$AA$4","v":"Puerto Rico-Other RO"}]
[null,null,null,null,null,null,null,null,null,null,null,null,null,null,null,null,null,null,null,null,null,null,null,null,"PR499",{"$f":"X111&$AA$5","v":"Puerto Rico-NWQ"}]
[null,null,null,null,null,null,null,null,null,null,null,null,null,null,null,null,null,null,null,null,null,null,null,"South Carolina","SC100",{"$f":"X115&$AA$2","v":"South Carolina-Total"}]
[null,null,null,null,null,null,null,null,null,null,null,null,null,null,null,null,null,null,null,null,null,null,null,null,"SC319","Columbia RO"]
[null,null,null,null,null,null,null,null,null,null,null,null,null,null,null,null,null,null,null,null,null,null,null,null,"SC-1",{"$f":"X115&$AA$4","v":"South Carolina-Other RO"}]
[null,null,null,null,null,null,null,null,null,null,null,null,null,null,null,null,null,null,null,null,null,null,null,null,"SC499",{"$f":"X115&$AA$5","v":"South Carolina-NWQ"}]
[null,null,null,null,null,null,null,null,null,null,null,null,null,null,null,null,null,null,null,null,null,null,null,"Tennessee","TN100",{"$f":"X119&$AA$2","v":"Tennessee-Total"}]
[null,null,null,null,null,null,null,null,null,null,null,null,null,null,null,null,null,null,null,null,null,null,null,null,"TN320","Nashville RO"]
[null,null,null,null,null,null,null,null,null,null,null,null,null,null,null,null,null,null,null,null,null,null,null,null,"TN-1",{"$f":"X119&$AA$4","v":"Tennessee-Other RO"}]
[null,null,null,null,null,null,null,null,null,null,null,null,null,null,null,null,null,null,null,null,null,null,null,null,"TN499",{"$f":"X119&$AA$5","v":"Tennessee-NWQ"}]
[null,null,null,null,null,null,null,null,null,null,null,null,null,null,null,null,null,null,null,null,null,null,null,"Virginia","VA100",{"$f":"X123&$AA$2","v":"Virginia-Total"}]
[null,null,null,null,null,null,null,null,null,null,null,null,null,null,null,null,null,null,null,null,null,null,null,null,"VA314","Roanoke RO"]
[null,null,null,null,null,null,null,null,null,null,null,null,null,null,null,null,null,null,null,null,null,null,null,null,"VA-1",{"$f":"X123&$AA$4","v":"Virginia-Other RO"}]
[null,null,null,null,null,null,null,null,null,null,null,null,null,null,null,null,null,null,null,null,null,null,null,null,"VA499",{"$f":"X123&$AA$5","v":"Virginia-NWQ"}]
[null,null,null,null,null,null,null,null,null,null,null,null,null,null,null,null,null,null,null,null,null,null,null,"West Virginia","WV100",{"$f":"X127&$AA$2","v":"West Virginia-Total"}]
[null,null,null,null,null,null,null,null,null,null,null,null,null,null,null,null,null,null,null,null,null,null,null,null,"WV315","Huntington RO"]
[null,null,null,null,null,null,null,null,null,null,null,null,null,null,null,null,null,null,null,null,null,null,null,null,"WV-1",{"$f":"X127&$AA$4","v":"West Virginia-Other RO"}]
[null,null,null,null,null,null,null,null,null,null,null,null,null,null,null,null,null,null,null,null,null,null,null,null,"WV499",{"$f":"X127&$AA$5","v":"West Virginia-NWQ"}]
[null,null,null,null,null,null,null,null,null,null,null,null,null,null,null,null,null,null,null,null,null,null,null,"Continental District",null," "]
[null,null,null,null,null,null,null,null,null,null,null,null,null,null,null,null,null,null,null,null,null,null,null,"Colorado","CO100",{"$f":"X132&$AA$2","v":"Colorado-Total"}]
[null,null,null,null,null,null,null,null,null,null,null,null,null,null,null,null,null,null,null,null,null,null,null,null,"CO339","Denver RO"]
[null,null,null,null,null,null,null,null,null,null,null,null,null,null,null,null,null,null,null,null,null,null,null," ","CO-1",{"$f":"X132&$AA$4","v":"Colorado-Other RO"}]
[null,null,null,null,null,null,null,null,null,null,null,null,null,null,null,null,null,null,null,null,null,null,null," ","CO499",{"$f":"X132&$AA$5","v":"Colorado-NWQ"}]
[null,null,null,null,null,null,null,null,null,null,null,null,null,null,null,null,null,null,null,null,null,null,null,"Iowa","IA100",{"$f":"X136&$AA$2","v":"Iowa-Total"}]
[null,null,null,null,null,null,null,null,null,null,null,null,null,null,null,null,null,null,null,null,null,null,null," ","IA333","Des Moines RO"]
[null,null,null,null,null,null,null,null,null,null,null,null,null,null,null,null,null,null,null,null,null,null,null," ","IA-1",{"$f":"X136&$AA$4","v":"Iowa-Other RO"}]
[null,null,null,null,null,null,null,null,null,null,null,null,null,null,null,null,null,null,null,null,null,null,null," ","IA499",{"$f":"X136&$AA$5","v":"Iowa-NWQ"}]
[null,null,null,null,null,null,null,null,null,null,null,null,null,null,null,null,null,null,null,null,null,null,null,"Kansas","KS100",{"$f":"X140&$AA$2","v":"Kansas-Total"}]
[null,null,null,null,null,null,null,null,null,null,null,null,null,null,null,null,null,null,null,null,null,null,null,null,"KS452","Wichita RO"]
[null,null,null,null,null,null,null,null,null,null,null,null,null,null,null,null,null,null,null,null,null,null,null,null,"KS-1",{"$f":"X140&$AA$4","v":"Kansas-Other RO"}]
[null,null,null,null,null,null,null,null,null,null,null,null,null,null,null,null,null,null,null,null,null,null,null,null,"KS499",{"$f":"X140&$AA$5","v":"Kansas-NWQ"}]
[null,null,null,null,null,null,null,null,null,null,null,null,null,null,null,null,null,null,null,null,null,null,null,"Minnesota","MN100",{"$f":"X144&$AA$2","v":"Minnesota-Total"}]
[null,null,null,null,null,null,null,null,null,null,null,null,null,null,null,null,null,null,null,null,null,null,null,null,"MN335","St. Paul RO"]
[null,null,null,null,null,null,null,null,null,null,null,null,null,null,null,null,null,null,null,null,null,null,null,null,"MN-1",{"$f":"X144&$AA$4","v":"Minnesota-Other RO"}]
[null,null,null,null,null,null,null,null,null,null,null,null,null,null,null,null,null,null,null,null,null,null,null,null,"MN499",{"$f":"X144&$AA$5","v":"Minnesota-NWQ"}]
[null,null,null,null,null,null,null,null,null,null,null,null,null,null,null,null,null,null,null,null,null,null,null,"Montana","MT100",{"$f":"X148&$AA$2","v":"Montana-Total"}]
[null,null,null,null,null,null,null,null,null,null,null,null,null,null,null,null,null,null,null,null,null,null,null,null,"MT436","Fort Harrison RO"]
[null,null,null,null,null,null,null,null,null,null,null,null,null,null,null,null,null,null,null,null,null,null,null,null,"MT-1",{"$f":"X148&$AA$4","v":"Montana-Other RO"}]
[null,null,null,null,null,null,null,null,null,null,null,null,null,null,null,null,null,null,null,null,null,null,null,null,"MT499",{"$f":"X148&$AA$5","v":"Montana-NWQ"}]
[null,null,null,null,null,null,null,null,null,null,null,null,null,null,null,null,null,null,null,null,null,null,null,"Nebraska","NE100",{"$f":"X152&$AA$2","v":"Nebraska-Total"}]
[null,null,null,null,null,null,null,null,null,null,null,null,null,null,null,null,null,null,null,null,null,null,null,null,"NE334","Lincoln RO"]
[null,null,null,null,null,null,null,null,null,null,null,null,null,null,null,null,null,null,null,null,null,null,null,null,"NE-1",{"$f":"X152&$AA$4","v":"Nebraska-Other RO"}]
[null,null,null,null,null,null,null,null,null,null,null,null,null,null,null,null,null,null,null,null,null,null,null,null,"NE499",{"$f":"X152&$AA$5","v":"Nebraska-NWQ"}]
[null,null,null,null,null,null,null,null,null,null,null,null,null,null,null,null,null,null,null,null,null,null,null,"North Dakota","ND100",{"$f":"X156&$AA$2","v":"North Dakota-Total"}]
[null,null,null,null,null,null,null,null,null,null,null,null,null,null,null,null,null,null,null,null,null,null,null,null,"ND437","Fargo RO"]
[null,null,null,null,null,null,null,null,null,null,null,null,null,null,null,null,null,null,null,null,null,null,null,null,"ND-1",{"$f":"X156&$AA$4","v":"North Dakota-Other RO"}]
[null,null,null,null,null,null,null,null,null,null,null,null,null,null,null,null,null,null,null,null,null,null,null,null,"ND499",{"$f":"X156&$AA$5","v":"North Dakota-NWQ"}]
[null,null,null,null,null,null,null,null,null,null,null,null,null,null,null,null,null,null,null,null,null,null,null,"Oklahoma","OK100",{"$f":"X160&$AA$2","v":"Oklahoma-Total"}]
[null,null,null,null,null,null,null,null,null,null,null,null,null,null,null,null,null,null,null,null,null,null,null,null,"OK351","Muskogee RO"]
[null,null,null,null,null,null,null,null,null,null,null,null,null,null,null,null,null,null,null,null,null,null,null,null,"OK-1",{"$f":"X160&$AA$4","v":"Oklahoma-Other RO"}]
[null,null,null,null,null,null,null,null,null,null,null,null,null,null,null,null,null,null,null,null,null,null,null,null,"OK499",{"$f":"X160&$AA$5","v":"Oklahoma-NWQ"}]
[null,null,null,null,null,null,null,null,null,null,null,null,null,null,null,null,null,null,null,null,null,null,null,"South Dakota","SD100",{"$f":"X164&$AA$2","v":"South Dakota-Total"}]
[null,null,null,null,null,null,null,null,null,null,null,null,null,null,null,null,null,null,null,null,null,null,null,null,"SD438","Sioux Falls RO"]
[null,null,null,null,null,null,null,null,null,null,null,null,null,null,null,null,null,null,null,null,null,null,null,null,"SD-1",{"$f":"X164&$AA$4","v":"South Dakota-Other RO"}]
[null,null,null,null,null,null,null,null,null,null,null,null,null,null,null,null,null,null,null,null,null,null,null,null,"SD499",{"$f":"X164&$AA$5","v":"South Dakota-NWQ"}]
[null,null,null,null,null,null,null,null,null,null,null,null,null,null,null,null,null,null,null,null,null,null,null,"Texas","TX100",{"$f":"X168&$AA$2","v":"Texas-Total"}]
[null,null,null,null,null,null,null,null,null,null,null,null,null,null,null,null,null,null,null,null,null,null,null,null,"TX362","Houston RO"]
[null,null,null,null,null,null,null,null,null,null,null,null,null,null,null,null,null,null,null,null,null,null,null,null,"TX349","Waco RO"]
[null,null,null,null,null,null,null,null,null,null,null,null,null,null,null,null,null,null,null,null,null,null,null,null,"TX-1",{"$f":"X168&$AA$4","v":"Texas-Other RO"}]
[null,null,null,null,null,null,null,null,null,null,null,null,null,null,null,null,null,null,null,null,null,null,null,null,"TX499",{"$f":"X168&$AA$5","v":"Texas-NWQ"}]
[null,null,null,null,null,null,null,null,null,null,null,null,null,null,null,null,null,null,null,null,null,null,null,"Wyoming","WY100",{"$f":"X173&$AA$2","v":"Wyoming-Total"}]
[null,null,null,null,null,null,null,null,null,null,null,null,null,null,null,null,null,null,null,null,null,null,null,null,"WY442","Cheyenne RO"]
[null,null,null,null,null,null,null,null,null,null,null,null,null,null,null,null,null,null,null,null,null,null,null,null,"WY-1",{"$f":"X173&$AA$4","v":"Wyoming-Other RO"}]
[null,null,null,null,null,null,null,null,null,null,null,null,null,null,null,null,null,null,null,null,null,null,null,null,"WY499",{"$f":"X173&$AA$5","v":"Wyoming-NWQ"}]
[null,null,null,null,null,null,null,null,null,null,null,null,null,null,null,null,null,null,null,null,null,null,null,"Pacific District",null," "]
[null,null,null,null,null,null,null,null,null,null,null,null,null,null,null,null,null,null,null,null,null,null,null,"Alaska","AK100",{"$f":"X178&$AA$2","v":"Alaska-Total"}]
[null,null,null,null,null,null,null,null,null,null,null,null,null,null,null,null,null,null,null,null,null,null,null,null,"AK463","Anchorage RO"]
[null,null,null,null,null,null,null,null,null,null,null,null,null,null,null,null,null,null,null,null,null,null,null," ","AK-1",{"$f":"X178&$AA$4","v":"Alaska-Other RO"}]
[null,null,null,null,null,null,null,null,null,null,null,null,null,null,null,null,null,null,null,null,null,null,null," ","AK499",{"$f":"X178&$AA$5","v":"Alaska-NWQ"}]
[null,null,null,null,null,null,null,null,null,null,null,null,null,null,null,null,null,null,null,null,null,null,null,"Arizona","AZ100",{"$f":"X182&$AA$2","v":"Arizona-Total"}]
[null,null,null,null,null,null,null,null,null,null,null,null,null,null,null,null,null,null,null,null,null,null,null,null,"AZ345","Phoenix RO"]
[null,null,null,null,null,null,null,null,null,null,null,null,null,null,null,null,null,null,null,null,null,null,null," ","AZ-1",{"$f":"X182&$AA$4","v":"Arizona-Other RO"}]
[null,null,null,null,null,null,null,null,null,null,null,null,null,null,null,null,null,null,null,null,null,null,null," ","AZ499",{"$f":"X182&$AA$5","v":"Arizona-NWQ"}]
[null,null,null,null,null,null,null,null,null,null,null,null,null,null,null,null,null,null,null,null,null,null,null,"California","CA100",{"$f":"X186&$AA$2","v":"California-Total"}]
[null,null,null,null,null,null,null,null,null,null,null,null,null,null,null,null,null,null,null,null,null,null,null,null,"CA344","Los Angeles RO"]
[null,null,null,null,null,null,null,null,null,null,null,null,null,null,null,null,null,null,null,null,null,null,null,null,"CA343","Oakland RO"]
[null,null,null,null,null,null,null,null,null,null,null,null,null,null,null,null,null,null,null,null,null,null,null," ","CA377","San Diego RO"]
[null,null,null,null,null,null,null,null,null,null,null,null,null,null,null,null,null,null,null,null,null,null,null," ","CA-1",{"$f":"X186&$AA$4","v":"California-Other RO"}]
[null,null,null,null,null,null,null,null,null,null,null,null,null,null,null,null,null,null,null,null,null,null,null," ","CA499",{"$f":"X186&$AA$5","v":"California-NWQ"}]
[null,null,null,null,null,null,null,null,null,null,null,null,null,null,null,null,null,null,null,null,null,null,null,"Hawaii","HI100",{"$f":"X192&$AA$2","v":"Hawaii-Total"}]
[null,null,null,null,null,null,null,null,null,null,null,null,null,null,null,null,null,null,null,null,null,null,null,null,"HI459","Honolulu RO"]
[null,null,null,null,null,null,null,null,null,null,null,null,null,null,null,null,null,null,null,null,null,null,null,null,"HI-1",{"$f":"X192&$AA$4","v":"Hawaii-Other RO"}]
[null,null,null,null,null,null,null,null,null,null,null,null,null,null,null,null,null,null,null,null,null,null,null,null,"HI499",{"$f":"X192&$AA$5","v":"Hawaii-NWQ"}]
[null,null,null,null,null,null,null,null,null,null,null,null,null,null,null,null,null,null,null,null,null,null,null,"Idaho","ID100",{"$f":"X196&$AA$2","v":"Idaho-Total"}]
[null,null,null,null,null,null,null,null,null,null,null,null,null,null,null,null,null,null,null,null,null,null,null,null,"ID347","Boise RO"]
[null,null,null,null,null,null,null,null,null,null,null,null,null,null,null,null,null,null,null,null,null,null,null,null,"ID-1",{"$f":"X196&$AA$4","v":"Idaho-Other RO"}]
[null,null,null,null,null,null,null,null,null,null,null,null,null,null,null,null,null,null,null,null,null,null,null,null,"ID499",{"$f":"X196&$AA$5","v":"Idaho-NWQ"}]
[null,null,null,null,null,null,null,null,null,null,null,null,null,null,null,null,null,null,null,null,null,null,null,"Nevada","NV100",{"$f":"X200&$AA$2","v":"Nevada-Total"}]
[null,null,null,null,null,null,null,null,null,null,null,null,null,null,null,null,null,null,null,null,null,null,null,null,"NV354","Reno RO"]
[null,null,null,null,null,null,null,null,null,null,null,null,null,null,null,null,null,null,null,null,null,null,null,null,"NV-1",{"$f":"X200&$AA$4","v":"Nevada-Other RO"}]
[null,null,null,null,null,null,null,null,null,null,null,null,null,null,null,null,null,null,null,null,null,null,null,null,"NV499",{"$f":"X200&$AA$5","v":"Nevada-NWQ"}]
[null,null,null,null,null,null,null,null,null,null,null,null,null,null,null,null,null,null,null,null,null,null,null,"New Mexico","NM100",{"$f":"X204&$AA$2","v":"New Mexico-Total"}]
[null,null,null,null,null,null,null,null,null,null,null,null,null,null,null,null,null,null,null,null,null,null,null,null,"NM340","Albuquerque RO"]
[null,null,null,null,null,null,null,null,null,null,null,null,null,null,null,null,null,null,null,null,null,null,null,null,"NM-1",{"$f":"X204&$AA$4","v":"New Mexico-Other RO"}]
[null,null,null,null,null,null,null,null,null,null,null,null,null,null,null,null,null,null,null,null,null,null,null,null,"NM499",{"$f":"X204&$AA$5","v":"New Mexico-NWQ"}]
[null,null,null,null,null,null,null,null,null,null,null,null,null,null,null,null,null,null,null,null,null,null,null,"Oregon","OR100",{"$f":"X208&$AA$2","v":"Oregon-Total"}]
[null,null,null,null,null,null,null,null,null,null,null,null,null,null,null,null,null,null,null,null,null,null,null,null,"OR348","Portland RO"]
[null,null,null,null,null,null,null,null,null,null,null,null,null,null,null,null,null,null,null,null,null,null,null,null,"OR-1",{"$f":"X208&$AA$4","v":"Oregon-Other RO"}]
[null,null,null,null,null,null,null,null,null,null,null,null,null,null,null,null,null,null,null,null,null,null,null,null,"OR499",{"$f":"X208&$AA$5","v":"Oregon-NWQ"}]
[null,null,null,null,null,null,null,null,null,null,null,null,null,null,null,null,null,null,null,null,null,null,null,"Philippines","PI100",{"$f":"X212&$AA$2","v":"Philippines-Total"}]
[null,null,null,null,null,null,null,null,null,null,null,null,null,null,null,null,null,null,null,null,null,null,null,null,"PI358","Manila RO"]
[null,null,null,null,null,null,null,null,null,null,null,null,null,null,null,null,null,null,null,null,null,null,null,null,"PI-1",{"$f":"X212&$AA$4","v":"Philippines-Other RO"}]
[null,null,null,null,null,null,null,null,null,null,null,null,null,null,null,null,null,null,null,null,null,null,null,null,"PI499",{"$f":"X212&$AA$5","v":"Philippines-NWQ"}]
[null,null,null,null,null,null,null,null,null,null,null,null,null,null,null,null,null,null,null,null,null,null,null,"Utah","UT100",{"$f":"X216&$AA$2","v":"Utah-Total"}]
[null,null,null,null,null,null,null,null,null,null,null,null,null,null,null,null,null,null,null,null,null,null,null,null,"UT341","Salt Lake City RO"]
[null,null,null,null,null,null,null,null,null,null,null,null,null,null,null,null,null,null,null,null,null,null,null,null,"UT-1",{"$f":"X216&$AA$4","v":"Utah-Other RO"}]
[null,null,null,null,null,null,null,null,null,null,null,null,null,null,null,null,null,null,null,null,null,null,null,null,"UT499",{"$f":"X216&$AA$5","v":"Utah-NWQ"}]
[null,null,null,null,null,null,null,null,null,null,null,null,null,null,null,null,null,null,null,null,null,null,null,"Washington","WA100",{"$f":"X220&$AA$2","v":"Washington-Total"}]
[null,null,null,null,null,null,null,null,null,null,null,null,null,null,null,null,null,null,null,null,null,null,null,null,"WA346","Seattle RO"]
[null,null,null,null,null,null,null,null,null,null,null,null,null,null,null,null,null,null,null,null,null,null,null,null,"WA-1",{"$f":"X220&$AA$4","v":"Washington-Other RO"}]
[null,null,null,null,null,null,null,null,null,null,null,null,null,null,null,null,null,null,null,null,null,null,null,null,"WA499",{"$f":"X220&$AA$5","v":"Washington-NWQ"}]
[null,null,null,null,null,null,null,null,null,null,null,null,null,null,null,null,null,null,null,null,null,null,null,"Other District",null," "]
[null,null,null,null,null,null,null,null,null,null,null,null,null,null,null,null,null,null,null,null,null,null,null,"Outside US","OT-1",{"$f":"X225&$AA$4","v":"Outside US-Other RO"}]
[null,null,null,null,null,null,null,null,null,null,null,null,null,null,null,null,null,null,null,null,null,null,null," ","OT499",{"$f":"X225&$AA$5","v":"Outside US-NWQ"}]

{"sheet":"DT","index":12,"n_rows":2,"n_cols":1,"rows_kept":2,"cut":false,"hidden":true,"merged":[]}
["ST_DATE"]
["2021-08-21"]